{"text_format":"1","workbook":"xlsx","n_sheets":18,"sheets":["Tutorial(1)","Tutorial","Circuit1","Circuit2","Results","Efficiency","PowerLossComponents","Circuit1Details","Circuit2Details","Constants","Control1","Control2","MOSFETSelector","SelectorConstants","Duals","MOSFETs","Drivers","RevisionHistory"],"not_rendered":{"charts":6,"images":13,"macros":1,"external_links":2,"defined_names":36,"comments":0,"pivot_tables":0},"unopened":[{"sheet":"Efficiency","index":5,"reason":"not_a_worksheet"},{"sheet":"PowerLossComponents","index":6,"reason":"not_a_worksheet"}],"bounds":{"document_bytes":16777216,"sheet_cells":100000,"rows_first":2000,"rows_last":500,"rows_between":2000,"halvings":0,"cell_chars":16384,"cell_head_chars":4096},"cells_cut":0,"cells_raw":0,"read":"row_number_cap","date_system":"1900"}

{"sheet":"Tutorial(1)","index":0,"n_rows":36,"n_cols":3,"rows_kept":36,"cut":false,"hidden":true,"merged":[[20,11,20,14],[0,0,2,2]]}
["Parameter Definitions"]
[]
[]
[]
["Definition","Symbol","Expression"]
["ConductionPowerLossatHSMOSFET ","PHC=","(Iload)^2*RTHS*D*Ts*fs"]
["Switching Point at High Side MOSFET ","Vsp =","Vth+Iload/(gm*#HS)"]
["Driver Current for  High Side MOSFET at Turn-on interval ","Idr(LH) = ","(Vdr-Vsp)/(Rdr_source+Rgex+Rgin/#HS)"]
["Driver Current for  High Side MOSFET at Turn-oFF interval ","Idr(HL) = ","Vsp/(Rdr_sink+Rgex+Rgin/#HS)"]
["Gate Charge at Switching moment ","Qgs(sw)=","(Qgd+Qgs/2)*#HS"]
["Turn-on Time of Hiigh Side MOSFET"," tr =","Qgs(sw)/Idriver(L-H)"]
["Turn-off Time of High Side MOSFT ","tf=","Qgs(sw)/Idriver(H-L)"]
["Switching Loss at High Side MOSFET ","PswHS=","0.5*Vin*(Iload)*(tr+tf)*fs"]
["Conduction Loss at Low Side MOSFET ","PconLS=","Iload^2*RTLS*(1-D)*Ts*fs"]
["Diode Reverse Recovery Loss","PQrr=","Vin*IDS*(Qrr-Coss*VDSmea)/IDSmea*fs"]
["Power Loss at Deadtime Interval ","PDT=","VD*Iload*(tpdhDRVH+tpdlDRVH)*fs"]
["Total Gate Charge of MOSFET","Qg=","Qg(4.5V)+(Vdrive-4.5)r*(Qg(10V)-Qg(4.5V))/5.5"]
["Driver Loss for Both HS MOSFETs ","PdrHS=","Vdr*Qiss(HS)*#HS*fs"]
["Driver Loss for Both LS MOSFETs ","PdrLS=","Vdr*Qiss(LS)*#LS*fs"]
["Inductor Winding Loss ","Pw=","Iload^2*Rwinding"]
["Inductor Core Loss ","Pc=","Eloss@onecycle*fs"]
["Parasitic Capacitance of HS LS MOSFETs ","Pcsw=","(0.5*Coss@LS*#LS+Coss@HS*#HS)*Vin^2*fs"]
["Output Capacitance ESR Loss ","Pesr=","(Iripple/1.732)^2*ESR"]
["Total Powre Loss at High Side MOSFET ","PHS=","PHC+PswHC"]
["Total Powre Loss at Low Side MOSFET ","PLS=","PswLS"]
["Total Powr Loss in inductor Capacitor and PCB ","PLCR=","Pw+Pc+Pcsw+Pesr"]
["Output Power ","Pout=","Iload*Vout"]
["Temperature Increase of MOSFE die at HS","ΔTHS=","ThermalResistance*PHS/#HS"]
["Temperature Increase of MOSFE die at LS","ΔTLS=","ThermalResistance*PLS/#LS"]
[null,"RDSon=","RDSon(Vdr=4.5V)+(Vdr-4.5)*(RDSon(Vdr=10V)-RDSon(Vdr=4.5V))/5.5"]
["Total RDSon with thermal effect at HS","RTHS=","(RDSon+RDSon*ΔTHS*TemperatureCoefficient)/#HS"]
["Total RDSon with thermal effect at LS","RTLS=","(RDSon+RDSon*ΔTLS*TemperatureCoefficient)/#LS"]
["Temperature at HS MOSFET","TLS=","ΔTLS+25"]
["Temperature at LS MOSFET","THS=","ΔTHS+25"]
["Power Loss in each MOSFET at LS","PLOSS LS/EACH=","PLS/#LS"]
["Power Loss in each MOSFET at HS","PLOSS HS/EACH=","PHS/#HS"]

{"sheet":"Tutorial","index":1,"n_rows":274,"n_cols":9,"rows_kept":274,"cut":false,"hidden":false,"merged":[[265,0,266,18],[269,0,272,18],[273,0,281,18],[0,0,1,18],[190,0,190,18],[191,0,199,18],[220,0,221,18],[229,0,238,18],[105,0,108,18],[140,0,151,18],[3,0,11,18],[28,0,29,18],[37,0,43,18],[44,0,46,19],[69,0,70,18],[73,0,76,18]],"read":"row_number_cap"}
[" Tutorial for Efficiency Simulator&MOSFET Selector for T3&T6"]
[]
["Efficiency Simulator"]
["This simulation tool includes macro programming. A security warning appears every time you open this tool. Click \"Options\" in the following figure and choose \"Enable this content\" to enable macro."]
[]
[]
[]
[]
[]
[]
[]
[]
[]
[]
[]
[]
[]
[]
[]
[]
[]
[]
[]
[]
[]
[]
[]
["Simulation Circuit"]
["This simulator models a basic synchronous Buck converter. The structure of the Buck converter circuit is shown below."]
[]
[]
[]
[]
[]
[]
[]
[]
["Circuit parameters can be entered into the two spreadsheets titled “Circuit 1” and “Circuit 2”. In each of these spreadsheets, the circuit parameters are organized into five major regions, as indicated in the diagram below. Area 1 contains the topology parameters of the synchronous Buck converter, including Vin, Vout, Iout, fs, Iripple, and Vripple. Area 2 contains parameters specific to the driver device. Note that in this circuit, both the high-side and low-side MOSFETs share the same driver. Area 3 contains parameters specific to the circuit’s output inductor and capacitor. Finally, Areas 4 and 5 contain the parameters of the high-side and low-side MOSFETs. In this simulator, parameter values for high side and low side MOSFETs are preloaded to the spreadsheet \"MOSFETs\". Users have the flexibiligy to define new MOSFETs in spreadsheet \"MOSFETs\" and then use the user defined MOSFETs in spreadsheet \"Circuit1\" or \"Circuit2\". MOSFETs that are not defined in spreadsheet \"MOSFETs\" can not be simulated in this simulator."]
[]
[]
[]
[]
[]
[]
["The simulator will automatically run each time a user-definable parameter (denoted by a yellow background) is altered. No additional buttons need to be pressed in order to start the simulation."]
[]
[]
[]
[]
[]
[]
[]
[]
[]
[]
[]
[]
[]
[]
[]
[]
[]
[]
[]
[]
[]
[]
[]
[]
["Any cell that is open to user input is marked with a yellow background. Cells with white backgrounds contain the simulator’s results based upon the user’s input parameters. As such, the white cells may not be directly edited by the user."]
[]
[]
["Efficiency simulation results"]
["The user may view the efficiency results for Circuits 1 and 2 by clicking the tab titled “Efficiency”. An example of an efficiency simulation curve is shown below. Above each simulation curve is a title that shows which MOSFETs, drivers, input voltages, output voltages, and switching frequencies were used in the circuit. The buttons “Show Circuit 1” and “Don’t Show Circuit 1” control whether the efficiency curve for Circuit 1 is displayed on the graph. Similar buttons exist to control whether the efficiency curve for Circuit 2 is displayed."]
[]
[]
[]
[]
[]
[]
[]
[]
[]
[]
[]
[]
[]
[]
[]
[]
[]
[]
[]
[]
[]
[]
[]
[]
[]
[]
[]
[]
[]
[]
["PowerLossComponents"]
["By clicking the tab titled “Power Loss Components,” the user may view a chart explaining the losses of power within the circuit. There are 9 components contributing to the circuit’s power loss, including conduction loss at the high-side MOSFET, switching loss at the high-side MOSFET, conduction loss of the low-side MOSFET, diode reverse recovery loss, deadtime power loss, driver loss for the high-side MOSFET, driver loss for the low-side MOSFET, winding loss, PCB loss, and ESR loss at the output capacitors. By using the pull-down menus above the chart, the user may select which circuit is shown in the chart, as well as the output current at which the simulation is run."]
[]
[]
[]
[]
[]
[]
[]
[]
[]
[]
[]
[]
[]
[]
[]
[]
[]
[]
[]
[]
[]
[]
[]
[]
[]
[]
[]
[]
[]
[]
[]
[]
[]
["MOSFET database and Driver database"]
["In this simulator, the parameter values for both the high-side and the low-side single MOSFETs have been pre-loaded into the spreadsheet titled “MOSFETs”.  Dual MOSFETs are categorized in another spreadsheet with title \"Duals\". Within the “MOSFETs”  and \"Duals\" spreadsheet, users have the ability to define new MOSFET devices for use in the simulator. Users who wish to define a new MOSFET device must enter both the device name and the device parameters, including RDSon (Vg=4.5V), Coss(Q1), Qgd, Qgs, Vth, diode forward voltage VSD, transconductance gm, internal Rgin, thermal resistance, RDSon temperature coefficient, RDSon (Vg=10V), and maximum drain-source current ID-Max. After the name and parameters of a user-defined MOSFET have been entered into the spreadsheet, this new device becomes available for selection from the pull-down menus in either “Circuit1” or “Circuit2”. Devices that have not been defined within this spreadsheet will not appear within the pull-down menus. \n\nSimilarly, a collection of driver devices has been pre-loaded into the spreadsheet titled “Drivers”.  Users may select from the pre-loaded driver devices, or may define a new device by entering the device name and parameters. For the driver database, the user-defined parameters include maximum driver voltage, high-side source resistance, high-side sinking resistance, rise delay time tpdh DRVH, fall delay time tpdl DRVH, external gate resistance Rgex, and quiescent current."]
[]
[]
[]
[]
[]
[]
[]
[]
[]
[]
[]
[null,null,null,null,null,null,null,"Single MOSFET database snapshot"]
[]
[]
[]
[]
[]
[]
[]
[]
[]
[]
[null,null,null,null,null,null,null,null,"Driver database snapshot"]
[]
[]
[]
[]
[]
[]
[]
[]
[]
[]
[]
[]
[]
[]
[]
[]
[]
[]
[]
[]
[]
[]
[]
[]
[]
[]
["ON SEMI T3/T6 MOSFET Selector Tutorial"]
["This selector includes macro programming. A security warning appears every time you open this tool. Click \"Options\" in the following figure and choose \"Enable this content\" to enable macro."]
[]
[]
[]
[]
[]
[]
[]
[]
[]
[]
[]
[]
[]
[]
[]
[]
[]
[]
[]
[]
[]
[]
[]
[]
[]
[]
[]
["Simulation Circuit"]
["This MOSFET selector is a basic synchronous Buck converter. The structure of the Buck converter circuit is shown below."]
[]
[]
[]
[]
[]
[]
[]
[]
["Circuit parameters can be entered into the spreadsheet titled “MOSFETSelector”. In this spreadsheet, the circuit parameters are organized into five major regions, as indicated in the diagram below. Area 1 contains the topology parameters of the synchronous Buck converter, including Vin, Vout, Iout, fs, Iripple, and Vripple. Area 2 contains parameters specific to the driver device. Note that in this circuit, both the high-side and low-side MOSFETs share the same driver. Areas 3 and 4 contain the parameters of the high-side and low-side MOSFETs, like numbers of MOSFETs and external gate resistance. Finally, Area 5 contains parameters specific to the circuit’s output inductor and capacitor.  \n\nThe section marked with red or blue border is the section to output selection results based on desied efficiency, load current where desired efficiency is specified and packages. The red section suggests MOSFET pairs, and blu section suggests single MOSFETs based on the MOSFET specified by users.\n\nDual T3 MOSFETs are also included in the selector."]
[]
[]
[]
[]
[]
[]
[]
[]
[]
[]
[]
[]
[]
[]
[]
[]
[]
[]
[]
[]
[]
[]
[]
[]
[]
[]
[]
[]
[]
[]
[]
[]
[]
[]
[]
["Any cell that is open to user input is marked with a yellow background. Cells with white backgrounds contain the simulator’s results based upon the user’s input parameters. As such, the white cells may not be directly edited by the user."]
[]
[]
[]
[]
[]
[]
[]
["For updates or suggestions, please contact \nZhiyang Chen \nZhiyang.Chen@onsemi.com"]

{"sheet":"Circuit1","index":2,"n_rows":1010,"n_cols":26,"rows_kept":1010,"cut":false,"hidden":false,"merged":[[30,7,33,10],[9,26,10,27],[5,23,7,23],[0,0,0,10],[4,12,4,13],[26,12,28,14],[26,16,28,18],[26,20,28,22],[19,0,19,2]]}
[{"$f":"CONCATENATE(Circuit1!F16,\"x\",Circuit1!F29,\"+\",Circuit1!J16,\"x\",Circuit1!J26,\"@\",Circuit1!B5,\"kHz;\",\" Vin=\",$B$3,\"V;\",\"Vout=\",B4,\"V;\",\"Driver=\",F3,\"(\",F4,\"V)\")","v":"NTMFS4C05x1+NTMFS4C05x1@500kHz; Vin=12V;Vout=1.2V;Driver=NCP5911(5V)"},null,null,null,null,null,null,null,null,null,null,null,"Design Goal ",null,null,null,"Design Goal",null,null,null,"Design Goal"]
["Buck Circuit Parameters:",null,null,"Driver Parameters:",null,null,null,"Output L-C",null,null,null,null,"Target Effieciency","Load Current",null,null,"Target Effieciency","Load Current","HS MOSFET",null,"Target Effieciency","Load Current","LS MOSFET"]
["Input Voltage ",12,"V",null,"Driver ","NCP5911",null,"Capacitor",null,null,null,null,90,30,null,null,95,30,"NTD4806N",null,90,30,"NTD4813NH",null,0.99357799999999996,0.80078245397990022]
["Output Voltage",1.2,"V","Driver Voltage Vdr","Vcc",5,"V",null,"ESR_Coutput",5,"mΩ",null,null,null,null,null,null,null,null,null,null,null,null,null,2.9871880000000002,0.88512301146984795]
["Switching Frequency",500,"kHz","Sourcing Resistance @ HS",null,{"$f":"IF(ISNUMBER(VLOOKUP(F3,Drivers!A1:J20,3,0)), VLOOKUP(F3,Drivers!A1:J20,3,0),0.001)","v":0.9},"Ω",null,"Capacitor Actual Value",88,"uF",null,"Display Number",null,null,null,null,null,null,null,null,null,null,null,4.9869899999999996,0.90014092537476131]
["Duty Cycle",{"$f":"B4/B3","v":9.9999999999999992E-2},null,"Sinking Resistance @ HS",null,{"$f":"IF(ISNUMBER(VLOOKUP(F3,Drivers!A1:J20,4,0)), VLOOKUP(F3,Drivers!A1:J20,4,0),0.7)","v":0.7},"Ω",null,null,null,null,null,10,null,null,null,null,null,null,null,null,null,null,null,6.9889400000000004,0.90116097945108331]
["Period Ts (s)",{"$f":"1/B5/1000*1000000","v":2},"us","Rise Delay Time","tpdHDRVH",{"$f":"IF(ISNUMBER(VLOOKUP(F3,Drivers!A1:J20,5,0)), VLOOKUP(F3,Drivers!A1:J20,5,0),0.00000003)","v":29.999999999999996},"ns","Inductor",null,null,null,null,null,null,null,null,null,null,null,null,null,null,null,null,8.9895479999999992,0.89636256741781861]
["Current Ripple Peak-to-Avg",{"$f":"B6*B7*0.000001*(B3-B4)/J10/2*1000000","v":1.0799999999999998},"A","Fall Delay Time","tpdLDRVH",{"$f":"IF(ISNUMBER(VLOOKUP(F3,Drivers!A1:J20,6,0)), VLOOKUP(F3,Drivers!A1:J20,6,0),0.000000015)","v":15},"ns",null,"Core loss",50,"mW",null,"Suggestios for High Efficiency Pairs",null,null,null,"Suggestions for LS MOSFET",null,null,null,"Suggestions for HS MOSFET",null,null,null,10.997684,0.88928550087156721]
["Voltage Ripple",{"$f":"0.5*B8*0.5*B7*0.000001/J5*1000000*1000+B8*J4","v":11.536363636363635},"mV","Quiescent Current",null,{"$f":"IF(ISNUMBER(VLOOKUP(F3,Drivers!A1:J20,8,0)), VLOOKUP(F3,Drivers!A1:J20,8,0),0.001)","v":1},"mA",null,"WindingResistance",1.5,"mΩ",null,"HS MOSFET","LS MOSFET","Efficiency",null,"HS MOSFET","LS MOSFET","Efficiency",null,"HS MOSFET","LS MOSFET","Efficiency",null,12.991567999999999,0.88073667811364897]
["Maximum Output Current",30,"A","Maxim Driver Voltage","MAX-Vcc",{"$f":"IF(ISNUMBER(VLOOKUP(F3,Drivers!A1:J20,2,0)), VLOOKUP(F3,Drivers!A1:J20,2,0),0.001)","v":6.5},"V",null,"Inductor Actual Value",1,"uH",null,{"$f":"Control1!$X$17","v":"NTMFS4937N"},{"$f":"Control1!$Y$17","v":"NTMFS4825NFE"},{"$f":"Control1!$Z$17","v":0.95866834759264485},null,{"$f":"Control1!$X$26","v":"NTD4806N"},{"$f":"Control1!$Y$26","v":"NTMFS4825NFE"},{"$f":"Control1!$Z$26","v":0.93878064953170903},null,{"$f":"Control1!$X$37","v":"NTMFS4934N"},{"$f":"Control1!$Y$37","v":"NTD4813NH"},{"$f":"Control1!$Z$37","v":0.88633381922897603},null,14.967428,0.87094306502123775]
["Current Ripple Ratio",{"$f":"B8/B10*100","v":3.5999999999999996},"%",null,null,null,null,null,null,null,null,null,{"$f":"Control1!$X$18","v":"NTMFS4934N"},{"$f":"Control1!$Y$18","v":"NTMFS4825NFE"},{"$f":"Control1!$Z$18","v":0.9586399465477784},null,{"$f":"Control1!$X$20","v":"NTD4806N"},{"$f":"Control1!$Y$20","v":"NTMFS4897NF"},{"$f":"Control1!$Z$20","v":0.93873026148745431},null,{"$f":"Control1!$X$39","v":"NTMFS4937N"},{"$f":"Control1!$Y$39","v":"NTD4813NH"},{"$f":"Control1!$Z$39","v":0.88595990417786963},null,16.994394,0.8597879841251731]
["Voltage Ripple Ratio",{"$f":"B9/1000/B4*100","v":0.9613636363636362},"%",null,null,null,null,"PCB Resistance","R-PCB",1,"mΩ",null,{"$f":"Control1!$X$12","v":"NTMFS4937N"},{"$f":"Control1!$Y$12","v":"NTMFS4897NF"},{"$f":"Control1!$Z$12","v":0.95861487733662853},null,{"$f":"Control1!$X$29","v":"NTD4806N"},{"$f":"Control1!$Y$29","v":"NTMFS4933N"},{"$f":"Control1!$Z$29","v":0.93775560928660284},null,{"$f":"Control1!$X$30","v":"NTTFS4932N"},{"$f":"Control1!$Y$30","v":"NTD4813NH"},{"$f":"Control1!$Z$30","v":0.88575110948931235},null,17.982323999999998,0.8537634946163708]
[null,null,null,null,null,null,null,null,null,null,null,null,{"$f":"Control1!$X$11","v":"NTMFS4934N"},{"$f":"Control1!$Y$11","v":"NTMFS4897NF"},{"$f":"Control1!$Z$11","v":0.95858587485743862},null,{"$f":"Control1!$X$22","v":"NTD4806N"},{"$f":"Control1!$Y$22","v":"NTMFS4934N"},{"$f":"Control1!$Z$22","v":0.93655270473209951},null,{"$f":"Control1!$X$33","v":"NTMFS4936N"},{"$f":"Control1!$Y$33","v":"NTD4813NH"},{"$f":"Control1!$Z$33","v":0.88525301110723065},null,20.003641999999999,0.84160574257818965]
[null,"\n\n=IF(ISBLANK(B1), \"Default\", B1)",null,null,null,null,null,null,null,null,null,null,{"$f":"Control1!$X$10","v":"NTTFS4932N"},{"$f":"Control1!$Y$10","v":"NTMFS4825NFE"},{"$f":"Control1!$Z$10","v":0.9584376391651801},null,{"$f":"Control1!$X$27","v":"NTD4806N"},{"$f":"Control1!$Y$27","v":"NTMFS4833N"},{"$f":"Control1!$Z$27","v":0.9362240691639665},null,{"$f":"Control1!$X$38","v":"NTMFS4923NE"},{"$f":"Control1!$Y$38","v":"NTD4813NH"},{"$f":"Control1!$Z$38","v":0.88497957320625564},null,null,0.84]
[null,null,null,"High-Side MOSFET:",null,null,null,"Low-Side MOSFET:",null,null,null,null,{"$f":"Control1!$X$15","v":"NTTFS4932N"},{"$f":"Control1!$Y$15","v":"NTMFS4897NF"},{"$f":"Control1!$Z$15","v":0.95838472305391487},null,{"$f":"Control1!$X$21","v":"NTD4806N"},{"$f":"Control1!$Y$21","v":"NTMFS4852N"},{"$f":"Control1!$Z$21","v":0.93557752409543493},null,{"$f":"Control1!$X$36","v":"NTMFS4935N"},{"$f":"Control1!$Y$36","v":"NTD4813NH"},{"$f":"Control1!$Z$36","v":0.8849793430319427},null,null,0.82]
["Enable auto zoom in and out?","No",null,"MOSFET Selected",null,"NTMFS4C05",null,"MOSFET Selected",null,"NTMFS4C05",null,null,{"$f":"Control1!$X$14","v":"NTMFS4936N"},{"$f":"Control1!$Y$14","v":"NTMFS4825NFE"},{"$f":"Control1!$Z$14","v":0.95786840659031203},null,{"$f":"Control1!$X$25","v":"NTD4806N"},{"$f":"Control1!$Y$25","v":"NTMFS4845N"},{"$f":"Control1!$Z$25","v":0.93179998017684351},null,{"$f":"Control1!$X$32","v":"NTMFS4825NFE"},{"$f":"Control1!$Y$32","v":"NTD4813NH"},{"$f":"Control1!$Z$32","v":0.88482145690769376},null,null,0.81]
[null,null,null,"Drain-to-Source On Resistance","RDS(on)",{"$f":"Constants!H17","v":4},"mΩ","Drain-to-Source On Resistance","RDS(on)",{"$f":"Constants!I17","v":4},"mΩ",null,{"$f":"Control1!$X$13","v":"NTMFS4936N"},{"$f":"Control1!$Y$13","v":"NTMFS4897NF"},{"$f":"Control1!$Z$13","v":0.95781491773023508},null,{"$f":"Control1!$X$28","v":"NTD4806N"},{"$f":"Control1!$Y$28","v":"NTMFS4834N"},{"$f":"Control1!$Z$28","v":0.93168985942890459},null,{"$f":"Control1!$X$34","v":"NTMFS4897NF"},{"$f":"Control1!$Y$34","v":"NTD4813NH"},{"$f":"Control1!$Z$34","v":0.88476987637076432}]
[null,null,null,"Total Gate Charge","QG(TOT)",{"$f":"Constants!H18","v":14},"nC","Total Gate Charge","QG(TOT)",{"$f":"Constants!I18","v":14},"nC",null,{"$f":"Control1!$X$19","v":"NTMFS4937N"},{"$f":"Control1!$Y$19","v":"NTMFS4933N"},{"$f":"Control1!$Z$19","v":0.95764127310565439},null,{"$f":"Control1!$X$24","v":"NTD4806N"},{"$f":"Control1!$Y$24","v":"NTMFS4898N"},{"$f":"Control1!$Z$24","v":0.93154026210752694},null,{"$f":"Control1!$X$31","v":"NTMFS4852N"},{"$f":"Control1!$Y$31","v":"NTD4813NH"},{"$f":"Control1!$Z$31","v":0.88378204365107937}]
[null,null,null,"Output Capacitance","Coss",{"$f":"Constants!H19","v":1215},"pF","Output Capacitance","Coss",{"$f":"Constants!I19","v":1215},"pF",null,{"$f":"Control1!$X$16","v":"NTMFS4934N"},{"$f":"Control1!$Y$16","v":"NTMFS4933N"},{"$f":"Control1!$Z$16","v":0.95760750115804882},null,{"$f":"Control1!$X$23","v":"NTD4806N"},{"$f":"Control1!$Y$23","v":"NTMFS4846N"},{"$f":"Control1!$Z$23","v":0.93043372816415415},null,{"$f":"Control1!$X$35","v":"NTD4904N"},{"$f":"Control1!$Y$35","v":"NTD4813NH"},{"$f":"Control1!$Z$35","v":0.88336370853285295}]
["Buck converter circuit",null,null,"Gate-to-Drain Charge","QGD",{"$f":"Constants!H20","v":5},"nC","Diode Reverse Recovery Charge","QRR",{"$f":"Constants!I20","v":30.2},"nC "]
[null,null,null,"Gate-to-Source Charge","QGS",{"$f":"Constants!H21","v":6},"nC","SD Forward Diode Voltage","VSD",{"$f":"Constants!I21","v":0.77},"V"]
[null,null,null,"Gate Threshold Voltage","VGS(TH)",{"$f":"Constants!H22","v":1.7},"V","Junction-to-Ambient  Thermal Resistance ","RѲJA",{"$f":"Constants!I22","v":48.6},"°C/W",null,null,{"$f":"Control1!$X$10","v":"NTTFS4932N"}]
[null,null,null,"Forward Transconductance","gFS",{"$f":"Constants!H23","v":68},"S","RDSon Temperature Coefficient",null,{"$f":"Constants!I23","v":0.48799999999999999},"%/°C"]
[null,null,null,"Gate Resistance","RG",{"$f":"Constants!H24","v":0.69},"Ω"]
[null,null,null,"Junction-to-Ambient Thermal Resistance","RѲJA",{"$f":"Constants!H25","v":48.6},"°C/W","External Gate Resistance","Rgex",0,"Ω"]
[null,null,null,"RDS(on) Temperature Coefficient",null,{"$f":"Constants!H26","v":0.48799999999999999},"%/°C","Number of LS MOSFET",null,1,null,null,"Note:",null,null,null,"Note:",null,null,null,"Note:"]
[null,null,null,null,null,null,null,null,null,null,null,null,"1. All the cells with yellow background color except cell F16 and cell J16 must be filled before any MOSFET is suggested.",null,null,null,"1. All the cells with yellow background color except cell F16 and cell J16 must be filled before any MOSFET is suggested.",null,null,null,"1. All the cells with yellow background color except cell F16 and cell J16 must be filled before any MOSFET is suggested."]
[null,null,null,"External Gate Resistance","Rgex",0,"Ω"]
[null,null,null,"Number of HS MOSFET",null,1]
[]
["Note:",null,null,null,null,null,null,"For updates or suggestions, please contact\nZhiyang Chen\nZhiyang.Chen@onsemi.com"]
["1. Only single phase is simulated."]
["2. Simulaton is performed at 25 °C and selfheating of MOSFETs is not taken into account."]
[]
[]
[]
[]
[]
[]
[]
[null,null,null,null,null,null,null,null,null,null,null,null,null,null,null,null,null,null,null,null,null,null,null,"NTMFS4847N","NTMFS4933N"]
[null,null,null,null,null,null,null,null,null,null,null,null,null,null,null,null,null,null,null,null,null,null,null,"NTMFS4851","NTMFS4933N"]
[null,null,null,null,null,null,null,null,null,null,null,null,null,null,null,null,null,null,null,null,null,null,null,"NTMFS4852N","NTMFS4825NFE"]
[null,null,null,null,null,null,null,null,null,null,null,null,null,null,null,null,null,null,null,null,null,null,null,"NTMFS4852N","NTMFS4897"]
[null,null,null,null,null,null,null,null,null,null,null,null,null,null,null,null,null,null,null,null,null,null,null,"NTMFS4852N","NTMFS4933N"]
[null,null,null,null,null,null,null,null,null,null,null,null,null,null,null,null,null,null,null,null,null,null,null,"NTMFS4897","NTMFS4825NFE"]
[null,null,null,null,null,null,null,null,null,null,null,null,null,null,null,null,null,null,null,null,null,null,null,"NTMFS4897","NTMFS4897"]
[null,null,null,null,null,null,null,null,null,null,null,null,null,null,null,null,null,null,null,null,null,null,null,"NTMFS4897","NTMFS4933N"]
[null,null,null,null,null,null,null,null,null,null,null,null,null,null,null,null,null,null,null,null,null,null,null,"NTMFS4898N","NTMFS4825NFE"]
[null,null,null,null,null,null,null,null,null,null,null,null,null,null,null,null,null,null,null,null,null,null,null,"NTMFS4898N","NTMFS4897"]
[null,null,null,null,null,null,null,null,null,null,null,null,null,null,null,null,null,null,null,null,null,null,null,"NTMFS4898N","NTMFS4933N"]
[null,null,null,null,null,null,null,null,null,null,null,null,null,null,null,null,null,null,null,null,null,null,null,"NTMFS4899N","NTMFS4933N"]
[null,null,null,null,null,null,null,null,null,null,null,null,null,null,null,null,null,null,null,null,null,null,null,"NTMFS4921","NTMFS4933N"]
[null,null,null,null,null,null,null,null,null,null,null,null,null,null,null,null,null,null,null,null,null,null,null,"NTMFS4923NE","NTMFS4825NFE"]
[null,null,null,null,null,null,null,null,null,null,null,null,null,null,null,null,null,null,null,null,null,null,null,"NTMFS4923NE","NTMFS4897"]
[null,null,null,null,null,null,null,null,null,null,null,null,null,null,null,null,null,null,null,null,null,null,null,"NTMFS4923NE","NTMFS4933N"]
[null,null,null,null,null,null,null,null,null,null,null,null,null,null,null,null,null,null,null,null,null,null,null,"NTMFS4925","NTMFS4933N"]
[null,null,null,null,null,null,null,null,null,null,null,null,null,null,null,null,null,null,null,null,null,null,null,"NTMFS4926","NTMFS4933N"]
[null,null,null,null,null,null,null,null,null,null,null,null,null,null,null,null,null,null,null,null,null,null,null,"NTMFS4933N","NTMFS4825NFE"]
[null,null,null,null,null,null,null,null,null,null,null,null,null,null,null,null,null,null,null,null,null,null,null,"NTMFS4933N","NTMFS4897"]
[null,null,null,null,null,null,null,null,null,null,null,null,null,null,null,null,null,null,null,null,null,null,null,"NTMFS4933N","NTMFS4933N"]
[null,null,null,null,null,null,null,null,null,null,null,null,null,null,null,null,null,null,null,null,null,null,null,"NTMFS4933N","NTMFS4934N"]
[null,null,null,null,null,null,null,null,null,null,null,null,null,null,null,null,null,null,null,null,null,null,null,"NTMFS4934N","NTMFS4825NFE"]
[null,null,null,null,null,null,null,null,null,null,null,null,null,null,null,null,null,null,null,null,null,null,null,"NTMFS4934N","NTMFS4897"]
[null,null,null,null,null,null,null,null,null,null,null,null,null,null,null,null,null,null,null,null,null,null,null,"NTMFS4934N","NTMFS4933N"]
[null,null,null,null,null,null,null,null,null,null,null,null,null,null,null,null,null,null,null,null,null,null,null,"NTMFS4935N","NTMFS4825NFE"]
[null,null,null,null,null,null,null,null,null,null,null,null,null,null,null,null,null,null,null,null,null,null,null,"NTMFS4935N","NTMFS4897"]
[null,null,null,null,null,null,null,null,null,null,null,null,null,null,null,null,null,null,null,null,null,null,null,"NTMFS4935N","NTMFS4933N"]
[null,null,null,null,null,null,null,null,null,null,null,null,null,null,null,null,null,null,null,null,null,null,null,"NTMFS4936","NTMFS4933N"]
[null,null,null,null,null,null,null,null,null,null,null,null,null,null,null,null,null,null,null,null,null,null,null,"NTMFS4937N","NTMFS4933N"]
[null,null,null,null,null,null,null,null,null,null,null,null,null,null,null,null,null,null,null,null,null,null,null,"NTMFS4939N","NTMFS4933N"]
[null,null,null,null,null,null,null,null,null,null,null,null,null,null,null,null,null,null,null,null,null,null,null,"NTMFS4941N","NTMFS4933N"]
[null,null,null,null,null,null,null,null,null,null,null,null,null,null,null,null,null,null,null,null,null,null,null,"NTMFS4943N","NTMFS4933N"]
[null,null,null,null,null,null,null,null,null,null,null,null,null,null,null,null,null,null,null,null,null,null,null,"NTTFS4824N","NTMFS4933N"]
[null,null,null,null,null,null,null,null,null,null,null,null,null,null,null,null,null,null,null,null,null,null,null,"NTTFS4932N","NTMFS4825NFE"]
[null,null,null,null,null,null,null,null,null,null,null,null,null,null,null,null,null,null,null,null,null,null,null,"NTTFS4932N","NTMFS4897"]
[null,null,null,null,null,null,null,null,null,null,null,null,null,null,null,null,null,null,null,null,null,null,null,"NTTFS4932N","NTMFS4933N"]
[null,null,null,null,null,null,null,null,null,null,null,null,null,null,null,null,null,null,null,null,null,null,null,"NTTFS4937N","NTMFS4933N"]
[null,null,null,null,null,null,null,null,null,null,null,null,null,null,null,null,null,null,null,null,null,null,null,"NTTFS4939N","NTMFS4933N"]
[null,null,null,null,null,null,null,null,null,null,null,null,null,null,null,null,null,null,null,null,null,null,null,"NTTFS4941N","NTMFS4933N"]
[null,null,null,null,null,null,null,null,null,null,null,null,null,null,null,null,null,null,null,null,null,null,null,"NTD4809N","NTMFS4898N"]
[null,null,null,null,null,null,null,null,null,null,null,null,null,null,null,null,null,null,null,null,null,null,null,"NTD4809N","NTMFS4923NE"]
[null,null,null,null,null,null,null,null,null,null,null,null,null,null,null,null,null,null,null,null,null,null,null,"NTD4809N","NTMFS4933N"]
[null,null,null,null,null,null,null,null,null,null,null,null,null,null,null,null,null,null,null,null,null,null,null,"NTD4809N","NTMFS4934N"]
[null,null,null,null,null,null,null,null,null,null,null,null,null,null,null,null,null,null,null,null,null,null,null,"NTD4809N","NTMFS4935N"]
[null,null,null,null,null,null,null,null,null,null,null,null,null,null,null,null,null,null,null,null,null,null,null,"NTD4809N","NTTFS4932N"]
[null,null,null,null,null,null,null,null,null,null,null,null,null,null,null,null,null,null,null,null,null,null,null,"NTD4809NH","NTMFS4825NFE"]
[null,null,null,null,null,null,null,null,null,null,null,null,null,null,null,null,null,null,null,null,null,null,null,"NTD4809NH","NTMFS4833N"]
[null,null,null,null,null,null,null,null,null,null,null,null,null,null,null,null,null,null,null,null,null,null,null,"NTD4809NH","NTMFS4834N"]
[null,null,null,null,null,null,null,null,null,null,null,null,null,null,null,null,null,null,null,null,null,null,null,"NTD4809NH","NTMFS4835N"]
[null,null,null,null,null,null,null,null,null,null,null,null,null,null,null,null,null,null,null,null,null,null,null,"NTD4809NH","NTMFS4845"]
[null,null,null,null,null,null,null,null,null,null,null,null,null,null,null,null,null,null,null,null,null,null,null,"NTD4809NH","NTMFS4846"]
[null,null,null,null,null,null,null,null,null,null,null,null,null,null,null,null,null,null,null,null,null,null,null,"NTD4809NH","NTMFS4852N"]
[null,null,null,null,null,null,null,null,null,null,null,null,null,null,null,null,null,null,null,null,null,null,null,"NTD4809NH","NTMFS4897"]
[null,null,null,null,null,null,null,null,null,null,null,null,null,null,null,null,null,null,null,null,null,null,null,"NTD4809NH","NTMFS4898N"]
[null,null,null,null,null,null,null,null,null,null,null,null,null,null,null,null,null,null,null,null,null,null,null,"NTD4809NH","NTMFS4923NE"]
[null,null,null,null,null,null,null,null,null,null,null,null,null,null,null,null,null,null,null,null,null,null,null,"NTD4809NH","NTMFS4933N"]
[null,null,null,null,null,null,null,null,null,null,null,null,null,null,null,null,null,null,null,null,null,null,null,"NTD4809NH","NTMFS4934N"]
[null,null,null,null,null,null,null,null,null,null,null,null,null,null,null,null,null,null,null,null,null,null,null,"NTD4809NH","NTMFS4935N"]
[null,null,null,null,null,null,null,null,null,null,null,null,null,null,null,null,null,null,null,null,null,null,null,"NTD4809NH","NTMFS4936"]
[null,null,null,null,null,null,null,null,null,null,null,null,null,null,null,null,null,null,null,null,null,null,null,"NTD4809NH","NTTFS4932N"]
[null,null,null,null,null,null,null,null,null,null,null,null,null,null,null,null,null,null,null,null,null,null,null,"NTD4810N","NTMFS4825NFE"]
[null,null,null,null,null,null,null,null,null,null,null,null,null,null,null,null,null,null,null,null,null,null,null,"NTD4810N","NTMFS4833N"]
[null,null,null,null,null,null,null,null,null,null,null,null,null,null,null,null,null,null,null,null,null,null,null,"NTD4810N","NTMFS4834N"]
[null,null,null,null,null,null,null,null,null,null,null,null,null,null,null,null,null,null,null,null,null,null,null,"NTD4810N","NTMFS4845"]
[null,null,null,null,null,null,null,null,null,null,null,null,null,null,null,null,null,null,null,null,null,null,null,"NTD4810N","NTMFS4846"]
[null,null,null,null,null,null,null,null,null,null,null,null,null,null,null,null,null,null,null,null,null,null,null,"NTD4810N","NTMFS4852N"]
[null,null,null,null,null,null,null,null,null,null,null,null,null,null,null,null,null,null,null,null,null,null,null,"NTD4810N","NTMFS4897"]
[null,null,null,null,null,null,null,null,null,null,null,null,null,null,null,null,null,null,null,null,null,null,null,"NTD4810N","NTMFS4898N"]
[null,null,null,null,null,null,null,null,null,null,null,null,null,null,null,null,null,null,null,null,null,null,null,"NTD4810N","NTMFS4923NE"]
[null,null,null,null,null,null,null,null,null,null,null,null,null,null,null,null,null,null,null,null,null,null,null,"NTD4810N","NTMFS4933N"]
[null,null,null,null,null,null,null,null,null,null,null,null,null,null,null,null,null,null,null,null,null,null,null,"NTD4810N","NTMFS4934N"]
[null,null,null,null,null,null,null,null,null,null,null,null,null,null,null,null,null,null,null,null,null,null,null,"NTD4810N","NTMFS4935N"]
[null,null,null,null,null,null,null,null,null,null,null,null,null,null,null,null,null,null,null,null,null,null,null,"NTD4810N","NTTFS4932N"]
[null,null,null,null,null,null,null,null,null,null,null,null,null,null,null,null,null,null,null,null,null,null,null,"NTD4813NH","NTMFS4825NFE"]
[null,null,null,null,null,null,null,null,null,null,null,null,null,null,null,null,null,null,null,null,null,null,null,"NTD4813NH","NTMFS4833N"]
[null,null,null,null,null,null,null,null,null,null,null,null,null,null,null,null,null,null,null,null,null,null,null,"NTD4813NH","NTMFS4852N"]
[null,null,null,null,null,null,null,null,null,null,null,null,null,null,null,null,null,null,null,null,null,null,null,"NTD4813NH","NTMFS4897"]
[null,null,null,null,null,null,null,null,null,null,null,null,null,null,null,null,null,null,null,null,null,null,null,"NTD4813NH","NTMFS4933N"]
[null,null,null,null,null,null,null,null,null,null,null,null,null,null,null,null,null,null,null,null,null,null,null,"NTD4813NH","NTMFS4934N"]
[null,null,null,null,null,null,null,null,null,null,null,null,null,null,null,null,null,null,null,null,null,null,null,"NTD4815N","NTMFS4825NFE"]
[null,null,null,null,null,null,null,null,null,null,null,null,null,null,null,null,null,null,null,null,null,null,null,"NTD4815N","NTMFS4833N"]
[null,null,null,null,null,null,null,null,null,null,null,null,null,null,null,null,null,null,null,null,null,null,null,"NTD4815N","NTMFS4852N"]
[null,null,null,null,null,null,null,null,null,null,null,null,null,null,null,null,null,null,null,null,null,null,null,"NTD4815N","NTMFS4897"]
[null,null,null,null,null,null,null,null,null,null,null,null,null,null,null,null,null,null,null,null,null,null,null,"NTD4815N","NTMFS4933N"]
[null,null,null,null,null,null,null,null,null,null,null,null,null,null,null,null,null,null,null,null,null,null,null,"NTD4815N","NTMFS4934N"]
[null,null,null,null,null,null,null,null,null,null,null,null,null,null,null,null,null,null,null,null,null,null,null,"NTD4855N","NTD4904N"]
[null,null,null,null,null,null,null,null,null,null,null,null,null,null,null,null,null,null,null,null,null,null,null,"NTD4855N","NTMFS4825NFE"]
[null,null,null,null,null,null,null,null,null,null,null,null,null,null,null,null,null,null,null,null,null,null,null,"NTD4855N","NTMFS4833N"]
[null,null,null,null,null,null,null,null,null,null,null,null,null,null,null,null,null,null,null,null,null,null,null,"NTD4855N","NTMFS4834N"]
[null,null,null,null,null,null,null,null,null,null,null,null,null,null,null,null,null,null,null,null,null,null,null,"NTD4855N","NTMFS4835N"]
[null,null,null,null,null,null,null,null,null,null,null,null,null,null,null,null,null,null,null,null,null,null,null,"NTD4855N","NTMFS4845"]
[null,null,null,null,null,null,null,null,null,null,null,null,null,null,null,null,null,null,null,null,null,null,null,"NTD4855N","NTMFS4846"]
[null,null,null,null,null,null,null,null,null,null,null,null,null,null,null,null,null,null,null,null,null,null,null,"NTD4855N","NTMFS4852N"]
[null,null,null,null,null,null,null,null,null,null,null,null,null,null,null,null,null,null,null,null,null,null,null,"NTD4855N","NTMFS4897"]
[null,null,null,null,null,null,null,null,null,null,null,null,null,null,null,null,null,null,null,null,null,null,null,"NTD4855N","NTMFS4898N"]
[null,null,null,null,null,null,null,null,null,null,null,null,null,null,null,null,null,null,null,null,null,null,null,"NTD4855N","NTMFS4923NE"]
[null,null,null,null,null,null,null,null,null,null,null,null,null,null,null,null,null,null,null,null,null,null,null,"NTD4855N","NTMFS4933N"]
[null,null,null,null,null,null,null,null,null,null,null,null,null,null,null,null,null,null,null,null,null,null,null,"NTD4855N","NTMFS4934N"]
[null,null,null,null,null,null,null,null,null,null,null,null,null,null,null,null,null,null,null,null,null,null,null,"NTD4855N","NTMFS4935N"]
[null,null,null,null,null,null,null,null,null,null,null,null,null,null,null,null,null,null,null,null,null,null,null,"NTD4855N","NTMFS4936"]
[null,null,null,null,null,null,null,null,null,null,null,null,null,null,null,null,null,null,null,null,null,null,null,"NTD4855N","NTTFS4932N"]
[null,null,null,null,null,null,null,null,null,null,null,null,null,null,null,null,null,null,null,null,null,null,null,"NTD4856N","NTD4904N"]
[null,null,null,null,null,null,null,null,null,null,null,null,null,null,null,null,null,null,null,null,null,null,null,"NTD4856N","NTMFS4825NFE"]
[null,null,null,null,null,null,null,null,null,null,null,null,null,null,null,null,null,null,null,null,null,null,null,"NTD4856N","NTMFS4833N"]
[null,null,null,null,null,null,null,null,null,null,null,null,null,null,null,null,null,null,null,null,null,null,null,"NTD4856N","NTMFS4834N"]
[null,null,null,null,null,null,null,null,null,null,null,null,null,null,null,null,null,null,null,null,null,null,null,"NTD4856N","NTMFS4835N"]
[null,null,null,null,null,null,null,null,null,null,null,null,null,null,null,null,null,null,null,null,null,null,null,"NTD4856N","NTMFS4845"]
[null,null,null,null,null,null,null,null,null,null,null,null,null,null,null,null,null,null,null,null,null,null,null,"NTD4856N","NTMFS4846"]
[null,null,null,null,null,null,null,null,null,null,null,null,null,null,null,null,null,null,null,null,null,null,null,"NTD4856N","NTMFS4852N"]
[null,null,null,null,null,null,null,null,null,null,null,null,null,null,null,null,null,null,null,null,null,null,null,"NTD4856N","NTMFS4897"]
[null,null,null,null,null,null,null,null,null,null,null,null,null,null,null,null,null,null,null,null,null,null,null,"NTD4856N","NTMFS4898N"]
[null,null,null,null,null,null,null,null,null,null,null,null,null,null,null,null,null,null,null,null,null,null,null,"NTD4856N","NTMFS4923NE"]
[null,null,null,null,null,null,null,null,null,null,null,null,null,null,null,null,null,null,null,null,null,null,null,"NTD4856N","NTMFS4933N"]
[null,null,null,null,null,null,null,null,null,null,null,null,null,null,null,null,null,null,null,null,null,null,null,"NTD4856N","NTMFS4934N"]
[null,null,null,null,null,null,null,null,null,null,null,null,null,null,null,null,null,null,null,null,null,null,null,"NTD4856N","NTMFS4935N"]
[null,null,null,null,null,null,null,null,null,null,null,null,null,null,null,null,null,null,null,null,null,null,null,"NTD4856N","NTMFS4936"]
[null,null,null,null,null,null,null,null,null,null,null,null,null,null,null,null,null,null,null,null,null,null,null,"NTD4856N","NTTFS4932N"]
[null,null,null,null,null,null,null,null,null,null,null,null,null,null,null,null,null,null,null,null,null,null,null,"NTD4857N","NTD4904N"]
[null,null,null,null,null,null,null,null,null,null,null,null,null,null,null,null,null,null,null,null,null,null,null,"NTD4857N","NTMFS4825NFE"]
[null,null,null,null,null,null,null,null,null,null,null,null,null,null,null,null,null,null,null,null,null,null,null,"NTD4857N","NTMFS4833N"]
[null,null,null,null,null,null,null,null,null,null,null,null,null,null,null,null,null,null,null,null,null,null,null,"NTD4857N","NTMFS4834N"]
[null,null,null,null,null,null,null,null,null,null,null,null,null,null,null,null,null,null,null,null,null,null,null,"NTD4857N","NTMFS4835N"]
[null,null,null,null,null,null,null,null,null,null,null,null,null,null,null,null,null,null,null,null,null,null,null,"NTD4857N","NTMFS4845"]
[null,null,null,null,null,null,null,null,null,null,null,null,null,null,null,null,null,null,null,null,null,null,null,"NTD4857N","NTMFS4846"]
[null,null,null,null,null,null,null,null,null,null,null,null,null,null,null,null,null,null,null,null,null,null,null,"NTD4857N","NTMFS4852N"]
[null,null,null,null,null,null,null,null,null,null,null,null,null,null,null,null,null,null,null,null,null,null,null,"NTD4857N","NTMFS4897"]
[null,null,null,null,null,null,null,null,null,null,null,null,null,null,null,null,null,null,null,null,null,null,null,"NTD4857N","NTMFS4898N"]
[null,null,null,null,null,null,null,null,null,null,null,null,null,null,null,null,null,null,null,null,null,null,null,"NTD4857N","NTMFS4923NE"]
[null,null,null,null,null,null,null,null,null,null,null,null,null,null,null,null,null,null,null,null,null,null,null,"NTD4857N","NTMFS4933N"]
[null,null,null,null,null,null,null,null,null,null,null,null,null,null,null,null,null,null,null,null,null,null,null,"NTD4857N","NTMFS4934N"]
[null,null,null,null,null,null,null,null,null,null,null,null,null,null,null,null,null,null,null,null,null,null,null,"NTD4857N","NTMFS4935N"]
[null,null,null,null,null,null,null,null,null,null,null,null,null,null,null,null,null,null,null,null,null,null,null,"NTD4857N","NTMFS4936"]
[null,null,null,null,null,null,null,null,null,null,null,null,null,null,null,null,null,null,null,null,null,null,null,"NTD4857N","NTTFS4932N"]
[null,null,null,null,null,null,null,null,null,null,null,null,null,null,null,null,null,null,null,null,null,null,null,"NTD4858N","NTD4904N"]
[null,null,null,null,null,null,null,null,null,null,null,null,null,null,null,null,null,null,null,null,null,null,null,"NTD4858N","NTMFS4825NFE"]
[null,null,null,null,null,null,null,null,null,null,null,null,null,null,null,null,null,null,null,null,null,null,null,"NTD4858N","NTMFS4833N"]
[null,null,null,null,null,null,null,null,null,null,null,null,null,null,null,null,null,null,null,null,null,null,null,"NTD4858N","NTMFS4834N"]
[null,null,null,null,null,null,null,null,null,null,null,null,null,null,null,null,null,null,null,null,null,null,null,"NTD4858N","NTMFS4835N"]
[null,null,null,null,null,null,null,null,null,null,null,null,null,null,null,null,null,null,null,null,null,null,null,"NTD4858N","NTMFS4845"]
[null,null,null,null,null,null,null,null,null,null,null,null,null,null,null,null,null,null,null,null,null,null,null,"NTD4858N","NTMFS4846"]
[null,null,null,null,null,null,null,null,null,null,null,null,null,null,null,null,null,null,null,null,null,null,null,"NTD4858N","NTMFS4852N"]
[null,null,null,null,null,null,null,null,null,null,null,null,null,null,null,null,null,null,null,null,null,null,null,"NTD4858N","NTMFS4897"]
[null,null,null,null,null,null,null,null,null,null,null,null,null,null,null,null,null,null,null,null,null,null,null,"NTD4858N","NTMFS4898N"]
[null,null,null,null,null,null,null,null,null,null,null,null,null,null,null,null,null,null,null,null,null,null,null,"NTD4858N","NTMFS4923NE"]
[null,null,null,null,null,null,null,null,null,null,null,null,null,null,null,null,null,null,null,null,null,null,null,"NTD4858N","NTMFS4933N"]
[null,null,null,null,null,null,null,null,null,null,null,null,null,null,null,null,null,null,null,null,null,null,null,"NTD4858N","NTMFS4934N"]
[null,null,null,null,null,null,null,null,null,null,null,null,null,null,null,null,null,null,null,null,null,null,null,"NTD4858N","NTMFS4935N"]
[null,null,null,null,null,null,null,null,null,null,null,null,null,null,null,null,null,null,null,null,null,null,null,"NTD4858N","NTMFS4936"]
[null,null,null,null,null,null,null,null,null,null,null,null,null,null,null,null,null,null,null,null,null,null,null,"NTD4858N","NTTFS4932N"]
[null,null,null,null,null,null,null,null,null,null,null,null,null,null,null,null,null,null,null,null,null,null,null,"NTD4863N","NTMFS4825NFE"]
[null,null,null,null,null,null,null,null,null,null,null,null,null,null,null,null,null,null,null,null,null,null,null,"NTD4863N","NTMFS4833N"]
[null,null,null,null,null,null,null,null,null,null,null,null,null,null,null,null,null,null,null,null,null,null,null,"NTD4863N","NTMFS4834N"]
[null,null,null,null,null,null,null,null,null,null,null,null,null,null,null,null,null,null,null,null,null,null,null,"NTD4863N","NTMFS4845"]
[null,null,null,null,null,null,null,null,null,null,null,null,null,null,null,null,null,null,null,null,null,null,null,"NTD4863N","NTMFS4852N"]
[null,null,null,null,null,null,null,null,null,null,null,null,null,null,null,null,null,null,null,null,null,null,null,"NTD4863N","NTMFS4897"]
[null,null,null,null,null,null,null,null,null,null,null,null,null,null,null,null,null,null,null,null,null,null,null,"NTD4863N","NTMFS4898N"]
[null,null,null,null,null,null,null,null,null,null,null,null,null,null,null,null,null,null,null,null,null,null,null,"NTD4863N","NTMFS4933N"]
[null,null,null,null,null,null,null,null,null,null,null,null,null,null,null,null,null,null,null,null,null,null,null,"NTD4863N","NTMFS4934N"]
[null,null,null,null,null,null,null,null,null,null,null,null,null,null,null,null,null,null,null,null,null,null,null,"NTD4863N","NTTFS4932N"]
[null,null,null,null,null,null,null,null,null,null,null,null,null,null,null,null,null,null,null,null,null,null,null,"NTD4904N","NTD4804N"]
[null,null,null,null,null,null,null,null,null,null,null,null,null,null,null,null,null,null,null,null,null,null,null,"NTD4904N","NTD4855N"]
[null,null,null,null,null,null,null,null,null,null,null,null,null,null,null,null,null,null,null,null,null,null,null,"NTD4904N","NTD4904N"]
[null,null,null,null,null,null,null,null,null,null,null,null,null,null,null,null,null,null,null,null,null,null,null,"NTD4904N","NTMFS4825NFE"]
[null,null,null,null,null,null,null,null,null,null,null,null,null,null,null,null,null,null,null,null,null,null,null,"NTD4904N","NTMFS4833N"]
[null,null,null,null,null,null,null,null,null,null,null,null,null,null,null,null,null,null,null,null,null,null,null,"NTD4904N","NTMFS4834N"]
[null,null,null,null,null,null,null,null,null,null,null,null,null,null,null,null,null,null,null,null,null,null,null,"NTD4904N","NTMFS4835N"]
[null,null,null,null,null,null,null,null,null,null,null,null,null,null,null,null,null,null,null,null,null,null,null,"NTD4904N","NTMFS4845"]
[null,null,null,null,null,null,null,null,null,null,null,null,null,null,null,null,null,null,null,null,null,null,null,"NTD4904N","NTMFS4846"]
[null,null,null,null,null,null,null,null,null,null,null,null,null,null,null,null,null,null,null,null,null,null,null,"NTD4904N","NTMFS4852N"]
[null,null,null,null,null,null,null,null,null,null,null,null,null,null,null,null,null,null,null,null,null,null,null,"NTD4904N","NTMFS4897"]
[null,null,null,null,null,null,null,null,null,null,null,null,null,null,null,null,null,null,null,null,null,null,null,"NTD4904N","NTMFS4898N"]
[null,null,null,null,null,null,null,null,null,null,null,null,null,null,null,null,null,null,null,null,null,null,null,"NTD4904N","NTMFS4923NE"]
[null,null,null,null,null,null,null,null,null,null,null,null,null,null,null,null,null,null,null,null,null,null,null,"NTD4904N","NTMFS4933N"]
[null,null,null,null,null,null,null,null,null,null,null,null,null,null,null,null,null,null,null,null,null,null,null,"NTD4904N","NTMFS4934N"]
[null,null,null,null,null,null,null,null,null,null,null,null,null,null,null,null,null,null,null,null,null,null,null,"NTD4904N","NTMFS4935N"]
[null,null,null,null,null,null,null,null,null,null,null,null,null,null,null,null,null,null,null,null,null,null,null,"NTD4904N","NTMFS4936"]
[null,null,null,null,null,null,null,null,null,null,null,null,null,null,null,null,null,null,null,null,null,null,null,"NTD4904N","NTTFS4932N"]
[null,null,null,null,null,null,null,null,null,null,null,null,null,null,null,null,null,null,null,null,null,null,null,"NTD4906N","NTD4904N"]
[null,null,null,null,null,null,null,null,null,null,null,null,null,null,null,null,null,null,null,null,null,null,null,"NTD4906N","NTMFS4825NFE"]
[null,null,null,null,null,null,null,null,null,null,null,null,null,null,null,null,null,null,null,null,null,null,null,"NTD4906N","NTMFS4833N"]
[null,null,null,null,null,null,null,null,null,null,null,null,null,null,null,null,null,null,null,null,null,null,null,"NTD4906N","NTMFS4834N"]
[null,null,null,null,null,null,null,null,null,null,null,null,null,null,null,null,null,null,null,null,null,null,null,"NTD4906N","NTMFS4835N"]
[null,null,null,null,null,null,null,null,null,null,null,null,null,null,null,null,null,null,null,null,null,null,null,"NTD4906N","NTMFS4845"]
[null,null,null,null,null,null,null,null,null,null,null,null,null,null,null,null,null,null,null,null,null,null,null,"NTD4906N","NTMFS4846"]
[null,null,null,null,null,null,null,null,null,null,null,null,null,null,null,null,null,null,null,null,null,null,null,"NTD4906N","NTMFS4852N"]
[null,null,null,null,null,null,null,null,null,null,null,null,null,null,null,null,null,null,null,null,null,null,null,"NTD4906N","NTMFS4897"]
[null,null,null,null,null,null,null,null,null,null,null,null,null,null,null,null,null,null,null,null,null,null,null,"NTD4906N","NTMFS4898N"]
[null,null,null,null,null,null,null,null,null,null,null,null,null,null,null,null,null,null,null,null,null,null,null,"NTD4906N","NTMFS4923NE"]
[null,null,null,null,null,null,null,null,null,null,null,null,null,null,null,null,null,null,null,null,null,null,null,"NTD4906N","NTMFS4933N"]
[null,null,null,null,null,null,null,null,null,null,null,null,null,null,null,null,null,null,null,null,null,null,null,"NTD4906N","NTMFS4934N"]
[null,null,null,null,null,null,null,null,null,null,null,null,null,null,null,null,null,null,null,null,null,null,null,"NTD4906N","NTMFS4935N"]
[null,null,null,null,null,null,null,null,null,null,null,null,null,null,null,null,null,null,null,null,null,null,null,"NTD4906N","NTMFS4936"]
[null,null,null,null,null,null,null,null,null,null,null,null,null,null,null,null,null,null,null,null,null,null,null,"NTD4906N","NTTFS4932N"]
[null,null,null,null,null,null,null,null,null,null,null,null,null,null,null,null,null,null,null,null,null,null,null,"NTD4909N","NTD4904N"]
[null,null,null,null,null,null,null,null,null,null,null,null,null,null,null,null,null,null,null,null,null,null,null,"NTD4909N","NTMFS4825NFE"]
[null,null,null,null,null,null,null,null,null,null,null,null,null,null,null,null,null,null,null,null,null,null,null,"NTD4909N","NTMFS4833N"]
[null,null,null,null,null,null,null,null,null,null,null,null,null,null,null,null,null,null,null,null,null,null,null,"NTD4909N","NTMFS4834N"]
[null,null,null,null,null,null,null,null,null,null,null,null,null,null,null,null,null,null,null,null,null,null,null,"NTD4909N","NTMFS4835N"]
[null,null,null,null,null,null,null,null,null,null,null,null,null,null,null,null,null,null,null,null,null,null,null,"NTD4909N","NTMFS4845"]
[null,null,null,null,null,null,null,null,null,null,null,null,null,null,null,null,null,null,null,null,null,null,null,"NTD4909N","NTMFS4846"]
[null,null,null,null,null,null,null,null,null,null,null,null,null,null,null,null,null,null,null,null,null,null,null,"NTD4909N","NTMFS4852N"]
[null,null,null,null,null,null,null,null,null,null,null,null,null,null,null,null,null,null,null,null,null,null,null,"NTD4909N","NTMFS4897"]
[null,null,null,null,null,null,null,null,null,null,null,null,null,null,null,null,null,null,null,null,null,null,null,"NTD4909N","NTMFS4898N"]
[null,null,null,null,null,null,null,null,null,null,null,null,null,null,null,null,null,null,null,null,null,null,null,"NTD4909N","NTMFS4923NE"]
[null,null,null,null,null,null,null,null,null,null,null,null,null,null,null,null,null,null,null,null,null,null,null,"NTD4909N","NTMFS4933N"]
[null,null,null,null,null,null,null,null,null,null,null,null,null,null,null,null,null,null,null,null,null,null,null,"NTD4909N","NTMFS4934N"]
[null,null,null,null,null,null,null,null,null,null,null,null,null,null,null,null,null,null,null,null,null,null,null,"NTD4909N","NTMFS4935N"]
[null,null,null,null,null,null,null,null,null,null,null,null,null,null,null,null,null,null,null,null,null,null,null,"NTD4909N","NTMFS4936"]
[null,null,null,null,null,null,null,null,null,null,null,null,null,null,null,null,null,null,null,null,null,null,null,"NTD4909N","NTTFS4932N"]
[null,null,null,null,null,null,null,null,null,null,null,null,null,null,null,null,null,null,null,null,null,null,null,"NTD4910N","NTMFS4825NFE"]
[null,null,null,null,null,null,null,null,null,null,null,null,null,null,null,null,null,null,null,null,null,null,null,"NTD4910N","NTMFS4833N"]
[null,null,null,null,null,null,null,null,null,null,null,null,null,null,null,null,null,null,null,null,null,null,null,"NTD4910N","NTMFS4834N"]
[null,null,null,null,null,null,null,null,null,null,null,null,null,null,null,null,null,null,null,null,null,null,null,"NTD4910N","NTMFS4835N"]
[null,null,null,null,null,null,null,null,null,null,null,null,null,null,null,null,null,null,null,null,null,null,null,"NTD4910N","NTMFS4845"]
[null,null,null,null,null,null,null,null,null,null,null,null,null,null,null,null,null,null,null,null,null,null,null,"NTD4910N","NTMFS4846"]
[null,null,null,null,null,null,null,null,null,null,null,null,null,null,null,null,null,null,null,null,null,null,null,"NTD4910N","NTMFS4852N"]
[null,null,null,null,null,null,null,null,null,null,null,null,null,null,null,null,null,null,null,null,null,null,null,"NTD4910N","NTMFS4897"]
[null,null,null,null,null,null,null,null,null,null,null,null,null,null,null,null,null,null,null,null,null,null,null,"NTD4910N","NTMFS4898N"]
[null,null,null,null,null,null,null,null,null,null,null,null,null,null,null,null,null,null,null,null,null,null,null,"NTD4910N","NTMFS4923NE"]
[null,null,null,null,null,null,null,null,null,null,null,null,null,null,null,null,null,null,null,null,null,null,null,"NTD4910N","NTMFS4933N"]
[null,null,null,null,null,null,null,null,null,null,null,null,null,null,null,null,null,null,null,null,null,null,null,"NTD4910N","NTMFS4934N"]
[null,null,null,null,null,null,null,null,null,null,null,null,null,null,null,null,null,null,null,null,null,null,null,"NTD4910N","NTMFS4935N"]
[null,null,null,null,null,null,null,null,null,null,null,null,null,null,null,null,null,null,null,null,null,null,null,"NTD4910N","NTTFS4932N"]
[null,null,null,null,null,null,null,null,null,null,null,null,null,null,null,null,null,null,null,null,null,null,null,"NTD4913N","NTMFS4825NFE"]
[null,null,null,null,null,null,null,null,null,null,null,null,null,null,null,null,null,null,null,null,null,null,null,"NTD4913N","NTMFS4833N"]
[null,null,null,null,null,null,null,null,null,null,null,null,null,null,null,null,null,null,null,null,null,null,null,"NTD4913N","NTMFS4834N"]
[null,null,null,null,null,null,null,null,null,null,null,null,null,null,null,null,null,null,null,null,null,null,null,"NTD4913N","NTMFS4845"]
[null,null,null,null,null,null,null,null,null,null,null,null,null,null,null,null,null,null,null,null,null,null,null,"NTD4913N","NTMFS4852N"]
[null,null,null,null,null,null,null,null,null,null,null,null,null,null,null,null,null,null,null,null,null,null,null,"NTD4913N","NTMFS4897"]
[null,null,null,null,null,null,null,null,null,null,null,null,null,null,null,null,null,null,null,null,null,null,null,"NTD4913N","NTMFS4898N"]
[null,null,null,null,null,null,null,null,null,null,null,null,null,null,null,null,null,null,null,null,null,null,null,"NTD4913N","NTMFS4933N"]
[null,null,null,null,null,null,null,null,null,null,null,null,null,null,null,null,null,null,null,null,null,null,null,"NTD4913N","NTMFS4934N"]
[null,null,null,null,null,null,null,null,null,null,null,null,null,null,null,null,null,null,null,null,null,null,null,"NTD4913N","NTTFS4932N"]
[null,null,null,null,null,null,null,null,null,null,null,null,null,null,null,null,null,null,null,null,null,null,null,"NTD4960N","NTMFS4825NFE"]
[null,null,null,null,null,null,null,null,null,null,null,null,null,null,null,null,null,null,null,null,null,null,null,"NTD4960N","NTMFS4833N"]
[null,null,null,null,null,null,null,null,null,null,null,null,null,null,null,null,null,null,null,null,null,null,null,"NTD4960N","NTMFS4834N"]
[null,null,null,null,null,null,null,null,null,null,null,null,null,null,null,null,null,null,null,null,null,null,null,"NTD4960N","NTMFS4835N"]
[null,null,null,null,null,null,null,null,null,null,null,null,null,null,null,null,null,null,null,null,null,null,null,"NTD4960N","NTMFS4845"]
[null,null,null,null,null,null,null,null,null,null,null,null,null,null,null,null,null,null,null,null,null,null,null,"NTD4960N","NTMFS4846"]
[null,null,null,null,null,null,null,null,null,null,null,null,null,null,null,null,null,null,null,null,null,null,null,"NTD4960N","NTMFS4852N"]
[null,null,null,null,null,null,null,null,null,null,null,null,null,null,null,null,null,null,null,null,null,null,null,"NTD4960N","NTMFS4897"]
[null,null,null,null,null,null,null,null,null,null,null,null,null,null,null,null,null,null,null,null,null,null,null,"NTD4960N","NTMFS4898N"]
[null,null,null,null,null,null,null,null,null,null,null,null,null,null,null,null,null,null,null,null,null,null,null,"NTD4960N","NTMFS4923NE"]
[null,null,null,null,null,null,null,null,null,null,null,null,null,null,null,null,null,null,null,null,null,null,null,"NTD4960N","NTMFS4933N"]
[null,null,null,null,null,null,null,null,null,null,null,null,null,null,null,null,null,null,null,null,null,null,null,"NTD4960N","NTMFS4934N"]
[null,null,null,null,null,null,null,null,null,null,null,null,null,null,null,null,null,null,null,null,null,null,null,"NTD4960N","NTMFS4935N"]
[null,null,null,null,null,null,null,null,null,null,null,null,null,null,null,null,null,null,null,null,null,null,null,"NTD4960N","NTMFS4936"]
[null,null,null,null,null,null,null,null,null,null,null,null,null,null,null,null,null,null,null,null,null,null,null,"NTD4960N","NTTFS4932N"]
[null,null,null,null,null,null,null,null,null,null,null,null,null,null,null,null,null,null,null,null,null,null,null,"NTD4963N","NTMFS4825NFE"]
[null,null,null,null,null,null,null,null,null,null,null,null,null,null,null,null,null,null,null,null,null,null,null,"NTD4963N","NTMFS4833N"]
[null,null,null,null,null,null,null,null,null,null,null,null,null,null,null,null,null,null,null,null,null,null,null,"NTD4963N","NTMFS4834N"]
[null,null,null,null,null,null,null,null,null,null,null,null,null,null,null,null,null,null,null,null,null,null,null,"NTD4963N","NTMFS4845"]
[null,null,null,null,null,null,null,null,null,null,null,null,null,null,null,null,null,null,null,null,null,null,null,"NTD4963N","NTMFS4852N"]
[null,null,null,null,null,null,null,null,null,null,null,null,null,null,null,null,null,null,null,null,null,null,null,"NTD4963N","NTMFS4897"]
[null,null,null,null,null,null,null,null,null,null,null,null,null,null,null,null,null,null,null,null,null,null,null,"NTD4963N","NTMFS4898N"]
[null,null,null,null,null,null,null,null,null,null,null,null,null,null,null,null,null,null,null,null,null,null,null,"NTD4963N","NTMFS4933N"]
[null,null,null,null,null,null,null,null,null,null,null,null,null,null,null,null,null,null,null,null,null,null,null,"NTD4963N","NTMFS4934N"]
[null,null,null,null,null,null,null,null,null,null,null,null,null,null,null,null,null,null,null,null,null,null,null,"NTD4965N","NTD4904N"]
[null,null,null,null,null,null,null,null,null,null,null,null,null,null,null,null,null,null,null,null,null,null,null,"NTD4965N","NTMFS4825NFE"]
[null,null,null,null,null,null,null,null,null,null,null,null,null,null,null,null,null,null,null,null,null,null,null,"NTD4965N","NTMFS4833N"]
[null,null,null,null,null,null,null,null,null,null,null,null,null,null,null,null,null,null,null,null,null,null,null,"NTD4965N","NTMFS4834N"]
[null,null,null,null,null,null,null,null,null,null,null,null,null,null,null,null,null,null,null,null,null,null,null,"NTD4965N","NTMFS4835N"]
[null,null,null,null,null,null,null,null,null,null,null,null,null,null,null,null,null,null,null,null,null,null,null,"NTD4965N","NTMFS4845"]
[null,null,null,null,null,null,null,null,null,null,null,null,null,null,null,null,null,null,null,null,null,null,null,"NTD4965N","NTMFS4846"]
[null,null,null,null,null,null,null,null,null,null,null,null,null,null,null,null,null,null,null,null,null,null,null,"NTD4965N","NTMFS4852N"]
[null,null,null,null,null,null,null,null,null,null,null,null,null,null,null,null,null,null,null,null,null,null,null,"NTD4965N","NTMFS4897"]
[null,null,null,null,null,null,null,null,null,null,null,null,null,null,null,null,null,null,null,null,null,null,null,"NTD4965N","NTMFS4898N"]
[null,null,null,null,null,null,null,null,null,null,null,null,null,null,null,null,null,null,null,null,null,null,null,"NTD4965N","NTMFS4923NE"]
[null,null,null,null,null,null,null,null,null,null,null,null,null,null,null,null,null,null,null,null,null,null,null,"NTD4965N","NTMFS4933N"]
[null,null,null,null,null,null,null,null,null,null,null,null,null,null,null,null,null,null,null,null,null,null,null,"NTD4965N","NTMFS4934N"]
[null,null,null,null,null,null,null,null,null,null,null,null,null,null,null,null,null,null,null,null,null,null,null,"NTD4965N","NTMFS4935N"]
[null,null,null,null,null,null,null,null,null,null,null,null,null,null,null,null,null,null,null,null,null,null,null,"NTD4965N","NTMFS4936"]
[null,null,null,null,null,null,null,null,null,null,null,null,null,null,null,null,null,null,null,null,null,null,null,"NTD4965N","NTTFS4932N"]
[null,null,null,null,null,null,null,null,null,null,null,null,null,null,null,null,null,null,null,null,null,null,null,"NTD4969N","NTMFS4825NFE"]
[null,null,null,null,null,null,null,null,null,null,null,null,null,null,null,null,null,null,null,null,null,null,null,"NTD4969N","NTMFS4833N"]
[null,null,null,null,null,null,null,null,null,null,null,null,null,null,null,null,null,null,null,null,null,null,null,"NTD4969N","NTMFS4834N"]
[null,null,null,null,null,null,null,null,null,null,null,null,null,null,null,null,null,null,null,null,null,null,null,"NTD4969N","NTMFS4845"]
[null,null,null,null,null,null,null,null,null,null,null,null,null,null,null,null,null,null,null,null,null,null,null,"NTD4969N","NTMFS4852N"]
[null,null,null,null,null,null,null,null,null,null,null,null,null,null,null,null,null,null,null,null,null,null,null,"NTD4969N","NTMFS4897"]
[null,null,null,null,null,null,null,null,null,null,null,null,null,null,null,null,null,null,null,null,null,null,null,"NTD4969N","NTMFS4898N"]
[null,null,null,null,null,null,null,null,null,null,null,null,null,null,null,null,null,null,null,null,null,null,null,"NTD4969N","NTMFS4933N"]
[null,null,null,null,null,null,null,null,null,null,null,null,null,null,null,null,null,null,null,null,null,null,null,"NTD4969N","NTMFS4934N"]
[null,null,null,null,null,null,null,null,null,null,null,null,null,null,null,null,null,null,null,null,null,null,null,"NTD4969N","NTTFS4932N"]
[null,null,null,null,null,null,null,null,null,null,null,null,null,null,null,null,null,null,null,null,null,null,null,"NTD4970N","NTMFS4825NFE"]
[null,null,null,null,null,null,null,null,null,null,null,null,null,null,null,null,null,null,null,null,null,null,null,"NTD4970N","NTMFS4833N"]
[null,null,null,null,null,null,null,null,null,null,null,null,null,null,null,null,null,null,null,null,null,null,null,"NTD4970N","NTMFS4834N"]
[null,null,null,null,null,null,null,null,null,null,null,null,null,null,null,null,null,null,null,null,null,null,null,"NTD4970N","NTMFS4845"]
[null,null,null,null,null,null,null,null,null,null,null,null,null,null,null,null,null,null,null,null,null,null,null,"NTD4970N","NTMFS4852N"]
[null,null,null,null,null,null,null,null,null,null,null,null,null,null,null,null,null,null,null,null,null,null,null,"NTD4970N","NTMFS4897"]
[null,null,null,null,null,null,null,null,null,null,null,null,null,null,null,null,null,null,null,null,null,null,null,"NTD4970N","NTMFS4898N"]
[null,null,null,null,null,null,null,null,null,null,null,null,null,null,null,null,null,null,null,null,null,null,null,"NTD4970N","NTMFS4933N"]
[null,null,null,null,null,null,null,null,null,null,null,null,null,null,null,null,null,null,null,null,null,null,null,"NTD4970N","NTMFS4934N"]
[null,null,null,null,null,null,null,null,null,null,null,null,null,null,null,null,null,null,null,null,null,null,null,"NTD4970N","NTTFS4932N"]
[null,null,null,null,null,null,null,null,null,null,null,null,null,null,null,null,null,null,null,null,null,null,null,"NTMFS4821","NTD4904N"]
[null,null,null,null,null,null,null,null,null,null,null,null,null,null,null,null,null,null,null,null,null,null,null,"NTMFS4821","NTMFS4825NFE"]
[null,null,null,null,null,null,null,null,null,null,null,null,null,null,null,null,null,null,null,null,null,null,null,"NTMFS4821","NTMFS4833N"]
[null,null,null,null,null,null,null,null,null,null,null,null,null,null,null,null,null,null,null,null,null,null,null,"NTMFS4821","NTMFS4834N"]
[null,null,null,null,null,null,null,null,null,null,null,null,null,null,null,null,null,null,null,null,null,null,null,"NTMFS4821","NTMFS4835N"]
[null,null,null,null,null,null,null,null,null,null,null,null,null,null,null,null,null,null,null,null,null,null,null,"NTMFS4821","NTMFS4845"]
[null,null,null,null,null,null,null,null,null,null,null,null,null,null,null,null,null,null,null,null,null,null,null,"NTMFS4821","NTMFS4846"]
[null,null,null,null,null,null,null,null,null,null,null,null,null,null,null,null,null,null,null,null,null,null,null,"NTMFS4821","NTMFS4852N"]
[null,null,null,null,null,null,null,null,null,null,null,null,null,null,null,null,null,null,null,null,null,null,null,"NTMFS4821","NTMFS4897"]
[null,null,null,null,null,null,null,null,null,null,null,null,null,null,null,null,null,null,null,null,null,null,null,"NTMFS4821","NTMFS4898N"]
[null,null,null,null,null,null,null,null,null,null,null,null,null,null,null,null,null,null,null,null,null,null,null,"NTMFS4821","NTMFS4923NE"]
[null,null,null,null,null,null,null,null,null,null,null,null,null,null,null,null,null,null,null,null,null,null,null,"NTMFS4821","NTMFS4933N"]
[null,null,null,null,null,null,null,null,null,null,null,null,null,null,null,null,null,null,null,null,null,null,null,"NTMFS4821","NTMFS4934N"]
[null,null,null,null,null,null,null,null,null,null,null,null,null,null,null,null,null,null,null,null,null,null,null,"NTMFS4821","NTMFS4935N"]
[null,null,null,null,null,null,null,null,null,null,null,null,null,null,null,null,null,null,null,null,null,null,null,"NTMFS4821","NTMFS4936"]
[null,null,null,null,null,null,null,null,null,null,null,null,null,null,null,null,null,null,null,null,null,null,null,"NTMFS4821","NTTFS4932N"]
[null,null,null,null,null,null,null,null,null,null,null,null,null,null,null,null,null,null,null,null,null,null,null,"NTMFS4823","NTMFS4825NFE"]
[null,null,null,null,null,null,null,null,null,null,null,null,null,null,null,null,null,null,null,null,null,null,null,"NTMFS4823","NTMFS4833N"]
[null,null,null,null,null,null,null,null,null,null,null,null,null,null,null,null,null,null,null,null,null,null,null,"NTMFS4823","NTMFS4834N"]
[null,null,null,null,null,null,null,null,null,null,null,null,null,null,null,null,null,null,null,null,null,null,null,"NTMFS4823","NTMFS4845"]
[null,null,null,null,null,null,null,null,null,null,null,null,null,null,null,null,null,null,null,null,null,null,null,"NTMFS4823","NTMFS4852N"]
[null,null,null,null,null,null,null,null,null,null,null,null,null,null,null,null,null,null,null,null,null,null,null,"NTMFS4823","NTMFS4897"]
[null,null,null,null,null,null,null,null,null,null,null,null,null,null,null,null,null,null,null,null,null,null,null,"NTMFS4823","NTMFS4898N"]
[null,null,null,null,null,null,null,null,null,null,null,null,null,null,null,null,null,null,null,null,null,null,null,"NTMFS4823","NTMFS4933N"]
[null,null,null,null,null,null,null,null,null,null,null,null,null,null,null,null,null,null,null,null,null,null,null,"NTMFS4823","NTMFS4934N"]
[null,null,null,null,null,null,null,null,null,null,null,null,null,null,null,null,null,null,null,null,null,null,null,"NTMFS4825NFE","NTD4804N"]
[null,null,null,null,null,null,null,null,null,null,null,null,null,null,null,null,null,null,null,null,null,null,null,"NTMFS4825NFE","NTD4855N"]
[null,null,null,null,null,null,null,null,null,null,null,null,null,null,null,null,null,null,null,null,null,null,null,"NTMFS4825NFE","NTD4904N"]
[null,null,null,null,null,null,null,null,null,null,null,null,null,null,null,null,null,null,null,null,null,null,null,"NTMFS4825NFE","NTMFS4825NFE"]
[null,null,null,null,null,null,null,null,null,null,null,null,null,null,null,null,null,null,null,null,null,null,null,"NTMFS4825NFE","NTMFS4833N"]
[null,null,null,null,null,null,null,null,null,null,null,null,null,null,null,null,null,null,null,null,null,null,null,"NTMFS4825NFE","NTMFS4834N"]
[null,null,null,null,null,null,null,null,null,null,null,null,null,null,null,null,null,null,null,null,null,null,null,"NTMFS4825NFE","NTMFS4835N"]
[null,null,null,null,null,null,null,null,null,null,null,null,null,null,null,null,null,null,null,null,null,null,null,"NTMFS4825NFE","NTMFS4836N"]
[null,null,null,null,null,null,null,null,null,null,null,null,null,null,null,null,null,null,null,null,null,null,null,"NTMFS4825NFE","NTMFS4845"]
[null,null,null,null,null,null,null,null,null,null,null,null,null,null,null,null,null,null,null,null,null,null,null,"NTMFS4825NFE","NTMFS4846"]
[null,null,null,null,null,null,null,null,null,null,null,null,null,null,null,null,null,null,null,null,null,null,null,"NTMFS4825NFE","NTMFS4852N"]
[null,null,null,null,null,null,null,null,null,null,null,null,null,null,null,null,null,null,null,null,null,null,null,"NTMFS4825NFE","NTMFS4897"]
[null,null,null,null,null,null,null,null,null,null,null,null,null,null,null,null,null,null,null,null,null,null,null,"NTMFS4825NFE","NTMFS4898N"]
[null,null,null,null,null,null,null,null,null,null,null,null,null,null,null,null,null,null,null,null,null,null,null,"NTMFS4825NFE","NTMFS4923NE"]
[null,null,null,null,null,null,null,null,null,null,null,null,null,null,null,null,null,null,null,null,null,null,null,"NTMFS4825NFE","NTMFS4933N"]
[null,null,null,null,null,null,null,null,null,null,null,null,null,null,null,null,null,null,null,null,null,null,null,"NTMFS4825NFE","NTMFS4934N"]
[null,null,null,null,null,null,null,null,null,null,null,null,null,null,null,null,null,null,null,null,null,null,null,"NTMFS4825NFE","NTMFS4935N"]
[null,null,null,null,null,null,null,null,null,null,null,null,null,null,null,null,null,null,null,null,null,null,null,"NTMFS4825NFE","NTMFS4936"]
[null,null,null,null,null,null,null,null,null,null,null,null,null,null,null,null,null,null,null,null,null,null,null,"NTMFS4825NFE","NTTFS4932N"]
[null,null,null,null,null,null,null,null,null,null,null,null,null,null,null,null,null,null,null,null,null,null,null,"NTMFS4825NFE","NTTFS4937N"]
[null,null,null,null,null,null,null,null,null,null,null,null,null,null,null,null,null,null,null,null,null,null,null,"NTMFS4826NE","NTD4904N"]
[null,null,null,null,null,null,null,null,null,null,null,null,null,null,null,null,null,null,null,null,null,null,null,"NTMFS4826NE","NTMFS4825NFE"]
[null,null,null,null,null,null,null,null,null,null,null,null,null,null,null,null,null,null,null,null,null,null,null,"NTMFS4826NE","NTMFS4833N"]
[null,null,null,null,null,null,null,null,null,null,null,null,null,null,null,null,null,null,null,null,null,null,null,"NTMFS4826NE","NTMFS4834N"]
[null,null,null,null,null,null,null,null,null,null,null,null,null,null,null,null,null,null,null,null,null,null,null,"NTMFS4826NE","NTMFS4835N"]
[null,null,null,null,null,null,null,null,null,null,null,null,null,null,null,null,null,null,null,null,null,null,null,"NTMFS4826NE","NTMFS4845"]
[null,null,null,null,null,null,null,null,null,null,null,null,null,null,null,null,null,null,null,null,null,null,null,"NTMFS4826NE","NTMFS4846"]
[null,null,null,null,null,null,null,null,null,null,null,null,null,null,null,null,null,null,null,null,null,null,null,"NTMFS4826NE","NTMFS4852N"]
[null,null,null,null,null,null,null,null,null,null,null,null,null,null,null,null,null,null,null,null,null,null,null,"NTMFS4826NE","NTMFS4897"]
[null,null,null,null,null,null,null,null,null,null,null,null,null,null,null,null,null,null,null,null,null,null,null,"NTMFS4826NE","NTMFS4898N"]
[null,null,null,null,null,null,null,null,null,null,null,null,null,null,null,null,null,null,null,null,null,null,null,"NTMFS4826NE","NTMFS4923NE"]
[null,null,null,null,null,null,null,null,null,null,null,null,null,null,null,null,null,null,null,null,null,null,null,"NTMFS4826NE","NTMFS4933N"]
[null,null,null,null,null,null,null,null,null,null,null,null,null,null,null,null,null,null,null,null,null,null,null,"NTMFS4826NE","NTMFS4934N"]
[null,null,null,null,null,null,null,null,null,null,null,null,null,null,null,null,null,null,null,null,null,null,null,"NTMFS4826NE","NTMFS4935N"]
[null,null,null,null,null,null,null,null,null,null,null,null,null,null,null,null,null,null,null,null,null,null,null,"NTMFS4826NE","NTMFS4936"]
[null,null,null,null,null,null,null,null,null,null,null,null,null,null,null,null,null,null,null,null,null,null,null,"NTMFS4826NE","NTTFS4932N"]
[null,null,null,null,null,null,null,null,null,null,null,null,null,null,null,null,null,null,null,null,null,null,null,"NTMFS4833N","NTD4804N"]
[null,null,null,null,null,null,null,null,null,null,null,null,null,null,null,null,null,null,null,null,null,null,null,"NTMFS4833N","NTD4855N"]
[null,null,null,null,null,null,null,null,null,null,null,null,null,null,null,null,null,null,null,null,null,null,null,"NTMFS4833N","NTD4904N"]
[null,null,null,null,null,null,null,null,null,null,null,null,null,null,null,null,null,null,null,null,null,null,null,"NTMFS4833N","NTMFS4825NFE"]
[null,null,null,null,null,null,null,null,null,null,null,null,null,null,null,null,null,null,null,null,null,null,null,"NTMFS4833N","NTMFS4833N"]
[null,null,null,null,null,null,null,null,null,null,null,null,null,null,null,null,null,null,null,null,null,null,null,"NTMFS4833N","NTMFS4834N"]
[null,null,null,null,null,null,null,null,null,null,null,null,null,null,null,null,null,null,null,null,null,null,null,"NTMFS4833N","NTMFS4835N"]
[null,null,null,null,null,null,null,null,null,null,null,null,null,null,null,null,null,null,null,null,null,null,null,"NTMFS4833N","NTMFS4836N"]
[null,null,null,null,null,null,null,null,null,null,null,null,null,null,null,null,null,null,null,null,null,null,null,"NTMFS4833N","NTMFS4845"]
[null,null,null,null,null,null,null,null,null,null,null,null,null,null,null,null,null,null,null,null,null,null,null,"NTMFS4833N","NTMFS4846"]
[null,null,null,null,null,null,null,null,null,null,null,null,null,null,null,null,null,null,null,null,null,null,null,"NTMFS4833N","NTMFS4852N"]
[null,null,null,null,null,null,null,null,null,null,null,null,null,null,null,null,null,null,null,null,null,null,null,"NTMFS4833N","NTMFS4897"]
[null,null,null,null,null,null,null,null,null,null,null,null,null,null,null,null,null,null,null,null,null,null,null,"NTMFS4833N","NTMFS4898N"]
[null,null,null,null,null,null,null,null,null,null,null,null,null,null,null,null,null,null,null,null,null,null,null,"NTMFS4833N","NTMFS4923NE"]
[null,null,null,null,null,null,null,null,null,null,null,null,null,null,null,null,null,null,null,null,null,null,null,"NTMFS4833N","NTMFS4933N"]
[null,null,null,null,null,null,null,null,null,null,null,null,null,null,null,null,null,null,null,null,null,null,null,"NTMFS4833N","NTMFS4934N"]
[null,null,null,null,null,null,null,null,null,null,null,null,null,null,null,null,null,null,null,null,null,null,null,"NTMFS4833N","NTMFS4935N"]
[null,null,null,null,null,null,null,null,null,null,null,null,null,null,null,null,null,null,null,null,null,null,null,"NTMFS4833N","NTMFS4936"]
[null,null,null,null,null,null,null,null,null,null,null,null,null,null,null,null,null,null,null,null,null,null,null,"NTMFS4833N","NTTFS4932N"]
[null,null,null,null,null,null,null,null,null,null,null,null,null,null,null,null,null,null,null,null,null,null,null,"NTMFS4833N","NTTFS4937N"]
[null,null,null,null,null,null,null,null,null,null,null,null,null,null,null,null,null,null,null,null,null,null,null,"NTMFS4834N","NTD4804N"]
[null,null,null,null,null,null,null,null,null,null,null,null,null,null,null,null,null,null,null,null,null,null,null,"NTMFS4834N","NTD4855N"]
[null,null,null,null,null,null,null,null,null,null,null,null,null,null,null,null,null,null,null,null,null,null,null,"NTMFS4834N","NTD4904N"]
[null,null,null,null,null,null,null,null,null,null,null,null,null,null,null,null,null,null,null,null,null,null,null,"NTMFS4834N","NTMFS4825NFE"]
[null,null,null,null,null,null,null,null,null,null,null,null,null,null,null,null,null,null,null,null,null,null,null,"NTMFS4834N","NTMFS4833N"]
[null,null,null,null,null,null,null,null,null,null,null,null,null,null,null,null,null,null,null,null,null,null,null,"NTMFS4834N","NTMFS4834N"]
[null,null,null,null,null,null,null,null,null,null,null,null,null,null,null,null,null,null,null,null,null,null,null,"NTMFS4834N","NTMFS4835N"]
[null,null,null,null,null,null,null,null,null,null,null,null,null,null,null,null,null,null,null,null,null,null,null,"NTMFS4834N","NTMFS4845"]
[null,null,null,null,null,null,null,null,null,null,null,null,null,null,null,null,null,null,null,null,null,null,null,"NTMFS4834N","NTMFS4846"]
[null,null,null,null,null,null,null,null,null,null,null,null,null,null,null,null,null,null,null,null,null,null,null,"NTMFS4834N","NTMFS4852N"]
[null,null,null,null,null,null,null,null,null,null,null,null,null,null,null,null,null,null,null,null,null,null,null,"NTMFS4834N","NTMFS4897"]
[null,null,null,null,null,null,null,null,null,null,null,null,null,null,null,null,null,null,null,null,null,null,null,"NTMFS4834N","NTMFS4898N"]
[null,null,null,null,null,null,null,null,null,null,null,null,null,null,null,null,null,null,null,null,null,null,null,"NTMFS4834N","NTMFS4923NE"]
[null,null,null,null,null,null,null,null,null,null,null,null,null,null,null,null,null,null,null,null,null,null,null,"NTMFS4834N","NTMFS4933N"]
[null,null,null,null,null,null,null,null,null,null,null,null,null,null,null,null,null,null,null,null,null,null,null,"NTMFS4834N","NTMFS4934N"]
[null,null,null,null,null,null,null,null,null,null,null,null,null,null,null,null,null,null,null,null,null,null,null,"NTMFS4834N","NTMFS4935N"]
[null,null,null,null,null,null,null,null,null,null,null,null,null,null,null,null,null,null,null,null,null,null,null,"NTMFS4834N","NTMFS4936"]
[null,null,null,null,null,null,null,null,null,null,null,null,null,null,null,null,null,null,null,null,null,null,null,"NTMFS4834N","NTTFS4932N"]
[null,null,null,null,null,null,null,null,null,null,null,null,null,null,null,null,null,null,null,null,null,null,null,"NTMFS4835N","NTD4804N"]
[null,null,null,null,null,null,null,null,null,null,null,null,null,null,null,null,null,null,null,null,null,null,null,"NTMFS4835N","NTD4855N"]
[null,null,null,null,null,null,null,null,null,null,null,null,null,null,null,null,null,null,null,null,null,null,null,"NTMFS4835N","NTD4904N"]
[null,null,null,null,null,null,null,null,null,null,null,null,null,null,null,null,null,null,null,null,null,null,null,"NTMFS4835N","NTMFS4825NFE"]
[null,null,null,null,null,null,null,null,null,null,null,null,null,null,null,null,null,null,null,null,null,null,null,"NTMFS4835N","NTMFS4833N"]
[null,null,null,null,null,null,null,null,null,null,null,null,null,null,null,null,null,null,null,null,null,null,null,"NTMFS4835N","NTMFS4834N"]
[null,null,null,null,null,null,null,null,null,null,null,null,null,null,null,null,null,null,null,null,null,null,null,"NTMFS4835N","NTMFS4835N"]
[null,null,null,null,null,null,null,null,null,null,null,null,null,null,null,null,null,null,null,null,null,null,null,"NTMFS4835N","NTMFS4845"]
[null,null,null,null,null,null,null,null,null,null,null,null,null,null,null,null,null,null,null,null,null,null,null,"NTMFS4835N","NTMFS4846"]
[null,null,null,null,null,null,null,null,null,null,null,null,null,null,null,null,null,null,null,null,null,null,null,"NTMFS4835N","NTMFS4852N"]
[null,null,null,null,null,null,null,null,null,null,null,null,null,null,null,null,null,null,null,null,null,null,null,"NTMFS4835N","NTMFS4897"]
[null,null,null,null,null,null,null,null,null,null,null,null,null,null,null,null,null,null,null,null,null,null,null,"NTMFS4835N","NTMFS4898N"]
[null,null,null,null,null,null,null,null,null,null,null,null,null,null,null,null,null,null,null,null,null,null,null,"NTMFS4835N","NTMFS4923NE"]
[null,null,null,null,null,null,null,null,null,null,null,null,null,null,null,null,null,null,null,null,null,null,null,"NTMFS4835N","NTMFS4933N"]
[null,null,null,null,null,null,null,null,null,null,null,null,null,null,null,null,null,null,null,null,null,null,null,"NTMFS4835N","NTMFS4934N"]
[null,null,null,null,null,null,null,null,null,null,null,null,null,null,null,null,null,null,null,null,null,null,null,"NTMFS4835N","NTMFS4935N"]
[null,null,null,null,null,null,null,null,null,null,null,null,null,null,null,null,null,null,null,null,null,null,null,"NTMFS4835N","NTMFS4936"]
[null,null,null,null,null,null,null,null,null,null,null,null,null,null,null,null,null,null,null,null,null,null,null,"NTMFS4835N","NTTFS4932N"]
[null,null,null,null,null,null,null,null,null,null,null,null,null,null,null,null,null,null,null,null,null,null,null,"NTMFS4836N","NTD4904N"]
[null,null,null,null,null,null,null,null,null,null,null,null,null,null,null,null,null,null,null,null,null,null,null,"NTMFS4836N","NTMFS4825NFE"]
[null,null,null,null,null,null,null,null,null,null,null,null,null,null,null,null,null,null,null,null,null,null,null,"NTMFS4836N","NTMFS4833N"]
[null,null,null,null,null,null,null,null,null,null,null,null,null,null,null,null,null,null,null,null,null,null,null,"NTMFS4836N","NTMFS4834N"]
[null,null,null,null,null,null,null,null,null,null,null,null,null,null,null,null,null,null,null,null,null,null,null,"NTMFS4836N","NTMFS4835N"]
[null,null,null,null,null,null,null,null,null,null,null,null,null,null,null,null,null,null,null,null,null,null,null,"NTMFS4836N","NTMFS4845"]
[null,null,null,null,null,null,null,null,null,null,null,null,null,null,null,null,null,null,null,null,null,null,null,"NTMFS4836N","NTMFS4846"]
[null,null,null,null,null,null,null,null,null,null,null,null,null,null,null,null,null,null,null,null,null,null,null,"NTMFS4836N","NTMFS4852N"]
[null,null,null,null,null,null,null,null,null,null,null,null,null,null,null,null,null,null,null,null,null,null,null,"NTMFS4836N","NTMFS4897"]
[null,null,null,null,null,null,null,null,null,null,null,null,null,null,null,null,null,null,null,null,null,null,null,"NTMFS4836N","NTMFS4898N"]
[null,null,null,null,null,null,null,null,null,null,null,null,null,null,null,null,null,null,null,null,null,null,null,"NTMFS4836N","NTMFS4923NE"]
[null,null,null,null,null,null,null,null,null,null,null,null,null,null,null,null,null,null,null,null,null,null,null,"NTMFS4836N","NTMFS4933N"]
[null,null,null,null,null,null,null,null,null,null,null,null,null,null,null,null,null,null,null,null,null,null,null,"NTMFS4836N","NTMFS4934N"]
[null,null,null,null,null,null,null,null,null,null,null,null,null,null,null,null,null,null,null,null,null,null,null,"NTMFS4836N","NTMFS4935N"]
[null,null,null,null,null,null,null,null,null,null,null,null,null,null,null,null,null,null,null,null,null,null,null,"NTMFS4836N","NTMFS4936"]
[null,null,null,null,null,null,null,null,null,null,null,null,null,null,null,null,null,null,null,null,null,null,null,"NTMFS4836N","NTTFS4932N"]
[null,null,null,null,null,null,null,null,null,null,null,null,null,null,null,null,null,null,null,null,null,null,null,"NTMFS4837NH","NTD4904N"]
[null,null,null,null,null,null,null,null,null,null,null,null,null,null,null,null,null,null,null,null,null,null,null,"NTMFS4837NH","NTMFS4825NFE"]
[null,null,null,null,null,null,null,null,null,null,null,null,null,null,null,null,null,null,null,null,null,null,null,"NTMFS4837NH","NTMFS4833N"]
[null,null,null,null,null,null,null,null,null,null,null,null,null,null,null,null,null,null,null,null,null,null,null,"NTMFS4837NH","NTMFS4834N"]
[null,null,null,null,null,null,null,null,null,null,null,null,null,null,null,null,null,null,null,null,null,null,null,"NTMFS4837NH","NTMFS4835N"]
[null,null,null,null,null,null,null,null,null,null,null,null,null,null,null,null,null,null,null,null,null,null,null,"NTMFS4837NH","NTMFS4845"]
[null,null,null,null,null,null,null,null,null,null,null,null,null,null,null,null,null,null,null,null,null,null,null,"NTMFS4837NH","NTMFS4846"]
[null,null,null,null,null,null,null,null,null,null,null,null,null,null,null,null,null,null,null,null,null,null,null,"NTMFS4837NH","NTMFS4852N"]
[null,null,null,null,null,null,null,null,null,null,null,null,null,null,null,null,null,null,null,null,null,null,null,"NTMFS4837NH","NTMFS4897"]
[null,null,null,null,null,null,null,null,null,null,null,null,null,null,null,null,null,null,null,null,null,null,null,"NTMFS4837NH","NTMFS4898N"]
[null,null,null,null,null,null,null,null,null,null,null,null,null,null,null,null,null,null,null,null,null,null,null,"NTMFS4837NH","NTMFS4923NE"]
[null,null,null,null,null,null,null,null,null,null,null,null,null,null,null,null,null,null,null,null,null,null,null,"NTMFS4837NH","NTMFS4933N"]
[null,null,null,null,null,null,null,null,null,null,null,null,null,null,null,null,null,null,null,null,null,null,null,"NTMFS4837NH","NTMFS4934N"]
[null,null,null,null,null,null,null,null,null,null,null,null,null,null,null,null,null,null,null,null,null,null,null,"NTMFS4837NH","NTMFS4935N"]
[null,null,null,null,null,null,null,null,null,null,null,null,null,null,null,null,null,null,null,null,null,null,null,"NTMFS4837NH","NTMFS4936"]
[null,null,null,null,null,null,null,null,null,null,null,null,null,null,null,null,null,null,null,null,null,null,null,"NTMFS4837NH","NTTFS4932N"]
[null,null,null,null,null,null,null,null,null,null,null,null,null,null,null,null,null,null,null,null,null,null,null,"NTMFS4839NH","NTD4904N"]
[null,null,null,null,null,null,null,null,null,null,null,null,null,null,null,null,null,null,null,null,null,null,null,"NTMFS4839NH","NTMFS4825NFE"]
[null,null,null,null,null,null,null,null,null,null,null,null,null,null,null,null,null,null,null,null,null,null,null,"NTMFS4839NH","NTMFS4833N"]
[null,null,null,null,null,null,null,null,null,null,null,null,null,null,null,null,null,null,null,null,null,null,null,"NTMFS4839NH","NTMFS4834N"]
[null,null,null,null,null,null,null,null,null,null,null,null,null,null,null,null,null,null,null,null,null,null,null,"NTMFS4839NH","NTMFS4835N"]
[null,null,null,null,null,null,null,null,null,null,null,null,null,null,null,null,null,null,null,null,null,null,null,"NTMFS4839NH","NTMFS4845"]
[null,null,null,null,null,null,null,null,null,null,null,null,null,null,null,null,null,null,null,null,null,null,null,"NTMFS4839NH","NTMFS4846"]
[null,null,null,null,null,null,null,null,null,null,null,null,null,null,null,null,null,null,null,null,null,null,null,"NTMFS4839NH","NTMFS4852N"]
[null,null,null,null,null,null,null,null,null,null,null,null,null,null,null,null,null,null,null,null,null,null,null,"NTMFS4839NH","NTMFS4897"]
[null,null,null,null,null,null,null,null,null,null,null,null,null,null,null,null,null,null,null,null,null,null,null,"NTMFS4839NH","NTMFS4898N"]
[null,null,null,null,null,null,null,null,null,null,null,null,null,null,null,null,null,null,null,null,null,null,null,"NTMFS4839NH","NTMFS4923NE"]
[null,null,null,null,null,null,null,null,null,null,null,null,null,null,null,null,null,null,null,null,null,null,null,"NTMFS4839NH","NTMFS4933N"]
[null,null,null,null,null,null,null,null,null,null,null,null,null,null,null,null,null,null,null,null,null,null,null,"NTMFS4839NH","NTMFS4934N"]
[null,null,null,null,null,null,null,null,null,null,null,null,null,null,null,null,null,null,null,null,null,null,null,"NTMFS4839NH","NTMFS4935N"]
[null,null,null,null,null,null,null,null,null,null,null,null,null,null,null,null,null,null,null,null,null,null,null,"NTMFS4839NH","NTMFS4936"]
[null,null,null,null,null,null,null,null,null,null,null,null,null,null,null,null,null,null,null,null,null,null,null,"NTMFS4839NH","NTTFS4932N"]
[null,null,null,null,null,null,null,null,null,null,null,null,null,null,null,null,null,null,null,null,null,null,null,"NTMFS4841N","NTD4904N"]
[null,null,null,null,null,null,null,null,null,null,null,null,null,null,null,null,null,null,null,null,null,null,null,"NTMFS4841N","NTMFS4825NFE"]
[null,null,null,null,null,null,null,null,null,null,null,null,null,null,null,null,null,null,null,null,null,null,null,"NTMFS4841N","NTMFS4833N"]
[null,null,null,null,null,null,null,null,null,null,null,null,null,null,null,null,null,null,null,null,null,null,null,"NTMFS4841N","NTMFS4834N"]
[null,null,null,null,null,null,null,null,null,null,null,null,null,null,null,null,null,null,null,null,null,null,null,"NTMFS4841N","NTMFS4835N"]
[null,null,null,null,null,null,null,null,null,null,null,null,null,null,null,null,null,null,null,null,null,null,null,"NTMFS4841N","NTMFS4845"]
[null,null,null,null,null,null,null,null,null,null,null,null,null,null,null,null,null,null,null,null,null,null,null,"NTMFS4841N","NTMFS4846"]
[null,null,null,null,null,null,null,null,null,null,null,null,null,null,null,null,null,null,null,null,null,null,null,"NTMFS4841N","NTMFS4852N"]
[null,null,null,null,null,null,null,null,null,null,null,null,null,null,null,null,null,null,null,null,null,null,null,"NTMFS4841N","NTMFS4897"]
[null,null,null,null,null,null,null,null,null,null,null,null,null,null,null,null,null,null,null,null,null,null,null,"NTMFS4841N","NTMFS4898N"]
[null,null,null,null,null,null,null,null,null,null,null,null,null,null,null,null,null,null,null,null,null,null,null,"NTMFS4841N","NTMFS4923NE"]
[null,null,null,null,null,null,null,null,null,null,null,null,null,null,null,null,null,null,null,null,null,null,null,"NTMFS4841N","NTMFS4933N"]
[null,null,null,null,null,null,null,null,null,null,null,null,null,null,null,null,null,null,null,null,null,null,null,"NTMFS4841N","NTMFS4934N"]
[null,null,null,null,null,null,null,null,null,null,null,null,null,null,null,null,null,null,null,null,null,null,null,"NTMFS4841N","NTMFS4935N"]
[null,null,null,null,null,null,null,null,null,null,null,null,null,null,null,null,null,null,null,null,null,null,null,"NTMFS4841N","NTMFS4936"]
[null,null,null,null,null,null,null,null,null,null,null,null,null,null,null,null,null,null,null,null,null,null,null,"NTMFS4841N","NTTFS4932N"]
[null,null,null,null,null,null,null,null,null,null,null,null,null,null,null,null,null,null,null,null,null,null,null,"NTMFS4841NH","NTD4904N"]
[null,null,null,null,null,null,null,null,null,null,null,null,null,null,null,null,null,null,null,null,null,null,null,"NTMFS4841NH","NTMFS4825NFE"]
[null,null,null,null,null,null,null,null,null,null,null,null,null,null,null,null,null,null,null,null,null,null,null,"NTMFS4841NH","NTMFS4833N"]
[null,null,null,null,null,null,null,null,null,null,null,null,null,null,null,null,null,null,null,null,null,null,null,"NTMFS4841NH","NTMFS4834N"]
[null,null,null,null,null,null,null,null,null,null,null,null,null,null,null,null,null,null,null,null,null,null,null,"NTMFS4841NH","NTMFS4835N"]
[null,null,null,null,null,null,null,null,null,null,null,null,null,null,null,null,null,null,null,null,null,null,null,"NTMFS4841NH","NTMFS4845"]
[null,null,null,null,null,null,null,null,null,null,null,null,null,null,null,null,null,null,null,null,null,null,null,"NTMFS4841NH","NTMFS4846"]
[null,null,null,null,null,null,null,null,null,null,null,null,null,null,null,null,null,null,null,null,null,null,null,"NTMFS4841NH","NTMFS4852N"]
[null,null,null,null,null,null,null,null,null,null,null,null,null,null,null,null,null,null,null,null,null,null,null,"NTMFS4841NH","NTMFS4897"]
[null,null,null,null,null,null,null,null,null,null,null,null,null,null,null,null,null,null,null,null,null,null,null,"NTMFS4841NH","NTMFS4898N"]
[null,null,null,null,null,null,null,null,null,null,null,null,null,null,null,null,null,null,null,null,null,null,null,"NTMFS4841NH","NTMFS4923NE"]
[null,null,null,null,null,null,null,null,null,null,null,null,null,null,null,null,null,null,null,null,null,null,null,"NTMFS4841NH","NTMFS4933N"]
[null,null,null,null,null,null,null,null,null,null,null,null,null,null,null,null,null,null,null,null,null,null,null,"NTMFS4841NH","NTMFS4934N"]
[null,null,null,null,null,null,null,null,null,null,null,null,null,null,null,null,null,null,null,null,null,null,null,"NTMFS4841NH","NTMFS4935N"]
[null,null,null,null,null,null,null,null,null,null,null,null,null,null,null,null,null,null,null,null,null,null,null,"NTMFS4841NH","NTMFS4936"]
[null,null,null,null,null,null,null,null,null,null,null,null,null,null,null,null,null,null,null,null,null,null,null,"NTMFS4841NH","NTTFS4932N"]
[null,null,null,null,null,null,null,null,null,null,null,null,null,null,null,null,null,null,null,null,null,null,null,"NTMFS4845","NTD4804N"]
[null,null,null,null,null,null,null,null,null,null,null,null,null,null,null,null,null,null,null,null,null,null,null,"NTMFS4845","NTD4855N"]
[null,null,null,null,null,null,null,null,null,null,null,null,null,null,null,null,null,null,null,null,null,null,null,"NTMFS4845","NTD4904N"]
[null,null,null,null,null,null,null,null,null,null,null,null,null,null,null,null,null,null,null,null,null,null,null,"NTMFS4845","NTMFS4825NFE"]
[null,null,null,null,null,null,null,null,null,null,null,null,null,null,null,null,null,null,null,null,null,null,null,"NTMFS4845","NTMFS4833N"]
[null,null,null,null,null,null,null,null,null,null,null,null,null,null,null,null,null,null,null,null,null,null,null,"NTMFS4845","NTMFS4834N"]
[null,null,null,null,null,null,null,null,null,null,null,null,null,null,null,null,null,null,null,null,null,null,null,"NTMFS4845","NTMFS4835N"]
[null,null,null,null,null,null,null,null,null,null,null,null,null,null,null,null,null,null,null,null,null,null,null,"NTMFS4845","NTMFS4845"]
[null,null,null,null,null,null,null,null,null,null,null,null,null,null,null,null,null,null,null,null,null,null,null,"NTMFS4845","NTMFS4846"]
[null,null,null,null,null,null,null,null,null,null,null,null,null,null,null,null,null,null,null,null,null,null,null,"NTMFS4845","NTMFS4852N"]
[null,null,null,null,null,null,null,null,null,null,null,null,null,null,null,null,null,null,null,null,null,null,null,"NTMFS4845","NTMFS4897"]
[null,null,null,null,null,null,null,null,null,null,null,null,null,null,null,null,null,null,null,null,null,null,null,"NTMFS4845","NTMFS4898N"]
[null,null,null,null,null,null,null,null,null,null,null,null,null,null,null,null,null,null,null,null,null,null,null,"NTMFS4845","NTMFS4923NE"]
[null,null,null,null,null,null,null,null,null,null,null,null,null,null,null,null,null,null,null,null,null,null,null,"NTMFS4845","NTMFS4933N"]
[null,null,null,null,null,null,null,null,null,null,null,null,null,null,null,null,null,null,null,null,null,null,null,"NTMFS4845","NTMFS4934N"]
[null,null,null,null,null,null,null,null,null,null,null,null,null,null,null,null,null,null,null,null,null,null,null,"NTMFS4845","NTMFS4935N"]
[null,null,null,null,null,null,null,null,null,null,null,null,null,null,null,null,null,null,null,null,null,null,null,"NTMFS4845","NTMFS4936"]
[null,null,null,null,null,null,null,null,null,null,null,null,null,null,null,null,null,null,null,null,null,null,null,"NTMFS4845","NTTFS4932N"]
[null,null,null,null,null,null,null,null,null,null,null,null,null,null,null,null,null,null,null,null,null,null,null,"NTMFS4846","NTD4804N"]
[null,null,null,null,null,null,null,null,null,null,null,null,null,null,null,null,null,null,null,null,null,null,null,"NTMFS4846","NTD4855N"]
[null,null,null,null,null,null,null,null,null,null,null,null,null,null,null,null,null,null,null,null,null,null,null,"NTMFS4846","NTD4904N"]
[null,null,null,null,null,null,null,null,null,null,null,null,null,null,null,null,null,null,null,null,null,null,null,"NTMFS4846","NTMFS4825NFE"]
[null,null,null,null,null,null,null,null,null,null,null,null,null,null,null,null,null,null,null,null,null,null,null,"NTMFS4846","NTMFS4833N"]
[null,null,null,null,null,null,null,null,null,null,null,null,null,null,null,null,null,null,null,null,null,null,null,"NTMFS4846","NTMFS4834N"]
[null,null,null,null,null,null,null,null,null,null,null,null,null,null,null,null,null,null,null,null,null,null,null,"NTMFS4846","NTMFS4835N"]
[null,null,null,null,null,null,null,null,null,null,null,null,null,null,null,null,null,null,null,null,null,null,null,"NTMFS4846","NTMFS4845"]
[null,null,null,null,null,null,null,null,null,null,null,null,null,null,null,null,null,null,null,null,null,null,null,"NTMFS4846","NTMFS4846"]
[null,null,null,null,null,null,null,null,null,null,null,null,null,null,null,null,null,null,null,null,null,null,null,"NTMFS4846","NTMFS4852N"]
[null,null,null,null,null,null,null,null,null,null,null,null,null,null,null,null,null,null,null,null,null,null,null,"NTMFS4846","NTMFS4897"]
[null,null,null,null,null,null,null,null,null,null,null,null,null,null,null,null,null,null,null,null,null,null,null,"NTMFS4846","NTMFS4898N"]
[null,null,null,null,null,null,null,null,null,null,null,null,null,null,null,null,null,null,null,null,null,null,null,"NTMFS4846","NTMFS4923NE"]
[null,null,null,null,null,null,null,null,null,null,null,null,null,null,null,null,null,null,null,null,null,null,null,"NTMFS4846","NTMFS4933N"]
[null,null,null,null,null,null,null,null,null,null,null,null,null,null,null,null,null,null,null,null,null,null,null,"NTMFS4846","NTMFS4934N"]
[null,null,null,null,null,null,null,null,null,null,null,null,null,null,null,null,null,null,null,null,null,null,null,"NTMFS4846","NTMFS4935N"]
[null,null,null,null,null,null,null,null,null,null,null,null,null,null,null,null,null,null,null,null,null,null,null,"NTMFS4846","NTMFS4936"]
[null,null,null,null,null,null,null,null,null,null,null,null,null,null,null,null,null,null,null,null,null,null,null,"NTMFS4846","NTTFS4932N"]
[null,null,null,null,null,null,null,null,null,null,null,null,null,null,null,null,null,null,null,null,null,null,null,"NTMFS4847N","NTD4904N"]
[null,null,null,null,null,null,null,null,null,null,null,null,null,null,null,null,null,null,null,null,null,null,null,"NTMFS4847N","NTMFS4825NFE"]
[null,null,null,null,null,null,null,null,null,null,null,null,null,null,null,null,null,null,null,null,null,null,null,"NTMFS4847N","NTMFS4833N"]
[null,null,null,null,null,null,null,null,null,null,null,null,null,null,null,null,null,null,null,null,null,null,null,"NTMFS4847N","NTMFS4834N"]
[null,null,null,null,null,null,null,null,null,null,null,null,null,null,null,null,null,null,null,null,null,null,null,"NTMFS4847N","NTMFS4835N"]
[null,null,null,null,null,null,null,null,null,null,null,null,null,null,null,null,null,null,null,null,null,null,null,"NTMFS4847N","NTMFS4845"]
[null,null,null,null,null,null,null,null,null,null,null,null,null,null,null,null,null,null,null,null,null,null,null,"NTMFS4847N","NTMFS4846"]
[null,null,null,null,null,null,null,null,null,null,null,null,null,null,null,null,null,null,null,null,null,null,null,"NTMFS4847N","NTMFS4852N"]
[null,null,null,null,null,null,null,null,null,null,null,null,null,null,null,null,null,null,null,null,null,null,null,"NTMFS4847N","NTMFS4897"]
[null,null,null,null,null,null,null,null,null,null,null,null,null,null,null,null,null,null,null,null,null,null,null,"NTMFS4847N","NTMFS4898N"]
[null,null,null,null,null,null,null,null,null,null,null,null,null,null,null,null,null,null,null,null,null,null,null,"NTMFS4847N","NTMFS4923NE"]
[null,null,null,null,null,null,null,null,null,null,null,null,null,null,null,null,null,null,null,null,null,null,null,"NTMFS4847N","NTMFS4933N"]
[null,null,null,null,null,null,null,null,null,null,null,null,null,null,null,null,null,null,null,null,null,null,null,"NTMFS4847N","NTMFS4934N"]
[null,null,null,null,null,null,null,null,null,null,null,null,null,null,null,null,null,null,null,null,null,null,null,"NTMFS4847N","NTMFS4935N"]
[null,null,null,null,null,null,null,null,null,null,null,null,null,null,null,null,null,null,null,null,null,null,null,"NTMFS4847N","NTMFS4936"]
[null,null,null,null,null,null,null,null,null,null,null,null,null,null,null,null,null,null,null,null,null,null,null,"NTMFS4847N","NTTFS4932N"]
[null,null,null,null,null,null,null,null,null,null,null,null,null,null,null,null,null,null,null,null,null,null,null,"NTMFS4851","NTD4904N"]
[null,null,null,null,null,null,null,null,null,null,null,null,null,null,null,null,null,null,null,null,null,null,null,"NTMFS4851","NTMFS4825NFE"]
[null,null,null,null,null,null,null,null,null,null,null,null,null,null,null,null,null,null,null,null,null,null,null,"NTMFS4851","NTMFS4833N"]
[null,null,null,null,null,null,null,null,null,null,null,null,null,null,null,null,null,null,null,null,null,null,null,"NTMFS4851","NTMFS4834N"]
[null,null,null,null,null,null,null,null,null,null,null,null,null,null,null,null,null,null,null,null,null,null,null,"NTMFS4851","NTMFS4835N"]
[null,null,null,null,null,null,null,null,null,null,null,null,null,null,null,null,null,null,null,null,null,null,null,"NTMFS4851","NTMFS4845"]
[null,null,null,null,null,null,null,null,null,null,null,null,null,null,null,null,null,null,null,null,null,null,null,"NTMFS4851","NTMFS4846"]
[null,null,null,null,null,null,null,null,null,null,null,null,null,null,null,null,null,null,null,null,null,null,null,"NTMFS4851","NTMFS4852N"]
[null,null,null,null,null,null,null,null,null,null,null,null,null,null,null,null,null,null,null,null,null,null,null,"NTMFS4851","NTMFS4897"]
[null,null,null,null,null,null,null,null,null,null,null,null,null,null,null,null,null,null,null,null,null,null,null,"NTMFS4851","NTMFS4898N"]
[null,null,null,null,null,null,null,null,null,null,null,null,null,null,null,null,null,null,null,null,null,null,null,"NTMFS4851","NTMFS4923NE"]
[null,null,null,null,null,null,null,null,null,null,null,null,null,null,null,null,null,null,null,null,null,null,null,"NTMFS4851","NTMFS4933N"]
[null,null,null,null,null,null,null,null,null,null,null,null,null,null,null,null,null,null,null,null,null,null,null,"NTMFS4851","NTMFS4934N"]
[null,null,null,null,null,null,null,null,null,null,null,null,null,null,null,null,null,null,null,null,null,null,null,"NTMFS4851","NTMFS4935N"]
[null,null,null,null,null,null,null,null,null,null,null,null,null,null,null,null,null,null,null,null,null,null,null,"NTMFS4851","NTMFS4936"]
[null,null,null,null,null,null,null,null,null,null,null,null,null,null,null,null,null,null,null,null,null,null,null,"NTMFS4851","NTTFS4932N"]
[null,null,null,null,null,null,null,null,null,null,null,null,null,null,null,null,null,null,null,null,null,null,null,"NTMFS4852N","NTD4804N"]
[null,null,null,null,null,null,null,null,null,null,null,null,null,null,null,null,null,null,null,null,null,null,null,"NTMFS4852N","NTD4855N"]
[null,null,null,null,null,null,null,null,null,null,null,null,null,null,null,null,null,null,null,null,null,null,null,"NTMFS4852N","NTD4904N"]
[null,null,null,null,null,null,null,null,null,null,null,null,null,null,null,null,null,null,null,null,null,null,null,"NTMFS4852N","NTMFS4825NFE"]
[null,null,null,null,null,null,null,null,null,null,null,null,null,null,null,null,null,null,null,null,null,null,null,"NTMFS4852N","NTMFS4833N"]
[null,null,null,null,null,null,null,null,null,null,null,null,null,null,null,null,null,null,null,null,null,null,null,"NTMFS4852N","NTMFS4834N"]
[null,null,null,null,null,null,null,null,null,null,null,null,null,null,null,null,null,null,null,null,null,null,null,"NTMFS4852N","NTMFS4835N"]
[null,null,null,null,null,null,null,null,null,null,null,null,null,null,null,null,null,null,null,null,null,null,null,"NTMFS4852N","NTMFS4836N"]
[null,null,null,null,null,null,null,null,null,null,null,null,null,null,null,null,null,null,null,null,null,null,null,"NTMFS4852N","NTMFS4845"]
[null,null,null,null,null,null,null,null,null,null,null,null,null,null,null,null,null,null,null,null,null,null,null,"NTMFS4852N","NTMFS4846"]
[null,null,null,null,null,null,null,null,null,null,null,null,null,null,null,null,null,null,null,null,null,null,null,"NTMFS4852N","NTMFS4852N"]
[null,null,null,null,null,null,null,null,null,null,null,null,null,null,null,null,null,null,null,null,null,null,null,"NTMFS4852N","NTMFS4897"]
[null,null,null,null,null,null,null,null,null,null,null,null,null,null,null,null,null,null,null,null,null,null,null,"NTMFS4852N","NTMFS4898N"]
[null,null,null,null,null,null,null,null,null,null,null,null,null,null,null,null,null,null,null,null,null,null,null,"NTMFS4852N","NTMFS4923NE"]
[null,null,null,null,null,null,null,null,null,null,null,null,null,null,null,null,null,null,null,null,null,null,null,"NTMFS4852N","NTMFS4933N"]
[null,null,null,null,null,null,null,null,null,null,null,null,null,null,null,null,null,null,null,null,null,null,null,"NTMFS4852N","NTMFS4934N"]
[null,null,null,null,null,null,null,null,null,null,null,null,null,null,null,null,null,null,null,null,null,null,null,"NTMFS4852N","NTMFS4935N"]
[null,null,null,null,null,null,null,null,null,null,null,null,null,null,null,null,null,null,null,null,null,null,null,"NTMFS4852N","NTMFS4936"]
[null,null,null,null,null,null,null,null,null,null,null,null,null,null,null,null,null,null,null,null,null,null,null,"NTMFS4852N","NTTFS4932N"]
[null,null,null,null,null,null,null,null,null,null,null,null,null,null,null,null,null,null,null,null,null,null,null,"NTMFS4852N","NTTFS4937N"]
[null,null,null,null,null,null,null,null,null,null,null,null,null,null,null,null,null,null,null,null,null,null,null,"NTMFS4897","NTD4804N"]
[null,null,null,null,null,null,null,null,null,null,null,null,null,null,null,null,null,null,null,null,null,null,null,"NTMFS4897","NTD4855N"]
[null,null,null,null,null,null,null,null,null,null,null,null,null,null,null,null,null,null,null,null,null,null,null,"NTMFS4897","NTD4904N"]
[null,null,null,null,null,null,null,null,null,null,null,null,null,null,null,null,null,null,null,null,null,null,null,"NTMFS4897","NTMFS4825NFE"]
[null,null,null,null,null,null,null,null,null,null,null,null,null,null,null,null,null,null,null,null,null,null,null,"NTMFS4897","NTMFS4833N"]
[null,null,null,null,null,null,null,null,null,null,null,null,null,null,null,null,null,null,null,null,null,null,null,"NTMFS4897","NTMFS4834N"]
[null,null,null,null,null,null,null,null,null,null,null,null,null,null,null,null,null,null,null,null,null,null,null,"NTMFS4897","NTMFS4835N"]
[null,null,null,null,null,null,null,null,null,null,null,null,null,null,null,null,null,null,null,null,null,null,null,"NTMFS4897","NTMFS4836N"]
[null,null,null,null,null,null,null,null,null,null,null,null,null,null,null,null,null,null,null,null,null,null,null,"NTMFS4897","NTMFS4845"]
[null,null,null,null,null,null,null,null,null,null,null,null,null,null,null,null,null,null,null,null,null,null,null,"NTMFS4897","NTMFS4846"]
[null,null,null,null,null,null,null,null,null,null,null,null,null,null,null,null,null,null,null,null,null,null,null,"NTMFS4897","NTMFS4852N"]
[null,null,null,null,null,null,null,null,null,null,null,null,null,null,null,null,null,null,null,null,null,null,null,"NTMFS4897","NTMFS4897"]
[null,null,null,null,null,null,null,null,null,null,null,null,null,null,null,null,null,null,null,null,null,null,null,"NTMFS4897","NTMFS4898N"]
[null,null,null,null,null,null,null,null,null,null,null,null,null,null,null,null,null,null,null,null,null,null,null,"NTMFS4897","NTMFS4923NE"]
[null,null,null,null,null,null,null,null,null,null,null,null,null,null,null,null,null,null,null,null,null,null,null,"NTMFS4897","NTMFS4933N"]
[null,null,null,null,null,null,null,null,null,null,null,null,null,null,null,null,null,null,null,null,null,null,null,"NTMFS4897","NTMFS4934N"]
[null,null,null,null,null,null,null,null,null,null,null,null,null,null,null,null,null,null,null,null,null,null,null,"NTMFS4897","NTMFS4935N"]
[null,null,null,null,null,null,null,null,null,null,null,null,null,null,null,null,null,null,null,null,null,null,null,"NTMFS4897","NTMFS4936"]
[null,null,null,null,null,null,null,null,null,null,null,null,null,null,null,null,null,null,null,null,null,null,null,"NTMFS4897","NTTFS4932N"]
[null,null,null,null,null,null,null,null,null,null,null,null,null,null,null,null,null,null,null,null,null,null,null,"NTMFS4897","NTTFS4937N"]
[null,null,null,null,null,null,null,null,null,null,null,null,null,null,null,null,null,null,null,null,null,null,null,"NTMFS4898N","NTD4804N"]
[null,null,null,null,null,null,null,null,null,null,null,null,null,null,null,null,null,null,null,null,null,null,null,"NTMFS4898N","NTD4855N"]
[null,null,null,null,null,null,null,null,null,null,null,null,null,null,null,null,null,null,null,null,null,null,null,"NTMFS4898N","NTD4904N"]
[null,null,null,null,null,null,null,null,null,null,null,null,null,null,null,null,null,null,null,null,null,null,null,"NTMFS4898N","NTMFS4825NFE"]
[null,null,null,null,null,null,null,null,null,null,null,null,null,null,null,null,null,null,null,null,null,null,null,"NTMFS4898N","NTMFS4833N"]
[null,null,null,null,null,null,null,null,null,null,null,null,null,null,null,null,null,null,null,null,null,null,null,"NTMFS4898N","NTMFS4834N"]
[null,null,null,null,null,null,null,null,null,null,null,null,null,null,null,null,null,null,null,null,null,null,null,"NTMFS4898N","NTMFS4835N"]
[null,null,null,null,null,null,null,null,null,null,null,null,null,null,null,null,null,null,null,null,null,null,null,"NTMFS4898N","NTMFS4845"]
[null,null,null,null,null,null,null,null,null,null,null,null,null,null,null,null,null,null,null,null,null,null,null,"NTMFS4898N","NTMFS4846"]
[null,null,null,null,null,null,null,null,null,null,null,null,null,null,null,null,null,null,null,null,null,null,null,"NTMFS4898N","NTMFS4852N"]
[null,null,null,null,null,null,null,null,null,null,null,null,null,null,null,null,null,null,null,null,null,null,null,"NTMFS4898N","NTMFS4897"]
[null,null,null,null,null,null,null,null,null,null,null,null,null,null,null,null,null,null,null,null,null,null,null,"NTMFS4898N","NTMFS4898N"]
[null,null,null,null,null,null,null,null,null,null,null,null,null,null,null,null,null,null,null,null,null,null,null,"NTMFS4898N","NTMFS4923NE"]
[null,null,null,null,null,null,null,null,null,null,null,null,null,null,null,null,null,null,null,null,null,null,null,"NTMFS4898N","NTMFS4933N"]
[null,null,null,null,null,null,null,null,null,null,null,null,null,null,null,null,null,null,null,null,null,null,null,"NTMFS4898N","NTMFS4934N"]
[null,null,null,null,null,null,null,null,null,null,null,null,null,null,null,null,null,null,null,null,null,null,null,"NTMFS4898N","NTMFS4935N"]
[null,null,null,null,null,null,null,null,null,null,null,null,null,null,null,null,null,null,null,null,null,null,null,"NTMFS4898N","NTMFS4936"]
[null,null,null,null,null,null,null,null,null,null,null,null,null,null,null,null,null,null,null,null,null,null,null,"NTMFS4898N","NTTFS4932N"]
[null,null,null,null,null,null,null,null,null,null,null,null,null,null,null,null,null,null,null,null,null,null,null,"NTMFS4899N","NTD4904N"]
[null,null,null,null,null,null,null,null,null,null,null,null,null,null,null,null,null,null,null,null,null,null,null,"NTMFS4899N","NTMFS4825NFE"]
[null,null,null,null,null,null,null,null,null,null,null,null,null,null,null,null,null,null,null,null,null,null,null,"NTMFS4899N","NTMFS4833N"]
[null,null,null,null,null,null,null,null,null,null,null,null,null,null,null,null,null,null,null,null,null,null,null,"NTMFS4899N","NTMFS4834N"]
[null,null,null,null,null,null,null,null,null,null,null,null,null,null,null,null,null,null,null,null,null,null,null,"NTMFS4899N","NTMFS4835N"]
[null,null,null,null,null,null,null,null,null,null,null,null,null,null,null,null,null,null,null,null,null,null,null,"NTMFS4899N","NTMFS4845"]
[null,null,null,null,null,null,null,null,null,null,null,null,null,null,null,null,null,null,null,null,null,null,null,"NTMFS4899N","NTMFS4846"]
[null,null,null,null,null,null,null,null,null,null,null,null,null,null,null,null,null,null,null,null,null,null,null,"NTMFS4899N","NTMFS4852N"]
[null,null,null,null,null,null,null,null,null,null,null,null,null,null,null,null,null,null,null,null,null,null,null,"NTMFS4899N","NTMFS4897"]
[null,null,null,null,null,null,null,null,null,null,null,null,null,null,null,null,null,null,null,null,null,null,null,"NTMFS4899N","NTMFS4898N"]
[null,null,null,null,null,null,null,null,null,null,null,null,null,null,null,null,null,null,null,null,null,null,null,"NTMFS4899N","NTMFS4923NE"]
[null,null,null,null,null,null,null,null,null,null,null,null,null,null,null,null,null,null,null,null,null,null,null,"NTMFS4899N","NTMFS4933N"]
[null,null,null,null,null,null,null,null,null,null,null,null,null,null,null,null,null,null,null,null,null,null,null,"NTMFS4899N","NTMFS4934N"]
[null,null,null,null,null,null,null,null,null,null,null,null,null,null,null,null,null,null,null,null,null,null,null,"NTMFS4899N","NTMFS4935N"]
[null,null,null,null,null,null,null,null,null,null,null,null,null,null,null,null,null,null,null,null,null,null,null,"NTMFS4899N","NTMFS4936"]
[null,null,null,null,null,null,null,null,null,null,null,null,null,null,null,null,null,null,null,null,null,null,null,"NTMFS4899N","NTTFS4932N"]
[null,null,null,null,null,null,null,null,null,null,null,null,null,null,null,null,null,null,null,null,null,null,null,"NTMFS4921","NTD4904N"]
[null,null,null,null,null,null,null,null,null,null,null,null,null,null,null,null,null,null,null,null,null,null,null,"NTMFS4921","NTMFS4825NFE"]
[null,null,null,null,null,null,null,null,null,null,null,null,null,null,null,null,null,null,null,null,null,null,null,"NTMFS4921","NTMFS4833N"]
[null,null,null,null,null,null,null,null,null,null,null,null,null,null,null,null,null,null,null,null,null,null,null,"NTMFS4921","NTMFS4834N"]
[null,null,null,null,null,null,null,null,null,null,null,null,null,null,null,null,null,null,null,null,null,null,null,"NTMFS4921","NTMFS4835N"]
[null,null,null,null,null,null,null,null,null,null,null,null,null,null,null,null,null,null,null,null,null,null,null,"NTMFS4921","NTMFS4845"]
[null,null,null,null,null,null,null,null,null,null,null,null,null,null,null,null,null,null,null,null,null,null,null,"NTMFS4921","NTMFS4846"]
[null,null,null,null,null,null,null,null,null,null,null,null,null,null,null,null,null,null,null,null,null,null,null,"NTMFS4921","NTMFS4852N"]
[null,null,null,null,null,null,null,null,null,null,null,null,null,null,null,null,null,null,null,null,null,null,null,"NTMFS4921","NTMFS4897"]
[null,null,null,null,null,null,null,null,null,null,null,null,null,null,null,null,null,null,null,null,null,null,null,"NTMFS4921","NTMFS4898N"]
[null,null,null,null,null,null,null,null,null,null,null,null,null,null,null,null,null,null,null,null,null,null,null,"NTMFS4921","NTMFS4923NE"]
[null,null,null,null,null,null,null,null,null,null,null,null,null,null,null,null,null,null,null,null,null,null,null,"NTMFS4921","NTMFS4933N"]
[null,null,null,null,null,null,null,null,null,null,null,null,null,null,null,null,null,null,null,null,null,null,null,"NTMFS4921","NTMFS4934N"]
[null,null,null,null,null,null,null,null,null,null,null,null,null,null,null,null,null,null,null,null,null,null,null,"NTMFS4921","NTMFS4935N"]
[null,null,null,null,null,null,null,null,null,null,null,null,null,null,null,null,null,null,null,null,null,null,null,"NTMFS4921","NTMFS4936"]
[null,null,null,null,null,null,null,null,null,null,null,null,null,null,null,null,null,null,null,null,null,null,null,"NTMFS4921","NTTFS4932N"]
[null,null,null,null,null,null,null,null,null,null,null,null,null,null,null,null,null,null,null,null,null,null,null,"NTMFS4923NE","NTD4804N"]
[null,null,null,null,null,null,null,null,null,null,null,null,null,null,null,null,null,null,null,null,null,null,null,"NTMFS4923NE","NTD4855N"]
[null,null,null,null,null,null,null,null,null,null,null,null,null,null,null,null,null,null,null,null,null,null,null,"NTMFS4923NE","NTD4904N"]
[null,null,null,null,null,null,null,null,null,null,null,null,null,null,null,null,null,null,null,null,null,null,null,"NTMFS4923NE","NTMFS4825NFE"]
[null,null,null,null,null,null,null,null,null,null,null,null,null,null,null,null,null,null,null,null,null,null,null,"NTMFS4923NE","NTMFS4833N"]
[null,null,null,null,null,null,null,null,null,null,null,null,null,null,null,null,null,null,null,null,null,null,null,"NTMFS4923NE","NTMFS4834N"]
[null,null,null,null,null,null,null,null,null,null,null,null,null,null,null,null,null,null,null,null,null,null,null,"NTMFS4923NE","NTMFS4835N"]
[null,null,null,null,null,null,null,null,null,null,null,null,null,null,null,null,null,null,null,null,null,null,null,"NTMFS4923NE","NTMFS4845"]
[null,null,null,null,null,null,null,null,null,null,null,null,null,null,null,null,null,null,null,null,null,null,null,"NTMFS4923NE","NTMFS4846"]
[null,null,null,null,null,null,null,null,null,null,null,null,null,null,null,null,null,null,null,null,null,null,null,"NTMFS4923NE","NTMFS4852N"]
[null,null,null,null,null,null,null,null,null,null,null,null,null,null,null,null,null,null,null,null,null,null,null,"NTMFS4923NE","NTMFS4897"]
[null,null,null,null,null,null,null,null,null,null,null,null,null,null,null,null,null,null,null,null,null,null,null,"NTMFS4923NE","NTMFS4898N"]
[null,null,null,null,null,null,null,null,null,null,null,null,null,null,null,null,null,null,null,null,null,null,null,"NTMFS4923NE","NTMFS4923NE"]
[null,null,null,null,null,null,null,null,null,null,null,null,null,null,null,null,null,null,null,null,null,null,null,"NTMFS4923NE","NTMFS4933N"]
[null,null,null,null,null,null,null,null,null,null,null,null,null,null,null,null,null,null,null,null,null,null,null,"NTMFS4923NE","NTMFS4934N"]
[null,null,null,null,null,null,null,null,null,null,null,null,null,null,null,null,null,null,null,null,null,null,null,"NTMFS4923NE","NTMFS4935N"]
[null,null,null,null,null,null,null,null,null,null,null,null,null,null,null,null,null,null,null,null,null,null,null,"NTMFS4923NE","NTMFS4936"]
[null,null,null,null,null,null,null,null,null,null,null,null,null,null,null,null,null,null,null,null,null,null,null,"NTMFS4923NE","NTTFS4932N"]
[null,null,null,null,null,null,null,null,null,null,null,null,null,null,null,null,null,null,null,null,null,null,null,"NTMFS4925","NTD4904N"]
[null,null,null,null,null,null,null,null,null,null,null,null,null,null,null,null,null,null,null,null,null,null,null,"NTMFS4925","NTMFS4825NFE"]
[null,null,null,null,null,null,null,null,null,null,null,null,null,null,null,null,null,null,null,null,null,null,null,"NTMFS4925","NTMFS4833N"]
[null,null,null,null,null,null,null,null,null,null,null,null,null,null,null,null,null,null,null,null,null,null,null,"NTMFS4925","NTMFS4834N"]
[null,null,null,null,null,null,null,null,null,null,null,null,null,null,null,null,null,null,null,null,null,null,null,"NTMFS4925","NTMFS4835N"]
[null,null,null,null,null,null,null,null,null,null,null,null,null,null,null,null,null,null,null,null,null,null,null,"NTMFS4925","NTMFS4845"]
[null,null,null,null,null,null,null,null,null,null,null,null,null,null,null,null,null,null,null,null,null,null,null,"NTMFS4925","NTMFS4846"]
[null,null,null,null,null,null,null,null,null,null,null,null,null,null,null,null,null,null,null,null,null,null,null,"NTMFS4925","NTMFS4852N"]
[null,null,null,null,null,null,null,null,null,null,null,null,null,null,null,null,null,null,null,null,null,null,null,"NTMFS4925","NTMFS4897"]
[null,null,null,null,null,null,null,null,null,null,null,null,null,null,null,null,null,null,null,null,null,null,null,"NTMFS4925","NTMFS4898N"]
[null,null,null,null,null,null,null,null,null,null,null,null,null,null,null,null,null,null,null,null,null,null,null,"NTMFS4925","NTMFS4923NE"]
[null,null,null,null,null,null,null,null,null,null,null,null,null,null,null,null,null,null,null,null,null,null,null,"NTMFS4925","NTMFS4933N"]
[null,null,null,null,null,null,null,null,null,null,null,null,null,null,null,null,null,null,null,null,null,null,null,"NTMFS4925","NTMFS4934N"]
[null,null,null,null,null,null,null,null,null,null,null,null,null,null,null,null,null,null,null,null,null,null,null,"NTMFS4925","NTMFS4935N"]
[null,null,null,null,null,null,null,null,null,null,null,null,null,null,null,null,null,null,null,null,null,null,null,"NTMFS4925","NTMFS4936"]
[null,null,null,null,null,null,null,null,null,null,null,null,null,null,null,null,null,null,null,null,null,null,null,"NTMFS4925","NTTFS4932N"]
[null,null,null,null,null,null,null,null,null,null,null,null,null,null,null,null,null,null,null,null,null,null,null,"NTMFS4926","NTD4904N"]
[null,null,null,null,null,null,null,null,null,null,null,null,null,null,null,null,null,null,null,null,null,null,null,"NTMFS4926","NTMFS4825NFE"]
[null,null,null,null,null,null,null,null,null,null,null,null,null,null,null,null,null,null,null,null,null,null,null,"NTMFS4926","NTMFS4833N"]
[null,null,null,null,null,null,null,null,null,null,null,null,null,null,null,null,null,null,null,null,null,null,null,"NTMFS4926","NTMFS4834N"]
[null,null,null,null,null,null,null,null,null,null,null,null,null,null,null,null,null,null,null,null,null,null,null,"NTMFS4926","NTMFS4835N"]
[null,null,null,null,null,null,null,null,null,null,null,null,null,null,null,null,null,null,null,null,null,null,null,"NTMFS4926","NTMFS4845"]
[null,null,null,null,null,null,null,null,null,null,null,null,null,null,null,null,null,null,null,null,null,null,null,"NTMFS4926","NTMFS4846"]
[null,null,null,null,null,null,null,null,null,null,null,null,null,null,null,null,null,null,null,null,null,null,null,"NTMFS4926","NTMFS4852N"]
[null,null,null,null,null,null,null,null,null,null,null,null,null,null,null,null,null,null,null,null,null,null,null,"NTMFS4926","NTMFS4897"]
[null,null,null,null,null,null,null,null,null,null,null,null,null,null,null,null,null,null,null,null,null,null,null,"NTMFS4926","NTMFS4898N"]
[null,null,null,null,null,null,null,null,null,null,null,null,null,null,null,null,null,null,null,null,null,null,null,"NTMFS4926","NTMFS4923NE"]
[null,null,null,null,null,null,null,null,null,null,null,null,null,null,null,null,null,null,null,null,null,null,null,"NTMFS4926","NTMFS4933N"]
[null,null,null,null,null,null,null,null,null,null,null,null,null,null,null,null,null,null,null,null,null,null,null,"NTMFS4926","NTMFS4934N"]
[null,null,null,null,null,null,null,null,null,null,null,null,null,null,null,null,null,null,null,null,null,null,null,"NTMFS4926","NTMFS4935N"]
[null,null,null,null,null,null,null,null,null,null,null,null,null,null,null,null,null,null,null,null,null,null,null,"NTMFS4926","NTMFS4936"]
[null,null,null,null,null,null,null,null,null,null,null,null,null,null,null,null,null,null,null,null,null,null,null,"NTMFS4926","NTTFS4932N"]
[null,null,null,null,null,null,null,null,null,null,null,null,null,null,null,null,null,null,null,null,null,null,null,"NTMFS4927","NTD4904N"]
[null,null,null,null,null,null,null,null,null,null,null,null,null,null,null,null,null,null,null,null,null,null,null,"NTMFS4927","NTMFS4825NFE"]
[null,null,null,null,null,null,null,null,null,null,null,null,null,null,null,null,null,null,null,null,null,null,null,"NTMFS4927","NTMFS4833N"]
[null,null,null,null,null,null,null,null,null,null,null,null,null,null,null,null,null,null,null,null,null,null,null,"NTMFS4927","NTMFS4834N"]
[null,null,null,null,null,null,null,null,null,null,null,null,null,null,null,null,null,null,null,null,null,null,null,"NTMFS4927","NTMFS4835N"]
[null,null,null,null,null,null,null,null,null,null,null,null,null,null,null,null,null,null,null,null,null,null,null,"NTMFS4927","NTMFS4845"]
[null,null,null,null,null,null,null,null,null,null,null,null,null,null,null,null,null,null,null,null,null,null,null,"NTMFS4927","NTMFS4846"]
[null,null,null,null,null,null,null,null,null,null,null,null,null,null,null,null,null,null,null,null,null,null,null,"NTMFS4927","NTMFS4852N"]
[null,null,null,null,null,null,null,null,null,null,null,null,null,null,null,null,null,null,null,null,null,null,null,"NTMFS4927","NTMFS4897"]
[null,null,null,null,null,null,null,null,null,null,null,null,null,null,null,null,null,null,null,null,null,null,null,"NTMFS4927","NTMFS4898N"]
[null,null,null,null,null,null,null,null,null,null,null,null,null,null,null,null,null,null,null,null,null,null,null,"NTMFS4927","NTMFS4923NE"]
[null,null,null,null,null,null,null,null,null,null,null,null,null,null,null,null,null,null,null,null,null,null,null,"NTMFS4927","NTMFS4933N"]
[null,null,null,null,null,null,null,null,null,null,null,null,null,null,null,null,null,null,null,null,null,null,null,"NTMFS4927","NTMFS4934N"]
[null,null,null,null,null,null,null,null,null,null,null,null,null,null,null,null,null,null,null,null,null,null,null,"NTMFS4927","NTMFS4935N"]
[null,null,null,null,null,null,null,null,null,null,null,null,null,null,null,null,null,null,null,null,null,null,null,"NTMFS4927","NTMFS4936"]
[null,null,null,null,null,null,null,null,null,null,null,null,null,null,null,null,null,null,null,null,null,null,null,"NTMFS4927","NTTFS4932N"]
[null,null,null,null,null,null,null,null,null,null,null,null,null,null,null,null,null,null,null,null,null,null,null,"NTMFS4933N","NTD4804N"]
[null,null,null,null,null,null,null,null,null,null,null,null,null,null,null,null,null,null,null,null,null,null,null,"NTMFS4933N","NTD4855N"]
[null,null,null,null,null,null,null,null,null,null,null,null,null,null,null,null,null,null,null,null,null,null,null,"NTMFS4933N","NTD4904N"]
[null,null,null,null,null,null,null,null,null,null,null,null,null,null,null,null,null,null,null,null,null,null,null,"NTMFS4933N","NTMFS4825NFE"]
[null,null,null,null,null,null,null,null,null,null,null,null,null,null,null,null,null,null,null,null,null,null,null,"NTMFS4933N","NTMFS4833N"]
[null,null,null,null,null,null,null,null,null,null,null,null,null,null,null,null,null,null,null,null,null,null,null,"NTMFS4933N","NTMFS4834N"]
[null,null,null,null,null,null,null,null,null,null,null,null,null,null,null,null,null,null,null,null,null,null,null,"NTMFS4933N","NTMFS4835N"]
[null,null,null,null,null,null,null,null,null,null,null,null,null,null,null,null,null,null,null,null,null,null,null,"NTMFS4933N","NTMFS4836N"]
[null,null,null,null,null,null,null,null,null,null,null,null,null,null,null,null,null,null,null,null,null,null,null,"NTMFS4933N","NTMFS4845"]
[null,null,null,null,null,null,null,null,null,null,null,null,null,null,null,null,null,null,null,null,null,null,null,"NTMFS4933N","NTMFS4846"]
[null,null,null,null,null,null,null,null,null,null,null,null,null,null,null,null,null,null,null,null,null,null,null,"NTMFS4933N","NTMFS4852N"]
[null,null,null,null,null,null,null,null,null,null,null,null,null,null,null,null,null,null,null,null,null,null,null,"NTMFS4933N","NTMFS4897"]
[null,null,null,null,null,null,null,null,null,null,null,null,null,null,null,null,null,null,null,null,null,null,null,"NTMFS4933N","NTMFS4898N"]
[null,null,null,null,null,null,null,null,null,null,null,null,null,null,null,null,null,null,null,null,null,null,null,"NTMFS4933N","NTMFS4923NE"]
[null,null,null,null,null,null,null,null,null,null,null,null,null,null,null,null,null,null,null,null,null,null,null,"NTMFS4933N","NTMFS4933N"]
[null,null,null,null,null,null,null,null,null,null,null,null,null,null,null,null,null,null,null,null,null,null,null,"NTMFS4933N","NTMFS4934N"]
[null,null,null,null,null,null,null,null,null,null,null,null,null,null,null,null,null,null,null,null,null,null,null,"NTMFS4933N","NTMFS4935N"]
[null,null,null,null,null,null,null,null,null,null,null,null,null,null,null,null,null,null,null,null,null,null,null,"NTMFS4933N","NTMFS4936"]
[null,null,null,null,null,null,null,null,null,null,null,null,null,null,null,null,null,null,null,null,null,null,null,"NTMFS4933N","NTTFS4932N"]
[null,null,null,null,null,null,null,null,null,null,null,null,null,null,null,null,null,null,null,null,null,null,null,"NTMFS4933N","NTTFS4937N"]
[null,null,null,null,null,null,null,null,null,null,null,null,null,null,null,null,null,null,null,null,null,null,null,"NTMFS4934N","NTD4804N"]
[null,null,null,null,null,null,null,null,null,null,null,null,null,null,null,null,null,null,null,null,null,null,null,"NTMFS4934N","NTD4855N"]
[null,null,null,null,null,null,null,null,null,null,null,null,null,null,null,null,null,null,null,null,null,null,null,"NTMFS4934N","NTD4904N"]
[null,null,null,null,null,null,null,null,null,null,null,null,null,null,null,null,null,null,null,null,null,null,null,"NTMFS4934N","NTMFS4825NFE"]
[null,null,null,null,null,null,null,null,null,null,null,null,null,null,null,null,null,null,null,null,null,null,null,"NTMFS4934N","NTMFS4833N"]
[null,null,null,null,null,null,null,null,null,null,null,null,null,null,null,null,null,null,null,null,null,null,null,"NTMFS4934N","NTMFS4834N"]
[null,null,null,null,null,null,null,null,null,null,null,null,null,null,null,null,null,null,null,null,null,null,null,"NTMFS4934N","NTMFS4835N"]
[null,null,null,null,null,null,null,null,null,null,null,null,null,null,null,null,null,null,null,null,null,null,null,"NTMFS4934N","NTMFS4836N"]
[null,null,null,null,null,null,null,null,null,null,null,null,null,null,null,null,null,null,null,null,null,null,null,"NTMFS4934N","NTMFS4845"]
[null,null,null,null,null,null,null,null,null,null,null,null,null,null,null,null,null,null,null,null,null,null,null,"NTMFS4934N","NTMFS4846"]
[null,null,null,null,null,null,null,null,null,null,null,null,null,null,null,null,null,null,null,null,null,null,null,"NTMFS4934N","NTMFS4852N"]
[null,null,null,null,null,null,null,null,null,null,null,null,null,null,null,null,null,null,null,null,null,null,null,"NTMFS4934N","NTMFS4897"]
[null,null,null,null,null,null,null,null,null,null,null,null,null,null,null,null,null,null,null,null,null,null,null,"NTMFS4934N","NTMFS4898N"]
[null,null,null,null,null,null,null,null,null,null,null,null,null,null,null,null,null,null,null,null,null,null,null,"NTMFS4934N","NTMFS4923NE"]
[null,null,null,null,null,null,null,null,null,null,null,null,null,null,null,null,null,null,null,null,null,null,null,"NTMFS4934N","NTMFS4933N"]
[null,null,null,null,null,null,null,null,null,null,null,null,null,null,null,null,null,null,null,null,null,null,null,"NTMFS4934N","NTMFS4934N"]
[null,null,null,null,null,null,null,null,null,null,null,null,null,null,null,null,null,null,null,null,null,null,null,"NTMFS4934N","NTMFS4935N"]
[null,null,null,null,null,null,null,null,null,null,null,null,null,null,null,null,null,null,null,null,null,null,null,"NTMFS4934N","NTMFS4936"]
[null,null,null,null,null,null,null,null,null,null,null,null,null,null,null,null,null,null,null,null,null,null,null,"NTMFS4934N","NTTFS4932N"]
[null,null,null,null,null,null,null,null,null,null,null,null,null,null,null,null,null,null,null,null,null,null,null,"NTMFS4934N","NTTFS4937N"]
[null,null,null,null,null,null,null,null,null,null,null,null,null,null,null,null,null,null,null,null,null,null,null,"NTMFS4935N","NTD4804N"]
[null,null,null,null,null,null,null,null,null,null,null,null,null,null,null,null,null,null,null,null,null,null,null,"NTMFS4935N","NTD4855N"]
[null,null,null,null,null,null,null,null,null,null,null,null,null,null,null,null,null,null,null,null,null,null,null,"NTMFS4935N","NTD4904N"]
[null,null,null,null,null,null,null,null,null,null,null,null,null,null,null,null,null,null,null,null,null,null,null,"NTMFS4935N","NTMFS4825NFE"]
[null,null,null,null,null,null,null,null,null,null,null,null,null,null,null,null,null,null,null,null,null,null,null,"NTMFS4935N","NTMFS4833N"]
[null,null,null,null,null,null,null,null,null,null,null,null,null,null,null,null,null,null,null,null,null,null,null,"NTMFS4935N","NTMFS4834N"]
[null,null,null,null,null,null,null,null,null,null,null,null,null,null,null,null,null,null,null,null,null,null,null,"NTMFS4935N","NTMFS4835N"]
[null,null,null,null,null,null,null,null,null,null,null,null,null,null,null,null,null,null,null,null,null,null,null,"NTMFS4935N","NTMFS4845"]
[null,null,null,null,null,null,null,null,null,null,null,null,null,null,null,null,null,null,null,null,null,null,null,"NTMFS4935N","NTMFS4846"]
[null,null,null,null,null,null,null,null,null,null,null,null,null,null,null,null,null,null,null,null,null,null,null,"NTMFS4935N","NTMFS4852N"]
[null,null,null,null,null,null,null,null,null,null,null,null,null,null,null,null,null,null,null,null,null,null,null,"NTMFS4935N","NTMFS4897"]
[null,null,null,null,null,null,null,null,null,null,null,null,null,null,null,null,null,null,null,null,null,null,null,"NTMFS4935N","NTMFS4898N"]
[null,null,null,null,null,null,null,null,null,null,null,null,null,null,null,null,null,null,null,null,null,null,null,"NTMFS4935N","NTMFS4923NE"]
[null,null,null,null,null,null,null,null,null,null,null,null,null,null,null,null,null,null,null,null,null,null,null,"NTMFS4935N","NTMFS4933N"]
[null,null,null,null,null,null,null,null,null,null,null,null,null,null,null,null,null,null,null,null,null,null,null,"NTMFS4935N","NTMFS4934N"]
[null,null,null,null,null,null,null,null,null,null,null,null,null,null,null,null,null,null,null,null,null,null,null,"NTMFS4935N","NTMFS4935N"]
[null,null,null,null,null,null,null,null,null,null,null,null,null,null,null,null,null,null,null,null,null,null,null,"NTMFS4935N","NTMFS4936"]
[null,null,null,null,null,null,null,null,null,null,null,null,null,null,null,null,null,null,null,null,null,null,null,"NTMFS4935N","NTTFS4932N"]
[null,null,null,null,null,null,null,null,null,null,null,null,null,null,null,null,null,null,null,null,null,null,null,"NTMFS4936","NTD4804N"]
[null,null,null,null,null,null,null,null,null,null,null,null,null,null,null,null,null,null,null,null,null,null,null,"NTMFS4936","NTD4855N"]
[null,null,null,null,null,null,null,null,null,null,null,null,null,null,null,null,null,null,null,null,null,null,null,"NTMFS4936","NTD4904N"]
[null,null,null,null,null,null,null,null,null,null,null,null,null,null,null,null,null,null,null,null,null,null,null,"NTMFS4936","NTMFS4825NFE"]
[null,null,null,null,null,null,null,null,null,null,null,null,null,null,null,null,null,null,null,null,null,null,null,"NTMFS4936","NTMFS4833N"]
[null,null,null,null,null,null,null,null,null,null,null,null,null,null,null,null,null,null,null,null,null,null,null,"NTMFS4936","NTMFS4834N"]
[null,null,null,null,null,null,null,null,null,null,null,null,null,null,null,null,null,null,null,null,null,null,null,"NTMFS4936","NTMFS4835N"]
[null,null,null,null,null,null,null,null,null,null,null,null,null,null,null,null,null,null,null,null,null,null,null,"NTMFS4936","NTMFS4845"]
[null,null,null,null,null,null,null,null,null,null,null,null,null,null,null,null,null,null,null,null,null,null,null,"NTMFS4936","NTMFS4846"]
[null,null,null,null,null,null,null,null,null,null,null,null,null,null,null,null,null,null,null,null,null,null,null,"NTMFS4936","NTMFS4852N"]
[null,null,null,null,null,null,null,null,null,null,null,null,null,null,null,null,null,null,null,null,null,null,null,"NTMFS4936","NTMFS4897"]
[null,null,null,null,null,null,null,null,null,null,null,null,null,null,null,null,null,null,null,null,null,null,null,"NTMFS4936","NTMFS4898N"]
[null,null,null,null,null,null,null,null,null,null,null,null,null,null,null,null,null,null,null,null,null,null,null,"NTMFS4936","NTMFS4923NE"]
[null,null,null,null,null,null,null,null,null,null,null,null,null,null,null,null,null,null,null,null,null,null,null,"NTMFS4936","NTMFS4933N"]
[null,null,null,null,null,null,null,null,null,null,null,null,null,null,null,null,null,null,null,null,null,null,null,"NTMFS4936","NTMFS4934N"]
[null,null,null,null,null,null,null,null,null,null,null,null,null,null,null,null,null,null,null,null,null,null,null,"NTMFS4936","NTMFS4935N"]
[null,null,null,null,null,null,null,null,null,null,null,null,null,null,null,null,null,null,null,null,null,null,null,"NTMFS4936","NTMFS4936"]
[null,null,null,null,null,null,null,null,null,null,null,null,null,null,null,null,null,null,null,null,null,null,null,"NTMFS4936","NTTFS4932N"]
[null,null,null,null,null,null,null,null,null,null,null,null,null,null,null,null,null,null,null,null,null,null,null,"NTMFS4937N","NTD4904N"]
[null,null,null,null,null,null,null,null,null,null,null,null,null,null,null,null,null,null,null,null,null,null,null,"NTMFS4937N","NTMFS4825NFE"]
[null,null,null,null,null,null,null,null,null,null,null,null,null,null,null,null,null,null,null,null,null,null,null,"NTMFS4937N","NTMFS4833N"]
[null,null,null,null,null,null,null,null,null,null,null,null,null,null,null,null,null,null,null,null,null,null,null,"NTMFS4937N","NTMFS4834N"]
[null,null,null,null,null,null,null,null,null,null,null,null,null,null,null,null,null,null,null,null,null,null,null,"NTMFS4937N","NTMFS4835N"]
[null,null,null,null,null,null,null,null,null,null,null,null,null,null,null,null,null,null,null,null,null,null,null,"NTMFS4937N","NTMFS4845"]
[null,null,null,null,null,null,null,null,null,null,null,null,null,null,null,null,null,null,null,null,null,null,null,"NTMFS4937N","NTMFS4846"]
[null,null,null,null,null,null,null,null,null,null,null,null,null,null,null,null,null,null,null,null,null,null,null,"NTMFS4937N","NTMFS4852N"]
[null,null,null,null,null,null,null,null,null,null,null,null,null,null,null,null,null,null,null,null,null,null,null,"NTMFS4937N","NTMFS4897"]
[null,null,null,null,null,null,null,null,null,null,null,null,null,null,null,null,null,null,null,null,null,null,null,"NTMFS4937N","NTMFS4898N"]
[null,null,null,null,null,null,null,null,null,null,null,null,null,null,null,null,null,null,null,null,null,null,null,"NTMFS4937N","NTMFS4923NE"]
[null,null,null,null,null,null,null,null,null,null,null,null,null,null,null,null,null,null,null,null,null,null,null,"NTMFS4937N","NTMFS4933N"]
[null,null,null,null,null,null,null,null,null,null,null,null,null,null,null,null,null,null,null,null,null,null,null,"NTMFS4937N","NTMFS4934N"]
[null,null,null,null,null,null,null,null,null,null,null,null,null,null,null,null,null,null,null,null,null,null,null,"NTMFS4937N","NTMFS4935N"]
[null,null,null,null,null,null,null,null,null,null,null,null,null,null,null,null,null,null,null,null,null,null,null,"NTMFS4937N","NTMFS4936"]
[null,null,null,null,null,null,null,null,null,null,null,null,null,null,null,null,null,null,null,null,null,null,null,"NTMFS4937N","NTTFS4932N"]
[null,null,null,null,null,null,null,null,null,null,null,null,null,null,null,null,null,null,null,null,null,null,null,"NTMFS4939N","NTD4904N"]
[null,null,null,null,null,null,null,null,null,null,null,null,null,null,null,null,null,null,null,null,null,null,null,"NTMFS4939N","NTMFS4825NFE"]
[null,null,null,null,null,null,null,null,null,null,null,null,null,null,null,null,null,null,null,null,null,null,null,"NTMFS4939N","NTMFS4833N"]
[null,null,null,null,null,null,null,null,null,null,null,null,null,null,null,null,null,null,null,null,null,null,null,"NTMFS4939N","NTMFS4834N"]
[null,null,null,null,null,null,null,null,null,null,null,null,null,null,null,null,null,null,null,null,null,null,null,"NTMFS4939N","NTMFS4835N"]
[null,null,null,null,null,null,null,null,null,null,null,null,null,null,null,null,null,null,null,null,null,null,null,"NTMFS4939N","NTMFS4845"]
[null,null,null,null,null,null,null,null,null,null,null,null,null,null,null,null,null,null,null,null,null,null,null,"NTMFS4939N","NTMFS4846"]
[null,null,null,null,null,null,null,null,null,null,null,null,null,null,null,null,null,null,null,null,null,null,null,"NTMFS4939N","NTMFS4852N"]
[null,null,null,null,null,null,null,null,null,null,null,null,null,null,null,null,null,null,null,null,null,null,null,"NTMFS4939N","NTMFS4897"]
[null,null,null,null,null,null,null,null,null,null,null,null,null,null,null,null,null,null,null,null,null,null,null,"NTMFS4939N","NTMFS4898N"]
[null,null,null,null,null,null,null,null,null,null,null,null,null,null,null,null,null,null,null,null,null,null,null,"NTMFS4939N","NTMFS4923NE"]
[null,null,null,null,null,null,null,null,null,null,null,null,null,null,null,null,null,null,null,null,null,null,null,"NTMFS4939N","NTMFS4933N"]
[null,null,null,null,null,null,null,null,null,null,null,null,null,null,null,null,null,null,null,null,null,null,null,"NTMFS4939N","NTMFS4934N"]
[null,null,null,null,null,null,null,null,null,null,null,null,null,null,null,null,null,null,null,null,null,null,null,"NTMFS4939N","NTMFS4935N"]
[null,null,null,null,null,null,null,null,null,null,null,null,null,null,null,null,null,null,null,null,null,null,null,"NTMFS4939N","NTMFS4936"]
[null,null,null,null,null,null,null,null,null,null,null,null,null,null,null,null,null,null,null,null,null,null,null,"NTMFS4939N","NTTFS4932N"]
[null,null,null,null,null,null,null,null,null,null,null,null,null,null,null,null,null,null,null,null,null,null,null,"NTMFS4941N","NTD4904N"]
[null,null,null,null,null,null,null,null,null,null,null,null,null,null,null,null,null,null,null,null,null,null,null,"NTMFS4941N","NTMFS4825NFE"]
[null,null,null,null,null,null,null,null,null,null,null,null,null,null,null,null,null,null,null,null,null,null,null,"NTMFS4941N","NTMFS4833N"]
[null,null,null,null,null,null,null,null,null,null,null,null,null,null,null,null,null,null,null,null,null,null,null,"NTMFS4941N","NTMFS4834N"]
[null,null,null,null,null,null,null,null,null,null,null,null,null,null,null,null,null,null,null,null,null,null,null,"NTMFS4941N","NTMFS4835N"]
[null,null,null,null,null,null,null,null,null,null,null,null,null,null,null,null,null,null,null,null,null,null,null,"NTMFS4941N","NTMFS4845"]
[null,null,null,null,null,null,null,null,null,null,null,null,null,null,null,null,null,null,null,null,null,null,null,"NTMFS4941N","NTMFS4846"]
[null,null,null,null,null,null,null,null,null,null,null,null,null,null,null,null,null,null,null,null,null,null,null,"NTMFS4941N","NTMFS4852N"]
[null,null,null,null,null,null,null,null,null,null,null,null,null,null,null,null,null,null,null,null,null,null,null,"NTMFS4941N","NTMFS4897"]
[null,null,null,null,null,null,null,null,null,null,null,null,null,null,null,null,null,null,null,null,null,null,null,"NTMFS4941N","NTMFS4898N"]
[null,null,null,null,null,null,null,null,null,null,null,null,null,null,null,null,null,null,null,null,null,null,null,"NTMFS4941N","NTMFS4923NE"]
[null,null,null,null,null,null,null,null,null,null,null,null,null,null,null,null,null,null,null,null,null,null,null,"NTMFS4941N","NTMFS4933N"]
[null,null,null,null,null,null,null,null,null,null,null,null,null,null,null,null,null,null,null,null,null,null,null,"NTMFS4941N","NTMFS4934N"]
[null,null,null,null,null,null,null,null,null,null,null,null,null,null,null,null,null,null,null,null,null,null,null,"NTMFS4941N","NTMFS4935N"]
[null,null,null,null,null,null,null,null,null,null,null,null,null,null,null,null,null,null,null,null,null,null,null,"NTMFS4941N","NTMFS4936"]
[null,null,null,null,null,null,null,null,null,null,null,null,null,null,null,null,null,null,null,null,null,null,null,"NTMFS4941N","NTTFS4932N"]
[null,null,null,null,null,null,null,null,null,null,null,null,null,null,null,null,null,null,null,null,null,null,null,"NTMFS4943N","NTD4904N"]
[null,null,null,null,null,null,null,null,null,null,null,null,null,null,null,null,null,null,null,null,null,null,null,"NTMFS4943N","NTMFS4825NFE"]
[null,null,null,null,null,null,null,null,null,null,null,null,null,null,null,null,null,null,null,null,null,null,null,"NTMFS4943N","NTMFS4833N"]
[null,null,null,null,null,null,null,null,null,null,null,null,null,null,null,null,null,null,null,null,null,null,null,"NTMFS4943N","NTMFS4834N"]
[null,null,null,null,null,null,null,null,null,null,null,null,null,null,null,null,null,null,null,null,null,null,null,"NTMFS4943N","NTMFS4835N"]
[null,null,null,null,null,null,null,null,null,null,null,null,null,null,null,null,null,null,null,null,null,null,null,"NTMFS4943N","NTMFS4845"]
[null,null,null,null,null,null,null,null,null,null,null,null,null,null,null,null,null,null,null,null,null,null,null,"NTMFS4943N","NTMFS4846"]
[null,null,null,null,null,null,null,null,null,null,null,null,null,null,null,null,null,null,null,null,null,null,null,"NTMFS4943N","NTMFS4852N"]
[null,null,null,null,null,null,null,null,null,null,null,null,null,null,null,null,null,null,null,null,null,null,null,"NTMFS4943N","NTMFS4897"]
[null,null,null,null,null,null,null,null,null,null,null,null,null,null,null,null,null,null,null,null,null,null,null,"NTMFS4943N","NTMFS4898N"]
[null,null,null,null,null,null,null,null,null,null,null,null,null,null,null,null,null,null,null,null,null,null,null,"NTMFS4943N","NTMFS4923NE"]
[null,null,null,null,null,null,null,null,null,null,null,null,null,null,null,null,null,null,null,null,null,null,null,"NTMFS4943N","NTMFS4933N"]
[null,null,null,null,null,null,null,null,null,null,null,null,null,null,null,null,null,null,null,null,null,null,null,"NTMFS4943N","NTMFS4934N"]
[null,null,null,null,null,null,null,null,null,null,null,null,null,null,null,null,null,null,null,null,null,null,null,"NTMFS4943N","NTMFS4935N"]
[null,null,null,null,null,null,null,null,null,null,null,null,null,null,null,null,null,null,null,null,null,null,null,"NTMFS4943N","NTMFS4936"]
[null,null,null,null,null,null,null,null,null,null,null,null,null,null,null,null,null,null,null,null,null,null,null,"NTMFS4943N","NTTFS4932N"]
[null,null,null,null,null,null,null,null,null,null,null,null,null,null,null,null,null,null,null,null,null,null,null,"NTTFS4821N","NTD4904N"]
[null,null,null,null,null,null,null,null,null,null,null,null,null,null,null,null,null,null,null,null,null,null,null,"NTTFS4821N","NTMFS4825NFE"]
[null,null,null,null,null,null,null,null,null,null,null,null,null,null,null,null,null,null,null,null,null,null,null,"NTTFS4821N","NTMFS4833N"]
[null,null,null,null,null,null,null,null,null,null,null,null,null,null,null,null,null,null,null,null,null,null,null,"NTTFS4821N","NTMFS4834N"]
[null,null,null,null,null,null,null,null,null,null,null,null,null,null,null,null,null,null,null,null,null,null,null,"NTTFS4821N","NTMFS4835N"]
[null,null,null,null,null,null,null,null,null,null,null,null,null,null,null,null,null,null,null,null,null,null,null,"NTTFS4821N","NTMFS4845"]
[null,null,null,null,null,null,null,null,null,null,null,null,null,null,null,null,null,null,null,null,null,null,null,"NTTFS4821N","NTMFS4846"]
[null,null,null,null,null,null,null,null,null,null,null,null,null,null,null,null,null,null,null,null,null,null,null,"NTTFS4821N","NTMFS4852N"]
[null,null,null,null,null,null,null,null,null,null,null,null,null,null,null,null,null,null,null,null,null,null,null,"NTTFS4821N","NTMFS4897"]
[null,null,null,null,null,null,null,null,null,null,null,null,null,null,null,null,null,null,null,null,null,null,null,"NTTFS4821N","NTMFS4898N"]
[null,null,null,null,null,null,null,null,null,null,null,null,null,null,null,null,null,null,null,null,null,null,null,"NTTFS4821N","NTMFS4923NE"]
[null,null,null,null,null,null,null,null,null,null,null,null,null,null,null,null,null,null,null,null,null,null,null,"NTTFS4821N","NTMFS4933N"]
[null,null,null,null,null,null,null,null,null,null,null,null,null,null,null,null,null,null,null,null,null,null,null,"NTTFS4821N","NTMFS4934N"]
[null,null,null,null,null,null,null,null,null,null,null,null,null,null,null,null,null,null,null,null,null,null,null,"NTTFS4821N","NTMFS4935N"]
[null,null,null,null,null,null,null,null,null,null,null,null,null,null,null,null,null,null,null,null,null,null,null,"NTTFS4821N","NTMFS4936"]
[null,null,null,null,null,null,null,null,null,null,null,null,null,null,null,null,null,null,null,null,null,null,null,"NTTFS4821N","NTTFS4932N"]
[null,null,null,null,null,null,null,null,null,null,null,null,null,null,null,null,null,null,null,null,null,null,null,"NTTFS4823N","NTMFS4825NFE"]
[null,null,null,null,null,null,null,null,null,null,null,null,null,null,null,null,null,null,null,null,null,null,null,"NTTFS4823N","NTMFS4833N"]
[null,null,null,null,null,null,null,null,null,null,null,null,null,null,null,null,null,null,null,null,null,null,null,"NTTFS4823N","NTMFS4834N"]
[null,null,null,null,null,null,null,null,null,null,null,null,null,null,null,null,null,null,null,null,null,null,null,"NTTFS4823N","NTMFS4845"]
[null,null,null,null,null,null,null,null,null,null,null,null,null,null,null,null,null,null,null,null,null,null,null,"NTTFS4823N","NTMFS4852N"]
[null,null,null,null,null,null,null,null,null,null,null,null,null,null,null,null,null,null,null,null,null,null,null,"NTTFS4823N","NTMFS4897"]
[null,null,null,null,null,null,null,null,null,null,null,null,null,null,null,null,null,null,null,null,null,null,null,"NTTFS4823N","NTMFS4898N"]
[null,null,null,null,null,null,null,null,null,null,null,null,null,null,null,null,null,null,null,null,null,null,null,"NTTFS4823N","NTMFS4933N"]
[null,null,null,null,null,null,null,null,null,null,null,null,null,null,null,null,null,null,null,null,null,null,null,"NTTFS4823N","NTMFS4934N"]
[null,null,null,null,null,null,null,null,null,null,null,null,null,null,null,null,null,null,null,null,null,null,null,"NTTFS4823N","NTTFS4932N"]
[null,null,null,null,null,null,null,null,null,null,null,null,null,null,null,null,null,null,null,null,null,null,null,"NTTFS4824N","NTD4904N"]
[null,null,null,null,null,null,null,null,null,null,null,null,null,null,null,null,null,null,null,null,null,null,null,"NTTFS4824N","NTMFS4825NFE"]
[null,null,null,null,null,null,null,null,null,null,null,null,null,null,null,null,null,null,null,null,null,null,null,"NTTFS4824N","NTMFS4833N"]
[null,null,null,null,null,null,null,null,null,null,null,null,null,null,null,null,null,null,null,null,null,null,null,"NTTFS4824N","NTMFS4834N"]
[null,null,null,null,null,null,null,null,null,null,null,null,null,null,null,null,null,null,null,null,null,null,null,"NTTFS4824N","NTMFS4835N"]
[null,null,null,null,null,null,null,null,null,null,null,null,null,null,null,null,null,null,null,null,null,null,null,"NTTFS4824N","NTMFS4845"]
[null,null,null,null,null,null,null,null,null,null,null,null,null,null,null,null,null,null,null,null,null,null,null,"NTTFS4824N","NTMFS4846"]
[null,null,null,null,null,null,null,null,null,null,null,null,null,null,null,null,null,null,null,null,null,null,null,"NTTFS4824N","NTMFS4852N"]
[null,null,null,null,null,null,null,null,null,null,null,null,null,null,null,null,null,null,null,null,null,null,null,"NTTFS4824N","NTMFS4897"]
[null,null,null,null,null,null,null,null,null,null,null,null,null,null,null,null,null,null,null,null,null,null,null,"NTTFS4824N","NTMFS4898N"]
[null,null,null,null,null,null,null,null,null,null,null,null,null,null,null,null,null,null,null,null,null,null,null,"NTTFS4824N","NTMFS4923NE"]
[null,null,null,null,null,null,null,null,null,null,null,null,null,null,null,null,null,null,null,null,null,null,null,"NTTFS4824N","NTMFS4933N"]
[null,null,null,null,null,null,null,null,null,null,null,null,null,null,null,null,null,null,null,null,null,null,null,"NTTFS4824N","NTMFS4934N"]
[null,null,null,null,null,null,null,null,null,null,null,null,null,null,null,null,null,null,null,null,null,null,null,"NTTFS4824N","NTMFS4935N"]
[null,null,null,null,null,null,null,null,null,null,null,null,null,null,null,null,null,null,null,null,null,null,null,"NTTFS4824N","NTMFS4936"]
[null,null,null,null,null,null,null,null,null,null,null,null,null,null,null,null,null,null,null,null,null,null,null,"NTTFS4824N","NTTFS4932N"]
[null,null,null,null,null,null,null,null,null,null,null,null,null,null,null,null,null,null,null,null,null,null,null,"NTTFS4928N","NTD4904N"]
[null,null,null,null,null,null,null,null,null,null,null,null,null,null,null,null,null,null,null,null,null,null,null,"NTTFS4928N","NTMFS4825NFE"]
[null,null,null,null,null,null,null,null,null,null,null,null,null,null,null,null,null,null,null,null,null,null,null,"NTTFS4928N","NTMFS4833N"]
[null,null,null,null,null,null,null,null,null,null,null,null,null,null,null,null,null,null,null,null,null,null,null,"NTTFS4928N","NTMFS4834N"]
[null,null,null,null,null,null,null,null,null,null,null,null,null,null,null,null,null,null,null,null,null,null,null,"NTTFS4928N","NTMFS4835N"]
[null,null,null,null,null,null,null,null,null,null,null,null,null,null,null,null,null,null,null,null,null,null,null,"NTTFS4928N","NTMFS4845"]
[null,null,null,null,null,null,null,null,null,null,null,null,null,null,null,null,null,null,null,null,null,null,null,"NTTFS4928N","NTMFS4846"]
[null,null,null,null,null,null,null,null,null,null,null,null,null,null,null,null,null,null,null,null,null,null,null,"NTTFS4928N","NTMFS4852N"]
[null,null,null,null,null,null,null,null,null,null,null,null,null,null,null,null,null,null,null,null,null,null,null,"NTTFS4928N","NTMFS4897"]
[null,null,null,null,null,null,null,null,null,null,null,null,null,null,null,null,null,null,null,null,null,null,null,"NTTFS4928N","NTMFS4898N"]
[null,null,null,null,null,null,null,null,null,null,null,null,null,null,null,null,null,null,null,null,null,null,null,"NTTFS4928N","NTMFS4923NE"]
[null,null,null,null,null,null,null,null,null,null,null,null,null,null,null,null,null,null,null,null,null,null,null,"NTTFS4928N","NTMFS4933N"]
[null,null,null,null,null,null,null,null,null,null,null,null,null,null,null,null,null,null,null,null,null,null,null,"NTTFS4928N","NTMFS4934N"]
[null,null,null,null,null,null,null,null,null,null,null,null,null,null,null,null,null,null,null,null,null,null,null,"NTTFS4928N","NTMFS4935N"]
[null,null,null,null,null,null,null,null,null,null,null,null,null,null,null,null,null,null,null,null,null,null,null,"NTTFS4928N","NTMFS4936"]
[null,null,null,null,null,null,null,null,null,null,null,null,null,null,null,null,null,null,null,null,null,null,null,"NTTFS4928N","NTTFS4932N"]
[null,null,null,null,null,null,null,null,null,null,null,null,null,null,null,null,null,null,null,null,null,null,null,"NTTFS4929N","NTMFS4825NFE"]
[null,null,null,null,null,null,null,null,null,null,null,null,null,null,null,null,null,null,null,null,null,null,null,"NTTFS4929N","NTMFS4833N"]
[null,null,null,null,null,null,null,null,null,null,null,null,null,null,null,null,null,null,null,null,null,null,null,"NTTFS4929N","NTMFS4834N"]
[null,null,null,null,null,null,null,null,null,null,null,null,null,null,null,null,null,null,null,null,null,null,null,"NTTFS4929N","NTMFS4845"]
[null,null,null,null,null,null,null,null,null,null,null,null,null,null,null,null,null,null,null,null,null,null,null,"NTTFS4929N","NTMFS4852N"]
[null,null,null,null,null,null,null,null,null,null,null,null,null,null,null,null,null,null,null,null,null,null,null,"NTTFS4929N","NTMFS4897"]
[null,null,null,null,null,null,null,null,null,null,null,null,null,null,null,null,null,null,null,null,null,null,null,"NTTFS4929N","NTMFS4898N"]
[null,null,null,null,null,null,null,null,null,null,null,null,null,null,null,null,null,null,null,null,null,null,null,"NTTFS4929N","NTMFS4933N"]
[null,null,null,null,null,null,null,null,null,null,null,null,null,null,null,null,null,null,null,null,null,null,null,"NTTFS4929N","NTMFS4934N"]
[null,null,null,null,null,null,null,null,null,null,null,null,null,null,null,null,null,null,null,null,null,null,null,"NTTFS4929N","NTTFS4932N"]
[null,null,null,null,null,null,null,null,null,null,null,null,null,null,null,null,null,null,null,null,null,null,null,"NTTFS4932N","NTD4804N"]
[null,null,null,null,null,null,null,null,null,null,null,null,null,null,null,null,null,null,null,null,null,null,null,"NTTFS4932N","NTD4855N"]
[null,null,null,null,null,null,null,null,null,null,null,null,null,null,null,null,null,null,null,null,null,null,null,"NTTFS4932N","NTD4904N"]
[null,null,null,null,null,null,null,null,null,null,null,null,null,null,null,null,null,null,null,null,null,null,null,"NTTFS4932N","NTMFS4825NFE"]
[null,null,null,null,null,null,null,null,null,null,null,null,null,null,null,null,null,null,null,null,null,null,null,"NTTFS4932N","NTMFS4833N"]
[null,null,null,null,null,null,null,null,null,null,null,null,null,null,null,null,null,null,null,null,null,null,null,"NTTFS4932N","NTMFS4834N"]
[null,null,null,null,null,null,null,null,null,null,null,null,null,null,null,null,null,null,null,null,null,null,null,"NTTFS4932N","NTMFS4835N"]
[null,null,null,null,null,null,null,null,null,null,null,null,null,null,null,null,null,null,null,null,null,null,null,"NTTFS4932N","NTMFS4845"]
[null,null,null,null,null,null,null,null,null,null,null,null,null,null,null,null,null,null,null,null,null,null,null,"NTTFS4932N","NTMFS4846"]
[null,null,null,null,null,null,null,null,null,null,null,null,null,null,null,null,null,null,null,null,null,null,null,"NTTFS4932N","NTMFS4852N"]
[null,null,null,null,null,null,null,null,null,null,null,null,null,null,null,null,null,null,null,null,null,null,null,"NTTFS4932N","NTMFS4897"]
[null,null,null,null,null,null,null,null,null,null,null,null,null,null,null,null,null,null,null,null,null,null,null,"NTTFS4932N","NTMFS4898N"]
[null,null,null,null,null,null,null,null,null,null,null,null,null,null,null,null,null,null,null,null,null,null,null,"NTTFS4932N","NTMFS4923NE"]
[null,null,null,null,null,null,null,null,null,null,null,null,null,null,null,null,null,null,null,null,null,null,null,"NTTFS4932N","NTMFS4933N"]
[null,null,null,null,null,null,null,null,null,null,null,null,null,null,null,null,null,null,null,null,null,null,null,"NTTFS4932N","NTMFS4934N"]
[null,null,null,null,null,null,null,null,null,null,null,null,null,null,null,null,null,null,null,null,null,null,null,"NTTFS4932N","NTMFS4935N"]
[null,null,null,null,null,null,null,null,null,null,null,null,null,null,null,null,null,null,null,null,null,null,null,"NTTFS4932N","NTMFS4936"]
[null,null,null,null,null,null,null,null,null,null,null,null,null,null,null,null,null,null,null,null,null,null,null,"NTTFS4932N","NTTFS4932N"]
[null,null,null,null,null,null,null,null,null,null,null,null,null,null,null,null,null,null,null,null,null,null,null,"NTTFS4937N","NTD4904N"]
[null,null,null,null,null,null,null,null,null,null,null,null,null,null,null,null,null,null,null,null,null,null,null,"NTTFS4937N","NTMFS4825NFE"]
[null,null,null,null,null,null,null,null,null,null,null,null,null,null,null,null,null,null,null,null,null,null,null,"NTTFS4937N","NTMFS4833N"]
[null,null,null,null,null,null,null,null,null,null,null,null,null,null,null,null,null,null,null,null,null,null,null,"NTTFS4937N","NTMFS4834N"]
[null,null,null,null,null,null,null,null,null,null,null,null,null,null,null,null,null,null,null,null,null,null,null,"NTTFS4937N","NTMFS4835N"]
[null,null,null,null,null,null,null,null,null,null,null,null,null,null,null,null,null,null,null,null,null,null,null,"NTTFS4937N","NTMFS4845"]
[null,null,null,null,null,null,null,null,null,null,null,null,null,null,null,null,null,null,null,null,null,null,null,"NTTFS4937N","NTMFS4846"]
[null,null,null,null,null,null,null,null,null,null,null,null,null,null,null,null,null,null,null,null,null,null,null,"NTTFS4937N","NTMFS4852N"]
[null,null,null,null,null,null,null,null,null,null,null,null,null,null,null,null,null,null,null,null,null,null,null,"NTTFS4937N","NTMFS4897"]
[null,null,null,null,null,null,null,null,null,null,null,null,null,null,null,null,null,null,null,null,null,null,null,"NTTFS4937N","NTMFS4898N"]
[null,null,null,null,null,null,null,null,null,null,null,null,null,null,null,null,null,null,null,null,null,null,null,"NTTFS4937N","NTMFS4923NE"]
[null,null,null,null,null,null,null,null,null,null,null,null,null,null,null,null,null,null,null,null,null,null,null,"NTTFS4937N","NTMFS4933N"]
[null,null,null,null,null,null,null,null,null,null,null,null,null,null,null,null,null,null,null,null,null,null,null,"NTTFS4937N","NTMFS4934N"]
[null,null,null,null,null,null,null,null,null,null,null,null,null,null,null,null,null,null,null,null,null,null,null,"NTTFS4937N","NTMFS4935N"]
[null,null,null,null,null,null,null,null,null,null,null,null,null,null,null,null,null,null,null,null,null,null,null,"NTTFS4937N","NTMFS4936"]
[null,null,null,null,null,null,null,null,null,null,null,null,null,null,null,null,null,null,null,null,null,null,null,"NTTFS4937N","NTTFS4932N"]
[null,null,null,null,null,null,null,null,null,null,null,null,null,null,null,null,null,null,null,null,null,null,null,"NTTFS4939N","NTD4904N"]
[null,null,null,null,null,null,null,null,null,null,null,null,null,null,null,null,null,null,null,null,null,null,null,"NTTFS4939N","NTMFS4825NFE"]
[null,null,null,null,null,null,null,null,null,null,null,null,null,null,null,null,null,null,null,null,null,null,null,"NTTFS4939N","NTMFS4833N"]
[null,null,null,null,null,null,null,null,null,null,null,null,null,null,null,null,null,null,null,null,null,null,null,"NTTFS4939N","NTMFS4834N"]
[null,null,null,null,null,null,null,null,null,null,null,null,null,null,null,null,null,null,null,null,null,null,null,"NTTFS4939N","NTMFS4835N"]
[null,null,null,null,null,null,null,null,null,null,null,null,null,null,null,null,null,null,null,null,null,null,null,"NTTFS4939N","NTMFS4845"]
[null,null,null,null,null,null,null,null,null,null,null,null,null,null,null,null,null,null,null,null,null,null,null,"NTTFS4939N","NTMFS4846"]
[null,null,null,null,null,null,null,null,null,null,null,null,null,null,null,null,null,null,null,null,null,null,null,"NTTFS4939N","NTMFS4852N"]
[null,null,null,null,null,null,null,null,null,null,null,null,null,null,null,null,null,null,null,null,null,null,null,"NTTFS4939N","NTMFS4897"]
[null,null,null,null,null,null,null,null,null,null,null,null,null,null,null,null,null,null,null,null,null,null,null,"NTTFS4939N","NTMFS4898N"]
[null,null,null,null,null,null,null,null,null,null,null,null,null,null,null,null,null,null,null,null,null,null,null,"NTTFS4939N","NTMFS4923NE"]
[null,null,null,null,null,null,null,null,null,null,null,null,null,null,null,null,null,null,null,null,null,null,null,"NTTFS4939N","NTMFS4933N"]
[null,null,null,null,null,null,null,null,null,null,null,null,null,null,null,null,null,null,null,null,null,null,null,"NTTFS4939N","NTMFS4934N"]

{"sheet":"Circuit2","index":3,"n_rows":1010,"n_cols":13,"rows_kept":1010,"cut":false,"hidden":false,"merged":[[0,0,0,19],[9,14,10,15],[19,0,19,2],[2,11,2,12],[30,7,33,10]]}
[{"$f":"CONCATENATE(Circuit2!F16,\"x\",Circuit2!F29,\"+\",Circuit2!J16,\"x\",Circuit2!J26,\"@\",Circuit2!B5,\"kHz;\",\" Vin=\",$B$3,\"V;\",\"Vout=\",B4,\"V;\",\"Driver=\",F3,\"(\",F4,\"V)\")","v":"NTMFS4C05x1+NTMFS4C08x1@500kHz; Vin=12V;Vout=1.2V;Driver=NCP81151(5V)"}]
["Buck Circuit Parameters:",null,null,"Driver Parameters:",null,null,null,"Output L-C"]
["Input Voltage ",12,"V",null,"Driver ","NCP81151",null,"Capacitor"]
["Output Voltage",1.2,"V","Driver Voltage Vdr","Vcc",5,"V",null,"ESR_Coutput",5,"mΩ"]
["Switching Frequency",500,"kHz","Sourcing Resistance @ HS",null,{"$f":"IF(ISNUMBER(VLOOKUP(F3,Drivers!A1:J20,3,0)), VLOOKUP(F3,Drivers!A1:J20,3,0),0.001)","v":0.9},"Ω",null,"Capacitor Actual Value",88,"uF"]
["Duty Cycle",{"$f":"B4/B3","v":9.9999999999999992E-2},null,"Sinking Resistance @ HS",null,{"$f":"IF(ISNUMBER(VLOOKUP(F3,Drivers!A1:J20,4,0)), VLOOKUP(F3,Drivers!A1:J20,4,0),0.7)","v":0.7},"Ω"]
["Period Ts (s)",{"$f":"1/B5/1000*1000000","v":2},"us","Rise Delay Time","tpdHDRVH",{"$f":"IF(ISNUMBER(VLOOKUP(F3,Drivers!A1:J20,5,0)), VLOOKUP(F3,Drivers!A1:J20,5,0),0.00000003)","v":25},"ns","Inductor"]
["Current Ripple Peak-to-Avg",{"$f":"B6*B7*0.000001*(B3-B4)/2/J10*1000000","v":1.0799999999999998},"A","Fall Delay Time","tpdLDRVH",{"$f":"IF(ISNUMBER(VLOOKUP(F3,Drivers!A1:J20,6,0)), VLOOKUP(F3,Drivers!A1:J20,6,0),0.000000015)","v":20},"ns",null,"Core loss",50,"mW"]
["Voltage Ripple",{"$f":"0.5*B8*0.5*B7*0.000001/J5*1000000*1000","v":6.1363636363636349},"mV","Quiescent Current",null,{"$f":"IF(ISNUMBER(VLOOKUP(F3,Drivers!A1:J20,8,0)), VLOOKUP(F3,Drivers!A1:J20,8,0),0.001)","v":1},"mA",null,"WindingResistance",1.5,"mΩ"]
["Maximum Output Current",{"$f":"Circuit1!$B$10","v":30},"A","Maxim Driver Voltage","MAX-Vcc",{"$f":"IF(ISNUMBER(VLOOKUP(F3,Drivers!A1:J20,2,0)), VLOOKUP(F3,Drivers!A1:J20,2,0),0.001)","v":5.5},"V",null,"Inductor Actual Value",1,"uH"]
["Current Ripple Ratio",{"$f":"B8/B10*100","v":3.5999999999999996},"%"]
["Voltage Ripple Ratio",{"$f":"B9/1000/B4*100","v":0.51136363636363624},"%",null,null,null,null,"PCB Resistance","R-PCB",1,"mΩ"]
[]
[null,"\n\n=IF(ISBLANK(B1), \"Default\", B1)"]
[null,null,null,"High-Side MOSFET:",null,null,null,"Low-Side MOSFET:"]
["Enable auto zoom in and out?","No",null,"MOSFET Selected",null,"NTMFS4C05",null,"MOSFET Selected",null,"NTMFS4C08"]
[null,null,null,"Drain-to-Source On Resistance","RDS(on)",{"$f":"Constants!J17","v":4},"mΩ","Drain-to-Source On Resistance","RDS(on)",{"$f":"Constants!K17","v":6.8},"mΩ"]
[null,null,null,"Total Gate Charge","QG(TOT)",{"$f":"Constants!J18","v":14},"nC","Total Gate Charge","QG(TOT)",{"$f":"Constants!K18","v":8.4},"nC"]
[null,null,null,"Output Capacitance","Coss",{"$f":"Constants!J19","v":1215},"pF","Output Capacitance","Coss",{"$f":"Constants!K19","v":702},"pF"]
["Buck converter circuit",null,null,"Gate-to-Drain Charge","QGD",{"$f":"Constants!J20","v":5},"nC","Diode Reverse Recovery Charge","QRR",{"$f":"Constants!K20","v":15.3},"nC "]
[null,null,null,"Gate-to-Source Charge","QGS",{"$f":"Constants!J21","v":6},"nC","SD Forward Diode Voltage","VSD",{"$f":"Constants!K21","v":0.79},"V"]
[null,null,null,"Gate Threshold Voltage","VGS(TH)",{"$f":"Constants!J22","v":1.7},"V","Junction-to-Ambient  Thermal Resistance ","RѲJA",{"$f":"Constants!K22","v":49.8},"°C/W"]
[null,null,null,"Forward Transconductance","gFS",{"$f":"Constants!J23","v":68},"S","RDSon Temperature Coefficient",null,{"$f":"Constants!K23","v":0.47200000000000003},"%/°C"]
[null,null,null,"Gate Resistance","RG",{"$f":"Constants!J24","v":0.69},"Ω"]
[null,null,null,"Junction-to-Ambient Thermal Resistance","RѲJA",{"$f":"Constants!J25","v":48.6},"°C/W","External Gate Resistance","Rgex",0,"Ω"]
[null,null,null,"RDS(on) Temperature Coefficient",null,{"$f":"Constants!J26","v":0.48799999999999999},"%/°C","Number of LS MOSFET",null,1]
[]
[null,null,null,"External Gate Resistance","Rgex",0,"Ω"]
[null,null,null,"Number of HS MOSFET",null,1]
[]
["Note:",null,null,null,null,null,null,"For updates or suggestions, please contact\nZhiyang Chen\nZhiyang.Chen@onsemi.com"]
["1. Only single phase is simulated."]
["2. Simulaton is performed at 25 °C and selfheating of MOSFETs is not taken into account."]
[]
[]
[]
[]
[]
[]
[]
[null,null,null,null,null,null,null,null,null,null,null,"NTMFS4847N","NTMFS4933N"]
[null,null,null,null,null,null,null,null,null,null,null,"NTMFS4851","NTMFS4933N"]
[null,null,null,null,null,null,null,null,null,null,null,"NTMFS4852N","NTMFS4825NFE"]
[null,null,null,null,null,null,null,null,null,null,null,"NTMFS4852N","NTMFS4897"]
[null,null,null,null,null,null,null,null,null,null,null,"NTMFS4852N","NTMFS4933N"]
[null,null,null,null,null,null,null,null,null,null,null,"NTMFS4897","NTMFS4825NFE"]
[null,null,null,null,null,null,null,null,null,null,null,"NTMFS4897","NTMFS4897"]
[null,null,null,null,null,null,null,null,null,null,null,"NTMFS4897","NTMFS4933N"]
[null,null,null,null,null,null,null,null,null,null,null,"NTMFS4898N","NTMFS4825NFE"]
[null,null,null,null,null,null,null,null,null,null,null,"NTMFS4898N","NTMFS4897"]
[null,null,null,null,null,null,null,null,null,null,null,"NTMFS4898N","NTMFS4933N"]
[null,null,null,null,null,null,null,null,null,null,null,"NTMFS4899N","NTMFS4933N"]
[null,null,null,null,null,null,null,null,null,null,null,"NTMFS4921","NTMFS4933N"]
[null,null,null,null,null,null,null,null,null,null,null,"NTMFS4923NE","NTMFS4825NFE"]
[null,null,null,null,null,null,null,null,null,null,null,"NTMFS4923NE","NTMFS4897"]
[null,null,null,null,null,null,null,null,null,null,null,"NTMFS4923NE","NTMFS4933N"]
[null,null,null,null,null,null,null,null,null,null,null,"NTMFS4925","NTMFS4933N"]
[null,null,null,null,null,null,null,null,null,null,null,"NTMFS4926","NTMFS4933N"]
[null,null,null,null,null,null,null,null,null,null,null,"NTMFS4933N","NTMFS4825NFE"]
[null,null,null,null,null,null,null,null,null,null,null,"NTMFS4933N","NTMFS4897"]
[null,null,null,null,null,null,null,null,null,null,null,"NTMFS4933N","NTMFS4933N"]
[null,null,null,null,null,null,null,null,null,null,null,"NTMFS4933N","NTMFS4934N"]
[null,null,null,null,null,null,null,null,null,null,null,"NTMFS4934N","NTMFS4825NFE"]
[null,null,null,null,null,null,null,null,null,null,null,"NTMFS4934N","NTMFS4897"]
[null,null,null,null,null,null,null,null,null,null,null,"NTMFS4934N","NTMFS4933N"]
[null,null,null,null,null,null,null,null,null,null,null,"NTMFS4935N","NTMFS4825NFE"]
[null,null,null,null,null,null,null,null,null,null,null,"NTMFS4935N","NTMFS4897"]
[null,null,null,null,null,null,null,null,null,null,null,"NTMFS4935N","NTMFS4933N"]
[null,null,null,null,null,null,null,null,null,null,null,"NTMFS4936","NTMFS4933N"]
[null,null,null,null,null,null,null,null,null,null,null,"NTMFS4937N","NTMFS4933N"]
[null,null,null,null,null,null,null,null,null,null,null,"NTMFS4939N","NTMFS4933N"]
[null,null,null,null,null,null,null,null,null,null,null,"NTMFS4941N","NTMFS4933N"]
[null,null,null,null,null,null,null,null,null,null,null,"NTMFS4943N","NTMFS4933N"]
[null,null,null,null,null,null,null,null,null,null,null,"NTTFS4824N","NTMFS4933N"]
[null,null,null,null,null,null,null,null,null,null,null,"NTTFS4932N","NTMFS4825NFE"]
[null,null,null,null,null,null,null,null,null,null,null,"NTTFS4932N","NTMFS4897"]
[null,null,null,null,null,null,null,null,null,null,null,"NTTFS4932N","NTMFS4933N"]
[null,null,null,null,null,null,null,null,null,null,null,"NTTFS4937N","NTMFS4933N"]
[null,null,null,null,null,null,null,null,null,null,null,"NTTFS4939N","NTMFS4933N"]
[null,null,null,null,null,null,null,null,null,null,null,"NTTFS4941N","NTMFS4933N"]
[null,null,null,null,null,null,null,null,null,null,null,"NTD4809N","NTMFS4898N"]
[null,null,null,null,null,null,null,null,null,null,null,"NTD4809N","NTMFS4923NE"]
[null,null,null,null,null,null,null,null,null,null,null,"NTD4809N","NTMFS4933N"]
[null,null,null,null,null,null,null,null,null,null,null,"NTD4809N","NTMFS4934N"]
[null,null,null,null,null,null,null,null,null,null,null,"NTD4809N","NTMFS4935N"]
[null,null,null,null,null,null,null,null,null,null,null,"NTD4809N","NTTFS4932N"]
[null,null,null,null,null,null,null,null,null,null,null,"NTD4809NH","NTMFS4825NFE"]
[null,null,null,null,null,null,null,null,null,null,null,"NTD4809NH","NTMFS4833N"]
[null,null,null,null,null,null,null,null,null,null,null,"NTD4809NH","NTMFS4834N"]
[null,null,null,null,null,null,null,null,null,null,null,"NTD4809NH","NTMFS4835N"]
[null,null,null,null,null,null,null,null,null,null,null,"NTD4809NH","NTMFS4845"]
[null,null,null,null,null,null,null,null,null,null,null,"NTD4809NH","NTMFS4846"]
[null,null,null,null,null,null,null,null,null,null,null,"NTD4809NH","NTMFS4852N"]
[null,null,null,null,null,null,null,null,null,null,null,"NTD4809NH","NTMFS4897"]
[null,null,null,null,null,null,null,null,null,null,null,"NTD4809NH","NTMFS4898N"]
[null,null,null,null,null,null,null,null,null,null,null,"NTD4809NH","NTMFS4923NE"]
[null,null,null,null,null,null,null,null,null,null,null,"NTD4809NH","NTMFS4933N"]
[null,null,null,null,null,null,null,null,null,null,null,"NTD4809NH","NTMFS4934N"]
[null,null,null,null,null,null,null,null,null,null,null,"NTD4809NH","NTMFS4935N"]
[null,null,null,null,null,null,null,null,null,null,null,"NTD4809NH","NTMFS4936"]
[null,null,null,null,null,null,null,null,null,null,null,"NTD4809NH","NTTFS4932N"]
[null,null,null,null,null,null,null,null,null,null,null,"NTD4810N","NTMFS4825NFE"]
[null,null,null,null,null,null,null,null,null,null,null,"NTD4810N","NTMFS4833N"]
[null,null,null,null,null,null,null,null,null,null,null,"NTD4810N","NTMFS4834N"]
[null,null,null,null,null,null,null,null,null,null,null,"NTD4810N","NTMFS4845"]
[null,null,null,null,null,null,null,null,null,null,null,"NTD4810N","NTMFS4846"]
[null,null,null,null,null,null,null,null,null,null,null,"NTD4810N","NTMFS4852N"]
[null,null,null,null,null,null,null,null,null,null,null,"NTD4810N","NTMFS4897"]
[null,null,null,null,null,null,null,null,null,null,null,"NTD4810N","NTMFS4898N"]
[null,null,null,null,null,null,null,null,null,null,null,"NTD4810N","NTMFS4923NE"]
[null,null,null,null,null,null,null,null,null,null,null,"NTD4810N","NTMFS4933N"]
[null,null,null,null,null,null,null,null,null,null,null,"NTD4810N","NTMFS4934N"]
[null,null,null,null,null,null,null,null,null,null,null,"NTD4810N","NTMFS4935N"]
[null,null,null,null,null,null,null,null,null,null,null,"NTD4810N","NTTFS4932N"]
[null,null,null,null,null,null,null,null,null,null,null,"NTD4813NH","NTMFS4825NFE"]
[null,null,null,null,null,null,null,null,null,null,null,"NTD4813NH","NTMFS4833N"]
[null,null,null,null,null,null,null,null,null,null,null,"NTD4813NH","NTMFS4852N"]
[null,null,null,null,null,null,null,null,null,null,null,"NTD4813NH","NTMFS4897"]
[null,null,null,null,null,null,null,null,null,null,null,"NTD4813NH","NTMFS4933N"]
[null,null,null,null,null,null,null,null,null,null,null,"NTD4813NH","NTMFS4934N"]
[null,null,null,null,null,null,null,null,null,null,null,"NTD4815N","NTMFS4825NFE"]
[null,null,null,null,null,null,null,null,null,null,null,"NTD4815N","NTMFS4833N"]
[null,null,null,null,null,null,null,null,null,null,null,"NTD4815N","NTMFS4852N"]
[null,null,null,null,null,null,null,null,null,null,null,"NTD4815N","NTMFS4897"]
[null,null,null,null,null,null,null,null,null,null,null,"NTD4815N","NTMFS4933N"]
[null,null,null,null,null,null,null,null,null,null,null,"NTD4815N","NTMFS4934N"]
[null,null,null,null,null,null,null,null,null,null,null,"NTD4855N","NTD4904N"]
[null,null,null,null,null,null,null,null,null,null,null,"NTD4855N","NTMFS4825NFE"]
[null,null,null,null,null,null,null,null,null,null,null,"NTD4855N","NTMFS4833N"]
[null,null,null,null,null,null,null,null,null,null,null,"NTD4855N","NTMFS4834N"]
[null,null,null,null,null,null,null,null,null,null,null,"NTD4855N","NTMFS4835N"]
[null,null,null,null,null,null,null,null,null,null,null,"NTD4855N","NTMFS4845"]
[null,null,null,null,null,null,null,null,null,null,null,"NTD4855N","NTMFS4846"]
[null,null,null,null,null,null,null,null,null,null,null,"NTD4855N","NTMFS4852N"]
[null,null,null,null,null,null,null,null,null,null,null,"NTD4855N","NTMFS4897"]
[null,null,null,null,null,null,null,null,null,null,null,"NTD4855N","NTMFS4898N"]
[null,null,null,null,null,null,null,null,null,null,null,"NTD4855N","NTMFS4923NE"]
[null,null,null,null,null,null,null,null,null,null,null,"NTD4855N","NTMFS4933N"]
[null,null,null,null,null,null,null,null,null,null,null,"NTD4855N","NTMFS4934N"]
[null,null,null,null,null,null,null,null,null,null,null,"NTD4855N","NTMFS4935N"]
[null,null,null,null,null,null,null,null,null,null,null,"NTD4855N","NTMFS4936"]
[null,null,null,null,null,null,null,null,null,null,null,"NTD4855N","NTTFS4932N"]
[null,null,null,null,null,null,null,null,null,null,null,"NTD4856N","NTD4904N"]
[null,null,null,null,null,null,null,null,null,null,null,"NTD4856N","NTMFS4825NFE"]
[null,null,null,null,null,null,null,null,null,null,null,"NTD4856N","NTMFS4833N"]
[null,null,null,null,null,null,null,null,null,null,null,"NTD4856N","NTMFS4834N"]
[null,null,null,null,null,null,null,null,null,null,null,"NTD4856N","NTMFS4835N"]
[null,null,null,null,null,null,null,null,null,null,null,"NTD4856N","NTMFS4845"]
[null,null,null,null,null,null,null,null,null,null,null,"NTD4856N","NTMFS4846"]
[null,null,null,null,null,null,null,null,null,null,null,"NTD4856N","NTMFS4852N"]
[null,null,null,null,null,null,null,null,null,null,null,"NTD4856N","NTMFS4897"]
[null,null,null,null,null,null,null,null,null,null,null,"NTD4856N","NTMFS4898N"]
[null,null,null,null,null,null,null,null,null,null,null,"NTD4856N","NTMFS4923NE"]
[null,null,null,null,null,null,null,null,null,null,null,"NTD4856N","NTMFS4933N"]
[null,null,null,null,null,null,null,null,null,null,null,"NTD4856N","NTMFS4934N"]
[null,null,null,null,null,null,null,null,null,null,null,"NTD4856N","NTMFS4935N"]
[null,null,null,null,null,null,null,null,null,null,null,"NTD4856N","NTMFS4936"]
[null,null,null,null,null,null,null,null,null,null,null,"NTD4856N","NTTFS4932N"]
[null,null,null,null,null,null,null,null,null,null,null,"NTD4857N","NTD4904N"]
[null,null,null,null,null,null,null,null,null,null,null,"NTD4857N","NTMFS4825NFE"]
[null,null,null,null,null,null,null,null,null,null,null,"NTD4857N","NTMFS4833N"]
[null,null,null,null,null,null,null,null,null,null,null,"NTD4857N","NTMFS4834N"]
[null,null,null,null,null,null,null,null,null,null,null,"NTD4857N","NTMFS4835N"]
[null,null,null,null,null,null,null,null,null,null,null,"NTD4857N","NTMFS4845"]
[null,null,null,null,null,null,null,null,null,null,null,"NTD4857N","NTMFS4846"]
[null,null,null,null,null,null,null,null,null,null,null,"NTD4857N","NTMFS4852N"]
[null,null,null,null,null,null,null,null,null,null,null,"NTD4857N","NTMFS4897"]
[null,null,null,null,null,null,null,null,null,null,null,"NTD4857N","NTMFS4898N"]
[null,null,null,null,null,null,null,null,null,null,null,"NTD4857N","NTMFS4923NE"]
[null,null,null,null,null,null,null,null,null,null,null,"NTD4857N","NTMFS4933N"]
[null,null,null,null,null,null,null,null,null,null,null,"NTD4857N","NTMFS4934N"]
[null,null,null,null,null,null,null,null,null,null,null,"NTD4857N","NTMFS4935N"]
[null,null,null,null,null,null,null,null,null,null,null,"NTD4857N","NTMFS4936"]
[null,null,null,null,null,null,null,null,null,null,null,"NTD4857N","NTTFS4932N"]
[null,null,null,null,null,null,null,null,null,null,null,"NTD4858N","NTD4904N"]
[null,null,null,null,null,null,null,null,null,null,null,"NTD4858N","NTMFS4825NFE"]
[null,null,null,null,null,null,null,null,null,null,null,"NTD4858N","NTMFS4833N"]
[null,null,null,null,null,null,null,null,null,null,null,"NTD4858N","NTMFS4834N"]
[null,null,null,null,null,null,null,null,null,null,null,"NTD4858N","NTMFS4835N"]
[null,null,null,null,null,null,null,null,null,null,null,"NTD4858N","NTMFS4845"]
[null,null,null,null,null,null,null,null,null,null,null,"NTD4858N","NTMFS4846"]
[null,null,null,null,null,null,null,null,null,null,null,"NTD4858N","NTMFS4852N"]
[null,null,null,null,null,null,null,null,null,null,null,"NTD4858N","NTMFS4897"]
[null,null,null,null,null,null,null,null,null,null,null,"NTD4858N","NTMFS4898N"]
[null,null,null,null,null,null,null,null,null,null,null,"NTD4858N","NTMFS4923NE"]
[null,null,null,null,null,null,null,null,null,null,null,"NTD4858N","NTMFS4933N"]
[null,null,null,null,null,null,null,null,null,null,null,"NTD4858N","NTMFS4934N"]
[null,null,null,null,null,null,null,null,null,null,null,"NTD4858N","NTMFS4935N"]
[null,null,null,null,null,null,null,null,null,null,null,"NTD4858N","NTMFS4936"]
[null,null,null,null,null,null,null,null,null,null,null,"NTD4858N","NTTFS4932N"]
[null,null,null,null,null,null,null,null,null,null,null,"NTD4863N","NTMFS4825NFE"]
[null,null,null,null,null,null,null,null,null,null,null,"NTD4863N","NTMFS4833N"]
[null,null,null,null,null,null,null,null,null,null,null,"NTD4863N","NTMFS4834N"]
[null,null,null,null,null,null,null,null,null,null,null,"NTD4863N","NTMFS4845"]
[null,null,null,null,null,null,null,null,null,null,null,"NTD4863N","NTMFS4852N"]
[null,null,null,null,null,null,null,null,null,null,null,"NTD4863N","NTMFS4897"]
[null,null,null,null,null,null,null,null,null,null,null,"NTD4863N","NTMFS4898N"]
[null,null,null,null,null,null,null,null,null,null,null,"NTD4863N","NTMFS4933N"]
[null,null,null,null,null,null,null,null,null,null,null,"NTD4863N","NTMFS4934N"]
[null,null,null,null,null,null,null,null,null,null,null,"NTD4863N","NTTFS4932N"]
[null,null,null,null,null,null,null,null,null,null,null,"NTD4904N","NTD4804N"]
[null,null,null,null,null,null,null,null,null,null,null,"NTD4904N","NTD4855N"]
[null,null,null,null,null,null,null,null,null,null,null,"NTD4904N","NTD4904N"]
[null,null,null,null,null,null,null,null,null,null,null,"NTD4904N","NTMFS4825NFE"]
[null,null,null,null,null,null,null,null,null,null,null,"NTD4904N","NTMFS4833N"]
[null,null,null,null,null,null,null,null,null,null,null,"NTD4904N","NTMFS4834N"]
[null,null,null,null,null,null,null,null,null,null,null,"NTD4904N","NTMFS4835N"]
[null,null,null,null,null,null,null,null,null,null,null,"NTD4904N","NTMFS4845"]
[null,null,null,null,null,null,null,null,null,null,null,"NTD4904N","NTMFS4846"]
[null,null,null,null,null,null,null,null,null,null,null,"NTD4904N","NTMFS4852N"]
[null,null,null,null,null,null,null,null,null,null,null,"NTD4904N","NTMFS4897"]
[null,null,null,null,null,null,null,null,null,null,null,"NTD4904N","NTMFS4898N"]
[null,null,null,null,null,null,null,null,null,null,null,"NTD4904N","NTMFS4923NE"]
[null,null,null,null,null,null,null,null,null,null,null,"NTD4904N","NTMFS4933N"]
[null,null,null,null,null,null,null,null,null,null,null,"NTD4904N","NTMFS4934N"]
[null,null,null,null,null,null,null,null,null,null,null,"NTD4904N","NTMFS4935N"]
[null,null,null,null,null,null,null,null,null,null,null,"NTD4904N","NTMFS4936"]
[null,null,null,null,null,null,null,null,null,null,null,"NTD4904N","NTTFS4932N"]
[null,null,null,null,null,null,null,null,null,null,null,"NTD4906N","NTD4904N"]
[null,null,null,null,null,null,null,null,null,null,null,"NTD4906N","NTMFS4825NFE"]
[null,null,null,null,null,null,null,null,null,null,null,"NTD4906N","NTMFS4833N"]
[null,null,null,null,null,null,null,null,null,null,null,"NTD4906N","NTMFS4834N"]
[null,null,null,null,null,null,null,null,null,null,null,"NTD4906N","NTMFS4835N"]
[null,null,null,null,null,null,null,null,null,null,null,"NTD4906N","NTMFS4845"]
[null,null,null,null,null,null,null,null,null,null,null,"NTD4906N","NTMFS4846"]
[null,null,null,null,null,null,null,null,null,null,null,"NTD4906N","NTMFS4852N"]
[null,null,null,null,null,null,null,null,null,null,null,"NTD4906N","NTMFS4897"]
[null,null,null,null,null,null,null,null,null,null,null,"NTD4906N","NTMFS4898N"]
[null,null,null,null,null,null,null,null,null,null,null,"NTD4906N","NTMFS4923NE"]
[null,null,null,null,null,null,null,null,null,null,null,"NTD4906N","NTMFS4933N"]
[null,null,null,null,null,null,null,null,null,null,null,"NTD4906N","NTMFS4934N"]
[null,null,null,null,null,null,null,null,null,null,null,"NTD4906N","NTMFS4935N"]
[null,null,null,null,null,null,null,null,null,null,null,"NTD4906N","NTMFS4936"]
[null,null,null,null,null,null,null,null,null,null,null,"NTD4906N","NTTFS4932N"]
[null,null,null,null,null,null,null,null,null,null,null,"NTD4909N","NTD4904N"]
[null,null,null,null,null,null,null,null,null,null,null,"NTD4909N","NTMFS4825NFE"]
[null,null,null,null,null,null,null,null,null,null,null,"NTD4909N","NTMFS4833N"]
[null,null,null,null,null,null,null,null,null,null,null,"NTD4909N","NTMFS4834N"]
[null,null,null,null,null,null,null,null,null,null,null,"NTD4909N","NTMFS4835N"]
[null,null,null,null,null,null,null,null,null,null,null,"NTD4909N","NTMFS4845"]
[null,null,null,null,null,null,null,null,null,null,null,"NTD4909N","NTMFS4846"]
[null,null,null,null,null,null,null,null,null,null,null,"NTD4909N","NTMFS4852N"]
[null,null,null,null,null,null,null,null,null,null,null,"NTD4909N","NTMFS4897"]
[null,null,null,null,null,null,null,null,null,null,null,"NTD4909N","NTMFS4898N"]
[null,null,null,null,null,null,null,null,null,null,null,"NTD4909N","NTMFS4923NE"]
[null,null,null,null,null,null,null,null,null,null,null,"NTD4909N","NTMFS4933N"]
[null,null,null,null,null,null,null,null,null,null,null,"NTD4909N","NTMFS4934N"]
[null,null,null,null,null,null,null,null,null,null,null,"NTD4909N","NTMFS4935N"]
[null,null,null,null,null,null,null,null,null,null,null,"NTD4909N","NTMFS4936"]
[null,null,null,null,null,null,null,null,null,null,null,"NTD4909N","NTTFS4932N"]
[null,null,null,null,null,null,null,null,null,null,null,"NTD4910N","NTMFS4825NFE"]
[null,null,null,null,null,null,null,null,null,null,null,"NTD4910N","NTMFS4833N"]
[null,null,null,null,null,null,null,null,null,null,null,"NTD4910N","NTMFS4834N"]
[null,null,null,null,null,null,null,null,null,null,null,"NTD4910N","NTMFS4835N"]
[null,null,null,null,null,null,null,null,null,null,null,"NTD4910N","NTMFS4845"]
[null,null,null,null,null,null,null,null,null,null,null,"NTD4910N","NTMFS4846"]
[null,null,null,null,null,null,null,null,null,null,null,"NTD4910N","NTMFS4852N"]
[null,null,null,null,null,null,null,null,null,null,null,"NTD4910N","NTMFS4897"]
[null,null,null,null,null,null,null,null,null,null,null,"NTD4910N","NTMFS4898N"]
[null,null,null,null,null,null,null,null,null,null,null,"NTD4910N","NTMFS4923NE"]
[null,null,null,null,null,null,null,null,null,null,null,"NTD4910N","NTMFS4933N"]
[null,null,null,null,null,null,null,null,null,null,null,"NTD4910N","NTMFS4934N"]
[null,null,null,null,null,null,null,null,null,null,null,"NTD4910N","NTMFS4935N"]
[null,null,null,null,null,null,null,null,null,null,null,"NTD4910N","NTTFS4932N"]
[null,null,null,null,null,null,null,null,null,null,null,"NTD4913N","NTMFS4825NFE"]
[null,null,null,null,null,null,null,null,null,null,null,"NTD4913N","NTMFS4833N"]
[null,null,null,null,null,null,null,null,null,null,null,"NTD4913N","NTMFS4834N"]
[null,null,null,null,null,null,null,null,null,null,null,"NTD4913N","NTMFS4845"]
[null,null,null,null,null,null,null,null,null,null,null,"NTD4913N","NTMFS4852N"]
[null,null,null,null,null,null,null,null,null,null,null,"NTD4913N","NTMFS4897"]
[null,null,null,null,null,null,null,null,null,null,null,"NTD4913N","NTMFS4898N"]
[null,null,null,null,null,null,null,null,null,null,null,"NTD4913N","NTMFS4933N"]
[null,null,null,null,null,null,null,null,null,null,null,"NTD4913N","NTMFS4934N"]
[null,null,null,null,null,null,null,null,null,null,null,"NTD4913N","NTTFS4932N"]
[null,null,null,null,null,null,null,null,null,null,null,"NTD4960N","NTMFS4825NFE"]
[null,null,null,null,null,null,null,null,null,null,null,"NTD4960N","NTMFS4833N"]
[null,null,null,null,null,null,null,null,null,null,null,"NTD4960N","NTMFS4834N"]
[null,null,null,null,null,null,null,null,null,null,null,"NTD4960N","NTMFS4835N"]
[null,null,null,null,null,null,null,null,null,null,null,"NTD4960N","NTMFS4845"]
[null,null,null,null,null,null,null,null,null,null,null,"NTD4960N","NTMFS4846"]
[null,null,null,null,null,null,null,null,null,null,null,"NTD4960N","NTMFS4852N"]
[null,null,null,null,null,null,null,null,null,null,null,"NTD4960N","NTMFS4897"]
[null,null,null,null,null,null,null,null,null,null,null,"NTD4960N","NTMFS4898N"]
[null,null,null,null,null,null,null,null,null,null,null,"NTD4960N","NTMFS4923NE"]
[null,null,null,null,null,null,null,null,null,null,null,"NTD4960N","NTMFS4933N"]
[null,null,null,null,null,null,null,null,null,null,null,"NTD4960N","NTMFS4934N"]
[null,null,null,null,null,null,null,null,null,null,null,"NTD4960N","NTMFS4935N"]
[null,null,null,null,null,null,null,null,null,null,null,"NTD4960N","NTMFS4936"]
[null,null,null,null,null,null,null,null,null,null,null,"NTD4960N","NTTFS4932N"]
[null,null,null,null,null,null,null,null,null,null,null,"NTD4963N","NTMFS4825NFE"]
[null,null,null,null,null,null,null,null,null,null,null,"NTD4963N","NTMFS4833N"]
[null,null,null,null,null,null,null,null,null,null,null,"NTD4963N","NTMFS4834N"]
[null,null,null,null,null,null,null,null,null,null,null,"NTD4963N","NTMFS4845"]
[null,null,null,null,null,null,null,null,null,null,null,"NTD4963N","NTMFS4852N"]
[null,null,null,null,null,null,null,null,null,null,null,"NTD4963N","NTMFS4897"]
[null,null,null,null,null,null,null,null,null,null,null,"NTD4963N","NTMFS4898N"]
[null,null,null,null,null,null,null,null,null,null,null,"NTD4963N","NTMFS4933N"]
[null,null,null,null,null,null,null,null,null,null,null,"NTD4963N","NTMFS4934N"]
[null,null,null,null,null,null,null,null,null,null,null,"NTD4965N","NTD4904N"]
[null,null,null,null,null,null,null,null,null,null,null,"NTD4965N","NTMFS4825NFE"]
[null,null,null,null,null,null,null,null,null,null,null,"NTD4965N","NTMFS4833N"]
[null,null,null,null,null,null,null,null,null,null,null,"NTD4965N","NTMFS4834N"]
[null,null,null,null,null,null,null,null,null,null,null,"NTD4965N","NTMFS4835N"]
[null,null,null,null,null,null,null,null,null,null,null,"NTD4965N","NTMFS4845"]
[null,null,null,null,null,null,null,null,null,null,null,"NTD4965N","NTMFS4846"]
[null,null,null,null,null,null,null,null,null,null,null,"NTD4965N","NTMFS4852N"]
[null,null,null,null,null,null,null,null,null,null,null,"NTD4965N","NTMFS4897"]
[null,null,null,null,null,null,null,null,null,null,null,"NTD4965N","NTMFS4898N"]
[null,null,null,null,null,null,null,null,null,null,null,"NTD4965N","NTMFS4923NE"]
[null,null,null,null,null,null,null,null,null,null,null,"NTD4965N","NTMFS4933N"]
[null,null,null,null,null,null,null,null,null,null,null,"NTD4965N","NTMFS4934N"]
[null,null,null,null,null,null,null,null,null,null,null,"NTD4965N","NTMFS4935N"]
[null,null,null,null,null,null,null,null,null,null,null,"NTD4965N","NTMFS4936"]
[null,null,null,null,null,null,null,null,null,null,null,"NTD4965N","NTTFS4932N"]
[null,null,null,null,null,null,null,null,null,null,null,"NTD4969N","NTMFS4825NFE"]
[null,null,null,null,null,null,null,null,null,null,null,"NTD4969N","NTMFS4833N"]
[null,null,null,null,null,null,null,null,null,null,null,"NTD4969N","NTMFS4834N"]
[null,null,null,null,null,null,null,null,null,null,null,"NTD4969N","NTMFS4845"]
[null,null,null,null,null,null,null,null,null,null,null,"NTD4969N","NTMFS4852N"]
[null,null,null,null,null,null,null,null,null,null,null,"NTD4969N","NTMFS4897"]
[null,null,null,null,null,null,null,null,null,null,null,"NTD4969N","NTMFS4898N"]
[null,null,null,null,null,null,null,null,null,null,null,"NTD4969N","NTMFS4933N"]
[null,null,null,null,null,null,null,null,null,null,null,"NTD4969N","NTMFS4934N"]
[null,null,null,null,null,null,null,null,null,null,null,"NTD4969N","NTTFS4932N"]
[null,null,null,null,null,null,null,null,null,null,null,"NTD4970N","NTMFS4825NFE"]
[null,null,null,null,null,null,null,null,null,null,null,"NTD4970N","NTMFS4833N"]
[null,null,null,null,null,null,null,null,null,null,null,"NTD4970N","NTMFS4834N"]
[null,null,null,null,null,null,null,null,null,null,null,"NTD4970N","NTMFS4845"]
[null,null,null,null,null,null,null,null,null,null,null,"NTD4970N","NTMFS4852N"]
[null,null,null,null,null,null,null,null,null,null,null,"NTD4970N","NTMFS4897"]
[null,null,null,null,null,null,null,null,null,null,null,"NTD4970N","NTMFS4898N"]
[null,null,null,null,null,null,null,null,null,null,null,"NTD4970N","NTMFS4933N"]
[null,null,null,null,null,null,null,null,null,null,null,"NTD4970N","NTMFS4934N"]
[null,null,null,null,null,null,null,null,null,null,null,"NTD4970N","NTTFS4932N"]
[null,null,null,null,null,null,null,null,null,null,null,"NTMFS4821","NTD4904N"]
[null,null,null,null,null,null,null,null,null,null,null,"NTMFS4821","NTMFS4825NFE"]
[null,null,null,null,null,null,null,null,null,null,null,"NTMFS4821","NTMFS4833N"]
[null,null,null,null,null,null,null,null,null,null,null,"NTMFS4821","NTMFS4834N"]
[null,null,null,null,null,null,null,null,null,null,null,"NTMFS4821","NTMFS4835N"]
[null,null,null,null,null,null,null,null,null,null,null,"NTMFS4821","NTMFS4845"]
[null,null,null,null,null,null,null,null,null,null,null,"NTMFS4821","NTMFS4846"]
[null,null,null,null,null,null,null,null,null,null,null,"NTMFS4821","NTMFS4852N"]
[null,null,null,null,null,null,null,null,null,null,null,"NTMFS4821","NTMFS4897"]
[null,null,null,null,null,null,null,null,null,null,null,"NTMFS4821","NTMFS4898N"]
[null,null,null,null,null,null,null,null,null,null,null,"NTMFS4821","NTMFS4923NE"]
[null,null,null,null,null,null,null,null,null,null,null,"NTMFS4821","NTMFS4933N"]
[null,null,null,null,null,null,null,null,null,null,null,"NTMFS4821","NTMFS4934N"]
[null,null,null,null,null,null,null,null,null,null,null,"NTMFS4821","NTMFS4935N"]
[null,null,null,null,null,null,null,null,null,null,null,"NTMFS4821","NTMFS4936"]
[null,null,null,null,null,null,null,null,null,null,null,"NTMFS4821","NTTFS4932N"]
[null,null,null,null,null,null,null,null,null,null,null,"NTMFS4823","NTMFS4825NFE"]
[null,null,null,null,null,null,null,null,null,null,null,"NTMFS4823","NTMFS4833N"]
[null,null,null,null,null,null,null,null,null,null,null,"NTMFS4823","NTMFS4834N"]
[null,null,null,null,null,null,null,null,null,null,null,"NTMFS4823","NTMFS4845"]
[null,null,null,null,null,null,null,null,null,null,null,"NTMFS4823","NTMFS4852N"]
[null,null,null,null,null,null,null,null,null,null,null,"NTMFS4823","NTMFS4897"]
[null,null,null,null,null,null,null,null,null,null,null,"NTMFS4823","NTMFS4898N"]
[null,null,null,null,null,null,null,null,null,null,null,"NTMFS4823","NTMFS4933N"]
[null,null,null,null,null,null,null,null,null,null,null,"NTMFS4823","NTMFS4934N"]
[null,null,null,null,null,null,null,null,null,null,null,"NTMFS4825NFE","NTD4804N"]
[null,null,null,null,null,null,null,null,null,null,null,"NTMFS4825NFE","NTD4855N"]
[null,null,null,null,null,null,null,null,null,null,null,"NTMFS4825NFE","NTD4904N"]
[null,null,null,null,null,null,null,null,null,null,null,"NTMFS4825NFE","NTMFS4825NFE"]
[null,null,null,null,null,null,null,null,null,null,null,"NTMFS4825NFE","NTMFS4833N"]
[null,null,null,null,null,null,null,null,null,null,null,"NTMFS4825NFE","NTMFS4834N"]
[null,null,null,null,null,null,null,null,null,null,null,"NTMFS4825NFE","NTMFS4835N"]
[null,null,null,null,null,null,null,null,null,null,null,"NTMFS4825NFE","NTMFS4836N"]
[null,null,null,null,null,null,null,null,null,null,null,"NTMFS4825NFE","NTMFS4845"]
[null,null,null,null,null,null,null,null,null,null,null,"NTMFS4825NFE","NTMFS4846"]
[null,null,null,null,null,null,null,null,null,null,null,"NTMFS4825NFE","NTMFS4852N"]
[null,null,null,null,null,null,null,null,null,null,null,"NTMFS4825NFE","NTMFS4897"]
[null,null,null,null,null,null,null,null,null,null,null,"NTMFS4825NFE","NTMFS4898N"]
[null,null,null,null,null,null,null,null,null,null,null,"NTMFS4825NFE","NTMFS4923NE"]
[null,null,null,null,null,null,null,null,null,null,null,"NTMFS4825NFE","NTMFS4933N"]
[null,null,null,null,null,null,null,null,null,null,null,"NTMFS4825NFE","NTMFS4934N"]
[null,null,null,null,null,null,null,null,null,null,null,"NTMFS4825NFE","NTMFS4935N"]
[null,null,null,null,null,null,null,null,null,null,null,"NTMFS4825NFE","NTMFS4936"]
[null,null,null,null,null,null,null,null,null,null,null,"NTMFS4825NFE","NTTFS4932N"]
[null,null,null,null,null,null,null,null,null,null,null,"NTMFS4825NFE","NTTFS4937N"]
[null,null,null,null,null,null,null,null,null,null,null,"NTMFS4826NE","NTD4904N"]
[null,null,null,null,null,null,null,null,null,null,null,"NTMFS4826NE","NTMFS4825NFE"]
[null,null,null,null,null,null,null,null,null,null,null,"NTMFS4826NE","NTMFS4833N"]
[null,null,null,null,null,null,null,null,null,null,null,"NTMFS4826NE","NTMFS4834N"]
[null,null,null,null,null,null,null,null,null,null,null,"NTMFS4826NE","NTMFS4835N"]
[null,null,null,null,null,null,null,null,null,null,null,"NTMFS4826NE","NTMFS4845"]
[null,null,null,null,null,null,null,null,null,null,null,"NTMFS4826NE","NTMFS4846"]
[null,null,null,null,null,null,null,null,null,null,null,"NTMFS4826NE","NTMFS4852N"]
[null,null,null,null,null,null,null,null,null,null,null,"NTMFS4826NE","NTMFS4897"]
[null,null,null,null,null,null,null,null,null,null,null,"NTMFS4826NE","NTMFS4898N"]
[null,null,null,null,null,null,null,null,null,null,null,"NTMFS4826NE","NTMFS4923NE"]
[null,null,null,null,null,null,null,null,null,null,null,"NTMFS4826NE","NTMFS4933N"]
[null,null,null,null,null,null,null,null,null,null,null,"NTMFS4826NE","NTMFS4934N"]
[null,null,null,null,null,null,null,null,null,null,null,"NTMFS4826NE","NTMFS4935N"]
[null,null,null,null,null,null,null,null,null,null,null,"NTMFS4826NE","NTMFS4936"]
[null,null,null,null,null,null,null,null,null,null,null,"NTMFS4826NE","NTTFS4932N"]
[null,null,null,null,null,null,null,null,null,null,null,"NTMFS4833N","NTD4804N"]
[null,null,null,null,null,null,null,null,null,null,null,"NTMFS4833N","NTD4855N"]
[null,null,null,null,null,null,null,null,null,null,null,"NTMFS4833N","NTD4904N"]
[null,null,null,null,null,null,null,null,null,null,null,"NTMFS4833N","NTMFS4825NFE"]
[null,null,null,null,null,null,null,null,null,null,null,"NTMFS4833N","NTMFS4833N"]
[null,null,null,null,null,null,null,null,null,null,null,"NTMFS4833N","NTMFS4834N"]
[null,null,null,null,null,null,null,null,null,null,null,"NTMFS4833N","NTMFS4835N"]
[null,null,null,null,null,null,null,null,null,null,null,"NTMFS4833N","NTMFS4836N"]
[null,null,null,null,null,null,null,null,null,null,null,"NTMFS4833N","NTMFS4845"]
[null,null,null,null,null,null,null,null,null,null,null,"NTMFS4833N","NTMFS4846"]
[null,null,null,null,null,null,null,null,null,null,null,"NTMFS4833N","NTMFS4852N"]
[null,null,null,null,null,null,null,null,null,null,null,"NTMFS4833N","NTMFS4897"]
[null,null,null,null,null,null,null,null,null,null,null,"NTMFS4833N","NTMFS4898N"]
[null,null,null,null,null,null,null,null,null,null,null,"NTMFS4833N","NTMFS4923NE"]
[null,null,null,null,null,null,null,null,null,null,null,"NTMFS4833N","NTMFS4933N"]
[null,null,null,null,null,null,null,null,null,null,null,"NTMFS4833N","NTMFS4934N"]
[null,null,null,null,null,null,null,null,null,null,null,"NTMFS4833N","NTMFS4935N"]
[null,null,null,null,null,null,null,null,null,null,null,"NTMFS4833N","NTMFS4936"]
[null,null,null,null,null,null,null,null,null,null,null,"NTMFS4833N","NTTFS4932N"]
[null,null,null,null,null,null,null,null,null,null,null,"NTMFS4833N","NTTFS4937N"]
[null,null,null,null,null,null,null,null,null,null,null,"NTMFS4834N","NTD4804N"]
[null,null,null,null,null,null,null,null,null,null,null,"NTMFS4834N","NTD4855N"]
[null,null,null,null,null,null,null,null,null,null,null,"NTMFS4834N","NTD4904N"]
[null,null,null,null,null,null,null,null,null,null,null,"NTMFS4834N","NTMFS4825NFE"]
[null,null,null,null,null,null,null,null,null,null,null,"NTMFS4834N","NTMFS4833N"]
[null,null,null,null,null,null,null,null,null,null,null,"NTMFS4834N","NTMFS4834N"]
[null,null,null,null,null,null,null,null,null,null,null,"NTMFS4834N","NTMFS4835N"]
[null,null,null,null,null,null,null,null,null,null,null,"NTMFS4834N","NTMFS4845"]
[null,null,null,null,null,null,null,null,null,null,null,"NTMFS4834N","NTMFS4846"]
[null,null,null,null,null,null,null,null,null,null,null,"NTMFS4834N","NTMFS4852N"]
[null,null,null,null,null,null,null,null,null,null,null,"NTMFS4834N","NTMFS4897"]
[null,null,null,null,null,null,null,null,null,null,null,"NTMFS4834N","NTMFS4898N"]
[null,null,null,null,null,null,null,null,null,null,null,"NTMFS4834N","NTMFS4923NE"]
[null,null,null,null,null,null,null,null,null,null,null,"NTMFS4834N","NTMFS4933N"]
[null,null,null,null,null,null,null,null,null,null,null,"NTMFS4834N","NTMFS4934N"]
[null,null,null,null,null,null,null,null,null,null,null,"NTMFS4834N","NTMFS4935N"]
[null,null,null,null,null,null,null,null,null,null,null,"NTMFS4834N","NTMFS4936"]
[null,null,null,null,null,null,null,null,null,null,null,"NTMFS4834N","NTTFS4932N"]
[null,null,null,null,null,null,null,null,null,null,null,"NTMFS4835N","NTD4804N"]
[null,null,null,null,null,null,null,null,null,null,null,"NTMFS4835N","NTD4855N"]
[null,null,null,null,null,null,null,null,null,null,null,"NTMFS4835N","NTD4904N"]
[null,null,null,null,null,null,null,null,null,null,null,"NTMFS4835N","NTMFS4825NFE"]
[null,null,null,null,null,null,null,null,null,null,null,"NTMFS4835N","NTMFS4833N"]
[null,null,null,null,null,null,null,null,null,null,null,"NTMFS4835N","NTMFS4834N"]
[null,null,null,null,null,null,null,null,null,null,null,"NTMFS4835N","NTMFS4835N"]
[null,null,null,null,null,null,null,null,null,null,null,"NTMFS4835N","NTMFS4845"]
[null,null,null,null,null,null,null,null,null,null,null,"NTMFS4835N","NTMFS4846"]
[null,null,null,null,null,null,null,null,null,null,null,"NTMFS4835N","NTMFS4852N"]
[null,null,null,null,null,null,null,null,null,null,null,"NTMFS4835N","NTMFS4897"]
[null,null,null,null,null,null,null,null,null,null,null,"NTMFS4835N","NTMFS4898N"]
[null,null,null,null,null,null,null,null,null,null,null,"NTMFS4835N","NTMFS4923NE"]
[null,null,null,null,null,null,null,null,null,null,null,"NTMFS4835N","NTMFS4933N"]
[null,null,null,null,null,null,null,null,null,null,null,"NTMFS4835N","NTMFS4934N"]
[null,null,null,null,null,null,null,null,null,null,null,"NTMFS4835N","NTMFS4935N"]
[null,null,null,null,null,null,null,null,null,null,null,"NTMFS4835N","NTMFS4936"]
[null,null,null,null,null,null,null,null,null,null,null,"NTMFS4835N","NTTFS4932N"]
[null,null,null,null,null,null,null,null,null,null,null,"NTMFS4836N","NTD4904N"]
[null,null,null,null,null,null,null,null,null,null,null,"NTMFS4836N","NTMFS4825NFE"]
[null,null,null,null,null,null,null,null,null,null,null,"NTMFS4836N","NTMFS4833N"]
[null,null,null,null,null,null,null,null,null,null,null,"NTMFS4836N","NTMFS4834N"]
[null,null,null,null,null,null,null,null,null,null,null,"NTMFS4836N","NTMFS4835N"]
[null,null,null,null,null,null,null,null,null,null,null,"NTMFS4836N","NTMFS4845"]
[null,null,null,null,null,null,null,null,null,null,null,"NTMFS4836N","NTMFS4846"]
[null,null,null,null,null,null,null,null,null,null,null,"NTMFS4836N","NTMFS4852N"]
[null,null,null,null,null,null,null,null,null,null,null,"NTMFS4836N","NTMFS4897"]
[null,null,null,null,null,null,null,null,null,null,null,"NTMFS4836N","NTMFS4898N"]
[null,null,null,null,null,null,null,null,null,null,null,"NTMFS4836N","NTMFS4923NE"]
[null,null,null,null,null,null,null,null,null,null,null,"NTMFS4836N","NTMFS4933N"]
[null,null,null,null,null,null,null,null,null,null,null,"NTMFS4836N","NTMFS4934N"]
[null,null,null,null,null,null,null,null,null,null,null,"NTMFS4836N","NTMFS4935N"]
[null,null,null,null,null,null,null,null,null,null,null,"NTMFS4836N","NTMFS4936"]
[null,null,null,null,null,null,null,null,null,null,null,"NTMFS4836N","NTTFS4932N"]
[null,null,null,null,null,null,null,null,null,null,null,"NTMFS4837NH","NTD4904N"]
[null,null,null,null,null,null,null,null,null,null,null,"NTMFS4837NH","NTMFS4825NFE"]
[null,null,null,null,null,null,null,null,null,null,null,"NTMFS4837NH","NTMFS4833N"]
[null,null,null,null,null,null,null,null,null,null,null,"NTMFS4837NH","NTMFS4834N"]
[null,null,null,null,null,null,null,null,null,null,null,"NTMFS4837NH","NTMFS4835N"]
[null,null,null,null,null,null,null,null,null,null,null,"NTMFS4837NH","NTMFS4845"]
[null,null,null,null,null,null,null,null,null,null,null,"NTMFS4837NH","NTMFS4846"]
[null,null,null,null,null,null,null,null,null,null,null,"NTMFS4837NH","NTMFS4852N"]
[null,null,null,null,null,null,null,null,null,null,null,"NTMFS4837NH","NTMFS4897"]
[null,null,null,null,null,null,null,null,null,null,null,"NTMFS4837NH","NTMFS4898N"]
[null,null,null,null,null,null,null,null,null,null,null,"NTMFS4837NH","NTMFS4923NE"]
[null,null,null,null,null,null,null,null,null,null,null,"NTMFS4837NH","NTMFS4933N"]
[null,null,null,null,null,null,null,null,null,null,null,"NTMFS4837NH","NTMFS4934N"]
[null,null,null,null,null,null,null,null,null,null,null,"NTMFS4837NH","NTMFS4935N"]
[null,null,null,null,null,null,null,null,null,null,null,"NTMFS4837NH","NTMFS4936"]
[null,null,null,null,null,null,null,null,null,null,null,"NTMFS4837NH","NTTFS4932N"]
[null,null,null,null,null,null,null,null,null,null,null,"NTMFS4839NH","NTD4904N"]
[null,null,null,null,null,null,null,null,null,null,null,"NTMFS4839NH","NTMFS4825NFE"]
[null,null,null,null,null,null,null,null,null,null,null,"NTMFS4839NH","NTMFS4833N"]
[null,null,null,null,null,null,null,null,null,null,null,"NTMFS4839NH","NTMFS4834N"]
[null,null,null,null,null,null,null,null,null,null,null,"NTMFS4839NH","NTMFS4835N"]
[null,null,null,null,null,null,null,null,null,null,null,"NTMFS4839NH","NTMFS4845"]
[null,null,null,null,null,null,null,null,null,null,null,"NTMFS4839NH","NTMFS4846"]
[null,null,null,null,null,null,null,null,null,null,null,"NTMFS4839NH","NTMFS4852N"]
[null,null,null,null,null,null,null,null,null,null,null,"NTMFS4839NH","NTMFS4897"]
[null,null,null,null,null,null,null,null,null,null,null,"NTMFS4839NH","NTMFS4898N"]
[null,null,null,null,null,null,null,null,null,null,null,"NTMFS4839NH","NTMFS4923NE"]
[null,null,null,null,null,null,null,null,null,null,null,"NTMFS4839NH","NTMFS4933N"]
[null,null,null,null,null,null,null,null,null,null,null,"NTMFS4839NH","NTMFS4934N"]
[null,null,null,null,null,null,null,null,null,null,null,"NTMFS4839NH","NTMFS4935N"]
[null,null,null,null,null,null,null,null,null,null,null,"NTMFS4839NH","NTMFS4936"]
[null,null,null,null,null,null,null,null,null,null,null,"NTMFS4839NH","NTTFS4932N"]
[null,null,null,null,null,null,null,null,null,null,null,"NTMFS4841N","NTD4904N"]
[null,null,null,null,null,null,null,null,null,null,null,"NTMFS4841N","NTMFS4825NFE"]
[null,null,null,null,null,null,null,null,null,null,null,"NTMFS4841N","NTMFS4833N"]
[null,null,null,null,null,null,null,null,null,null,null,"NTMFS4841N","NTMFS4834N"]
[null,null,null,null,null,null,null,null,null,null,null,"NTMFS4841N","NTMFS4835N"]
[null,null,null,null,null,null,null,null,null,null,null,"NTMFS4841N","NTMFS4845"]
[null,null,null,null,null,null,null,null,null,null,null,"NTMFS4841N","NTMFS4846"]
[null,null,null,null,null,null,null,null,null,null,null,"NTMFS4841N","NTMFS4852N"]
[null,null,null,null,null,null,null,null,null,null,null,"NTMFS4841N","NTMFS4897"]
[null,null,null,null,null,null,null,null,null,null,null,"NTMFS4841N","NTMFS4898N"]
[null,null,null,null,null,null,null,null,null,null,null,"NTMFS4841N","NTMFS4923NE"]
[null,null,null,null,null,null,null,null,null,null,null,"NTMFS4841N","NTMFS4933N"]
[null,null,null,null,null,null,null,null,null,null,null,"NTMFS4841N","NTMFS4934N"]
[null,null,null,null,null,null,null,null,null,null,null,"NTMFS4841N","NTMFS4935N"]
[null,null,null,null,null,null,null,null,null,null,null,"NTMFS4841N","NTMFS4936"]
[null,null,null,null,null,null,null,null,null,null,null,"NTMFS4841N","NTTFS4932N"]
[null,null,null,null,null,null,null,null,null,null,null,"NTMFS4841NH","NTD4904N"]
[null,null,null,null,null,null,null,null,null,null,null,"NTMFS4841NH","NTMFS4825NFE"]
[null,null,null,null,null,null,null,null,null,null,null,"NTMFS4841NH","NTMFS4833N"]
[null,null,null,null,null,null,null,null,null,null,null,"NTMFS4841NH","NTMFS4834N"]
[null,null,null,null,null,null,null,null,null,null,null,"NTMFS4841NH","NTMFS4835N"]
[null,null,null,null,null,null,null,null,null,null,null,"NTMFS4841NH","NTMFS4845"]
[null,null,null,null,null,null,null,null,null,null,null,"NTMFS4841NH","NTMFS4846"]
[null,null,null,null,null,null,null,null,null,null,null,"NTMFS4841NH","NTMFS4852N"]
[null,null,null,null,null,null,null,null,null,null,null,"NTMFS4841NH","NTMFS4897"]
[null,null,null,null,null,null,null,null,null,null,null,"NTMFS4841NH","NTMFS4898N"]
[null,null,null,null,null,null,null,null,null,null,null,"NTMFS4841NH","NTMFS4923NE"]
[null,null,null,null,null,null,null,null,null,null,null,"NTMFS4841NH","NTMFS4933N"]
[null,null,null,null,null,null,null,null,null,null,null,"NTMFS4841NH","NTMFS4934N"]
[null,null,null,null,null,null,null,null,null,null,null,"NTMFS4841NH","NTMFS4935N"]
[null,null,null,null,null,null,null,null,null,null,null,"NTMFS4841NH","NTMFS4936"]
[null,null,null,null,null,null,null,null,null,null,null,"NTMFS4841NH","NTTFS4932N"]
[null,null,null,null,null,null,null,null,null,null,null,"NTMFS4845","NTD4804N"]
[null,null,null,null,null,null,null,null,null,null,null,"NTMFS4845","NTD4855N"]
[null,null,null,null,null,null,null,null,null,null,null,"NTMFS4845","NTD4904N"]
[null,null,null,null,null,null,null,null,null,null,null,"NTMFS4845","NTMFS4825NFE"]
[null,null,null,null,null,null,null,null,null,null,null,"NTMFS4845","NTMFS4833N"]
[null,null,null,null,null,null,null,null,null,null,null,"NTMFS4845","NTMFS4834N"]
[null,null,null,null,null,null,null,null,null,null,null,"NTMFS4845","NTMFS4835N"]
[null,null,null,null,null,null,null,null,null,null,null,"NTMFS4845","NTMFS4845"]
[null,null,null,null,null,null,null,null,null,null,null,"NTMFS4845","NTMFS4846"]
[null,null,null,null,null,null,null,null,null,null,null,"NTMFS4845","NTMFS4852N"]
[null,null,null,null,null,null,null,null,null,null,null,"NTMFS4845","NTMFS4897"]
[null,null,null,null,null,null,null,null,null,null,null,"NTMFS4845","NTMFS4898N"]
[null,null,null,null,null,null,null,null,null,null,null,"NTMFS4845","NTMFS4923NE"]
[null,null,null,null,null,null,null,null,null,null,null,"NTMFS4845","NTMFS4933N"]
[null,null,null,null,null,null,null,null,null,null,null,"NTMFS4845","NTMFS4934N"]
[null,null,null,null,null,null,null,null,null,null,null,"NTMFS4845","NTMFS4935N"]
[null,null,null,null,null,null,null,null,null,null,null,"NTMFS4845","NTMFS4936"]
[null,null,null,null,null,null,null,null,null,null,null,"NTMFS4845","NTTFS4932N"]
[null,null,null,null,null,null,null,null,null,null,null,"NTMFS4846","NTD4804N"]
[null,null,null,null,null,null,null,null,null,null,null,"NTMFS4846","NTD4855N"]
[null,null,null,null,null,null,null,null,null,null,null,"NTMFS4846","NTD4904N"]
[null,null,null,null,null,null,null,null,null,null,null,"NTMFS4846","NTMFS4825NFE"]
[null,null,null,null,null,null,null,null,null,null,null,"NTMFS4846","NTMFS4833N"]
[null,null,null,null,null,null,null,null,null,null,null,"NTMFS4846","NTMFS4834N"]
[null,null,null,null,null,null,null,null,null,null,null,"NTMFS4846","NTMFS4835N"]
[null,null,null,null,null,null,null,null,null,null,null,"NTMFS4846","NTMFS4845"]
[null,null,null,null,null,null,null,null,null,null,null,"NTMFS4846","NTMFS4846"]
[null,null,null,null,null,null,null,null,null,null,null,"NTMFS4846","NTMFS4852N"]
[null,null,null,null,null,null,null,null,null,null,null,"NTMFS4846","NTMFS4897"]
[null,null,null,null,null,null,null,null,null,null,null,"NTMFS4846","NTMFS4898N"]
[null,null,null,null,null,null,null,null,null,null,null,"NTMFS4846","NTMFS4923NE"]
[null,null,null,null,null,null,null,null,null,null,null,"NTMFS4846","NTMFS4933N"]
[null,null,null,null,null,null,null,null,null,null,null,"NTMFS4846","NTMFS4934N"]
[null,null,null,null,null,null,null,null,null,null,null,"NTMFS4846","NTMFS4935N"]
[null,null,null,null,null,null,null,null,null,null,null,"NTMFS4846","NTMFS4936"]
[null,null,null,null,null,null,null,null,null,null,null,"NTMFS4846","NTTFS4932N"]
[null,null,null,null,null,null,null,null,null,null,null,"NTMFS4847N","NTD4904N"]
[null,null,null,null,null,null,null,null,null,null,null,"NTMFS4847N","NTMFS4825NFE"]
[null,null,null,null,null,null,null,null,null,null,null,"NTMFS4847N","NTMFS4833N"]
[null,null,null,null,null,null,null,null,null,null,null,"NTMFS4847N","NTMFS4834N"]
[null,null,null,null,null,null,null,null,null,null,null,"NTMFS4847N","NTMFS4835N"]
[null,null,null,null,null,null,null,null,null,null,null,"NTMFS4847N","NTMFS4845"]
[null,null,null,null,null,null,null,null,null,null,null,"NTMFS4847N","NTMFS4846"]
[null,null,null,null,null,null,null,null,null,null,null,"NTMFS4847N","NTMFS4852N"]
[null,null,null,null,null,null,null,null,null,null,null,"NTMFS4847N","NTMFS4897"]
[null,null,null,null,null,null,null,null,null,null,null,"NTMFS4847N","NTMFS4898N"]
[null,null,null,null,null,null,null,null,null,null,null,"NTMFS4847N","NTMFS4923NE"]
[null,null,null,null,null,null,null,null,null,null,null,"NTMFS4847N","NTMFS4933N"]
[null,null,null,null,null,null,null,null,null,null,null,"NTMFS4847N","NTMFS4934N"]
[null,null,null,null,null,null,null,null,null,null,null,"NTMFS4847N","NTMFS4935N"]
[null,null,null,null,null,null,null,null,null,null,null,"NTMFS4847N","NTMFS4936"]
[null,null,null,null,null,null,null,null,null,null,null,"NTMFS4847N","NTTFS4932N"]
[null,null,null,null,null,null,null,null,null,null,null,"NTMFS4851","NTD4904N"]
[null,null,null,null,null,null,null,null,null,null,null,"NTMFS4851","NTMFS4825NFE"]
[null,null,null,null,null,null,null,null,null,null,null,"NTMFS4851","NTMFS4833N"]
[null,null,null,null,null,null,null,null,null,null,null,"NTMFS4851","NTMFS4834N"]
[null,null,null,null,null,null,null,null,null,null,null,"NTMFS4851","NTMFS4835N"]
[null,null,null,null,null,null,null,null,null,null,null,"NTMFS4851","NTMFS4845"]
[null,null,null,null,null,null,null,null,null,null,null,"NTMFS4851","NTMFS4846"]
[null,null,null,null,null,null,null,null,null,null,null,"NTMFS4851","NTMFS4852N"]
[null,null,null,null,null,null,null,null,null,null,null,"NTMFS4851","NTMFS4897"]
[null,null,null,null,null,null,null,null,null,null,null,"NTMFS4851","NTMFS4898N"]
[null,null,null,null,null,null,null,null,null,null,null,"NTMFS4851","NTMFS4923NE"]
[null,null,null,null,null,null,null,null,null,null,null,"NTMFS4851","NTMFS4933N"]
[null,null,null,null,null,null,null,null,null,null,null,"NTMFS4851","NTMFS4934N"]
[null,null,null,null,null,null,null,null,null,null,null,"NTMFS4851","NTMFS4935N"]
[null,null,null,null,null,null,null,null,null,null,null,"NTMFS4851","NTMFS4936"]
[null,null,null,null,null,null,null,null,null,null,null,"NTMFS4851","NTTFS4932N"]
[null,null,null,null,null,null,null,null,null,null,null,"NTMFS4852N","NTD4804N"]
[null,null,null,null,null,null,null,null,null,null,null,"NTMFS4852N","NTD4855N"]
[null,null,null,null,null,null,null,null,null,null,null,"NTMFS4852N","NTD4904N"]
[null,null,null,null,null,null,null,null,null,null,null,"NTMFS4852N","NTMFS4825NFE"]
[null,null,null,null,null,null,null,null,null,null,null,"NTMFS4852N","NTMFS4833N"]
[null,null,null,null,null,null,null,null,null,null,null,"NTMFS4852N","NTMFS4834N"]
[null,null,null,null,null,null,null,null,null,null,null,"NTMFS4852N","NTMFS4835N"]
[null,null,null,null,null,null,null,null,null,null,null,"NTMFS4852N","NTMFS4836N"]
[null,null,null,null,null,null,null,null,null,null,null,"NTMFS4852N","NTMFS4845"]
[null,null,null,null,null,null,null,null,null,null,null,"NTMFS4852N","NTMFS4846"]
[null,null,null,null,null,null,null,null,null,null,null,"NTMFS4852N","NTMFS4852N"]
[null,null,null,null,null,null,null,null,null,null,null,"NTMFS4852N","NTMFS4897"]
[null,null,null,null,null,null,null,null,null,null,null,"NTMFS4852N","NTMFS4898N"]
[null,null,null,null,null,null,null,null,null,null,null,"NTMFS4852N","NTMFS4923NE"]
[null,null,null,null,null,null,null,null,null,null,null,"NTMFS4852N","NTMFS4933N"]
[null,null,null,null,null,null,null,null,null,null,null,"NTMFS4852N","NTMFS4934N"]
[null,null,null,null,null,null,null,null,null,null,null,"NTMFS4852N","NTMFS4935N"]
[null,null,null,null,null,null,null,null,null,null,null,"NTMFS4852N","NTMFS4936"]
[null,null,null,null,null,null,null,null,null,null,null,"NTMFS4852N","NTTFS4932N"]
[null,null,null,null,null,null,null,null,null,null,null,"NTMFS4852N","NTTFS4937N"]
[null,null,null,null,null,null,null,null,null,null,null,"NTMFS4897","NTD4804N"]
[null,null,null,null,null,null,null,null,null,null,null,"NTMFS4897","NTD4855N"]
[null,null,null,null,null,null,null,null,null,null,null,"NTMFS4897","NTD4904N"]
[null,null,null,null,null,null,null,null,null,null,null,"NTMFS4897","NTMFS4825NFE"]
[null,null,null,null,null,null,null,null,null,null,null,"NTMFS4897","NTMFS4833N"]
[null,null,null,null,null,null,null,null,null,null,null,"NTMFS4897","NTMFS4834N"]
[null,null,null,null,null,null,null,null,null,null,null,"NTMFS4897","NTMFS4835N"]
[null,null,null,null,null,null,null,null,null,null,null,"NTMFS4897","NTMFS4836N"]
[null,null,null,null,null,null,null,null,null,null,null,"NTMFS4897","NTMFS4845"]
[null,null,null,null,null,null,null,null,null,null,null,"NTMFS4897","NTMFS4846"]
[null,null,null,null,null,null,null,null,null,null,null,"NTMFS4897","NTMFS4852N"]
[null,null,null,null,null,null,null,null,null,null,null,"NTMFS4897","NTMFS4897"]
[null,null,null,null,null,null,null,null,null,null,null,"NTMFS4897","NTMFS4898N"]
[null,null,null,null,null,null,null,null,null,null,null,"NTMFS4897","NTMFS4923NE"]
[null,null,null,null,null,null,null,null,null,null,null,"NTMFS4897","NTMFS4933N"]
[null,null,null,null,null,null,null,null,null,null,null,"NTMFS4897","NTMFS4934N"]
[null,null,null,null,null,null,null,null,null,null,null,"NTMFS4897","NTMFS4935N"]
[null,null,null,null,null,null,null,null,null,null,null,"NTMFS4897","NTMFS4936"]
[null,null,null,null,null,null,null,null,null,null,null,"NTMFS4897","NTTFS4932N"]
[null,null,null,null,null,null,null,null,null,null,null,"NTMFS4897","NTTFS4937N"]
[null,null,null,null,null,null,null,null,null,null,null,"NTMFS4898N","NTD4804N"]
[null,null,null,null,null,null,null,null,null,null,null,"NTMFS4898N","NTD4855N"]
[null,null,null,null,null,null,null,null,null,null,null,"NTMFS4898N","NTD4904N"]
[null,null,null,null,null,null,null,null,null,null,null,"NTMFS4898N","NTMFS4825NFE"]
[null,null,null,null,null,null,null,null,null,null,null,"NTMFS4898N","NTMFS4833N"]
[null,null,null,null,null,null,null,null,null,null,null,"NTMFS4898N","NTMFS4834N"]
[null,null,null,null,null,null,null,null,null,null,null,"NTMFS4898N","NTMFS4835N"]
[null,null,null,null,null,null,null,null,null,null,null,"NTMFS4898N","NTMFS4845"]
[null,null,null,null,null,null,null,null,null,null,null,"NTMFS4898N","NTMFS4846"]
[null,null,null,null,null,null,null,null,null,null,null,"NTMFS4898N","NTMFS4852N"]
[null,null,null,null,null,null,null,null,null,null,null,"NTMFS4898N","NTMFS4897"]
[null,null,null,null,null,null,null,null,null,null,null,"NTMFS4898N","NTMFS4898N"]
[null,null,null,null,null,null,null,null,null,null,null,"NTMFS4898N","NTMFS4923NE"]
[null,null,null,null,null,null,null,null,null,null,null,"NTMFS4898N","NTMFS4933N"]
[null,null,null,null,null,null,null,null,null,null,null,"NTMFS4898N","NTMFS4934N"]
[null,null,null,null,null,null,null,null,null,null,null,"NTMFS4898N","NTMFS4935N"]
[null,null,null,null,null,null,null,null,null,null,null,"NTMFS4898N","NTMFS4936"]
[null,null,null,null,null,null,null,null,null,null,null,"NTMFS4898N","NTTFS4932N"]
[null,null,null,null,null,null,null,null,null,null,null,"NTMFS4899N","NTD4904N"]
[null,null,null,null,null,null,null,null,null,null,null,"NTMFS4899N","NTMFS4825NFE"]
[null,null,null,null,null,null,null,null,null,null,null,"NTMFS4899N","NTMFS4833N"]
[null,null,null,null,null,null,null,null,null,null,null,"NTMFS4899N","NTMFS4834N"]
[null,null,null,null,null,null,null,null,null,null,null,"NTMFS4899N","NTMFS4835N"]
[null,null,null,null,null,null,null,null,null,null,null,"NTMFS4899N","NTMFS4845"]
[null,null,null,null,null,null,null,null,null,null,null,"NTMFS4899N","NTMFS4846"]
[null,null,null,null,null,null,null,null,null,null,null,"NTMFS4899N","NTMFS4852N"]
[null,null,null,null,null,null,null,null,null,null,null,"NTMFS4899N","NTMFS4897"]
[null,null,null,null,null,null,null,null,null,null,null,"NTMFS4899N","NTMFS4898N"]
[null,null,null,null,null,null,null,null,null,null,null,"NTMFS4899N","NTMFS4923NE"]
[null,null,null,null,null,null,null,null,null,null,null,"NTMFS4899N","NTMFS4933N"]
[null,null,null,null,null,null,null,null,null,null,null,"NTMFS4899N","NTMFS4934N"]
[null,null,null,null,null,null,null,null,null,null,null,"NTMFS4899N","NTMFS4935N"]
[null,null,null,null,null,null,null,null,null,null,null,"NTMFS4899N","NTMFS4936"]
[null,null,null,null,null,null,null,null,null,null,null,"NTMFS4899N","NTTFS4932N"]
[null,null,null,null,null,null,null,null,null,null,null,"NTMFS4921","NTD4904N"]
[null,null,null,null,null,null,null,null,null,null,null,"NTMFS4921","NTMFS4825NFE"]
[null,null,null,null,null,null,null,null,null,null,null,"NTMFS4921","NTMFS4833N"]
[null,null,null,null,null,null,null,null,null,null,null,"NTMFS4921","NTMFS4834N"]
[null,null,null,null,null,null,null,null,null,null,null,"NTMFS4921","NTMFS4835N"]
[null,null,null,null,null,null,null,null,null,null,null,"NTMFS4921","NTMFS4845"]
[null,null,null,null,null,null,null,null,null,null,null,"NTMFS4921","NTMFS4846"]
[null,null,null,null,null,null,null,null,null,null,null,"NTMFS4921","NTMFS4852N"]
[null,null,null,null,null,null,null,null,null,null,null,"NTMFS4921","NTMFS4897"]
[null,null,null,null,null,null,null,null,null,null,null,"NTMFS4921","NTMFS4898N"]
[null,null,null,null,null,null,null,null,null,null,null,"NTMFS4921","NTMFS4923NE"]
[null,null,null,null,null,null,null,null,null,null,null,"NTMFS4921","NTMFS4933N"]
[null,null,null,null,null,null,null,null,null,null,null,"NTMFS4921","NTMFS4934N"]
[null,null,null,null,null,null,null,null,null,null,null,"NTMFS4921","NTMFS4935N"]
[null,null,null,null,null,null,null,null,null,null,null,"NTMFS4921","NTMFS4936"]
[null,null,null,null,null,null,null,null,null,null,null,"NTMFS4921","NTTFS4932N"]
[null,null,null,null,null,null,null,null,null,null,null,"NTMFS4923NE","NTD4804N"]
[null,null,null,null,null,null,null,null,null,null,null,"NTMFS4923NE","NTD4855N"]
[null,null,null,null,null,null,null,null,null,null,null,"NTMFS4923NE","NTD4904N"]
[null,null,null,null,null,null,null,null,null,null,null,"NTMFS4923NE","NTMFS4825NFE"]
[null,null,null,null,null,null,null,null,null,null,null,"NTMFS4923NE","NTMFS4833N"]
[null,null,null,null,null,null,null,null,null,null,null,"NTMFS4923NE","NTMFS4834N"]
[null,null,null,null,null,null,null,null,null,null,null,"NTMFS4923NE","NTMFS4835N"]
[null,null,null,null,null,null,null,null,null,null,null,"NTMFS4923NE","NTMFS4845"]
[null,null,null,null,null,null,null,null,null,null,null,"NTMFS4923NE","NTMFS4846"]
[null,null,null,null,null,null,null,null,null,null,null,"NTMFS4923NE","NTMFS4852N"]
[null,null,null,null,null,null,null,null,null,null,null,"NTMFS4923NE","NTMFS4897"]
[null,null,null,null,null,null,null,null,null,null,null,"NTMFS4923NE","NTMFS4898N"]
[null,null,null,null,null,null,null,null,null,null,null,"NTMFS4923NE","NTMFS4923NE"]
[null,null,null,null,null,null,null,null,null,null,null,"NTMFS4923NE","NTMFS4933N"]
[null,null,null,null,null,null,null,null,null,null,null,"NTMFS4923NE","NTMFS4934N"]
[null,null,null,null,null,null,null,null,null,null,null,"NTMFS4923NE","NTMFS4935N"]
[null,null,null,null,null,null,null,null,null,null,null,"NTMFS4923NE","NTMFS4936"]
[null,null,null,null,null,null,null,null,null,null,null,"NTMFS4923NE","NTTFS4932N"]
[null,null,null,null,null,null,null,null,null,null,null,"NTMFS4925","NTD4904N"]
[null,null,null,null,null,null,null,null,null,null,null,"NTMFS4925","NTMFS4825NFE"]
[null,null,null,null,null,null,null,null,null,null,null,"NTMFS4925","NTMFS4833N"]
[null,null,null,null,null,null,null,null,null,null,null,"NTMFS4925","NTMFS4834N"]
[null,null,null,null,null,null,null,null,null,null,null,"NTMFS4925","NTMFS4835N"]
[null,null,null,null,null,null,null,null,null,null,null,"NTMFS4925","NTMFS4845"]
[null,null,null,null,null,null,null,null,null,null,null,"NTMFS4925","NTMFS4846"]
[null,null,null,null,null,null,null,null,null,null,null,"NTMFS4925","NTMFS4852N"]
[null,null,null,null,null,null,null,null,null,null,null,"NTMFS4925","NTMFS4897"]
[null,null,null,null,null,null,null,null,null,null,null,"NTMFS4925","NTMFS4898N"]
[null,null,null,null,null,null,null,null,null,null,null,"NTMFS4925","NTMFS4923NE"]
[null,null,null,null,null,null,null,null,null,null,null,"NTMFS4925","NTMFS4933N"]
[null,null,null,null,null,null,null,null,null,null,null,"NTMFS4925","NTMFS4934N"]
[null,null,null,null,null,null,null,null,null,null,null,"NTMFS4925","NTMFS4935N"]
[null,null,null,null,null,null,null,null,null,null,null,"NTMFS4925","NTMFS4936"]
[null,null,null,null,null,null,null,null,null,null,null,"NTMFS4925","NTTFS4932N"]
[null,null,null,null,null,null,null,null,null,null,null,"NTMFS4926","NTD4904N"]
[null,null,null,null,null,null,null,null,null,null,null,"NTMFS4926","NTMFS4825NFE"]
[null,null,null,null,null,null,null,null,null,null,null,"NTMFS4926","NTMFS4833N"]
[null,null,null,null,null,null,null,null,null,null,null,"NTMFS4926","NTMFS4834N"]
[null,null,null,null,null,null,null,null,null,null,null,"NTMFS4926","NTMFS4835N"]
[null,null,null,null,null,null,null,null,null,null,null,"NTMFS4926","NTMFS4845"]
[null,null,null,null,null,null,null,null,null,null,null,"NTMFS4926","NTMFS4846"]
[null,null,null,null,null,null,null,null,null,null,null,"NTMFS4926","NTMFS4852N"]
[null,null,null,null,null,null,null,null,null,null,null,"NTMFS4926","NTMFS4897"]
[null,null,null,null,null,null,null,null,null,null,null,"NTMFS4926","NTMFS4898N"]
[null,null,null,null,null,null,null,null,null,null,null,"NTMFS4926","NTMFS4923NE"]
[null,null,null,null,null,null,null,null,null,null,null,"NTMFS4926","NTMFS4933N"]
[null,null,null,null,null,null,null,null,null,null,null,"NTMFS4926","NTMFS4934N"]
[null,null,null,null,null,null,null,null,null,null,null,"NTMFS4926","NTMFS4935N"]
[null,null,null,null,null,null,null,null,null,null,null,"NTMFS4926","NTMFS4936"]
[null,null,null,null,null,null,null,null,null,null,null,"NTMFS4926","NTTFS4932N"]
[null,null,null,null,null,null,null,null,null,null,null,"NTMFS4927","NTD4904N"]
[null,null,null,null,null,null,null,null,null,null,null,"NTMFS4927","NTMFS4825NFE"]
[null,null,null,null,null,null,null,null,null,null,null,"NTMFS4927","NTMFS4833N"]
[null,null,null,null,null,null,null,null,null,null,null,"NTMFS4927","NTMFS4834N"]
[null,null,null,null,null,null,null,null,null,null,null,"NTMFS4927","NTMFS4835N"]
[null,null,null,null,null,null,null,null,null,null,null,"NTMFS4927","NTMFS4845"]
[null,null,null,null,null,null,null,null,null,null,null,"NTMFS4927","NTMFS4846"]
[null,null,null,null,null,null,null,null,null,null,null,"NTMFS4927","NTMFS4852N"]
[null,null,null,null,null,null,null,null,null,null,null,"NTMFS4927","NTMFS4897"]
[null,null,null,null,null,null,null,null,null,null,null,"NTMFS4927","NTMFS4898N"]
[null,null,null,null,null,null,null,null,null,null,null,"NTMFS4927","NTMFS4923NE"]
[null,null,null,null,null,null,null,null,null,null,null,"NTMFS4927","NTMFS4933N"]
[null,null,null,null,null,null,null,null,null,null,null,"NTMFS4927","NTMFS4934N"]
[null,null,null,null,null,null,null,null,null,null,null,"NTMFS4927","NTMFS4935N"]
[null,null,null,null,null,null,null,null,null,null,null,"NTMFS4927","NTMFS4936"]
[null,null,null,null,null,null,null,null,null,null,null,"NTMFS4927","NTTFS4932N"]
[null,null,null,null,null,null,null,null,null,null,null,"NTMFS4933N","NTD4804N"]
[null,null,null,null,null,null,null,null,null,null,null,"NTMFS4933N","NTD4855N"]
[null,null,null,null,null,null,null,null,null,null,null,"NTMFS4933N","NTD4904N"]
[null,null,null,null,null,null,null,null,null,null,null,"NTMFS4933N","NTMFS4825NFE"]
[null,null,null,null,null,null,null,null,null,null,null,"NTMFS4933N","NTMFS4833N"]
[null,null,null,null,null,null,null,null,null,null,null,"NTMFS4933N","NTMFS4834N"]
[null,null,null,null,null,null,null,null,null,null,null,"NTMFS4933N","NTMFS4835N"]
[null,null,null,null,null,null,null,null,null,null,null,"NTMFS4933N","NTMFS4836N"]
[null,null,null,null,null,null,null,null,null,null,null,"NTMFS4933N","NTMFS4845"]
[null,null,null,null,null,null,null,null,null,null,null,"NTMFS4933N","NTMFS4846"]
[null,null,null,null,null,null,null,null,null,null,null,"NTMFS4933N","NTMFS4852N"]
[null,null,null,null,null,null,null,null,null,null,null,"NTMFS4933N","NTMFS4897"]
[null,null,null,null,null,null,null,null,null,null,null,"NTMFS4933N","NTMFS4898N"]
[null,null,null,null,null,null,null,null,null,null,null,"NTMFS4933N","NTMFS4923NE"]
[null,null,null,null,null,null,null,null,null,null,null,"NTMFS4933N","NTMFS4933N"]
[null,null,null,null,null,null,null,null,null,null,null,"NTMFS4933N","NTMFS4934N"]
[null,null,null,null,null,null,null,null,null,null,null,"NTMFS4933N","NTMFS4935N"]
[null,null,null,null,null,null,null,null,null,null,null,"NTMFS4933N","NTMFS4936"]
[null,null,null,null,null,null,null,null,null,null,null,"NTMFS4933N","NTTFS4932N"]
[null,null,null,null,null,null,null,null,null,null,null,"NTMFS4933N","NTTFS4937N"]
[null,null,null,null,null,null,null,null,null,null,null,"NTMFS4934N","NTD4804N"]
[null,null,null,null,null,null,null,null,null,null,null,"NTMFS4934N","NTD4855N"]
[null,null,null,null,null,null,null,null,null,null,null,"NTMFS4934N","NTD4904N"]
[null,null,null,null,null,null,null,null,null,null,null,"NTMFS4934N","NTMFS4825NFE"]
[null,null,null,null,null,null,null,null,null,null,null,"NTMFS4934N","NTMFS4833N"]
[null,null,null,null,null,null,null,null,null,null,null,"NTMFS4934N","NTMFS4834N"]
[null,null,null,null,null,null,null,null,null,null,null,"NTMFS4934N","NTMFS4835N"]
[null,null,null,null,null,null,null,null,null,null,null,"NTMFS4934N","NTMFS4836N"]
[null,null,null,null,null,null,null,null,null,null,null,"NTMFS4934N","NTMFS4845"]
[null,null,null,null,null,null,null,null,null,null,null,"NTMFS4934N","NTMFS4846"]
[null,null,null,null,null,null,null,null,null,null,null,"NTMFS4934N","NTMFS4852N"]
[null,null,null,null,null,null,null,null,null,null,null,"NTMFS4934N","NTMFS4897"]
[null,null,null,null,null,null,null,null,null,null,null,"NTMFS4934N","NTMFS4898N"]
[null,null,null,null,null,null,null,null,null,null,null,"NTMFS4934N","NTMFS4923NE"]
[null,null,null,null,null,null,null,null,null,null,null,"NTMFS4934N","NTMFS4933N"]
[null,null,null,null,null,null,null,null,null,null,null,"NTMFS4934N","NTMFS4934N"]
[null,null,null,null,null,null,null,null,null,null,null,"NTMFS4934N","NTMFS4935N"]
[null,null,null,null,null,null,null,null,null,null,null,"NTMFS4934N","NTMFS4936"]
[null,null,null,null,null,null,null,null,null,null,null,"NTMFS4934N","NTTFS4932N"]
[null,null,null,null,null,null,null,null,null,null,null,"NTMFS4934N","NTTFS4937N"]
[null,null,null,null,null,null,null,null,null,null,null,"NTMFS4935N","NTD4804N"]
[null,null,null,null,null,null,null,null,null,null,null,"NTMFS4935N","NTD4855N"]
[null,null,null,null,null,null,null,null,null,null,null,"NTMFS4935N","NTD4904N"]
[null,null,null,null,null,null,null,null,null,null,null,"NTMFS4935N","NTMFS4825NFE"]
[null,null,null,null,null,null,null,null,null,null,null,"NTMFS4935N","NTMFS4833N"]
[null,null,null,null,null,null,null,null,null,null,null,"NTMFS4935N","NTMFS4834N"]
[null,null,null,null,null,null,null,null,null,null,null,"NTMFS4935N","NTMFS4835N"]
[null,null,null,null,null,null,null,null,null,null,null,"NTMFS4935N","NTMFS4845"]
[null,null,null,null,null,null,null,null,null,null,null,"NTMFS4935N","NTMFS4846"]
[null,null,null,null,null,null,null,null,null,null,null,"NTMFS4935N","NTMFS4852N"]
[null,null,null,null,null,null,null,null,null,null,null,"NTMFS4935N","NTMFS4897"]
[null,null,null,null,null,null,null,null,null,null,null,"NTMFS4935N","NTMFS4898N"]
[null,null,null,null,null,null,null,null,null,null,null,"NTMFS4935N","NTMFS4923NE"]
[null,null,null,null,null,null,null,null,null,null,null,"NTMFS4935N","NTMFS4933N"]
[null,null,null,null,null,null,null,null,null,null,null,"NTMFS4935N","NTMFS4934N"]
[null,null,null,null,null,null,null,null,null,null,null,"NTMFS4935N","NTMFS4935N"]
[null,null,null,null,null,null,null,null,null,null,null,"NTMFS4935N","NTMFS4936"]
[null,null,null,null,null,null,null,null,null,null,null,"NTMFS4935N","NTTFS4932N"]
[null,null,null,null,null,null,null,null,null,null,null,"NTMFS4936","NTD4804N"]
[null,null,null,null,null,null,null,null,null,null,null,"NTMFS4936","NTD4855N"]
[null,null,null,null,null,null,null,null,null,null,null,"NTMFS4936","NTD4904N"]
[null,null,null,null,null,null,null,null,null,null,null,"NTMFS4936","NTMFS4825NFE"]
[null,null,null,null,null,null,null,null,null,null,null,"NTMFS4936","NTMFS4833N"]
[null,null,null,null,null,null,null,null,null,null,null,"NTMFS4936","NTMFS4834N"]
[null,null,null,null,null,null,null,null,null,null,null,"NTMFS4936","NTMFS4835N"]
[null,null,null,null,null,null,null,null,null,null,null,"NTMFS4936","NTMFS4845"]
[null,null,null,null,null,null,null,null,null,null,null,"NTMFS4936","NTMFS4846"]
[null,null,null,null,null,null,null,null,null,null,null,"NTMFS4936","NTMFS4852N"]
[null,null,null,null,null,null,null,null,null,null,null,"NTMFS4936","NTMFS4897"]
[null,null,null,null,null,null,null,null,null,null,null,"NTMFS4936","NTMFS4898N"]
[null,null,null,null,null,null,null,null,null,null,null,"NTMFS4936","NTMFS4923NE"]
[null,null,null,null,null,null,null,null,null,null,null,"NTMFS4936","NTMFS4933N"]
[null,null,null,null,null,null,null,null,null,null,null,"NTMFS4936","NTMFS4934N"]
[null,null,null,null,null,null,null,null,null,null,null,"NTMFS4936","NTMFS4935N"]
[null,null,null,null,null,null,null,null,null,null,null,"NTMFS4936","NTMFS4936"]
[null,null,null,null,null,null,null,null,null,null,null,"NTMFS4936","NTTFS4932N"]
[null,null,null,null,null,null,null,null,null,null,null,"NTMFS4937N","NTD4904N"]
[null,null,null,null,null,null,null,null,null,null,null,"NTMFS4937N","NTMFS4825NFE"]
[null,null,null,null,null,null,null,null,null,null,null,"NTMFS4937N","NTMFS4833N"]
[null,null,null,null,null,null,null,null,null,null,null,"NTMFS4937N","NTMFS4834N"]
[null,null,null,null,null,null,null,null,null,null,null,"NTMFS4937N","NTMFS4835N"]
[null,null,null,null,null,null,null,null,null,null,null,"NTMFS4937N","NTMFS4845"]
[null,null,null,null,null,null,null,null,null,null,null,"NTMFS4937N","NTMFS4846"]
[null,null,null,null,null,null,null,null,null,null,null,"NTMFS4937N","NTMFS4852N"]
[null,null,null,null,null,null,null,null,null,null,null,"NTMFS4937N","NTMFS4897"]
[null,null,null,null,null,null,null,null,null,null,null,"NTMFS4937N","NTMFS4898N"]
[null,null,null,null,null,null,null,null,null,null,null,"NTMFS4937N","NTMFS4923NE"]
[null,null,null,null,null,null,null,null,null,null,null,"NTMFS4937N","NTMFS4933N"]
[null,null,null,null,null,null,null,null,null,null,null,"NTMFS4937N","NTMFS4934N"]
[null,null,null,null,null,null,null,null,null,null,null,"NTMFS4937N","NTMFS4935N"]
[null,null,null,null,null,null,null,null,null,null,null,"NTMFS4937N","NTMFS4936"]
[null,null,null,null,null,null,null,null,null,null,null,"NTMFS4937N","NTTFS4932N"]
[null,null,null,null,null,null,null,null,null,null,null,"NTMFS4939N","NTD4904N"]
[null,null,null,null,null,null,null,null,null,null,null,"NTMFS4939N","NTMFS4825NFE"]
[null,null,null,null,null,null,null,null,null,null,null,"NTMFS4939N","NTMFS4833N"]
[null,null,null,null,null,null,null,null,null,null,null,"NTMFS4939N","NTMFS4834N"]
[null,null,null,null,null,null,null,null,null,null,null,"NTMFS4939N","NTMFS4835N"]
[null,null,null,null,null,null,null,null,null,null,null,"NTMFS4939N","NTMFS4845"]
[null,null,null,null,null,null,null,null,null,null,null,"NTMFS4939N","NTMFS4846"]
[null,null,null,null,null,null,null,null,null,null,null,"NTMFS4939N","NTMFS4852N"]
[null,null,null,null,null,null,null,null,null,null,null,"NTMFS4939N","NTMFS4897"]
[null,null,null,null,null,null,null,null,null,null,null,"NTMFS4939N","NTMFS4898N"]
[null,null,null,null,null,null,null,null,null,null,null,"NTMFS4939N","NTMFS4923NE"]
[null,null,null,null,null,null,null,null,null,null,null,"NTMFS4939N","NTMFS4933N"]
[null,null,null,null,null,null,null,null,null,null,null,"NTMFS4939N","NTMFS4934N"]
[null,null,null,null,null,null,null,null,null,null,null,"NTMFS4939N","NTMFS4935N"]
[null,null,null,null,null,null,null,null,null,null,null,"NTMFS4939N","NTMFS4936"]
[null,null,null,null,null,null,null,null,null,null,null,"NTMFS4939N","NTTFS4932N"]
[null,null,null,null,null,null,null,null,null,null,null,"NTMFS4941N","NTD4904N"]
[null,null,null,null,null,null,null,null,null,null,null,"NTMFS4941N","NTMFS4825NFE"]
[null,null,null,null,null,null,null,null,null,null,null,"NTMFS4941N","NTMFS4833N"]
[null,null,null,null,null,null,null,null,null,null,null,"NTMFS4941N","NTMFS4834N"]
[null,null,null,null,null,null,null,null,null,null,null,"NTMFS4941N","NTMFS4835N"]
[null,null,null,null,null,null,null,null,null,null,null,"NTMFS4941N","NTMFS4845"]
[null,null,null,null,null,null,null,null,null,null,null,"NTMFS4941N","NTMFS4846"]
[null,null,null,null,null,null,null,null,null,null,null,"NTMFS4941N","NTMFS4852N"]
[null,null,null,null,null,null,null,null,null,null,null,"NTMFS4941N","NTMFS4897"]
[null,null,null,null,null,null,null,null,null,null,null,"NTMFS4941N","NTMFS4898N"]
[null,null,null,null,null,null,null,null,null,null,null,"NTMFS4941N","NTMFS4923NE"]
[null,null,null,null,null,null,null,null,null,null,null,"NTMFS4941N","NTMFS4933N"]
[null,null,null,null,null,null,null,null,null,null,null,"NTMFS4941N","NTMFS4934N"]
[null,null,null,null,null,null,null,null,null,null,null,"NTMFS4941N","NTMFS4935N"]
[null,null,null,null,null,null,null,null,null,null,null,"NTMFS4941N","NTMFS4936"]
[null,null,null,null,null,null,null,null,null,null,null,"NTMFS4941N","NTTFS4932N"]
[null,null,null,null,null,null,null,null,null,null,null,"NTMFS4943N","NTD4904N"]
[null,null,null,null,null,null,null,null,null,null,null,"NTMFS4943N","NTMFS4825NFE"]
[null,null,null,null,null,null,null,null,null,null,null,"NTMFS4943N","NTMFS4833N"]
[null,null,null,null,null,null,null,null,null,null,null,"NTMFS4943N","NTMFS4834N"]
[null,null,null,null,null,null,null,null,null,null,null,"NTMFS4943N","NTMFS4835N"]
[null,null,null,null,null,null,null,null,null,null,null,"NTMFS4943N","NTMFS4845"]
[null,null,null,null,null,null,null,null,null,null,null,"NTMFS4943N","NTMFS4846"]
[null,null,null,null,null,null,null,null,null,null,null,"NTMFS4943N","NTMFS4852N"]
[null,null,null,null,null,null,null,null,null,null,null,"NTMFS4943N","NTMFS4897"]
[null,null,null,null,null,null,null,null,null,null,null,"NTMFS4943N","NTMFS4898N"]
[null,null,null,null,null,null,null,null,null,null,null,"NTMFS4943N","NTMFS4923NE"]
[null,null,null,null,null,null,null,null,null,null,null,"NTMFS4943N","NTMFS4933N"]
[null,null,null,null,null,null,null,null,null,null,null,"NTMFS4943N","NTMFS4934N"]
[null,null,null,null,null,null,null,null,null,null,null,"NTMFS4943N","NTMFS4935N"]
[null,null,null,null,null,null,null,null,null,null,null,"NTMFS4943N","NTMFS4936"]
[null,null,null,null,null,null,null,null,null,null,null,"NTMFS4943N","NTTFS4932N"]
[null,null,null,null,null,null,null,null,null,null,null,"NTTFS4821N","NTD4904N"]
[null,null,null,null,null,null,null,null,null,null,null,"NTTFS4821N","NTMFS4825NFE"]
[null,null,null,null,null,null,null,null,null,null,null,"NTTFS4821N","NTMFS4833N"]
[null,null,null,null,null,null,null,null,null,null,null,"NTTFS4821N","NTMFS4834N"]
[null,null,null,null,null,null,null,null,null,null,null,"NTTFS4821N","NTMFS4835N"]
[null,null,null,null,null,null,null,null,null,null,null,"NTTFS4821N","NTMFS4845"]
[null,null,null,null,null,null,null,null,null,null,null,"NTTFS4821N","NTMFS4846"]
[null,null,null,null,null,null,null,null,null,null,null,"NTTFS4821N","NTMFS4852N"]
[null,null,null,null,null,null,null,null,null,null,null,"NTTFS4821N","NTMFS4897"]
[null,null,null,null,null,null,null,null,null,null,null,"NTTFS4821N","NTMFS4898N"]
[null,null,null,null,null,null,null,null,null,null,null,"NTTFS4821N","NTMFS4923NE"]
[null,null,null,null,null,null,null,null,null,null,null,"NTTFS4821N","NTMFS4933N"]
[null,null,null,null,null,null,null,null,null,null,null,"NTTFS4821N","NTMFS4934N"]
[null,null,null,null,null,null,null,null,null,null,null,"NTTFS4821N","NTMFS4935N"]
[null,null,null,null,null,null,null,null,null,null,null,"NTTFS4821N","NTMFS4936"]
[null,null,null,null,null,null,null,null,null,null,null,"NTTFS4821N","NTTFS4932N"]
[null,null,null,null,null,null,null,null,null,null,null,"NTTFS4823N","NTMFS4825NFE"]
[null,null,null,null,null,null,null,null,null,null,null,"NTTFS4823N","NTMFS4833N"]
[null,null,null,null,null,null,null,null,null,null,null,"NTTFS4823N","NTMFS4834N"]
[null,null,null,null,null,null,null,null,null,null,null,"NTTFS4823N","NTMFS4845"]
[null,null,null,null,null,null,null,null,null,null,null,"NTTFS4823N","NTMFS4852N"]
[null,null,null,null,null,null,null,null,null,null,null,"NTTFS4823N","NTMFS4897"]
[null,null,null,null,null,null,null,null,null,null,null,"NTTFS4823N","NTMFS4898N"]
[null,null,null,null,null,null,null,null,null,null,null,"NTTFS4823N","NTMFS4933N"]
[null,null,null,null,null,null,null,null,null,null,null,"NTTFS4823N","NTMFS4934N"]
[null,null,null,null,null,null,null,null,null,null,null,"NTTFS4823N","NTTFS4932N"]
[null,null,null,null,null,null,null,null,null,null,null,"NTTFS4824N","NTD4904N"]
[null,null,null,null,null,null,null,null,null,null,null,"NTTFS4824N","NTMFS4825NFE"]
[null,null,null,null,null,null,null,null,null,null,null,"NTTFS4824N","NTMFS4833N"]
[null,null,null,null,null,null,null,null,null,null,null,"NTTFS4824N","NTMFS4834N"]
[null,null,null,null,null,null,null,null,null,null,null,"NTTFS4824N","NTMFS4835N"]
[null,null,null,null,null,null,null,null,null,null,null,"NTTFS4824N","NTMFS4845"]
[null,null,null,null,null,null,null,null,null,null,null,"NTTFS4824N","NTMFS4846"]
[null,null,null,null,null,null,null,null,null,null,null,"NTTFS4824N","NTMFS4852N"]
[null,null,null,null,null,null,null,null,null,null,null,"NTTFS4824N","NTMFS4897"]
[null,null,null,null,null,null,null,null,null,null,null,"NTTFS4824N","NTMFS4898N"]
[null,null,null,null,null,null,null,null,null,null,null,"NTTFS4824N","NTMFS4923NE"]
[null,null,null,null,null,null,null,null,null,null,null,"NTTFS4824N","NTMFS4933N"]
[null,null,null,null,null,null,null,null,null,null,null,"NTTFS4824N","NTMFS4934N"]
[null,null,null,null,null,null,null,null,null,null,null,"NTTFS4824N","NTMFS4935N"]
[null,null,null,null,null,null,null,null,null,null,null,"NTTFS4824N","NTMFS4936"]
[null,null,null,null,null,null,null,null,null,null,null,"NTTFS4824N","NTTFS4932N"]
[null,null,null,null,null,null,null,null,null,null,null,"NTTFS4928N","NTD4904N"]
[null,null,null,null,null,null,null,null,null,null,null,"NTTFS4928N","NTMFS4825NFE"]
[null,null,null,null,null,null,null,null,null,null,null,"NTTFS4928N","NTMFS4833N"]
[null,null,null,null,null,null,null,null,null,null,null,"NTTFS4928N","NTMFS4834N"]
[null,null,null,null,null,null,null,null,null,null,null,"NTTFS4928N","NTMFS4835N"]
[null,null,null,null,null,null,null,null,null,null,null,"NTTFS4928N","NTMFS4845"]
[null,null,null,null,null,null,null,null,null,null,null,"NTTFS4928N","NTMFS4846"]
[null,null,null,null,null,null,null,null,null,null,null,"NTTFS4928N","NTMFS4852N"]
[null,null,null,null,null,null,null,null,null,null,null,"NTTFS4928N","NTMFS4897"]
[null,null,null,null,null,null,null,null,null,null,null,"NTTFS4928N","NTMFS4898N"]
[null,null,null,null,null,null,null,null,null,null,null,"NTTFS4928N","NTMFS4923NE"]
[null,null,null,null,null,null,null,null,null,null,null,"NTTFS4928N","NTMFS4933N"]
[null,null,null,null,null,null,null,null,null,null,null,"NTTFS4928N","NTMFS4934N"]
[null,null,null,null,null,null,null,null,null,null,null,"NTTFS4928N","NTMFS4935N"]
[null,null,null,null,null,null,null,null,null,null,null,"NTTFS4928N","NTMFS4936"]
[null,null,null,null,null,null,null,null,null,null,null,"NTTFS4928N","NTTFS4932N"]
[null,null,null,null,null,null,null,null,null,null,null,"NTTFS4929N","NTMFS4825NFE"]
[null,null,null,null,null,null,null,null,null,null,null,"NTTFS4929N","NTMFS4833N"]
[null,null,null,null,null,null,null,null,null,null,null,"NTTFS4929N","NTMFS4834N"]
[null,null,null,null,null,null,null,null,null,null,null,"NTTFS4929N","NTMFS4845"]
[null,null,null,null,null,null,null,null,null,null,null,"NTTFS4929N","NTMFS4852N"]
[null,null,null,null,null,null,null,null,null,null,null,"NTTFS4929N","NTMFS4897"]
[null,null,null,null,null,null,null,null,null,null,null,"NTTFS4929N","NTMFS4898N"]
[null,null,null,null,null,null,null,null,null,null,null,"NTTFS4929N","NTMFS4933N"]
[null,null,null,null,null,null,null,null,null,null,null,"NTTFS4929N","NTMFS4934N"]
[null,null,null,null,null,null,null,null,null,null,null,"NTTFS4929N","NTTFS4932N"]
[null,null,null,null,null,null,null,null,null,null,null,"NTTFS4932N","NTD4804N"]
[null,null,null,null,null,null,null,null,null,null,null,"NTTFS4932N","NTD4855N"]
[null,null,null,null,null,null,null,null,null,null,null,"NTTFS4932N","NTD4904N"]
[null,null,null,null,null,null,null,null,null,null,null,"NTTFS4932N","NTMFS4825NFE"]
[null,null,null,null,null,null,null,null,null,null,null,"NTTFS4932N","NTMFS4833N"]
[null,null,null,null,null,null,null,null,null,null,null,"NTTFS4932N","NTMFS4834N"]
[null,null,null,null,null,null,null,null,null,null,null,"NTTFS4932N","NTMFS4835N"]
[null,null,null,null,null,null,null,null,null,null,null,"NTTFS4932N","NTMFS4845"]
[null,null,null,null,null,null,null,null,null,null,null,"NTTFS4932N","NTMFS4846"]
[null,null,null,null,null,null,null,null,null,null,null,"NTTFS4932N","NTMFS4852N"]
[null,null,null,null,null,null,null,null,null,null,null,"NTTFS4932N","NTMFS4897"]
[null,null,null,null,null,null,null,null,null,null,null,"NTTFS4932N","NTMFS4898N"]
[null,null,null,null,null,null,null,null,null,null,null,"NTTFS4932N","NTMFS4923NE"]
[null,null,null,null,null,null,null,null,null,null,null,"NTTFS4932N","NTMFS4933N"]
[null,null,null,null,null,null,null,null,null,null,null,"NTTFS4932N","NTMFS4934N"]
[null,null,null,null,null,null,null,null,null,null,null,"NTTFS4932N","NTMFS4935N"]
[null,null,null,null,null,null,null,null,null,null,null,"NTTFS4932N","NTMFS4936"]
[null,null,null,null,null,null,null,null,null,null,null,"NTTFS4932N","NTTFS4932N"]
[null,null,null,null,null,null,null,null,null,null,null,"NTTFS4937N","NTD4904N"]
[null,null,null,null,null,null,null,null,null,null,null,"NTTFS4937N","NTMFS4825NFE"]
[null,null,null,null,null,null,null,null,null,null,null,"NTTFS4937N","NTMFS4833N"]
[null,null,null,null,null,null,null,null,null,null,null,"NTTFS4937N","NTMFS4834N"]
[null,null,null,null,null,null,null,null,null,null,null,"NTTFS4937N","NTMFS4835N"]
[null,null,null,null,null,null,null,null,null,null,null,"NTTFS4937N","NTMFS4845"]
[null,null,null,null,null,null,null,null,null,null,null,"NTTFS4937N","NTMFS4846"]
[null,null,null,null,null,null,null,null,null,null,null,"NTTFS4937N","NTMFS4852N"]
[null,null,null,null,null,null,null,null,null,null,null,"NTTFS4937N","NTMFS4897"]
[null,null,null,null,null,null,null,null,null,null,null,"NTTFS4937N","NTMFS4898N"]
[null,null,null,null,null,null,null,null,null,null,null,"NTTFS4937N","NTMFS4923NE"]
[null,null,null,null,null,null,null,null,null,null,null,"NTTFS4937N","NTMFS4933N"]
[null,null,null,null,null,null,null,null,null,null,null,"NTTFS4937N","NTMFS4934N"]
[null,null,null,null,null,null,null,null,null,null,null,"NTTFS4937N","NTMFS4935N"]
[null,null,null,null,null,null,null,null,null,null,null,"NTTFS4937N","NTMFS4936"]
[null,null,null,null,null,null,null,null,null,null,null,"NTTFS4937N","NTTFS4932N"]
[null,null,null,null,null,null,null,null,null,null,null,"NTTFS4939N","NTD4904N"]
[null,null,null,null,null,null,null,null,null,null,null,"NTTFS4939N","NTMFS4825NFE"]
[null,null,null,null,null,null,null,null,null,null,null,"NTTFS4939N","NTMFS4833N"]
[null,null,null,null,null,null,null,null,null,null,null,"NTTFS4939N","NTMFS4834N"]
[null,null,null,null,null,null,null,null,null,null,null,"NTTFS4939N","NTMFS4835N"]
[null,null,null,null,null,null,null,null,null,null,null,"NTTFS4939N","NTMFS4845"]
[null,null,null,null,null,null,null,null,null,null,null,"NTTFS4939N","NTMFS4846"]
[null,null,null,null,null,null,null,null,null,null,null,"NTTFS4939N","NTMFS4852N"]
[null,null,null,null,null,null,null,null,null,null,null,"NTTFS4939N","NTMFS4897"]
[null,null,null,null,null,null,null,null,null,null,null,"NTTFS4939N","NTMFS4898N"]
[null,null,null,null,null,null,null,null,null,null,null,"NTTFS4939N","NTMFS4923NE"]
[null,null,null,null,null,null,null,null,null,null,null,"NTTFS4939N","NTMFS4933N"]
[null,null,null,null,null,null,null,null,null,null,null,"NTTFS4939N","NTMFS4934N"]

{"sheet":"Results","index":4,"n_rows":37,"n_cols":11,"rows_kept":37,"cut":false,"hidden":true,"merged":[[0,0,0,2],[0,3,0,7]]}
["Simulation Summary",null,null,{"$f":"Circuit1!$A$1","v":"NTMFS4C05x1+NTMFS4C05x1@500kHz; Vin=12V;Vout=1.2V;Driver=NCP5911(5V)"}]
["Iout (A)","Power Loss in Each Highside MOSFET","Power Loss in Each Lowside MOSFET","PCB&Inductor Winding Loss (W)","Driver Loss (W)","Overall Efficiency","Temperature at HS MOSFET","Temperature at LS MOSFET"]
[{"$f":"Circuit1Details!A2","v":0.6},{"$f":"Circuit1Details!W2/MAX(Circuit1!$F$29,1)","v":0.12060085941652761},{"$f":"Circuit1Details!X2/MAX(Circuit1!$J$26,1)","v":1.3032273556045439E-2},{"$f":"Circuit1Details!Y2","v":5.3816000000000003E-2},{"$f":"Circuit1Details!Z2","v":4.1136363636363645E-2},{"$f":"Circuit1Details!V2","v":0.61490012651157167},{"$f":"Circuit1Details!AA2","v":5.8612017676432417},{"$f":"Circuit1Details!AD2","v":0.63336849482380841}]
[{"$f":"Circuit1Details!A3","v":1.2},{"$f":"Circuit1Details!W3/MAX(Circuit1!$F$29,1)","v":0.13423033089740696},{"$f":"Circuit1Details!X3/MAX(Circuit1!$J$26,1)","v":2.6798501395312313E-2},{"$f":"Circuit1Details!Y3","v":5.6521767169891914E-2},{"$f":"Circuit1Details!Z3","v":4.1136363636363645E-2},{"$f":"Circuit1Details!V3","v":0.74960047593341383},{"$f":"Circuit1Details!AA3","v":6.5235940816139788},{"$f":"Circuit1Details!AD3","v":1.3024071678121785}]
[{"$f":"Circuit1Details!A4","v":1.7999999999999998},{"$f":"Circuit1Details!W4/MAX(Circuit1!$F$29,1)","v":0.15255463729204083},{"$f":"Circuit1Details!X4/MAX(Circuit1!$J$26,1)","v":4.3557178331198515E-2},{"$f":"Circuit1Details!Y4","v":6.1039427461692573E-2},{"$f":"Circuit1Details!Z4","v":4.1136363636363645E-2},{"$f":"Circuit1Details!V4","v":0.80578254312625741},{"$f":"Circuit1Details!AA4","v":7.4141553723931848},{"$f":"Circuit1Details!AD4","v":2.1168788668962479}]
[{"$f":"Circuit1Details!A5","v":2.4},{"$f":"Circuit1Details!W5/MAX(Circuit1!$F$29,1)","v":0.17117096126068798},{"$f":"Circuit1Details!X5/MAX(Circuit1!$J$26,1)","v":6.2838590364546504E-2},{"$f":"Circuit1Details!Y5","v":6.7380175643461118E-2},{"$f":"Circuit1Details!Z5","v":4.1136363636363645E-2},{"$f":"Circuit1Details!V5","v":0.83602757381597192},{"$f":"Circuit1Details!AA5","v":8.3189087172694354},{"$f":"Circuit1Details!AD5","v":3.0539554917169602}]
[{"$f":"Circuit1Details!A6","v":3},{"$f":"Circuit1Details!W6/MAX(Circuit1!$F$29,1)","v":0.19003815511815164},{"$f":"Circuit1Details!X6/MAX(Circuit1!$J$26,1)","v":8.4723317649657931E-2},{"$f":"Circuit1Details!Y6","v":7.5556504261529128E-2},{"$f":"Circuit1Details!Z6","v":4.1136363636363645E-2},{"$f":"Circuit1Details!V6","v":0.85433763863131185},{"$f":"Circuit1Details!AA6","v":9.2358543387421701},{"$f":"Circuit1Details!AD6","v":4.1175532377733752}]
[{"$f":"Circuit1Details!A7","v":3.5999999999999996},{"$f":"Circuit1Details!W7/MAX(Circuit1!$F$29,1)","v":0.20915551870146853},{"$f":"Circuit1Details!X7/MAX(Circuit1!$J$26,1)","v":0.10926055316348871},{"$f":"Circuit1Details!Y7","v":8.55834795643277E-2},{"$f":"Circuit1Details!Z7","v":4.1136363636363645E-2},{"$f":"Circuit1Details!V7","v":0.86617022784220443},{"$f":"Circuit1Details!AA7","v":10.16495820889137},{"$f":"Circuit1Details!AD7","v":5.3100628837455508}]
[{"$f":"Circuit1Details!A8","v":4.2},{"$f":"Circuit1Details!W8/MAX(Circuit1!$F$29,1)","v":0.22852818401974778},{"$f":"Circuit1Details!X8/MAX(Circuit1!$J$26,1)","v":0.1364999359859162},{"$f":"Circuit1Details!Y8","v":9.7478304534269616E-2},{"$f":"Circuit1Details!Z8","v":4.1136363636363645E-2},{"$f":"Circuit1Details!V8","v":0.87409265058052921},{"$f":"Circuit1Details!AA8","v":11.106469743359742},{"$f":"Circuit1Details!AD8","v":6.6338968889155279}]
[{"$f":"Circuit1Details!A9","v":4.8},{"$f":"Circuit1Details!W9/MAX(Circuit1!$F$29,1)","v":0.24816301229698357},{"$f":"Circuit1Details!X9/MAX(Circuit1!$J$26,1)","v":0.16649523657039345},{"$f":"Circuit1Details!Y9","v":0.11126020789425892},{"$f":"Circuit1Details!Z9","v":4.1136363636363645E-2},{"$f":"Circuit1Details!V9","v":0.87947105893465571},{"$f":"Circuit1Details!AA9","v":12.060722397633402},{"$f":"Circuit1Details!AD9","v":8.0916684973211215}]
[{"$f":"Circuit1Details!A10","v":5.3999999999999995},{"$f":"Circuit1Details!W10/MAX(Circuit1!$F$29,1)","v":0.26806757822546468},{"$f":"Circuit1Details!X10/MAX(Circuit1!$J$26,1)","v":0.19930494269945331},{"$f":"Circuit1Details!Y10","v":0.12695030595220308},{"$f":"Circuit1Details!Z10","v":4.1136363636363645E-2},{"$f":"Circuit1Details!V10","v":0.88309901143747105},{"$f":"Circuit1Details!AA10","v":13.028084301757584},{"$f":"Circuit1Details!AD10","v":9.6862202151934316}]
[{"$f":"Circuit1Details!A11","v":6},{"$f":"Circuit1Details!W11/MAX(Circuit1!$F$29,1)","v":0.28824983811411331},{"$f":"Circuit1Details!X11/MAX(Circuit1!$J$26,1)","v":0.23499213157954657},{"$f":"Circuit1Details!Y11","v":0.14457144933851357},{"$f":"Circuit1Details!Z11","v":4.1136363636363645E-2},{"$f":"Circuit1Details!V11","v":0.88546877707309501},{"$f":"Circuit1Details!AA11","v":14.008942132345908},{"$f":"Circuit1Details!AD11","v":11.420617594765964}]
[{"$f":"Circuit1Details!A12","v":6.6},{"$f":"Circuit1Details!W12/MAX(Circuit1!$F$29,1)","v":0.3087180025744648},{"$f":"Circuit1Details!X12/MAX(Circuit1!$J$26,1)","v":0.27362410030992351},{"$f":"Circuit1Details!Y12","v":0.16414805543703637},{"$f":"Circuit1Details!Z12","v":4.1136363636363645E-2},{"$f":"Circuit1Details!V12","v":0.88690178240007833},{"$f":"Circuit1Details!AA12","v":15.003694925118991},{"$f":"Circuit1Details!AD12","v":13.298131275062284}]
[{"$f":"Circuit1Details!A13","v":7.1999999999999993},{"$f":"Circuit1Details!W13/MAX(Circuit1!$F$29,1)","v":0.32948048297625587},{"$f":"Circuit1Details!X13/MAX(Circuit1!$J$26,1)","v":0.31527188379288856},{"$f":"Circuit1Details!Y13","v":0.1857059267614814},{"$f":"Circuit1Details!Z13","v":4.1136363636363645E-2},{"$f":"Circuit1Details!V13","v":0.88761672766476329},{"$f":"Circuit1Details!AA13","v":16.012751472646038},{"$f":"Circuit1Details!AD13","v":15.322213552334384}]
[{"$f":"Circuit1Details!A14","v":7.8},{"$f":"Circuit1Details!W14/MAX(Circuit1!$F$29,1)","v":0.35054586802600513},{"$f":"Circuit1Details!X14/MAX(Circuit1!$J$26,1)","v":0.36000970447063946},{"$f":"Circuit1Details!Y14","v":0.20927205577584496},{"$f":"Circuit1Details!Z14","v":4.1136363636363645E-2},{"$f":"Circuit1Details!V14","v":0.88776755706073918},{"$f":"Circuit1Details!AA14","v":17.036529186063849},{"$f":"Circuit1Details!AD14","v":17.496471637273078}]
[{"$f":"Circuit1Details!A15","v":8.4},{"$f":"Circuit1Details!W15/MAX(Circuit1!$F$29,1)","v":0.37192291362602881},{"$f":"Circuit1Details!X15/MAX(Circuit1!$J$26,1)","v":0.40791437325153762},{"$f":"Circuit1Details!Y15","v":0.23487441708827222},{"$f":"Circuit1Details!Z15","v":4.1136363636363645E-2},{"$f":"Circuit1Details!V15","v":0.8874657795022981},{"$f":"Circuit1Details!AA15","v":18.075453602225},{"$f":"Circuit1Details!AD15","v":19.824638540024729}]
[{"$f":"Circuit1Details!A16","v":9},{"$f":"Circuit1Details!W16/MAX(Circuit1!$F$29,1)","v":0.39362053874794561},{"$f":"Circuit1Details!X16/MAX(Circuit1!$J$26,1)","v":0.45906465307770361},{"$f":"Circuit1Details!Y16","v":0.26254174845622047},{"$f":"Circuit1Details!Z16","v":4.1136363636363645E-2},{"$f":"Circuit1Details!V16","v":0.88679418121890252},{"$f":"Circuit1Details!AA16","v":19.129958183150158},{"$f":"Circuit1Details!AD16","v":22.310542139576395}]
[{"$f":"Circuit1Details!A17","v":9.6},{"$f":"Circuit1Details!W17/MAX(Circuit1!$F$29,1)","v":0.4156478238925852},{"$f":"Circuit1Details!X17/MAX(Circuit1!$J$26,1)","v":0.51354059439619215},{"$f":"Circuit1Details!Y17","v":0.29230332258366992},{"$f":"Circuit1Details!Z17","v":4.1136363636363645E-2},{"$f":"Circuit1Details!V17","v":0.88581556898655889},{"$f":"Circuit1Details!AA17","v":20.200484241179641},{"$f":"Circuit1Details!AD17","v":24.958072887654939}]
[{"$f":"Circuit1Details!A18","v":10.199999999999999},{"$f":"Circuit1Details!W18/MAX(Circuit1!$F$29,1)","v":0.43801401039718812},{"$f":"Circuit1Details!X18/MAX(Circuit1!$J$26,1)","v":0.57142285170773566},{"$f":"Circuit1Details!Y18","v":0.32418871223450746},{"$f":"Circuit1Details!Z18","v":4.1136363636363645E-2},{"$f":"Circuit1Details!V18","v":0.88457852457215824},{"$f":"Circuit1Details!AA18","v":21.287480905303344},{"$f":"Circuit1Details!AD18","v":27.771150592995955}]
[{"$f":"Circuit1Details!A19","v":10.799999999999999},{"$f":"Circuit1Details!W19/MAX(Circuit1!$F$29,1)","v":0.46072849965765733},{"$f":"Circuit1Details!X19/MAX(Circuit1!$J$26,1)","v":0.63279199103791473},{"$f":"Circuit1Details!Y19","v":0.35822755169585896},{"$f":"Circuit1Details!Z19","v":4.1136363636363645E-2},{"$f":"Circuit1Details!V19","v":0.88312129700905251},{"$f":"Circuit1Details!AA19","v":22.391405083362148},{"$f":"Circuit1Details!AD19","v":30.753690764442656},null,null,{"$f":"Circuit1!B10","v":30}]
[{"$f":"Circuit1Details!A20","v":11.4},{"$f":"Circuit1Details!W20/MAX(Circuit1!$F$29,1)","v":0.48380085175063781},{"$f":"Circuit1Details!X20/MAX(Circuit1!$J$26,1)","v":0.69772779902121718},{"$f":"Circuit1Details!Y20","v":0.39444929806612483},{"$f":"Circuit1Details!Z20","v":4.1136363636363645E-2},{"$f":"Circuit1Details!V20","v":0.88147449838916037},{"$f":"Circuit1Details!AA20","v":23.512721395080998},{"$f":"Circuit1Details!AD20","v":33.909571032431153}]
[{"$f":"Circuit1Details!A21","v":12},{"$f":"Circuit1Details!W21/MAX(Circuit1!$F$29,1)","v":0.50724078317407073},{"$f":"Circuit1Details!X21/MAX(Circuit1!$J$26,1)","v":0.76630860500781994},{"$f":"Circuit1Details!Y21","v":0.43288299618079179},{"$f":"Circuit1Details!Z21","v":4.1136363636363645E-2},{"$f":"Circuit1Details!V21","v":0.87966300976080536},{"$f":"Circuit1Details!AA21","v":24.65190206225984},{"$f":"Circuit1Details!AD21","v":37.242598203380048}]
[{"$f":"Circuit1Details!A22","v":12.6},{"$f":"Circuit1Details!W22/MAX(Circuit1!$F$29,1)","v":0.53105816356787305},{"$f":"Circuit1Details!X22/MAX(Circuit1!$J$26,1)","v":0.83861062801837361},{"$f":"Circuit1Details!Y22","v":0.47355705119436603},{"$f":"Circuit1Details!Z22","v":4.1136363636363645E-2},{"$f":"Circuit1Details!V22","v":0.87770735283453549},{"$f":"Circuit1Details!AA22","v":25.809426749398632},{"$f":"Circuit1Details!AD22","v":40.75647652169296}]
[{"$f":"Circuit1Details!A23","v":13.2},{"$f":"Circuit1Details!W23/MAX(Circuit1!$F$29,1)","v":0.55526301137164136},{"$f":"Circuit1Details!X23/MAX(Circuit1!$J$26,1)","v":0.91470736037334321},{"$f":"Circuit1Details!Y23","v":0.5164990128850252},{"$f":"Circuit1Details!Z23","v":4.1136363636363645E-2},{"$f":"Circuit1Details!V23","v":0.87562469255098785},{"$f":"Circuit1Details!AA23","v":26.985782352661772},{"$f":"Circuit1Details!AD23","v":44.454777714144484}]
[{"$f":"Circuit1Details!A24","v":13.799999999999999},{"$f":"Circuit1Details!W24/MAX(Circuit1!$F$29,1)","v":0.57986548844446073},{"$f":"Circuit1Details!X24/MAX(Circuit1!$J$26,1)","v":0.9946689993492458},{"$f":"Circuit1Details!Y24","v":0.56173537562493692},{"$f":"Circuit1Details!Z24","v":4.1136363636363645E-2},{"$f":"Circuit1Details!V24","v":0.87342957958355572},{"$f":"Circuit1Details!AA24","v":28.181462738400793},{"$f":"Circuit1Details!AD24","v":48.34091336837335}]
[{"$f":"Circuit1Details!A25","v":14.399999999999999},{"$f":"Circuit1Details!W25/MAX(Circuit1!$F$29,1)","v":0.60487589372295436},{"$f":"Circuit1Details!X25/MAX(Circuit1!$J$26,1)","v":1.0785619372462942},{"$f":"Circuit1Details!Y25","v":0.60929139765987905},{"$f":"Circuit1Details!Z25","v":4.1136363636363645E-2},{"$f":"Circuit1Details!V25","v":0.87113450641485779},{"$f":"Circuit1Details!AA25","v":29.396968434935584},{"$f":"Circuit1Details!AD25","v":52.418110150169902}]
[{"$f":"Circuit1Details!A26","v":15},{"$f":"Circuit1Details!W26/MAX(Circuit1!$F$29,1)","v":0.63030465603231534},{"$f":"Circuit1Details!X26/MAX(Circuit1!$J$26,1)","v":1.1664483188135006},{"$f":"Circuit1Details!Y26","v":0.65919094287535474},{"$f":"Circuit1Details!Z26","v":4.1136363636363645E-2},{"$f":"Circuit1Details!V26","v":0.86875032769559413},{"$f":"Circuit1Details!AA26","v":30.632806283170527},{"$f":"Circuit1Details!AD26","v":56.689388294336133}]
[{"$f":"Circuit1Details!A27","v":15.6},{"$f":"Circuit1Details!W27/MAX(Circuit1!$F$29,1)","v":0.65616232619330928},{"$f":"Circuit1Details!X27/MAX(Circuit1!$J$26,1)","v":1.2583856731290619},{"$f":"Circuit1Details!Y27","v":0.71145634761354415},{"$f":"Circuit1Details!Z27","v":4.1136363636363645E-2},{"$f":"Circuit1Details!V27","v":0.86628658045329121},{"$f":"Circuit1Details!AA27","v":31.889489052994833},{"$f":"Circuit1Details!AD27","v":61.157543714072411}]
[{"$f":"Circuit1Details!A28","v":16.2},{"$f":"Circuit1Details!W28/MAX(Circuit1!$F$29,1)","v":0.68245956858698831},{"$f":"Circuit1Details!X28/MAX(Circuit1!$J$26,1)","v":1.354426624869548},{"$f":"Circuit1Details!Y28","v":0.76610831437789484},{"$f":"Circuit1Details!Z28","v":4.1136363636363645E-2},{"$f":"Circuit1Details!V28","v":0.86375172953292856},{"$f":"Circuit1Details!AA28","v":33.167535033327631},{"$f":"Circuit1Details!AD28","v":65.82513396866004}]
[{"$f":"Circuit1Details!A29","v":16.8},{"$f":"Circuit1Details!W29/MAX(Circuit1!$F$29,1)","v":0.70920715234864251},{"$f":"Circuit1Details!X29/MAX(Circuit1!$J$26,1)","v":1.4546186875388916},{"$f":"Circuit1Details!Y29","v":0.82316583345997751},{"$f":"Circuit1Details!Z29","v":4.1136363636363645E-2},{"$f":"Circuit1Details!V29","v":0.86115335667864301},{"$f":"Circuit1Details!AA29","v":34.467467604144026},{"$f":"Circuit1Details!AD29","v":70.694468214390128}]
[{"$f":"Circuit1Details!A30","v":17.399999999999999},{"$f":"Circuit1Details!W30/MAX(Circuit1!$F$29,1)","v":0.7364159423637584},{"$f":"Circuit1Details!X30/MAX(Circuit1!$J$26,1)","v":1.5590041387996305},{"$f":"Circuit1Details!Y30","v":0.88264613269167569},{"$f":"Circuit1Details!Z30","v":4.1136363636363645E-2},{"$f":"Circuit1Details!V30","v":0.85849830681116401},{"$f":"Circuit1Details!AA30","v":35.789814798878659},{"$f":"Circuit1Details!AD30","v":75.767601145662042}]
[{"$f":"Circuit1Details!A31","v":18},{"$f":"Circuit1Details!W31/MAX(Circuit1!$F$29,1)","v":0.76409689023221994},{"$f":"Circuit1Details!X31/MAX(Circuit1!$J$26,1)","v":1.6676199756884689},{"$f":"Circuit1Details!Y31","v":0.94456465471107531},{"$f":"Circuit1Details!Z31","v":4.1136363636363645E-2},{"$f":"Circuit1Details!V31","v":0.85579280161942628},{"$f":"Circuit1Details!AA31","v":37.135108865285893},{"$f":"Circuit1Details!AD31","v":81.046330818459595}]
[{"$f":"Circuit1Details!A32","v":18.599999999999998},{"$f":"Circuit1Details!W32/MAX(Circuit1!$F$29,1)","v":0.79226102535363452},{"$f":"Circuit1Details!X32/MAX(Circuit1!$J$26,1)","v":1.7804979453311351},{"$f":"Circuit1Details!Y32","v":1.0089350603761378},{"$f":"Circuit1Details!Z32","v":4.1136363636363645E-2},{"$f":"Circuit1Details!V32","v":0.85304252811196213},{"$f":"Circuit1Details!AA32","v":38.50388583218664},{"$f":"Circuit1Details!AD32","v":86.532200143093164}]
[{"$f":"Circuit1Details!A33","v":19.2},{"$f":"Circuit1Details!W33/MAX(Circuit1!$F$29,1)","v":0.82091944626782098},{"$f":"Circuit1Details!X33/MAX(Circuit1!$J$26,1)","v":1.8976646449033772},{"$f":"Circuit1Details!Y33","v":1.0757692563035199},{"$f":"Circuit1Details!Z33","v":4.1136363636363645E-2},{"$f":"Circuit1Details!V33","v":0.8502527079643134},{"$f":"Circuit1Details!AA33","v":39.896685088616103},{"$f":"Circuit1Details!AD33","v":92.226501742304137}]
[{"$f":"Circuit1Details!A34","v":19.8},{"$f":"Circuit1Details!W34/MAX(Circuit1!$F$29,1)","v":0.8500833123616599},{"$f":"Circuit1Details!X34/MAX(Circuit1!$J$26,1)","v":2.0191416830942752},{"$f":"Circuit1Details!Y34","v":1.1450774439788902},{"$f":"Circuit1Details!Z34","v":4.1136363636363645E-2},{"$f":"Circuit1Details!V34","v":0.84742815215284828},{"$f":"Circuit1Details!AA34","v":41.314048980776676},{"$f":"Circuit1Details!AD34","v":98.130285798381777}]
[{"$f":"Circuit1Details!A35","v":20.399999999999999},{"$f":"Circuit1Details!W35/MAX(Circuit1!$F$29,1)","v":0.87976383602828956},{"$f":"Circuit1Details!X35/MAX(Circuit1!$J$26,1)","v":2.1449458942621504},{"$f":"Circuit1Details!Y35","v":1.2168681874973377},{"$f":"Circuit1Details!Z35","v":4.1136363636363645E-2},{"$f":"Circuit1Details!V35","v":0.84457330434824562},{"$f":"Circuit1Details!AA35","v":42.756522430974876},{"$f":"Circuit1Details!AD35","v":104.24437046114052}]
[{"$f":"Circuit1Details!A36","v":21},{"$f":"Circuit1Details!W36/MAX(Circuit1!$F$29,1)","v":0.90997227533863578},{"$f":"Circuit1Details!X36/MAX(Circuit1!$J$26,1)","v":2.2750895958470387},{"$f":"Circuit1Details!Y36","v":1.2911484967544293},{"$f":"Circuit1Details!Z36","v":4.1136363636363645E-2},{"$f":"Circuit1Details!V36","v":0.84169227576190753},{"$f":"Circuit1Details!AA36","v":44.224652581457697},{"$f":"Circuit1Details!AD36","v":110.56935435816608}]

{"sheet":"Circuit1Details","index":7,"n_rows":51,"n_cols":40,"rows_kept":51,"cut":false,"hidden":true,"merged":[]}
["I(Load)","PHC","Vsp","Idr(LH)","Idr(HL) ","Qgs(sw)","tr","tf","PswHS","PconLS","PQrr","PDT","Pout","PdrHS","PdrLS","Pw","Pc",null,"Pcsw",null,"Pesr","Circuit1 Efficiency","PHS","PLS","PLCR","Pdr",0,{"$f":"AA1/((1+(AA1/150)^(1))^(1/1))","v":0},"RTHS",0,{"$f":"AD1/((1+(AD1/150)^(1))^(1))","v":0},"RTLS",{"$f":"Circuit1!$B$6","v":9.9999999999999992E-2},"Rdson Correction Factor for HS"]
[{"$f":"Circuit1!$B$10/50*1","v":0.6},{"$f":"AG1*Circuit1!$B$7/1000000*AC2*(A2*A2+((Circuit1!$B$8)^2)/3)*Circuit1!$B$5*1000","v":2.9303039999999998E-4},{"$f":"(Circuit1!$F$22+A2/(Circuit1!$F$23*Circuit1!$F$29))/(1+((Circuit1!$F$22+A2/(Circuit1!$F$23*Circuit1!$F$29))/Circuit1!$F$4)^(5))^(0.2)","v":1.7072344312437928},{"$f":"MAX((Circuit1!$F$4-C2), 0.001)/(Circuit1!$F$5+Circuit1!$F$28+Circuit1!$F$24/Circuit1!$F$29)","v":2.0709217413561052},{"$f":"C2/(Circuit1!$F$6+Circuit1!$F$28+Circuit1!$F$24/Circuit1!$F$29)","v":1.2282262095279086},{"$f":"(Circuit1!$F$20/1000000000+Circuit1!$F$21/2/1000000000)*MAX(Circuit1!$F$29,1)","v":8.0000000000000005E-9},{"$f":"F2/D2/(1+F2/D2/0.00000003)","v":3.4223304549866102E-9},{"$f":"F2/E2","v":6.5134581381999234E-9},{"$f":"0.5*Circuit1!$B$3*(G2*MAX(A2-Circuit1!$B$8, 0)+H2*(A2+Circuit1!$B$8))*Circuit1!$B$5*1000","v":3.2827829016527608E-2},{"$f":"MIN(MAX((1-AG1-Circuit1!$F$7/1000000000+Circuit1!$F$8/1000000000),0.001),1)*Circuit1!$B$7/1000000*AF2*(A2*A2+Circuit1!$B$8^2/3)*Circuit1!$B$5*1000","v":2.6372735560454405E-3},{"$f":"Circuit1!$B$3*$AN$2*Circuit1!$J$26*0.000000001*Circuit1!$B$5*1000","v":0.1812},{"$f":"Circuit1!$J$21*A2*(Circuit1!$F$7/1000000000+Circuit1!$F$8/1000000000)*Circuit1!$B$5*1000","v":1.0394999999999998E-2},{"$f":"A2*Circuit1!$B$4","v":0.72},{"$f":"Circuit1!$F$4*($AN$3/1000000000*Circuit1!$F$29)*Circuit1!$B$5*1000+Circuit1!$F$4*Circuit1!$F$9/1000/2","v":4.1136363636363645E-2},{"$f":"Circuit1!$F$4*($AN$4/1000000000*Circuit1!$J$26)*Circuit1!$B$5*1000+Circuit1!$F$4*Circuit1!$F$9/1000/2","v":4.1136363636363645E-2},{"$f":"(A2*A2+((Circuit1!$B$8)^2)/3)*(Circuit1!$J$9+Circuit1!$J$12)/1000*(1+0.002*AE1)","v":1.872E-3},{"$f":"Circuit1!$J$8/1000","v":0.05},{"$f":"0","v":0},{"$f":"(Circuit1!$F$19/1000000000000*Circuit1!$F$29)*Circuit1!$B$3*Circuit1!$B$3*Circuit1!$B$5*1000","v":8.7480000000000002E-2},0,{"$f":"Circuit1!$B$8*Circuit1!$B$8/3*Circuit1!$J$4/1000","v":1.9439999999999993E-3},{"$f":"M2/(U2+T2+S2+R2+Q2+P2+N2+M2+L2+J2+I2+B2+O2+K2)","v":0.61490012651157167},{"$f":"B2+I2+S2+T2","v":0.12060085941652761},{"$f":"J2+L2","v":1.3032273556045439E-2},{"$f":"P2+Q2+U2","v":5.3816000000000003E-2},{"$f":"N2","v":4.1136363636363645E-2},{"$f":"W2*Circuit1!$F$25/MAX(Circuit1!$F$29,1)","v":5.8612017676432417},{"$f":"AA2/((1+(AA2/150)^(1))^(1/1))","v":5.6407897230072805},{"$f":"$AN$6*(1+AB1*0.85*Circuit1!$F$26/100)/1000/MAX(Circuit1!$F$29,1)","v":3.9133333333333338E-3},{"$f":"X2*Circuit1!$J$22/MAX(Circuit1!$J$26,1)","v":0.63336849482380841},{"$f":"AD2/((1+(AD2/150)^(1))^(1))","v":0.63070536875656413},{"$f":"$AN$7*(1+AE1*Circuit1!$J$23*0.85/100)/MAX(Circuit1!$J$26,1)/1000","v":3.9133333333333338E-3},{"$f":"(U2+T2+S2+R2+Q2+P2+N2+M2+L2+J2+I2+B2+O2+K2)/A2/Circuit1!$B$3","v":0.16262803614518059},5.0000000000000001E-3,{"$f":"(A2*A2+((Circuit1!$B$8)^2)/3)*Circuit1!$J$9/1000*50","v":5.6159999999999988E-2},null,0.86567415542122716,null,"Qrr",{"$f":"VLOOKUP(Circuit1!$J$16,MOSFETs!A1:S147,14,0)","v":30.2}]
[{"$f":"Circuit1!$B$10/50*2","v":1.2},{"$f":"AG2*Circuit1!$B$7/1000000*AC3*(A3*A3+((Circuit1!$B$8)^2)/3)*Circuit1!$B$5*1000","v":1.1911131928818543E-3},{"$f":"(Circuit1!$F$22+A3/(Circuit1!$F$23*Circuit1!$F$29))/(1+((Circuit1!$F$22+A3/(Circuit1!$F$23*Circuit1!$F$29))/Circuit1!$F$4)^(5))^(0.2)","v":1.7160082078974372},{"$f":"MAX((Circuit1!$F$4-C3), 0.001)/(Circuit1!$F$5+Circuit1!$F$28+Circuit1!$F$24/Circuit1!$F$29)","v":2.0654036428318006},{"$f":"C3/(Circuit1!$F$6+Circuit1!$F$28+Circuit1!$F$24/Circuit1!$F$29)","v":1.2345382790629045},{"$f":"(Circuit1!$F$20/1000000000+Circuit1!$F$21/2/1000000000)*MAX(Circuit1!$F$29,1)","v":8.0000000000000005E-9},{"$f":"F3/D3/(1+F3/D3/0.00000003)","v":3.4304283054486776E-9},{"$f":"F3/E3","v":6.480155484585318E-9},{"$f":"0.5*Circuit1!$B$3*(G3*MAX(A3-Circuit1!$B$8, 0)+H3*(A3+Circuit1!$B$8))*Circuit1!$B$5*1000","v":4.5559217704525104E-2},{"$f":"MIN(MAX((1-AG2-Circuit1!$F$7/1000000000+Circuit1!$F$8/1000000000),0.001),1)*Circuit1!$B$7/1000000*AF3*(A3*A3+Circuit1!$B$8^2/3)*Circuit1!$B$5*1000","v":6.0085013953123188E-3},{"$f":"Circuit1!$B$3*$AN$2*Circuit1!$J$26*0.000000001*Circuit1!$B$5*1000","v":0.1812},{"$f":"Circuit1!$J$21*A3*(Circuit1!$F$7/1000000000+Circuit1!$F$8/1000000000)*Circuit1!$B$5*1000","v":2.0789999999999996E-2},{"$f":"A3*Circuit1!$B$4","v":1.44},{"$f":"Circuit1!$F$4*($AN$3/1000000000*Circuit1!$F$29)*Circuit1!$B$5*1000+Circuit1!$F$4*Circuit1!$F$9/1000/2","v":4.1136363636363645E-2},{"$f":"Circuit1!$F$4*($AN$4/1000000000*Circuit1!$J$26)*Circuit1!$B$5*1000+Circuit1!$F$4*Circuit1!$F$9/1000/2","v":4.1136363636363645E-2},{"$f":"(A3*A3+((Circuit1!$B$8)^2)/3)*(Circuit1!$J$9+Circuit1!$J$12)/1000*(1+0.002*AE2)","v":4.5777671698919086E-3},{"$f":"Circuit1!$J$8/1000","v":0.05},{"$f":"0","v":0},{"$f":"(Circuit1!$F$19/1000000000000*Circuit1!$F$29)*Circuit1!$B$3*Circuit1!$B$3*Circuit1!$B$5*1000","v":8.7480000000000002E-2},0,{"$f":"Circuit1!$B$8*Circuit1!$B$8/3*Circuit1!$J$4/1000","v":1.9439999999999993E-3},{"$f":"M3/(U3+T3+S3+R3+Q3+P3+N3+M3+L3+J3+I3+B3+O3+K3)","v":0.74960047593341383},{"$f":"B3+I3+S3+T3","v":0.13423033089740696},{"$f":"J3+L3","v":2.6798501395312313E-2},{"$f":"P3+Q3+U3","v":5.6521767169891914E-2},{"$f":"N3","v":4.1136363636363645E-2},{"$f":"W3*Circuit1!$F$25/MAX(Circuit1!$F$29,1)","v":6.5235940816139788},6.251703572126452,{"$f":"$AN$6*(1+AB2*0.85*Circuit1!$F$26/100)/1000/MAX(Circuit1!$F$29,1)","v":4.0048974901173142E-3},{"$f":"X3*Circuit1!$J$22/MAX(Circuit1!$J$26,1)","v":1.3024071678121785},1.2911960809397325,{"$f":"$AN$7*(1+AE2*Circuit1!$J$23*0.85/100)/MAX(Circuit1!$J$26,1)/1000","v":3.9235712624363771E-3},{"$f":"(U3+T3+S3+R3+Q3+P3+N3+M3+L3+J3+I3+B3+O3+K3)/A3/Circuit1!$B$3","v":0.1334043976899541},null,{"$f":"(A3*A3+((Circuit1!$B$8)^2)/3)*Circuit1!$J$9/1000*50","v":0.13716},null,0.92314564737029248,null,"QTOT_HS",{"$f":"(VLOOKUP(Circuit1!$F$16, MOSFETs!A1:S147,17,0)+(Circuit1!$F$4-4.5)*(VLOOKUP(Circuit1!$F$16, MOSFETs!A1:S147,18,0)-VLOOKUP(Circuit1!$F$16, MOSFETs!A1:S147,17,0))/5.5)","v":15.454545454545455}]
[{"$f":"Circuit1!$B$10/50*3","v":1.7999999999999998},{"$f":"AG3*Circuit1!$B$7/1000000*AC4*(A4*A4+((Circuit1!$B$8)^2)/3)*Circuit1!$B$5*1000","v":1.9435630135049252E-3},{"$f":"(Circuit1!$F$22+A4/(Circuit1!$F$23*Circuit1!$F$29))/(1+((Circuit1!$F$22+A4/(Circuit1!$F$23*Circuit1!$F$29))/Circuit1!$F$4)^(5))^(0.2)","v":1.7247806969769985},{"$f":"MAX((Circuit1!$F$4-C4), 0.001)/(Circuit1!$F$5+Circuit1!$F$28+Circuit1!$F$24/Circuit1!$F$29)","v":2.0598863541025167},{"$f":"C4/(Circuit1!$F$6+Circuit1!$F$28+Circuit1!$F$24/Circuit1!$F$29)","v":1.2408494222856106},{"$f":"(Circuit1!$F$20/1000000000+Circuit1!$F$21/2/1000000000)*MAX(Circuit1!$F$29,1)","v":8.0000000000000005E-9},3.4385633718999082E-9,6.4471964577814927E-9,{"$f":"0.5*Circuit1!$B$3*(G4*MAX(A4-Circuit1!$B$8, 0)+H4*(A4+Circuit1!$B$8))*Circuit1!$B$5*1000","v":6.3131074278535898E-2},{"$f":"MIN(MAX((1-AG3-Circuit1!$F$7/1000000000+Circuit1!$F$8/1000000000),0.001),1)*Circuit1!$B$7/1000000*AF4*(A4*A4+Circuit1!$B$8^2/3)*Circuit1!$B$5*1000","v":1.2372178331198525E-2},{"$f":"Circuit1!$B$3*$AN$2*Circuit1!$J$26*0.000000001*Circuit1!$B$5*1000","v":0.1812},{"$f":"Circuit1!$J$21*A4*(Circuit1!$F$7/1000000000+Circuit1!$F$8/1000000000)*Circuit1!$B$5*1000","v":3.1184999999999994E-2},{"$f":"A4*Circuit1!$B$4","v":2.1599999999999997},{"$f":"Circuit1!$F$4*($AN$3/1000000000*Circuit1!$F$29)*Circuit1!$B$5*1000+Circuit1!$F$4*Circuit1!$F$9/1000/2","v":4.1136363636363645E-2},{"$f":"Circuit1!$F$4*($AN$4/1000000000*Circuit1!$J$26)*Circuit1!$B$5*1000+Circuit1!$F$4*Circuit1!$F$9/1000/2","v":4.1136363636363645E-2},{"$f":"(A4*A4+((Circuit1!$B$8)^2)/3)*(Circuit1!$J$9+Circuit1!$J$12)/1000*(1+0.002*AE3)","v":9.0954274616925675E-3},{"$f":"Circuit1!$J$8/1000","v":0.05},{"$f":"0","v":0},{"$f":"(Circuit1!$F$19/1000000000000*Circuit1!$F$29)*Circuit1!$B$3*Circuit1!$B$3*Circuit1!$B$5*1000","v":8.7480000000000002E-2},0,{"$f":"Circuit1!$B$8*Circuit1!$B$8/3*Circuit1!$J$4/1000","v":1.9439999999999993E-3},0.80578254312625741,0.15255463729204083,4.3557178331198515E-2,6.1039427461692573E-2,4.1136363636363645E-2,{"$f":"W4*Circuit1!$F$25/MAX(Circuit1!$F$29,1)","v":7.4141553723931848},7.0649510727166689,{"$f":"$AN$6*(1+AB3*0.85*Circuit1!$F$26/100)/1000/MAX(Circuit1!$F$29,1)","v":4.0148141532458997E-3},{"$f":"X4*Circuit1!$J$22/MAX(Circuit1!$J$26,1)","v":2.1168788668962479},2.0874200969655754,{"$f":"$AN$7*(1+AE3*Circuit1!$J$23*0.85/100)/MAX(Circuit1!$J$26,1)/1000","v":3.9342926823251615E-3},{"$f":"(U4+T4+S4+R4+Q4+P4+N4+M4+L4+J4+I4+B4+O4+K4)/A4/Circuit1!$B$3","v":0.12410296159063237},"Rdson Correction Factor for LS",{"$f":"(A4*A4+((Circuit1!$B$8)^2)/3)*Circuit1!$J$9/1000*50","v":0.27215999999999996},null,0.94376615807465825,null,"QTOT_LS",{"$f":"(VLOOKUP(Circuit1!$J$16, MOSFETs!A1:S147,17,0)+(Circuit1!$F$4-4.5)*(VLOOKUP(Circuit1!$J$16, MOSFETs!A1:S147,18,0)-VLOOKUP(Circuit1!$J$16, MOSFETs!$A$2:$S4097,17,0))/5.5)","v":15.454545454545455}]
[{"$f":"Circuit1!$B$10/50*4","v":2.4},{"$f":"AG4*Circuit1!$B$7/1000000*AC5*(A5*A5+((Circuit1!$B$8)^2)/3)*Circuit1!$B$5*1000","v":3.0737151189454536E-3},{"$f":"(Circuit1!$F$22+A5/(Circuit1!$F$23*Circuit1!$F$29))/(1+((Circuit1!$F$22+A5/(Circuit1!$F$23*Circuit1!$F$29))/Circuit1!$F$4)^(5))^(0.2)","v":1.7335518721784824},{"$f":"MAX((Circuit1!$F$4-C5), 0.001)/(Circuit1!$F$5+Circuit1!$F$28+Circuit1!$F$24/Circuit1!$F$29)","v":2.0543698917116462},{"$f":"C5/(Circuit1!$F$6+Circuit1!$F$28+Circuit1!$F$24/Circuit1!$F$29)","v":1.2471596202722897},{"$f":"(Circuit1!$F$20/1000000000+Circuit1!$F$21/2/1000000000)*MAX(Circuit1!$F$29,1)","v":8.0000000000000005E-9},3.4467358866546799E-9,6.414575864999043E-9,{"$f":"0.5*Circuit1!$B$3*(G5*MAX(A5-Circuit1!$B$8, 0)+H5*(A5+Circuit1!$B$8))*Circuit1!$B$5*1000","v":8.0617246141742538E-2},{"$f":"MIN(MAX((1-AG4-Circuit1!$F$7/1000000000+Circuit1!$F$8/1000000000),0.001),1)*Circuit1!$B$7/1000000*AF5*(A5*A5+Circuit1!$B$8^2/3)*Circuit1!$B$5*1000","v":2.1258590364546512E-2},{"$f":"Circuit1!$B$3*$AN$2*Circuit1!$J$26*0.000000001*Circuit1!$B$5*1000","v":0.1812},{"$f":"Circuit1!$J$21*A5*(Circuit1!$F$7/1000000000+Circuit1!$F$8/1000000000)*Circuit1!$B$5*1000","v":4.1579999999999992E-2},{"$f":"A5*Circuit1!$B$4","v":2.88},{"$f":"Circuit1!$F$4*($AN$3/1000000000*Circuit1!$F$29)*Circuit1!$B$5*1000+Circuit1!$F$4*Circuit1!$F$9/1000/2","v":4.1136363636363645E-2},{"$f":"Circuit1!$F$4*($AN$4/1000000000*Circuit1!$J$26)*Circuit1!$B$5*1000+Circuit1!$F$4*Circuit1!$F$9/1000/2","v":4.1136363636363645E-2},{"$f":"(A5*A5+((Circuit1!$B$8)^2)/3)*(Circuit1!$J$9+Circuit1!$J$12)/1000*(1+0.002*AE4)","v":1.5436175643461111E-2},{"$f":"Circuit1!$J$8/1000","v":0.05},{"$f":"0","v":0},{"$f":"(Circuit1!$F$19/1000000000000*Circuit1!$F$29)*Circuit1!$B$3*Circuit1!$B$3*Circuit1!$B$5*1000","v":8.7480000000000002E-2},0,{"$f":"Circuit1!$B$8*Circuit1!$B$8/3*Circuit1!$J$4/1000","v":1.9439999999999993E-3},0.83602757381597192,0.17117096126068798,6.2838590364546504E-2,6.7380175643461118E-2,4.1136363636363645E-2,{"$f":"W5*Circuit1!$F$25/MAX(Circuit1!$F$29,1)","v":8.3189087172694354},7.8817894697520821,{"$f":"$AN$6*(1+AB4*0.85*Circuit1!$F$26/100)/1000/MAX(Circuit1!$F$29,1)","v":4.0280151987208803E-3},{"$f":"X5*Circuit1!$J$22/MAX(Circuit1!$J$26,1)","v":3.0539554917169602},2.9930185226891135,{"$f":"$AN$7*(1+AE4*Circuit1!$J$23*0.85/100)/MAX(Circuit1!$J$26,1)/1000","v":3.9472173939734618E-3},{"$f":"(U5+T5+S5+R5+Q5+P5+N5+M5+L5+J5+I5+B5+O5+K5)/A5/Circuit1!$B$3","v":0.1196132796715772},5.0000000000000001E-3,{"$f":"(A5*A5+((Circuit1!$B$8)^2)/3)*Circuit1!$J$9/1000*50","v":0.46115999999999996},null,0.95415337562144731]
[{"$f":"Circuit1!$B$10/50*5","v":3},{"$f":"AG5*Circuit1!$B$7/1000000*AC6*(A6*A6+((Circuit1!$B$8)^2)/3)*Circuit1!$B$5*1000","v":4.5384529802569764E-3},{"$f":"(Circuit1!$F$22+A6/(Circuit1!$F$23*Circuit1!$F$29))/(1+((Circuit1!$F$22+A6/(Circuit1!$F$23*Circuit1!$F$29))/Circuit1!$F$4)^(5))^(0.2)","v":1.7423217068080694},{"$f":"MAX((Circuit1!$F$4-C6), 0.001)/(Circuit1!$F$5+Circuit1!$F$28+Circuit1!$F$24/Circuit1!$F$29)","v":2.0488542724477554},{"$f":"C6/(Circuit1!$F$6+Circuit1!$F$28+Circuit1!$F$24/Circuit1!$F$29)","v":1.2534688538187551},{"$f":"(Circuit1!$F$20/1000000000+Circuit1!$F$21/2/1000000000)*MAX(Circuit1!$F$29,1)","v":8.0000000000000005E-9},3.4549460835623549E-9,6.382288619001265E-9,{"$f":"0.5*Circuit1!$B$3*(G6*MAX(A6-Circuit1!$B$8, 0)+H6*(A6+Circuit1!$B$8))*Circuit1!$B$5*1000","v":9.8019702137894654E-2},{"$f":"MIN(MAX((1-AG5-Circuit1!$F$7/1000000000+Circuit1!$F$8/1000000000),0.001),1)*Circuit1!$B$7/1000000*AF6*(A6*A6+Circuit1!$B$8^2/3)*Circuit1!$B$5*1000","v":3.2748317649657945E-2},{"$f":"Circuit1!$B$3*$AN$2*Circuit1!$J$26*0.000000001*Circuit1!$B$5*1000","v":0.1812},{"$f":"Circuit1!$J$21*A6*(Circuit1!$F$7/1000000000+Circuit1!$F$8/1000000000)*Circuit1!$B$5*1000","v":5.1974999999999993E-2},{"$f":"A6*Circuit1!$B$4","v":3.5999999999999996},{"$f":"Circuit1!$F$4*($AN$3/1000000000*Circuit1!$F$29)*Circuit1!$B$5*1000+Circuit1!$F$4*Circuit1!$F$9/1000/2","v":4.1136363636363645E-2},{"$f":"Circuit1!$F$4*($AN$4/1000000000*Circuit1!$J$26)*Circuit1!$B$5*1000+Circuit1!$F$4*Circuit1!$F$9/1000/2","v":4.1136363636363645E-2},{"$f":"(A6*A6+((Circuit1!$B$8)^2)/3)*(Circuit1!$J$9+Circuit1!$J$12)/1000*(1+0.002*AE5)","v":2.3612504261529117E-2},{"$f":"Circuit1!$J$8/1000","v":0.05},{"$f":"0","v":0},{"$f":"(Circuit1!$F$19/1000000000000*Circuit1!$F$29)*Circuit1!$B$3*Circuit1!$B$3*Circuit1!$B$5*1000","v":8.7480000000000002E-2},0,{"$f":"Circuit1!$B$8*Circuit1!$B$8/3*Circuit1!$J$4/1000","v":1.9439999999999993E-3},0.85433763863131185,0.19003815511815164,8.4723317649657931E-2,7.5556504261529128E-2,4.1136363636363645E-2,{"$f":"W6*Circuit1!$F$25/MAX(Circuit1!$F$29,1)","v":9.2358543387421701},8.7001646492517501,{"$f":"$AN$6*(1+AB5*0.85*Circuit1!$F$26/100)/1000/MAX(Circuit1!$F$29,1)","v":4.0412745334463471E-3},{"$f":"X6*Circuit1!$J$22/MAX(Circuit1!$J$26,1)","v":4.1175532377733752},4.0075447130484791,{"$f":"$AN$7*(1+AE5*Circuit1!$J$23*0.85/100)/MAX(Circuit1!$J$26,1)/1000","v":3.9619175264563409E-3},{"$f":"(U6+T6+S6+R6+Q6+P6+N6+M6+L6+J6+I6+B6+O6+K6)/A6/Circuit1!$B$3","v":0.1170497417861685},null,{"$f":"(A6*A6+((Circuit1!$B$8)^2)/3)*Circuit1!$J$9/1000*50","v":0.70416000000000001},null,0.96027539078623703,null,"RonHS(VGS)",{"$f":"(VLOOKUP(Circuit1!$F$16,MOSFETs!A1:S147,2,0)+(Circuit1!$F$4-4.5)*(VLOOKUP(Circuit1!$F$16,MOSFETs!A1:S147,13,0)-VLOOKUP(Circuit1!$F$16,MOSFETs!A1:S147,2,0))/7.5)","v":3.9133333333333336}]
[{"$f":"Circuit1!$B$10/50*6","v":3.5999999999999996},{"$f":"AG6*Circuit1!$B$7/1000000*AC7*(A7*A7+((Circuit1!$B$8)^2)/3)*Circuit1!$B$5*1000","v":6.3351410787750185E-3},{"$f":"(Circuit1!$F$22+A7/(Circuit1!$F$23*Circuit1!$F$29))/(1+((Circuit1!$F$22+A7/(Circuit1!$F$23*Circuit1!$F$29))/Circuit1!$F$4)^(5))^(0.2)","v":1.7510901737788021},{"$f":"MAX((Circuit1!$F$4-C7), 0.001)/(Circuit1!$F$5+Circuit1!$F$28+Circuit1!$F$24/Circuit1!$F$29)","v":2.0433395133466656},{"$f":"C7/(Circuit1!$F$6+Circuit1!$F$28+Circuit1!$F$24/Circuit1!$F$29)","v":1.2597771034379872},{"$f":"(Circuit1!$F$20/1000000000+Circuit1!$F$21/2/1000000000)*MAX(Circuit1!$F$29,1)","v":8.0000000000000005E-9},3.4631941980145821E-9,6.3503297354489524E-9,{"$f":"0.5*Circuit1!$B$3*(G7*MAX(A7-Circuit1!$B$8, 0)+H7*(A7+Circuit1!$B$8))*Circuit1!$B$5*1000","v":0.1153403776226935},{"$f":"MIN(MAX((1-AG6-Circuit1!$F$7/1000000000+Circuit1!$F$8/1000000000),0.001),1)*Circuit1!$B$7/1000000*AF7*(A7*A7+Circuit1!$B$8^2/3)*Circuit1!$B$5*1000","v":4.6890553163488717E-2},{"$f":"Circuit1!$B$3*$AN$2*Circuit1!$J$26*0.000000001*Circuit1!$B$5*1000","v":0.1812},{"$f":"Circuit1!$J$21*A7*(Circuit1!$F$7/1000000000+Circuit1!$F$8/1000000000)*Circuit1!$B$5*1000","v":6.2369999999999988E-2},{"$f":"A7*Circuit1!$B$4","v":4.3199999999999994},{"$f":"Circuit1!$F$4*($AN$3/1000000000*Circuit1!$F$29)*Circuit1!$B$5*1000+Circuit1!$F$4*Circuit1!$F$9/1000/2","v":4.1136363636363645E-2},{"$f":"Circuit1!$F$4*($AN$4/1000000000*Circuit1!$J$26)*Circuit1!$B$5*1000+Circuit1!$F$4*Circuit1!$F$9/1000/2","v":4.1136363636363645E-2},{"$f":"(A7*A7+((Circuit1!$B$8)^2)/3)*(Circuit1!$J$9+Circuit1!$J$12)/1000*(1+0.002*AE6)","v":3.3639479564327696E-2},{"$f":"Circuit1!$J$8/1000","v":0.05},{"$f":"0","v":0},{"$f":"(Circuit1!$F$19/1000000000000*Circuit1!$F$29)*Circuit1!$B$3*Circuit1!$B$3*Circuit1!$B$5*1000","v":8.7480000000000002E-2},0,{"$f":"Circuit1!$B$8*Circuit1!$B$8/3*Circuit1!$J$4/1000","v":1.9439999999999993E-3},0.86617022784220443,0.20915551870146853,0.10926055316348871,8.55834795643277E-2,4.1136363636363645E-2,{"$f":"W7*Circuit1!$F$25/MAX(Circuit1!$F$29,1)","v":10.16495820889137},9.5198334790878185,{"$f":"$AN$6*(1+AB6*0.85*Circuit1!$F$26/100)/1000/MAX(Circuit1!$F$29,1)","v":4.0545588140034105E-3},{"$f":"X7*Circuit1!$J$22/MAX(Circuit1!$J$26,1)","v":5.3100628837455508},5.1285114291534661,{"$f":"$AN$7*(1+AE6*Circuit1!$J$23*0.85/100)/MAX(Circuit1!$J$26,1)/1000","v":3.978385829604858E-3},{"$f":"(U7+T7+S7+R7+Q7+P7+N7+M7+L7+J7+I7+B7+O7+K7)/A7/Circuit1!$B$3","v":0.1154507471921762},"Factor for LL",{"$f":"(A7*A7+((Circuit1!$B$8)^2)/3)*Circuit1!$J$9/1000*50","v":1.0011599999999998},null,0.96421342793757736,null,"RonLS(VGS)",{"$f":"(VLOOKUP(Circuit1!$J$16,MOSFETs!A1:S147,2,0)+(Circuit1!$F$4-4.5)*(VLOOKUP(Circuit1!$J$16,MOSFETs!A1:S147,13,0)-VLOOKUP(Circuit1!$J$16,MOSFETs!A1:S147,2,0))/7.5)","v":3.9133333333333336}]
[{"$f":"Circuit1!$B$10/50*7","v":4.2},{"$f":"AG7*Circuit1!$B$7/1000000*AC8*(A8*A8+((Circuit1!$B$8)^2)/3)*Circuit1!$B$5*1000","v":8.4670086567242096E-3},{"$f":"(Circuit1!$F$22+A8/(Circuit1!$F$23*Circuit1!$F$29))/(1+((Circuit1!$F$22+A8/(Circuit1!$F$23*Circuit1!$F$29))/Circuit1!$F$4)^(5))^(0.2)","v":1.7598572456072665},{"$f":"MAX((Circuit1!$F$4-C8), 0.001)/(Circuit1!$F$5+Circuit1!$F$28+Circuit1!$F$24/Circuit1!$F$29)","v":2.0378256316935435},{"$f":"C8/(Circuit1!$F$6+Circuit1!$F$28+Circuit1!$F$24/Circuit1!$F$29)","v":1.2660843493577458},{"$f":"(Circuit1!$F$20/1000000000+Circuit1!$F$21/2/1000000000)*MAX(Circuit1!$F$29,1)","v":8.0000000000000005E-9},3.4714804669525247E-9,6.3186943303249967E-9,{"$f":"0.5*Circuit1!$B$3*(G8*MAX(A8-Circuit1!$B$8, 0)+H8*(A8+Circuit1!$B$8))*Circuit1!$B$5*1000","v":0.13258117536302358},{"$f":"MIN(MAX((1-AG7-Circuit1!$F$7/1000000000+Circuit1!$F$8/1000000000),0.001),1)*Circuit1!$B$7/1000000*AF8*(A8*A8+Circuit1!$B$8^2/3)*Circuit1!$B$5*1000","v":6.3734935985916202E-2},{"$f":"Circuit1!$B$3*$AN$2*Circuit1!$J$26*0.000000001*Circuit1!$B$5*1000","v":0.1812},{"$f":"Circuit1!$J$21*A8*(Circuit1!$F$7/1000000000+Circuit1!$F$8/1000000000)*Circuit1!$B$5*1000","v":7.2764999999999996E-2},{"$f":"A8*Circuit1!$B$4","v":5.04},{"$f":"Circuit1!$F$4*($AN$3/1000000000*Circuit1!$F$29)*Circuit1!$B$5*1000+Circuit1!$F$4*Circuit1!$F$9/1000/2","v":4.1136363636363645E-2},{"$f":"Circuit1!$F$4*($AN$4/1000000000*Circuit1!$J$26)*Circuit1!$B$5*1000+Circuit1!$F$4*Circuit1!$F$9/1000/2","v":4.1136363636363645E-2},{"$f":"(A8*A8+((Circuit1!$B$8)^2)/3)*(Circuit1!$J$9+Circuit1!$J$12)/1000*(1+0.002*AE7)","v":4.5534304534269612E-2},{"$f":"Circuit1!$J$8/1000","v":0.05},{"$f":"0","v":0},{"$f":"(Circuit1!$F$19/1000000000000*Circuit1!$F$29)*Circuit1!$B$3*Circuit1!$B$3*Circuit1!$B$5*1000","v":8.7480000000000002E-2},0,{"$f":"Circuit1!$B$8*Circuit1!$B$8/3*Circuit1!$J$4/1000","v":1.9439999999999993E-3},0.87409265058052921,0.22852818401974778,0.1364999359859162,9.7478304534269616E-2,4.1136363636363645E-2,{"$f":"W8*Circuit1!$F$25/MAX(Circuit1!$F$29,1)","v":11.106469743359742},10.340804215732787,{"$f":"$AN$6*(1+AB7*0.85*Circuit1!$F$26/100)/1000/MAX(Circuit1!$F$29,1)","v":4.0678640937481837E-3},{"$f":"X8*Circuit1!$J$22/MAX(Circuit1!$J$26,1)","v":6.6338968889155279},6.3529322394567078,{"$f":"$AN$7*(1+AE7*Circuit1!$J$23*0.85/100)/MAX(Circuit1!$J$26,1)/1000","v":3.9965819292971435E-3},{"$f":"(U8+T8+S8+R8+Q8+P8+N8+M8+L8+J8+I8+B8+O8+K8)/A8/Circuit1!$B$3","v":0.1144043482502512},5.0000000000000001E-3,{"$f":"(A8*A8+((Circuit1!$B$8)^2)/3)*Circuit1!$J$9/1000*50","v":1.35216},null,0.96683708074968333]
[{"$f":"Circuit1!$B$10/50*8","v":4.8},{"$f":"AG8*Circuit1!$B$7/1000000*AC9*(A9*A9+((Circuit1!$B$8)^2)/3)*Circuit1!$B$5*1000","v":1.0939045887179146E-2},{"$f":"(Circuit1!$F$22+A9/(Circuit1!$F$23*Circuit1!$F$29))/(1+((Circuit1!$F$22+A9/(Circuit1!$F$23*Circuit1!$F$29))/Circuit1!$F$4)^(5))^(0.2)","v":1.7686228944102931},{"$f":"MAX((Circuit1!$F$4-C9), 0.001)/(Circuit1!$F$5+Circuit1!$F$28+Circuit1!$F$24/Circuit1!$F$29)","v":2.0323126450249731},{"$f":"C9/(Circuit1!$F$6+Circuit1!$F$28+Circuit1!$F$24/Circuit1!$F$29)","v":1.2723905715181965},{"$f":"(Circuit1!$F$20/1000000000+Circuit1!$F$21/2/1000000000)*MAX(Circuit1!$F$29,1)","v":8.0000000000000005E-9},3.4798051288740933E-9,6.2873776174359151E-9,{"$f":"0.5*Circuit1!$B$3*(G9*MAX(A9-Circuit1!$B$8, 0)+H9*(A9+Circuit1!$B$8))*Circuit1!$B$5*1000","v":0.14974396640980442},{"$f":"MIN(MAX((1-AG8-Circuit1!$F$7/1000000000+Circuit1!$F$8/1000000000),0.001),1)*Circuit1!$B$7/1000000*AF9*(A9*A9+Circuit1!$B$8^2/3)*Circuit1!$B$5*1000","v":8.3335236570393476E-2},{"$f":"Circuit1!$B$3*$AN$2*Circuit1!$J$26*0.000000001*Circuit1!$B$5*1000","v":0.1812},{"$f":"Circuit1!$J$21*A9*(Circuit1!$F$7/1000000000+Circuit1!$F$8/1000000000)*Circuit1!$B$5*1000","v":8.3159999999999984E-2},{"$f":"A9*Circuit1!$B$4","v":5.76},{"$f":"Circuit1!$F$4*($AN$3/1000000000*Circuit1!$F$29)*Circuit1!$B$5*1000+Circuit1!$F$4*Circuit1!$F$9/1000/2","v":4.1136363636363645E-2},{"$f":"Circuit1!$F$4*($AN$4/1000000000*Circuit1!$J$26)*Circuit1!$B$5*1000+Circuit1!$F$4*Circuit1!$F$9/1000/2","v":4.1136363636363645E-2},{"$f":"(A9*A9+((Circuit1!$B$8)^2)/3)*(Circuit1!$J$9+Circuit1!$J$12)/1000*(1+0.002*AE8)","v":5.9316207894258913E-2},{"$f":"Circuit1!$J$8/1000","v":0.05},{"$f":"0","v":0},{"$f":"(Circuit1!$F$19/1000000000000*Circuit1!$F$29)*Circuit1!$B$3*Circuit1!$B$3*Circuit1!$B$5*1000","v":8.7480000000000002E-2},0,{"$f":"Circuit1!$B$8*Circuit1!$B$8/3*Circuit1!$J$4/1000","v":1.9439999999999993E-3},0.87947105893465571,0.24816301229698357,0.16649523657039345,0.11126020789425892,4.1136363636363645E-2,{"$f":"W9*Circuit1!$F$25/MAX(Circuit1!$F$29,1)","v":12.060722397633402},11.163151273669929,{"$f":"$AN$6*(1+AB8*0.85*Circuit1!$F$26/100)/1000/MAX(Circuit1!$F$29,1)","v":4.0811905067039099E-3},{"$f":"X9*Circuit1!$J$22/MAX(Circuit1!$J$26,1)","v":8.0916684973211215},7.6775094230771268,{"$f":"$AN$7*(1+AE8*Circuit1!$J$23*0.85/100)/MAX(Circuit1!$J$26,1)/1000","v":4.0164573482631962E-3},{"$f":"(U9+T9+S9+R9+Q9+P9+N9+M9+L9+J9+I9+B9+O9+K9)/A9/Circuit1!$B$3","v":0.11370470805615214},null,{"$f":"(A9*A9+((Circuit1!$B$8)^2)/3)*Circuit1!$J$9/1000*50","v":1.7571600000000001},null,0.96797800067973172]
[{"$f":"Circuit1!$B$10/50*9","v":5.3999999999999995},{"$f":"AG9*Circuit1!$B$7/1000000*AC10*(A10*A10+((Circuit1!$B$8)^2)/3)*Circuit1!$B$5*1000","v":1.3756987280082882E-2},{"$f":"(Circuit1!$F$22+A10/(Circuit1!$F$23*Circuit1!$F$29))/(1+((Circuit1!$F$22+A10/(Circuit1!$F$23*Circuit1!$F$29))/Circuit1!$F$4)^(5))^(0.2)","v":1.777387091901655},{"$f":"MAX((Circuit1!$F$4-C10), 0.001)/(Circuit1!$F$5+Circuit1!$F$28+Circuit1!$F$24/Circuit1!$F$29)","v":2.0268005711310346},{"$f":"C10/(Circuit1!$F$6+Circuit1!$F$28+Circuit1!$F$24/Circuit1!$F$29)","v":1.2786957495695361},{"$f":"(Circuit1!$F$20/1000000000+Circuit1!$F$21/2/1000000000)*MAX(Circuit1!$F$29,1)","v":8.0000000000000005E-9},3.4881684238410967E-9,6.2563749059877176E-9,{"$f":"0.5*Circuit1!$B$3*(G10*MAX(A10-Circuit1!$B$8, 0)+H10*(A10+Circuit1!$B$8))*Circuit1!$B$5*1000","v":0.16683059094538183},{"$f":"MIN(MAX((1-AG9-Circuit1!$F$7/1000000000+Circuit1!$F$8/1000000000),0.001),1)*Circuit1!$B$7/1000000*AF10*(A10*A10+Circuit1!$B$8^2/3)*Circuit1!$B$5*1000","v":0.10574994269945334},{"$f":"Circuit1!$B$3*$AN$2*Circuit1!$J$26*0.000000001*Circuit1!$B$5*1000","v":0.1812},{"$f":"Circuit1!$J$21*A10*(Circuit1!$F$7/1000000000+Circuit1!$F$8/1000000000)*Circuit1!$B$5*1000","v":9.3554999999999972E-2},{"$f":"A10*Circuit1!$B$4","v":6.4799999999999995},{"$f":"Circuit1!$F$4*($AN$3/1000000000*Circuit1!$F$29)*Circuit1!$B$5*1000+Circuit1!$F$4*Circuit1!$F$9/1000/2","v":4.1136363636363645E-2},{"$f":"Circuit1!$F$4*($AN$4/1000000000*Circuit1!$J$26)*Circuit1!$B$5*1000+Circuit1!$F$4*Circuit1!$F$9/1000/2","v":4.1136363636363645E-2},{"$f":"(A10*A10+((Circuit1!$B$8)^2)/3)*(Circuit1!$J$9+Circuit1!$J$12)/1000*(1+0.002*AE9)","v":7.5006305952203076E-2},{"$f":"Circuit1!$J$8/1000","v":0.05},{"$f":"0","v":0},{"$f":"(Circuit1!$F$19/1000000000000*Circuit1!$F$29)*Circuit1!$B$3*Circuit1!$B$3*Circuit1!$B$5*1000","v":8.7480000000000002E-2},0,{"$f":"Circuit1!$B$8*Circuit1!$B$8/3*Circuit1!$J$4/1000","v":1.9439999999999993E-3},0.88309901143747105,0.26806757822546468,0.19930494269945331,0.12695030595220308,4.1136363636363645E-2,{"$f":"W10*Circuit1!$F$25/MAX(Circuit1!$F$29,1)","v":13.028084301757584},11.986969322699508,{"$f":"$AN$6*(1+AB9*0.85*Circuit1!$F$26/100)/1000/MAX(Circuit1!$F$29,1)","v":4.0945392608041893E-3},{"$f":"X10*Circuit1!$J$22/MAX(Circuit1!$J$26,1)","v":9.6862202151934316},9.0986750786701549,{"$f":"$AN$7*(1+AE9*Circuit1!$J$23*0.85/100)/MAX(Circuit1!$J$26,1)/1000","v":4.0379585562268288E-3},{"$f":"(U10+T10+S10+R10+Q10+P10+N10+M10+L10+J10+I10+B10+O10+K10)/A10/Circuit1!$B$3","v":0.113237585712189},null,{"$f":"(A10*A10+((Circuit1!$B$8)^2)/3)*Circuit1!$J$9/1000*50","v":2.2161599999999995},null,0.9687247812496661]
[{"$f":"Circuit1!$B$10/50*10","v":6},{"$f":"AG10*Circuit1!$B$7/1000000*AC11*(A11*A11+((Circuit1!$B$8)^2)/3)*Circuit1!$B$5*1000","v":1.6926979007775123E-2},{"$f":"(Circuit1!$F$22+A11/(Circuit1!$F$23*Circuit1!$F$29))/(1+((Circuit1!$F$22+A11/(Circuit1!$F$23*Circuit1!$F$29))/Circuit1!$F$4)^(5))^(0.2)","v":1.786149809388784},{"$f":"MAX((Circuit1!$F$4-C11), 0.001)/(Circuit1!$F$5+Circuit1!$F$28+Circuit1!$F$24/Circuit1!$F$29)","v":2.0212894280573686},{"$f":"C11/(Circuit1!$F$6+Circuit1!$F$28+Circuit1!$F$24/Circuit1!$F$29)","v":1.2849998628696289},{"$f":"(Circuit1!$F$20/1000000000+Circuit1!$F$21/2/1000000000)*MAX(Circuit1!$F$29,1)","v":8.0000000000000005E-9},3.4965705934863806E-9,6.2256815982334855E-9,{"$f":"0.5*Circuit1!$B$3*(G11*MAX(A11-Circuit1!$B$8, 0)+H11*(A11+Circuit1!$B$8))*Circuit1!$B$5*1000","v":0.18384285910633821},{"$f":"MIN(MAX((1-AG10-Circuit1!$F$7/1000000000+Circuit1!$F$8/1000000000),0.001),1)*Circuit1!$B$7/1000000*AF11*(A11*A11+Circuit1!$B$8^2/3)*Circuit1!$B$5*1000","v":0.13104213157954658},{"$f":"Circuit1!$B$3*$AN$2*Circuit1!$J$26*0.000000001*Circuit1!$B$5*1000","v":0.1812},{"$f":"Circuit1!$J$21*A11*(Circuit1!$F$7/1000000000+Circuit1!$F$8/1000000000)*Circuit1!$B$5*1000","v":0.10394999999999999},{"$f":"A11*Circuit1!$B$4","v":7.1999999999999993},{"$f":"Circuit1!$F$4*($AN$3/1000000000*Circuit1!$F$29)*Circuit1!$B$5*1000+Circuit1!$F$4*Circuit1!$F$9/1000/2","v":4.1136363636363645E-2},{"$f":"Circuit1!$F$4*($AN$4/1000000000*Circuit1!$J$26)*Circuit1!$B$5*1000+Circuit1!$F$4*Circuit1!$F$9/1000/2","v":4.1136363636363645E-2},{"$f":"(A11*A11+((Circuit1!$B$8)^2)/3)*(Circuit1!$J$9+Circuit1!$J$12)/1000*(1+0.002*AE10)","v":9.2627449338513565E-2},{"$f":"Circuit1!$J$8/1000","v":0.05},{"$f":"0","v":0},{"$f":"(Circuit1!$F$19/1000000000000*Circuit1!$F$29)*Circuit1!$B$3*Circuit1!$B$3*Circuit1!$B$5*1000","v":8.7480000000000002E-2},0,{"$f":"Circuit1!$B$8*Circuit1!$B$8/3*Circuit1!$J$4/1000","v":1.9439999999999993E-3},0.88546877707309501,0.28824983811411331,0.23499213157954657,0.14457144933851357,4.1136363636363645E-2,{"$f":"W11*Circuit1!$F$25/MAX(Circuit1!$F$29,1)","v":14.008942132345908},12.812358232005563,{"$f":"$AN$6*(1+AB10*0.85*Circuit1!$F$26/100)/1000/MAX(Circuit1!$F$29,1)","v":4.1079118927771826E-3},{"$f":"X11*Circuit1!$J$22/MAX(Circuit1!$J$26,1)","v":11.420617594765964},10.612601195192314,{"$f":"$AN$7*(1+AE10*Circuit1!$J$23*0.85/100)/MAX(Circuit1!$J$26,1)/1000","v":4.0610276372056806E-3},{"$f":"(U11+T11+S11+R11+Q11+P11+N11+M11+L11+J11+I11+B11+O11+K11)/A11/Circuit1!$B$3","v":0.11293452980979028},{"$f":"Circuit1!$B$8^2/3","v":0.38879999999999987},{"$f":"(A11*A11+((Circuit1!$B$8)^2)/3)*Circuit1!$J$9/1000*50","v":2.7291600000000003},null,0.96919653628626146]
[{"$f":"Circuit1!$B$10/50*11","v":6.6},{"$f":"AG11*Circuit1!$B$7/1000000*AC12*(A12*A12+((Circuit1!$B$8)^2)/3)*Circuit1!$B$5*1000","v":2.0455450791895719E-2},{"$f":"(Circuit1!$F$22+A12/(Circuit1!$F$23*Circuit1!$F$29))/(1+((Circuit1!$F$22+A12/(Circuit1!$F$23*Circuit1!$F$29))/Circuit1!$F$4)^(5))^(0.2)","v":1.7949110177694887},{"$f":"MAX((Circuit1!$F$4-C12), 0.001)/(Circuit1!$F$5+Circuit1!$F$28+Circuit1!$F$24/Circuit1!$F$29)","v":2.01577923410724},{"$f":"C12/(Circuit1!$F$6+Circuit1!$F$28+Circuit1!$F$24/Circuit1!$F$29)","v":1.2913028904816466},{"$f":"(Circuit1!$F$20/1000000000+Circuit1!$F$21/2/1000000000)*MAX(Circuit1!$F$29,1)","v":8.0000000000000005E-9},3.5050118810209036E-9,6.1952931871902324E-9,{"$f":"0.5*Circuit1!$B$3*(G12*MAX(A12-Circuit1!$B$8, 0)+H12*(A12+Circuit1!$B$8))*Circuit1!$B$5*1000","v":0.2007825517825691},{"$f":"MIN(MAX((1-AG11-Circuit1!$F$7/1000000000+Circuit1!$F$8/1000000000),0.001),1)*Circuit1!$B$7/1000000*AF12*(A12*A12+Circuit1!$B$8^2/3)*Circuit1!$B$5*1000","v":0.15927910030992354},{"$f":"Circuit1!$B$3*$AN$2*Circuit1!$J$26*0.000000001*Circuit1!$B$5*1000","v":0.1812},{"$f":"Circuit1!$J$21*A12*(Circuit1!$F$7/1000000000+Circuit1!$F$8/1000000000)*Circuit1!$B$5*1000","v":0.11434499999999997},{"$f":"A12*Circuit1!$B$4","v":7.919999999999999},{"$f":"Circuit1!$F$4*($AN$3/1000000000*Circuit1!$F$29)*Circuit1!$B$5*1000+Circuit1!$F$4*Circuit1!$F$9/1000/2","v":4.1136363636363645E-2},{"$f":"Circuit1!$F$4*($AN$4/1000000000*Circuit1!$J$26)*Circuit1!$B$5*1000+Circuit1!$F$4*Circuit1!$F$9/1000/2","v":4.1136363636363645E-2},{"$f":"(A12*A12+((Circuit1!$B$8)^2)/3)*(Circuit1!$J$9+Circuit1!$J$12)/1000*(1+0.002*AE11)","v":0.11220405543703635},{"$f":"Circuit1!$J$8/1000","v":0.05},{"$f":"0","v":0},{"$f":"(Circuit1!$F$19/1000000000000*Circuit1!$F$29)*Circuit1!$B$3*Circuit1!$B$3*Circuit1!$B$5*1000","v":8.7480000000000002E-2},0,{"$f":"Circuit1!$B$8*Circuit1!$B$8/3*Circuit1!$J$4/1000","v":1.9439999999999993E-3},0.88690178240007833,0.3087180025744648,0.27362410030992351,0.16414805543703637,4.1136363636363645E-2,{"$f":"W12*Circuit1!$F$25/MAX(Circuit1!$F$29,1)","v":15.003694925118991},13.639417225106275,{"$f":"$AN$6*(1+AB11*0.85*Circuit1!$F$26/100)/1000/MAX(Circuit1!$F$29,1)","v":4.1213100237500857E-3},{"$f":"X12*Circuit1!$J$22/MAX(Circuit1!$J$26,1)","v":13.298131275062284},12.21520219297183,{"$f":"$AN$7*(1+AE11*Circuit1!$J$23*0.85/100)/MAX(Circuit1!$J$26,1)/1000","v":4.0856024529849679E-3},{"$f":"(U12+T12+S12+R12+Q12+P12+N12+M12+L12+J12+I12+B12+O12+K12)/A12/Circuit1!$B$3","v":0.11275205663628979},null,{"$f":"(A12*A12+((Circuit1!$B$8)^2)/3)*Circuit1!$J$9/1000*50","v":3.2961599999999995},null,0.96946615087223598]
[{"$f":"Circuit1!$B$10/50*12","v":7.1999999999999993},{"$f":"AG12*Circuit1!$B$7/1000000*AC13*(A13*A13+((Circuit1!$B$8)^2)/3)*Circuit1!$B$5*1000","v":2.4349061582816502E-2},{"$f":"(Circuit1!$F$22+A13/(Circuit1!$F$23*Circuit1!$F$29))/(1+((Circuit1!$F$22+A13/(Circuit1!$F$23*Circuit1!$F$29))/Circuit1!$F$4)^(5))^(0.2)","v":1.8036706875286896},{"$f":"MAX((Circuit1!$F$4-C13), 0.001)/(Circuit1!$F$5+Circuit1!$F$28+Circuit1!$F$24/Circuit1!$F$29)","v":2.0102700078435918},{"$f":"C13/(Circuit1!$F$6+Circuit1!$F$28+Circuit1!$F$24/Circuit1!$F$29)","v":1.2976048111717193},{"$f":"(Circuit1!$F$20/1000000000+Circuit1!$F$21/2/1000000000)*MAX(Circuit1!$F$29,1)","v":8.0000000000000005E-9},3.5134925312407742E-9,6.1652052544226545E-9,{"$f":"0.5*Circuit1!$B$3*(G13*MAX(A13-Circuit1!$B$8, 0)+H13*(A13+Circuit1!$B$8))*Circuit1!$B$5*1000","v":0.21765142139343935},{"$f":"MIN(MAX((1-AG12-Circuit1!$F$7/1000000000+Circuit1!$F$8/1000000000),0.001),1)*Circuit1!$B$7/1000000*AF13*(A13*A13+Circuit1!$B$8^2/3)*Circuit1!$B$5*1000","v":0.1905318837928886},{"$f":"Circuit1!$B$3*$AN$2*Circuit1!$J$26*0.000000001*Circuit1!$B$5*1000","v":0.1812},{"$f":"Circuit1!$J$21*A13*(Circuit1!$F$7/1000000000+Circuit1!$F$8/1000000000)*Circuit1!$B$5*1000","v":0.12473999999999998},{"$f":"A13*Circuit1!$B$4","v":8.6399999999999988},{"$f":"Circuit1!$F$4*($AN$3/1000000000*Circuit1!$F$29)*Circuit1!$B$5*1000+Circuit1!$F$4*Circuit1!$F$9/1000/2","v":4.1136363636363645E-2},{"$f":"Circuit1!$F$4*($AN$4/1000000000*Circuit1!$J$26)*Circuit1!$B$5*1000+Circuit1!$F$4*Circuit1!$F$9/1000/2","v":4.1136363636363645E-2},{"$f":"(A13*A13+((Circuit1!$B$8)^2)/3)*(Circuit1!$J$9+Circuit1!$J$12)/1000*(1+0.002*AE12)","v":0.13376192676148138},{"$f":"Circuit1!$J$8/1000","v":0.05},{"$f":"0","v":0},{"$f":"(Circuit1!$F$19/1000000000000*Circuit1!$F$29)*Circuit1!$B$3*Circuit1!$B$3*Circuit1!$B$5*1000","v":8.7480000000000002E-2},0,{"$f":"Circuit1!$B$8*Circuit1!$B$8/3*Circuit1!$J$4/1000","v":1.9439999999999993E-3},0.88761672766476329,0.32948048297625587,0.31527188379288856,0.1857059267614814,4.1136363636363645E-2,{"$f":"W13*Circuit1!$F$25/MAX(Circuit1!$F$29,1)","v":16.012751472646038},14.468242346387889,{"$f":"$AN$6*(1+AB12*0.85*Circuit1!$F$26/100)/1000/MAX(Circuit1!$F$29,1)","v":4.1347352643693195E-3},{"$f":"X13*Circuit1!$J$22/MAX(Circuit1!$J$26,1)","v":15.322213552334384},13.902136823994303,{"$f":"$AN$7*(1+AE12*Circuit1!$J$23*0.85/100)/MAX(Circuit1!$J$26,1)/1000","v":4.11161668436543E-3},{"$f":"(U13+T13+S13+R13+Q13+P13+N13+M13+L13+J13+I13+B13+O13+K13)/A13/Circuit1!$B$3","v":0.11266123866670545},null,{"$f":"(A13*A13+((Circuit1!$B$8)^2)/3)*Circuit1!$J$9/1000*50","v":3.91716},null,0.96958237210638065]
[{"$f":"Circuit1!$B$10/50*13","v":7.8},{"$f":"AG13*Circuit1!$B$7/1000000*AC14*(A14*A14+((Circuit1!$B$8)^2)/3)*Circuit1!$B$5*1000","v":2.8614675384204955E-2},{"$f":"(Circuit1!$F$22+A14/(Circuit1!$F$23*Circuit1!$F$29))/(1+((Circuit1!$F$22+A14/(Circuit1!$F$23*Circuit1!$F$29))/Circuit1!$F$4)^(5))^(0.2)","v":1.8124287887351593},{"$f":"MAX((Circuit1!$F$4-C14), 0.001)/(Circuit1!$F$5+Circuit1!$F$28+Circuit1!$F$24/Circuit1!$F$29)","v":2.004761768091095},{"$f":"C14/(Circuit1!$F$6+Circuit1!$F$28+Circuit1!$F$24/Circuit1!$F$29)","v":1.3039056034065895},{"$f":"(Circuit1!$F$20/1000000000+Circuit1!$F$21/2/1000000000)*MAX(Circuit1!$F$29,1)","v":8.0000000000000005E-9},3.5220127905342381E-9,6.1354134678915141E-9,{"$f":"0.5*Circuit1!$B$3*(G14*MAX(A14-Circuit1!$B$8, 0)+H14*(A14+Circuit1!$B$8))*Circuit1!$B$5*1000","v":0.23445119264180017},{"$f":"MIN(MAX((1-AG13-Circuit1!$F$7/1000000000+Circuit1!$F$8/1000000000),0.001),1)*Circuit1!$B$7/1000000*AF14*(A14*A14+Circuit1!$B$8^2/3)*Circuit1!$B$5*1000","v":0.22487470447063951},{"$f":"Circuit1!$B$3*$AN$2*Circuit1!$J$26*0.000000001*Circuit1!$B$5*1000","v":0.1812},{"$f":"Circuit1!$J$21*A14*(Circuit1!$F$7/1000000000+Circuit1!$F$8/1000000000)*Circuit1!$B$5*1000","v":0.13513499999999995},{"$f":"A14*Circuit1!$B$4","v":9.36},{"$f":"Circuit1!$F$4*($AN$3/1000000000*Circuit1!$F$29)*Circuit1!$B$5*1000+Circuit1!$F$4*Circuit1!$F$9/1000/2","v":4.1136363636363645E-2},{"$f":"Circuit1!$F$4*($AN$4/1000000000*Circuit1!$J$26)*Circuit1!$B$5*1000+Circuit1!$F$4*Circuit1!$F$9/1000/2","v":4.1136363636363645E-2},{"$f":"(A14*A14+((Circuit1!$B$8)^2)/3)*(Circuit1!$J$9+Circuit1!$J$12)/1000*(1+0.002*AE13)","v":0.15732805577584494},{"$f":"Circuit1!$J$8/1000","v":0.05},{"$f":"0","v":0},{"$f":"(Circuit1!$F$19/1000000000000*Circuit1!$F$29)*Circuit1!$B$3*Circuit1!$B$3*Circuit1!$B$5*1000","v":8.7480000000000002E-2},0,{"$f":"Circuit1!$B$8*Circuit1!$B$8/3*Circuit1!$J$4/1000","v":1.9439999999999993E-3},0.88776755706073918,0.35054586802600513,0.36000970447063946,0.20927205577584496,4.1136363636363645E-2,{"$f":"W14*Circuit1!$F$25/MAX(Circuit1!$F$29,1)","v":17.036529186063849},15.298925273183809,{"$f":"$AN$6*(1+AB13*0.85*Circuit1!$F$26/100)/1000/MAX(Circuit1!$F$29,1)","v":4.1481891736760241E-3},{"$f":"X14*Circuit1!$J$22/MAX(Circuit1!$J$26,1)","v":17.496471637273078},15.668812124439622,{"$f":"$AN$7*(1+AE13*Circuit1!$J$23*0.85/100)/MAX(Circuit1!$J$26,1)/1000","v":4.1389998620097327E-3},{"$f":"(U14+T14+S14+R14+Q14+P14+N14+M14+L14+J14+I14+B14+O14+K14)/A14/Circuit1!$B$3","v":0.11264209781565403},null,{"$f":"(A14*A14+((Circuit1!$B$8)^2)/3)*Circuit1!$J$9/1000*50","v":4.5921599999999998},null,0.96957904102394077]
[{"$f":"Circuit1!$B$10/50*14","v":8.4},{"$f":"AG14*Circuit1!$B$7/1000000*AC15*(A15*A15+((Circuit1!$B$8)^2)/3)*Circuit1!$B$5*1000","v":3.325935037941035E-2},{"$f":"(Circuit1!$F$22+A15/(Circuit1!$F$23*Circuit1!$F$29))/(1+((Circuit1!$F$22+A15/(Circuit1!$F$23*Circuit1!$F$29))/Circuit1!$F$4)^(5))^(0.2)","v":1.8211852910382784},{"$f":"MAX((Circuit1!$F$4-C15), 0.001)/(Circuit1!$F$5+Circuit1!$F$28+Circuit1!$F$24/Circuit1!$F$29)","v":1.9992545339381897},{"$f":"C15/(Circuit1!$F$6+Circuit1!$F$28+Circuit1!$F$24/Circuit1!$F$29)","v":1.3102052453512796},{"$f":"(Circuit1!$F$20/1000000000+Circuit1!$F$21/2/1000000000)*MAX(Circuit1!$F$29,1)","v":8.0000000000000005E-9},3.5305729068886028E-9,6.1059135798644419E-9,{"$f":"0.5*Circuit1!$B$3*(G15*MAX(A15-Circuit1!$B$8, 0)+H15*(A15+Circuit1!$B$8))*Circuit1!$B$5*1000","v":0.25118356324661845},{"$f":"MIN(MAX((1-AG14-Circuit1!$F$7/1000000000+Circuit1!$F$8/1000000000),0.001),1)*Circuit1!$B$7/1000000*AF15*(A15*A15+Circuit1!$B$8^2/3)*Circuit1!$B$5*1000","v":0.26238437325153763},{"$f":"Circuit1!$B$3*$AN$2*Circuit1!$J$26*0.000000001*Circuit1!$B$5*1000","v":0.1812},{"$f":"Circuit1!$J$21*A15*(Circuit1!$F$7/1000000000+Circuit1!$F$8/1000000000)*Circuit1!$B$5*1000","v":0.14552999999999999},{"$f":"A15*Circuit1!$B$4","v":10.08},{"$f":"Circuit1!$F$4*($AN$3/1000000000*Circuit1!$F$29)*Circuit1!$B$5*1000+Circuit1!$F$4*Circuit1!$F$9/1000/2","v":4.1136363636363645E-2},{"$f":"Circuit1!$F$4*($AN$4/1000000000*Circuit1!$J$26)*Circuit1!$B$5*1000+Circuit1!$F$4*Circuit1!$F$9/1000/2","v":4.1136363636363645E-2},{"$f":"(A15*A15+((Circuit1!$B$8)^2)/3)*(Circuit1!$J$9+Circuit1!$J$12)/1000*(1+0.002*AE14)","v":0.18293041708827221},{"$f":"Circuit1!$J$8/1000","v":0.05},{"$f":"0","v":0},{"$f":"(Circuit1!$F$19/1000000000000*Circuit1!$F$29)*Circuit1!$B$3*Circuit1!$B$3*Circuit1!$B$5*1000","v":8.7480000000000002E-2},0,{"$f":"Circuit1!$B$8*Circuit1!$B$8/3*Circuit1!$J$4/1000","v":1.9439999999999993E-3},0.8874657795022981,0.37192291362602881,0.40791437325153762,0.23487441708827222,4.1136363636363645E-2,{"$f":"W15*Circuit1!$F$25/MAX(Circuit1!$F$29,1)","v":18.075453602225},16.131552717688798,{"$f":"$AN$6*(1+AB14*0.85*Circuit1!$F$26/100)/1000/MAX(Circuit1!$F$29,1)","v":4.1616732398231252E-3},{"$f":"X15*Circuit1!$J$22/MAX(Circuit1!$J$26,1)","v":19.824638540024729},17.51039075700939,{"$f":"$AN$7*(1+AE14*Circuit1!$J$23*0.85/100)/MAX(Circuit1!$J$26,1)/1000","v":4.1676774306020469E-3},{"$f":"(U15+T15+S15+R15+Q15+P15+N15+M15+L15+J15+I15+B15+O15+K15)/A15/Circuit1!$B$3","v":0.1126804011035572},null,{"$f":"(A15*A15+((Circuit1!$B$8)^2)/3)*Circuit1!$J$9/1000*50","v":5.3211600000000008},null,0.96948038059519093]
[{"$f":"Circuit1!$B$10/50*15","v":9},{"$f":"AG15*Circuit1!$B$7/1000000*AC16*(A16*A16+((Circuit1!$B$8)^2)/3)*Circuit1!$B$5*1000","v":3.8290334093004627E-2},{"$f":"(Circuit1!$F$22+A16/(Circuit1!$F$23*Circuit1!$F$29))/(1+((Circuit1!$F$22+A16/(Circuit1!$F$23*Circuit1!$F$29))/Circuit1!$F$4)^(5))^(0.2)","v":1.8299401636648032},{"$f":"MAX((Circuit1!$F$4-C16), 0.001)/(Circuit1!$F$5+Circuit1!$F$28+Circuit1!$F$24/Circuit1!$F$29)","v":1.9937483247391177},{"$f":"C16/(Circuit1!$F$6+Circuit1!$F$28+Circuit1!$F$24/Circuit1!$F$29)","v":1.3165037148667649},{"$f":"(Circuit1!$F$20/1000000000+Circuit1!$F$21/2/1000000000)*MAX(Circuit1!$F$29,1)","v":8.0000000000000005E-9},3.5391731298971281E-9,6.0767014248870774E-9,{"$f":"0.5*Circuit1!$B$3*(G16*MAX(A16-Circuit1!$B$8, 0)+H16*(A16+Circuit1!$B$8))*Circuit1!$B$5*1000","v":0.26785020465494097},{"$f":"MIN(MAX((1-AG15-Circuit1!$F$7/1000000000+Circuit1!$F$8/1000000000),0.001),1)*Circuit1!$B$7/1000000*AF16*(A16*A16+Circuit1!$B$8^2/3)*Circuit1!$B$5*1000","v":0.30313965307770363},{"$f":"Circuit1!$B$3*$AN$2*Circuit1!$J$26*0.000000001*Circuit1!$B$5*1000","v":0.1812},{"$f":"Circuit1!$J$21*A16*(Circuit1!$F$7/1000000000+Circuit1!$F$8/1000000000)*Circuit1!$B$5*1000","v":0.15592499999999995},{"$f":"A16*Circuit1!$B$4","v":10.799999999999999},{"$f":"Circuit1!$F$4*($AN$3/1000000000*Circuit1!$F$29)*Circuit1!$B$5*1000+Circuit1!$F$4*Circuit1!$F$9/1000/2","v":4.1136363636363645E-2},{"$f":"Circuit1!$F$4*($AN$4/1000000000*Circuit1!$J$26)*Circuit1!$B$5*1000+Circuit1!$F$4*Circuit1!$F$9/1000/2","v":4.1136363636363645E-2},{"$f":"(A16*A16+((Circuit1!$B$8)^2)/3)*(Circuit1!$J$9+Circuit1!$J$12)/1000*(1+0.002*AE15)","v":0.21059774845622045},{"$f":"Circuit1!$J$8/1000","v":0.05},{"$f":"0","v":0},{"$f":"(Circuit1!$F$19/1000000000000*Circuit1!$F$29)*Circuit1!$B$3*Circuit1!$B$3*Circuit1!$B$5*1000","v":8.7480000000000002E-2},0,{"$f":"Circuit1!$B$8*Circuit1!$B$8/3*Circuit1!$J$4/1000","v":1.9439999999999993E-3},0.88679418121890252,0.39362053874794561,0.45906465307770361,0.26254174845622047,4.1136363636363645E-2,{"$f":"W16*Circuit1!$F$25/MAX(Circuit1!$F$29,1)","v":19.129958183150158},16.966206095582191,{"$f":"$AN$6*(1+AB15*0.85*Circuit1!$F$26/100)/1000/MAX(Circuit1!$F$29,1)","v":4.1751888703669016E-3},{"$f":"X16*Circuit1!$J$22/MAX(Circuit1!$J$26,1)","v":22.310542139576395},19.421802516445187,{"$f":"$AN$7*(1+AE15*Circuit1!$J$23*0.85/100)/MAX(Circuit1!$J$26,1)/1000","v":4.1975708680324275E-3},{"$f":"(U16+T16+S16+R16+Q16+P16+N16+M16+L16+J16+I16+B16+O16+K16)/A16/Circuit1!$B$3","v":0.11276573766254255},null,{"$f":"(A16*A16+((Circuit1!$B$8)^2)/3)*Circuit1!$J$9/1000*50","v":6.1041600000000003},null,0.96930418283233633]
[{"$f":"Circuit1!$B$10/50*16","v":9.6},{"$f":"AG16*Circuit1!$B$7/1000000*AC17*(A17*A17+((Circuit1!$B$8)^2)/3)*Circuit1!$B$5*1000","v":4.371506115869727E-2},{"$f":"(Circuit1!$F$22+A17/(Circuit1!$F$23*Circuit1!$F$29))/(1+((Circuit1!$F$22+A17/(Circuit1!$F$23*Circuit1!$F$29))/Circuit1!$F$4)^(5))^(0.2)","v":1.8386933754156427},{"$f":"MAX((Circuit1!$F$4-C17), 0.001)/(Circuit1!$F$5+Circuit1!$F$28+Circuit1!$F$24/Circuit1!$F$29)","v":1.9882431601159483},{"$f":"C17/(Circuit1!$F$6+Circuit1!$F$28+Circuit1!$F$24/Circuit1!$F$29)","v":1.3228009895076567},{"$f":"(Circuit1!$F$20/1000000000+Circuit1!$F$21/2/1000000000)*MAX(Circuit1!$F$29,1)","v":8.0000000000000005E-9},3.5478137107658462E-9,6.0477729178125133E-9,{"$f":"0.5*Circuit1!$B$3*(G17*MAX(A17-Circuit1!$B$8, 0)+H17*(A17+Circuit1!$B$8))*Circuit1!$B$5*1000","v":0.28445276273388792},{"$f":"MIN(MAX((1-AG16-Circuit1!$F$7/1000000000+Circuit1!$F$8/1000000000),0.001),1)*Circuit1!$B$7/1000000*AF17*(A17*A17+Circuit1!$B$8^2/3)*Circuit1!$B$5*1000","v":0.34722059439619218},{"$f":"Circuit1!$B$3*$AN$2*Circuit1!$J$26*0.000000001*Circuit1!$B$5*1000","v":0.1812},{"$f":"Circuit1!$J$21*A17*(Circuit1!$F$7/1000000000+Circuit1!$F$8/1000000000)*Circuit1!$B$5*1000","v":0.16631999999999997},{"$f":"A17*Circuit1!$B$4","v":11.52},{"$f":"Circuit1!$F$4*($AN$3/1000000000*Circuit1!$F$29)*Circuit1!$B$5*1000+Circuit1!$F$4*Circuit1!$F$9/1000/2","v":4.1136363636363645E-2},{"$f":"Circuit1!$F$4*($AN$4/1000000000*Circuit1!$J$26)*Circuit1!$B$5*1000+Circuit1!$F$4*Circuit1!$F$9/1000/2","v":4.1136363636363645E-2},{"$f":"(A17*A17+((Circuit1!$B$8)^2)/3)*(Circuit1!$J$9+Circuit1!$J$12)/1000*(1+0.002*AE16)","v":0.24035932258366993},{"$f":"Circuit1!$J$8/1000","v":0.05},{"$f":"0","v":0},{"$f":"(Circuit1!$F$19/1000000000000*Circuit1!$F$29)*Circuit1!$B$3*Circuit1!$B$3*Circuit1!$B$5*1000","v":8.7480000000000002E-2},0,{"$f":"Circuit1!$B$8*Circuit1!$B$8/3*Circuit1!$J$4/1000","v":1.9439999999999993E-3},0.88581556898655889,0.4156478238925852,0.51354059439619215,0.29230332258366992,4.1136363636363645E-2,{"$f":"W17*Circuit1!$F$25/MAX(Circuit1!$F$29,1)","v":20.200484241179641},17.802961311691892,{"$f":"$AN$6*(1+AB16*0.85*Circuit1!$F$26/100)/1000/MAX(Circuit1!$F$29,1)","v":4.188737386887912E-3},{"$f":"X17*Circuit1!$J$22/MAX(Circuit1!$J$26,1)","v":24.958072887654939},21.397760454027026,{"$f":"$AN$7*(1+AE16*Circuit1!$J$23*0.85/100)/MAX(Circuit1!$J$26,1)/1000","v":4.2285978721602136E-3},{"$f":"(U17+T17+S17+R17+Q17+P17+N17+M17+L17+J17+I17+B17+O17+K17)/A17/Circuit1!$B$3","v":0.11289031656376021},null,{"$f":"(A17*A17+((Circuit1!$B$8)^2)/3)*Circuit1!$J$9/1000*50","v":6.9411599999999991},null,0.96906380842086515]
[{"$f":"Circuit1!$B$10/50*17","v":10.199999999999999},{"$f":"AG17*Circuit1!$B$7/1000000*AC18*(A18*A18+((Circuit1!$B$8)^2)/3)*Circuit1!$B$5*1000","v":4.9541151953845182E-2},{"$f":"(Circuit1!$F$22+A18/(Circuit1!$F$23*Circuit1!$F$29))/(1+((Circuit1!$F$22+A18/(Circuit1!$F$23*Circuit1!$F$29))/Circuit1!$F$4)^(5))^(0.2)","v":1.8474448946626578},{"$f":"MAX((Circuit1!$F$4-C18), 0.001)/(Circuit1!$F$5+Circuit1!$F$28+Circuit1!$F$24/Circuit1!$F$29)","v":1.9827390599605925},{"$f":"C18/(Circuit1!$F$6+Circuit1!$F$28+Circuit1!$F$24/Circuit1!$F$29)","v":1.3290970465198979},{"$f":"(Circuit1!$F$20/1000000000+Circuit1!$F$21/2/1000000000)*MAX(Circuit1!$F$29,1)","v":8.0000000000000005E-9},3.5564949023203275E-9,6.0191240518870817E-9,{"$f":"0.5*Circuit1!$B$3*(G18*MAX(A18-Circuit1!$B$8, 0)+H18*(A18+Circuit1!$B$8))*Circuit1!$B$5*1000","v":0.30099285844334295},{"$f":"MIN(MAX((1-AG17-Circuit1!$F$7/1000000000+Circuit1!$F$8/1000000000),0.001),1)*Circuit1!$B$7/1000000*AF18*(A18*A18+Circuit1!$B$8^2/3)*Circuit1!$B$5*1000","v":0.3947078517077357},{"$f":"Circuit1!$B$3*$AN$2*Circuit1!$J$26*0.000000001*Circuit1!$B$5*1000","v":0.1812},{"$f":"Circuit1!$J$21*A18*(Circuit1!$F$7/1000000000+Circuit1!$F$8/1000000000)*Circuit1!$B$5*1000","v":0.17671499999999996},{"$f":"A18*Circuit1!$B$4","v":12.239999999999998},{"$f":"Circuit1!$F$4*($AN$3/1000000000*Circuit1!$F$29)*Circuit1!$B$5*1000+Circuit1!$F$4*Circuit1!$F$9/1000/2","v":4.1136363636363645E-2},{"$f":"Circuit1!$F$4*($AN$4/1000000000*Circuit1!$J$26)*Circuit1!$B$5*1000+Circuit1!$F$4*Circuit1!$F$9/1000/2","v":4.1136363636363645E-2},{"$f":"(A18*A18+((Circuit1!$B$8)^2)/3)*(Circuit1!$J$9+Circuit1!$J$12)/1000*(1+0.002*AE17)","v":0.27224471223450747},{"$f":"Circuit1!$J$8/1000","v":0.05},{"$f":"0","v":0},{"$f":"(Circuit1!$F$19/1000000000000*Circuit1!$F$29)*Circuit1!$B$3*Circuit1!$B$3*Circuit1!$B$5*1000","v":8.7480000000000002E-2},0,{"$f":"Circuit1!$B$8*Circuit1!$B$8/3*Circuit1!$J$4/1000","v":1.9439999999999993E-3},0.88457852457215824,0.43801401039718812,0.57142285170773566,0.32418871223450746,4.1136363636363645E-2,{"$f":"W18*Circuit1!$F$25/MAX(Circuit1!$F$29,1)","v":21.287480905303344},18.641888589399162,{"$f":"$AN$6*(1+AB17*0.85*Circuit1!$F$26/100)/1000/MAX(Circuit1!$F$29,1)","v":4.2023200215117809E-3},{"$f":"X18*Circuit1!$J$22/MAX(Circuit1!$J$26,1)","v":27.771150592995955},23.432781838075798,{"$f":"$AN$7*(1+AE17*Circuit1!$J$23*0.85/100)/MAX(Circuit1!$J$26,1)/1000","v":4.2606726225550631E-3},{"$f":"(U18+T18+S18+R18+Q18+P18+N18+M18+L18+J18+I18+B18+O18+K18)/A18/Circuit1!$B$3","v":0.11304818873866142},null,{"$f":"(A18*A18+((Circuit1!$B$8)^2)/3)*Circuit1!$J$9/1000*50","v":7.8321599999999991},null,0.96876948491532167]
[{"$f":"Circuit1!$B$10/50*18","v":10.799999999999999},{"$f":"AG18*Circuit1!$B$7/1000000*AC19*(A19*A19+((Circuit1!$B$8)^2)/3)*Circuit1!$B$5*1000","v":5.5776411167673713E-2},{"$f":"(Circuit1!$F$22+A19/(Circuit1!$F$23*Circuit1!$F$29))/(1+((Circuit1!$F$22+A19/(Circuit1!$F$23*Circuit1!$F$29))/Circuit1!$F$4)^(5))^(0.2)","v":1.8561946893454673},{"$f":"MAX((Circuit1!$F$4-C19), 0.001)/(Circuit1!$F$5+Circuit1!$F$28+Circuit1!$F$24/Circuit1!$F$29)","v":1.9772360444368131},{"$f":"C19/(Circuit1!$F$6+Circuit1!$F$28+Circuit1!$F$24/Circuit1!$F$29)","v":1.3353918628384658},{"$f":"(Circuit1!$F$20/1000000000+Circuit1!$F$21/2/1000000000)*MAX(Circuit1!$F$29,1)","v":8.0000000000000005E-9},3.5652169590123876E-9,5.9907508968906393E-9,{"$f":"0.5*Circuit1!$B$3*(G19*MAX(A19-Circuit1!$B$8, 0)+H19*(A19+Circuit1!$B$8))*Circuit1!$B$5*1000","v":0.31747208848998359},{"$f":"MIN(MAX((1-AG18-Circuit1!$F$7/1000000000+Circuit1!$F$8/1000000000),0.001),1)*Circuit1!$B$7/1000000*AF19*(A19*A19+Circuit1!$B$8^2/3)*Circuit1!$B$5*1000","v":0.44568199103791473},{"$f":"Circuit1!$B$3*$AN$2*Circuit1!$J$26*0.000000001*Circuit1!$B$5*1000","v":0.1812},{"$f":"Circuit1!$J$21*A19*(Circuit1!$F$7/1000000000+Circuit1!$F$8/1000000000)*Circuit1!$B$5*1000","v":0.18710999999999994},{"$f":"A19*Circuit1!$B$4","v":12.959999999999999},{"$f":"Circuit1!$F$4*($AN$3/1000000000*Circuit1!$F$29)*Circuit1!$B$5*1000+Circuit1!$F$4*Circuit1!$F$9/1000/2","v":4.1136363636363645E-2},{"$f":"Circuit1!$F$4*($AN$4/1000000000*Circuit1!$J$26)*Circuit1!$B$5*1000+Circuit1!$F$4*Circuit1!$F$9/1000/2","v":4.1136363636363645E-2},{"$f":"(A19*A19+((Circuit1!$B$8)^2)/3)*(Circuit1!$J$9+Circuit1!$J$12)/1000*(1+0.002*AE18)","v":0.30628355169585897},{"$f":"Circuit1!$J$8/1000","v":0.05},{"$f":"0","v":0},{"$f":"(Circuit1!$F$19/1000000000000*Circuit1!$F$29)*Circuit1!$B$3*Circuit1!$B$3*Circuit1!$B$5*1000","v":8.7480000000000002E-2},0,{"$f":"Circuit1!$B$8*Circuit1!$B$8/3*Circuit1!$J$4/1000","v":1.9439999999999993E-3},0.88312129700905251,0.46072849965765733,0.63279199103791473,0.35822755169585896,4.1136363636363645E-2,{"$f":"W19*Circuit1!$F$25/MAX(Circuit1!$F$29,1)","v":22.391405083362148},19.483052306930109,{"$f":"$AN$6*(1+AB18*0.85*Circuit1!$F$26/100)/1000/MAX(Circuit1!$F$29,1)","v":4.2159379141400131E-3},{"$f":"X19*Circuit1!$J$22/MAX(Circuit1!$J$26,1)","v":30.753690764442656},25.521213952295493,{"$f":"$AN$7*(1+AE18*Circuit1!$J$23*0.85/100)/MAX(Circuit1!$J$26,1)/1000","v":4.2937061207384448E-3},{"$f":"(U19+T19+S19+R19+Q19+P19+N19+M19+L19+J19+I19+B19+O19+K19)/A19/Circuit1!$B$3","v":0.1132347281609889},null,{"$f":"(A19*A19+((Circuit1!$B$8)^2)/3)*Circuit1!$J$9/1000*50","v":8.7771599999999985},null,0.96842917473342605]
[{"$f":"Circuit1!$B$10/50*19","v":11.4},{"$f":"AG19*Circuit1!$B$7/1000000*AC20*(A20*A20+((Circuit1!$B$8)^2)/3)*Circuit1!$B$5*1000","v":6.2428825787368747E-2},{"$f":"(Circuit1!$F$22+A20/(Circuit1!$F$23*Circuit1!$F$29))/(1+((Circuit1!$F$22+A20/(Circuit1!$F$23*Circuit1!$F$29))/Circuit1!$F$4)^(5))^(0.2)","v":1.8649427269682723},{"$f":"MAX((Circuit1!$F$4-C20), 0.001)/(Circuit1!$F$5+Circuit1!$F$28+Circuit1!$F$24/Circuit1!$F$29)","v":1.9717341339822188},{"$f":"C20/(Circuit1!$F$6+Circuit1!$F$28+Circuit1!$F$24/Circuit1!$F$29)","v":1.3416854150850881},{"$f":"(Circuit1!$F$20/1000000000+Circuit1!$F$21/2/1000000000)*MAX(Circuit1!$F$29,1)","v":8.0000000000000005E-9},3.5739801369267274E-9,5.9626495973295278E-9,{"$f":"0.5*Circuit1!$B$3*(G20*MAX(A20-Circuit1!$B$8, 0)+H20*(A20+Circuit1!$B$8))*Circuit1!$B$5*1000","v":0.33389202596326906},{"$f":"MIN(MAX((1-AG19-Circuit1!$F$7/1000000000+Circuit1!$F$8/1000000000),0.001),1)*Circuit1!$B$7/1000000*AF20*(A20*A20+Circuit1!$B$8^2/3)*Circuit1!$B$5*1000","v":0.50022279902121713},{"$f":"Circuit1!$B$3*$AN$2*Circuit1!$J$26*0.000000001*Circuit1!$B$5*1000","v":0.1812},{"$f":"Circuit1!$J$21*A20*(Circuit1!$F$7/1000000000+Circuit1!$F$8/1000000000)*Circuit1!$B$5*1000","v":0.19750499999999999},{"$f":"A20*Circuit1!$B$4","v":13.68},{"$f":"Circuit1!$F$4*($AN$3/1000000000*Circuit1!$F$29)*Circuit1!$B$5*1000+Circuit1!$F$4*Circuit1!$F$9/1000/2","v":4.1136363636363645E-2},{"$f":"Circuit1!$F$4*($AN$4/1000000000*Circuit1!$J$26)*Circuit1!$B$5*1000+Circuit1!$F$4*Circuit1!$F$9/1000/2","v":4.1136363636363645E-2},{"$f":"(A20*A20+((Circuit1!$B$8)^2)/3)*(Circuit1!$J$9+Circuit1!$J$12)/1000*(1+0.002*AE19)","v":0.34250529806612484},{"$f":"Circuit1!$J$8/1000","v":0.05},{"$f":"0","v":0},{"$f":"(Circuit1!$F$19/1000000000000*Circuit1!$F$29)*Circuit1!$B$3*Circuit1!$B$3*Circuit1!$B$5*1000","v":8.7480000000000002E-2},0,{"$f":"Circuit1!$B$8*Circuit1!$B$8/3*Circuit1!$J$4/1000","v":1.9439999999999993E-3},0.88147449838916037,0.48380085175063781,0.69772779902121718,0.39444929806612483,4.1136363636363645E-2,{"$f":"W20*Circuit1!$F$25/MAX(Circuit1!$F$29,1)","v":23.512721395080998},20.326510822405531,{"$f":"$AN$6*(1+AB19*0.85*Circuit1!$F$26/100)/1000/MAX(Circuit1!$F$29,1)","v":4.2295921097925925E-3},{"$f":"X20*Circuit1!$J$22/MAX(Circuit1!$J$26,1)","v":33.909571032431153},27.657264525769111,{"$f":"$AN$7*(1+AE19*Circuit1!$J$23*0.85/100)/MAX(Circuit1!$J$26,1)/1000","v":4.3276066089553969E-3},{"$f":"(U20+T20+S20+R20+Q20+P20+N20+M20+L20+J20+I20+B20+O20+K20)/A20/Circuit1!$B$3","v":0.11344627687215429},null,{"$f":"(A20*A20+((Circuit1!$B$8)^2)/3)*Circuit1!$J$9/1000*50","v":9.7761600000000026},null,0.96804917058571782]
[{"$f":"Circuit1!$B$10/50*20","v":12},{"$f":"AG20*Circuit1!$B$7/1000000*AC21*(A21*A21+((Circuit1!$B$8)^2)/3)*Circuit1!$B$5*1000","v":6.950656222009019E-2},{"$f":"(Circuit1!$F$22+A21/(Circuit1!$F$23*Circuit1!$F$29))/(1+((Circuit1!$F$22+A21/(Circuit1!$F$23*Circuit1!$F$29))/Circuit1!$F$4)^(5))^(0.2)","v":1.8736889745967016},{"$f":"MAX((Circuit1!$F$4-C21), 0.001)/(Circuit1!$F$5+Circuit1!$F$28+Circuit1!$F$24/Circuit1!$F$29)","v":1.9662333493102508},{"$f":"C21/(Circuit1!$F$6+Circuit1!$F$28+Circuit1!$F$24/Circuit1!$F$29)","v":1.3479776795659724},{"$f":"(Circuit1!$F$20/1000000000+Circuit1!$F$21/2/1000000000)*MAX(Circuit1!$F$29,1)","v":8.0000000000000005E-9},3.5827846937875164E-9,5.9348163706804658E-9,{"$f":"0.5*Circuit1!$B$3*(G21*MAX(A21-Circuit1!$B$8, 0)+H21*(A21+Circuit1!$B$8))*Circuit1!$B$5*1000","v":0.35025422095398051},{"$f":"MIN(MAX((1-AG20-Circuit1!$F$7/1000000000+Circuit1!$F$8/1000000000),0.001),1)*Circuit1!$B$7/1000000*AF21*(A21*A21+Circuit1!$B$8^2/3)*Circuit1!$B$5*1000","v":0.55840860500781997},{"$f":"Circuit1!$B$3*$AN$2*Circuit1!$J$26*0.000000001*Circuit1!$B$5*1000","v":0.1812},{"$f":"Circuit1!$J$21*A21*(Circuit1!$F$7/1000000000+Circuit1!$F$8/1000000000)*Circuit1!$B$5*1000","v":0.20789999999999997},{"$f":"A21*Circuit1!$B$4","v":14.399999999999999},{"$f":"Circuit1!$F$4*($AN$3/1000000000*Circuit1!$F$29)*Circuit1!$B$5*1000+Circuit1!$F$4*Circuit1!$F$9/1000/2","v":4.1136363636363645E-2},{"$f":"Circuit1!$F$4*($AN$4/1000000000*Circuit1!$J$26)*Circuit1!$B$5*1000+Circuit1!$F$4*Circuit1!$F$9/1000/2","v":4.1136363636363645E-2},{"$f":"(A21*A21+((Circuit1!$B$8)^2)/3)*(Circuit1!$J$9+Circuit1!$J$12)/1000*(1+0.002*AE20)","v":0.3809389961807918},{"$f":"Circuit1!$J$8/1000","v":0.05},{"$f":"0","v":0},{"$f":"(Circuit1!$F$19/1000000000000*Circuit1!$F$29)*Circuit1!$B$3*Circuit1!$B$3*Circuit1!$B$5*1000","v":8.7480000000000002E-2},0,{"$f":"Circuit1!$B$8*Circuit1!$B$8/3*Circuit1!$J$4/1000","v":1.9439999999999993E-3},0.87966300976080536,0.50724078317407073,0.76630860500781994,0.43288299618079179,4.1136363636363645E-2,{"$f":"W21*Circuit1!$F$25/MAX(Circuit1!$F$29,1)","v":24.65190206225984},21.172316279846701,{"$f":"$AN$6*(1+AB20*0.85*Circuit1!$F$26/100)/1000/MAX(Circuit1!$F$29,1)","v":4.2432835557681039E-3},{"$f":"X21*Circuit1!$J$22/MAX(Circuit1!$J$26,1)","v":37.242598203380048},29.835036386533989,{"$f":"$AN$7*(1+AE20*Circuit1!$J$23*0.85/100)/MAX(Circuit1!$J$26,1)/1000","v":4.3622800641296439E-3},{"$f":"(U21+T21+S21+R21+Q21+P21+N21+M21+L21+J21+I21+B21+O21+K21)/A21/Circuit1!$B$3","v":0.11367989660857925},null,{"$f":"(A21*A21+((Circuit1!$B$8)^2)/3)*Circuit1!$J$9/1000*50","v":10.82916},null,0.9676345132411186]
[{"$f":"Circuit1!$B$10/50*21","v":12.6},{"$f":"AG21*Circuit1!$B$7/1000000*AC22*(A22*A22+((Circuit1!$B$8)^2)/3)*Circuit1!$B$5*1000","v":7.7017962411985386E-2},{"$f":"(Circuit1!$F$22+A22/(Circuit1!$F$23*Circuit1!$F$29))/(1+((Circuit1!$F$22+A22/(Circuit1!$F$23*Circuit1!$F$29))/Circuit1!$F$4)^(5))^(0.2)","v":1.882433398854666},{"$f":"MAX((Circuit1!$F$4-C22), 0.001)/(Circuit1!$F$5+Circuit1!$F$28+Circuit1!$F$24/Circuit1!$F$29)","v":1.9607337114121599},{"$f":"C22/(Circuit1!$F$6+Circuit1!$F$28+Circuit1!$F$24/Circuit1!$F$29)","v":1.3542686322695439},{"$f":"(Circuit1!$F$20/1000000000+Circuit1!$F$21/2/1000000000)*MAX(Circuit1!$F$29,1)","v":8.0000000000000005E-9},3.5916308889648959E-9,5.9072475056837456E-9,{"$f":"0.5*Circuit1!$B$3*(G22*MAX(A22-Circuit1!$B$8, 0)+H22*(A22+Circuit1!$B$8))*Circuit1!$B$5*1000","v":0.36656020115588767},{"$f":"MIN(MAX((1-AG21-Circuit1!$F$7/1000000000+Circuit1!$F$8/1000000000),0.001),1)*Circuit1!$B$7/1000000*AF22*(A22*A22+Circuit1!$B$8^2/3)*Circuit1!$B$5*1000","v":0.62031562801837359},{"$f":"Circuit1!$B$3*$AN$2*Circuit1!$J$26*0.000000001*Circuit1!$B$5*1000","v":0.1812},{"$f":"Circuit1!$J$21*A22*(Circuit1!$F$7/1000000000+Circuit1!$F$8/1000000000)*Circuit1!$B$5*1000","v":0.21829499999999996},{"$f":"A22*Circuit1!$B$4","v":15.12},{"$f":"Circuit1!$F$4*($AN$3/1000000000*Circuit1!$F$29)*Circuit1!$B$5*1000+Circuit1!$F$4*Circuit1!$F$9/1000/2","v":4.1136363636363645E-2},{"$f":"Circuit1!$F$4*($AN$4/1000000000*Circuit1!$J$26)*Circuit1!$B$5*1000+Circuit1!$F$4*Circuit1!$F$9/1000/2","v":4.1136363636363645E-2},{"$f":"(A22*A22+((Circuit1!$B$8)^2)/3)*(Circuit1!$J$9+Circuit1!$J$12)/1000*(1+0.002*AE21)","v":0.42161305119436604},{"$f":"Circuit1!$J$8/1000","v":0.05},{"$f":"0","v":0},{"$f":"(Circuit1!$F$19/1000000000000*Circuit1!$F$29)*Circuit1!$B$3*Circuit1!$B$3*Circuit1!$B$5*1000","v":8.7480000000000002E-2},0,{"$f":"Circuit1!$B$8*Circuit1!$B$8/3*Circuit1!$J$4/1000","v":1.9439999999999993E-3},0.87770735283453549,0.53105816356787305,0.83861062801837361,0.47355705119436603,4.1136363636363645E-2,{"$f":"W22*Circuit1!$F$25/MAX(Circuit1!$F$29,1)","v":25.809426749398632},22.020514394419621,{"$f":"$AN$6*(1+AB21*0.85*Circuit1!$F$26/100)/1000/MAX(Circuit1!$F$29,1)","v":4.2570130984947207E-3},{"$f":"X22*Circuit1!$J$22/MAX(Circuit1!$J$26,1)","v":40.75647652169296},32.048565740617022,{"$f":"$AN$7*(1+AE21*Circuit1!$J$23*0.85/100)/MAX(Circuit1!$J$26,1)/1000","v":4.3976307603779893E-3},{"$f":"(U22+T22+S22+R22+Q22+P22+N22+M22+L22+J22+I22+B22+O22+K22)/A22/Circuit1!$B$3","v":0.1139331916008819},null,{"$f":"(A22*A22+((Circuit1!$B$8)^2)/3)*Circuit1!$J$9/1000*50","v":11.936159999999999},null,0.96718929054963954]
[{"$f":"Circuit1!$B$10/50*22","v":13.2},{"$f":"AG22*Circuit1!$B$7/1000000*AC23*(A23*A23+((Circuit1!$B$8)^2)/3)*Circuit1!$B$5*1000","v":8.4971538920551412E-2},{"$f":"(Circuit1!$F$22+A23/(Circuit1!$F$23*Circuit1!$F$29))/(1+((Circuit1!$F$22+A23/(Circuit1!$F$23*Circuit1!$F$29))/Circuit1!$F$4)^(5))^(0.2)","v":1.8911759659212379},{"$f":"MAX((Circuit1!$F$4-C23), 0.001)/(Circuit1!$F$5+Circuit1!$F$28+Circuit1!$F$24/Circuit1!$F$29)","v":1.9552352415589702},{"$f":"C23/(Circuit1!$F$6+Circuit1!$F$28+Circuit1!$F$24/Circuit1!$F$29)","v":1.3605582488642001},{"$f":"(Circuit1!$F$20/1000000000+Circuit1!$F$21/2/1000000000)*MAX(Circuit1!$F$29,1)","v":8.0000000000000005E-9},3.6005189834814211E-9,5.8799393606840683E-9,{"$f":"0.5*Circuit1!$B$3*(G23*MAX(A23-Circuit1!$B$8, 0)+H23*(A23+Circuit1!$B$8))*Circuit1!$B$5*1000","v":0.38281147245108993},{"$f":"MIN(MAX((1-AG22-Circuit1!$F$7/1000000000+Circuit1!$F$8/1000000000),0.001),1)*Circuit1!$B$7/1000000*AF23*(A23*A23+Circuit1!$B$8^2/3)*Circuit1!$B$5*1000","v":0.68601736037334327},{"$f":"Circuit1!$B$3*$AN$2*Circuit1!$J$26*0.000000001*Circuit1!$B$5*1000","v":0.1812},{"$f":"Circuit1!$J$21*A23*(Circuit1!$F$7/1000000000+Circuit1!$F$8/1000000000)*Circuit1!$B$5*1000","v":0.22868999999999995},{"$f":"A23*Circuit1!$B$4","v":15.839999999999998},{"$f":"Circuit1!$F$4*($AN$3/1000000000*Circuit1!$F$29)*Circuit1!$B$5*1000+Circuit1!$F$4*Circuit1!$F$9/1000/2","v":4.1136363636363645E-2},{"$f":"Circuit1!$F$4*($AN$4/1000000000*Circuit1!$J$26)*Circuit1!$B$5*1000+Circuit1!$F$4*Circuit1!$F$9/1000/2","v":4.1136363636363645E-2},{"$f":"(A23*A23+((Circuit1!$B$8)^2)/3)*(Circuit1!$J$9+Circuit1!$J$12)/1000*(1+0.002*AE22)","v":0.46455501288502521},{"$f":"Circuit1!$J$8/1000","v":0.05},{"$f":"0","v":0},{"$f":"(Circuit1!$F$19/1000000000000*Circuit1!$F$29)*Circuit1!$B$3*Circuit1!$B$3*Circuit1!$B$5*1000","v":8.7480000000000002E-2},0,{"$f":"Circuit1!$B$8*Circuit1!$B$8/3*Circuit1!$J$4/1000","v":1.9439999999999993E-3},0.87562469255098785,0.55526301137164136,0.91470736037334321,0.5164990128850252,4.1136363636363645E-2,{"$f":"W23*Circuit1!$F$25/MAX(Circuit1!$F$29,1)","v":26.985782352661772},22.87114421899431,{"$f":"$AN$6*(1+AB22*0.85*Circuit1!$F$26/100)/1000/MAX(Circuit1!$F$29,1)","v":4.2707814800441793E-3},{"$f":"X23*Circuit1!$J$22/MAX(Circuit1!$J$26,1)","v":44.454777714144484},34.291863308826443,{"$f":"$AN$7*(1+AE22*Circuit1!$J$23*0.85/100)/MAX(Circuit1!$J$26,1)/1000","v":4.4335618903750037E-3},{"$f":"(U23+T23+S23+R23+Q23+P23+N23+M23+L23+J23+I23+B23+O23+K23)/A23/Circuit1!$B$3","v":0.11420417999938594},null,{"$f":"(A23*A23+((Circuit1!$B$8)^2)/3)*Circuit1!$J$9/1000*50","v":13.097159999999999},null,0.96671685531531915]
[{"$f":"Circuit1!$B$10/50*23","v":13.799999999999999},{"$f":"AG23*Circuit1!$B$7/1000000*AC24*(A24*A24+((Circuit1!$B$8)^2)/3)*Circuit1!$B$5*1000","v":9.3375968964895154E-2},{"$f":"(Circuit1!$F$22+A24/(Circuit1!$F$23*Circuit1!$F$29))/(1+((Circuit1!$F$22+A24/(Circuit1!$F$23*Circuit1!$F$29))/Circuit1!$F$4)^(5))^(0.2)","v":1.8999166415275468},{"$f":"MAX((Circuit1!$F$4-C24), 0.001)/(Circuit1!$F$5+Circuit1!$F$28+Circuit1!$F$24/Circuit1!$F$29)","v":1.9497379613034298},{"$f":"C24/(Circuit1!$F$6+Circuit1!$F$28+Circuit1!$F$24/Circuit1!$F$29)","v":1.3668465046960769},{"$f":"(Circuit1!$F$20/1000000000+Circuit1!$F$21/2/1000000000)*MAX(Circuit1!$F$29,1)","v":8.0000000000000005E-9},3.6094492400184318E-9,5.8528883620175243E-9,{"$f":"0.5*Circuit1!$B$3*(G24*MAX(A24-Circuit1!$B$8, 0)+H24*(A24+Circuit1!$B$8))*Circuit1!$B$5*1000","v":0.39900951947956559},{"$f":"MIN(MAX((1-AG23-Circuit1!$F$7/1000000000+Circuit1!$F$8/1000000000),0.001),1)*Circuit1!$B$7/1000000*AF24*(A24*A24+Circuit1!$B$8^2/3)*Circuit1!$B$5*1000","v":0.75558399934924581},{"$f":"Circuit1!$B$3*$AN$2*Circuit1!$J$26*0.000000001*Circuit1!$B$5*1000","v":0.1812},{"$f":"Circuit1!$J$21*A24*(Circuit1!$F$7/1000000000+Circuit1!$F$8/1000000000)*Circuit1!$B$5*1000","v":0.23908499999999996},{"$f":"A24*Circuit1!$B$4","v":16.559999999999999},{"$f":"Circuit1!$F$4*($AN$3/1000000000*Circuit1!$F$29)*Circuit1!$B$5*1000+Circuit1!$F$4*Circuit1!$F$9/1000/2","v":4.1136363636363645E-2},{"$f":"Circuit1!$F$4*($AN$4/1000000000*Circuit1!$J$26)*Circuit1!$B$5*1000+Circuit1!$F$4*Circuit1!$F$9/1000/2","v":4.1136363636363645E-2},{"$f":"(A24*A24+((Circuit1!$B$8)^2)/3)*(Circuit1!$J$9+Circuit1!$J$12)/1000*(1+0.002*AE23)","v":0.50979137562493693},{"$f":"Circuit1!$J$8/1000","v":0.05},{"$f":"0","v":0},{"$f":"(Circuit1!$F$19/1000000000000*Circuit1!$F$29)*Circuit1!$B$3*Circuit1!$B$3*Circuit1!$B$5*1000","v":8.7480000000000002E-2},0,{"$f":"Circuit1!$B$8*Circuit1!$B$8/3*Circuit1!$J$4/1000","v":1.9439999999999993E-3},0.87342957958355572,0.57986548844446073,0.9946689993492458,0.56173537562493692,4.1136363636363645E-2,{"$f":"W24*Circuit1!$F$25/MAX(Circuit1!$F$29,1)","v":28.181462738400793},23.724237896544608,{"$f":"$AN$6*(1+AB23*0.85*Circuit1!$F$26/100)/1000/MAX(Circuit1!$F$29,1)","v":4.284589334342454E-3},{"$f":"X24*Circuit1!$J$22/MAX(Circuit1!$J$26,1)","v":48.34091336837335},36.558957413837547,{"$f":"$AN$7*(1+AE23*Circuit1!$J$23*0.85/100)/MAX(Circuit1!$J$26,1)/1000","v":4.4699762331062813E-3},{"$f":"(U24+T24+S24+R24+Q24+P24+N24+M24+L24+J24+I24+B24+O24+K24)/A24/Circuit1!$B$3","v":0.1144911992191508},null,{"$f":"(A24*A24+((Circuit1!$B$8)^2)/3)*Circuit1!$J$9/1000*50","v":14.312159999999995},null,0.966219986593431]
[{"$f":"Circuit1!$B$10/50*24","v":14.399999999999999},{"$f":"AG24*Circuit1!$B$7/1000000*AC25*(A25*A25+((Circuit1!$B$8)^2)/3)*Circuit1!$B$5*1000","v":0.10224008752951624},{"$f":"(Circuit1!$F$22+A25/(Circuit1!$F$23*Circuit1!$F$29))/(1+((Circuit1!$F$22+A25/(Circuit1!$F$23*Circuit1!$F$29))/Circuit1!$F$4)^(5))^(0.2)","v":1.9086553909536947},{"$f":"MAX((Circuit1!$F$4-C25), 0.001)/(Circuit1!$F$5+Circuit1!$F$28+Circuit1!$F$24/Circuit1!$F$29)","v":1.9442418924819531},{"$f":"C25/(Circuit1!$F$6+Circuit1!$F$28+Circuit1!$F$24/Circuit1!$F$29)","v":1.3731333747868308},{"$f":"(Circuit1!$F$20/1000000000+Circuit1!$F$21/2/1000000000)*MAX(Circuit1!$F$29,1)","v":8.0000000000000005E-9},3.6184219229223367E-9,5.8260910024431851E-9,{"$f":"0.5*Circuit1!$B$3*(G25*MAX(A25-Circuit1!$B$8, 0)+H25*(A25+Circuit1!$B$8))*Circuit1!$B$5*1000","v":0.41515580619343806},{"$f":"MIN(MAX((1-AG24-Circuit1!$F$7/1000000000+Circuit1!$F$8/1000000000),0.001),1)*Circuit1!$B$7/1000000*AF25*(A25*A25+Circuit1!$B$8^2/3)*Circuit1!$B$5*1000","v":0.82908193724629431},{"$f":"Circuit1!$B$3*$AN$2*Circuit1!$J$26*0.000000001*Circuit1!$B$5*1000","v":0.1812},{"$f":"Circuit1!$J$21*A25*(Circuit1!$F$7/1000000000+Circuit1!$F$8/1000000000)*Circuit1!$B$5*1000","v":0.24947999999999995},{"$f":"A25*Circuit1!$B$4","v":17.279999999999998},{"$f":"Circuit1!$F$4*($AN$3/1000000000*Circuit1!$F$29)*Circuit1!$B$5*1000+Circuit1!$F$4*Circuit1!$F$9/1000/2","v":4.1136363636363645E-2},{"$f":"Circuit1!$F$4*($AN$4/1000000000*Circuit1!$J$26)*Circuit1!$B$5*1000+Circuit1!$F$4*Circuit1!$F$9/1000/2","v":4.1136363636363645E-2},{"$f":"(A25*A25+((Circuit1!$B$8)^2)/3)*(Circuit1!$J$9+Circuit1!$J$12)/1000*(1+0.002*AE24)","v":0.55734739765987906},{"$f":"Circuit1!$J$8/1000","v":0.05},{"$f":"0","v":0},{"$f":"(Circuit1!$F$19/1000000000000*Circuit1!$F$29)*Circuit1!$B$3*Circuit1!$B$3*Circuit1!$B$5*1000","v":8.7480000000000002E-2},0,{"$f":"Circuit1!$B$8*Circuit1!$B$8/3*Circuit1!$J$4/1000","v":1.9439999999999993E-3},0.87113450641485779,0.60487589372295436,1.0785619372462942,0.60929139765987905,4.1136363636363645E-2,{"$f":"W25*Circuit1!$F$25/MAX(Circuit1!$F$29,1)","v":29.396968434935584},24.579820404488103,{"$f":"$AN$6*(1+AB24*0.85*Circuit1!$F$26/100)/1000/MAX(Circuit1!$F$29,1)","v":4.2984371831505802E-3},{"$f":"X25*Circuit1!$J$22/MAX(Circuit1!$J$26,1)","v":52.418110150169902},38.843938008769548,{"$f":"$AN$7*(1+AE24*Circuit1!$J$23*0.85/100)/MAX(Circuit1!$J$26,1)/1000","v":4.5067768532798336E-3},{"$f":"(U25+T25+S25+R25+Q25+P25+N25+M25+L25+J25+I25+B25+O25+K25)/A25/Circuit1!$B$3","v":0.11479283539295054},null,{"$f":"(A25*A25+((Circuit1!$B$8)^2)/3)*Circuit1!$J$9/1000*50","v":15.581159999999997},null,0.96570101082856563]
[{"$f":"Circuit1!$B$10/50*25","v":15},{"$f":"AG25*Circuit1!$B$7/1000000*AC26*(A26*A26+((Circuit1!$B$8)^2)/3)*Circuit1!$B$5*1000","v":0.11157287963586385},{"$f":"(Circuit1!$F$22+A26/(Circuit1!$F$23*Circuit1!$F$29))/(1+((Circuit1!$F$22+A26/(Circuit1!$F$23*Circuit1!$F$29))/Circuit1!$F$4)^(5))^(0.2)","v":1.9173921790256943},{"$f":"MAX((Circuit1!$F$4-C26), 0.001)/(Circuit1!$F$5+Circuit1!$F$28+Circuit1!$F$24/Circuit1!$F$29)","v":1.9387470572165446},{"$f":"C26/(Circuit1!$F$6+Circuit1!$F$28+Circuit1!$F$24/Circuit1!$F$29)","v":1.3794188338314348},{"$f":"(Circuit1!$F$20/1000000000+Circuit1!$F$21/2/1000000000)*MAX(Circuit1!$F$29,1)","v":8.0000000000000005E-9},3.6274372982108298E-9,5.7995438396178965E-9,{"$f":"0.5*Circuit1!$B$3*(G26*MAX(A26-Circuit1!$B$8, 0)+H26*(A26+Circuit1!$B$8))*Circuit1!$B$5*1000","v":0.43125177639645151},{"$f":"MIN(MAX((1-AG25-Circuit1!$F$7/1000000000+Circuit1!$F$8/1000000000),0.001),1)*Circuit1!$B$7/1000000*AF26*(A26*A26+Circuit1!$B$8^2/3)*Circuit1!$B$5*1000","v":0.90657331881350056},{"$f":"Circuit1!$B$3*$AN$2*Circuit1!$J$26*0.000000001*Circuit1!$B$5*1000","v":0.1812},{"$f":"Circuit1!$J$21*A26*(Circuit1!$F$7/1000000000+Circuit1!$F$8/1000000000)*Circuit1!$B$5*1000","v":0.25987500000000002},{"$f":"A26*Circuit1!$B$4","v":18},{"$f":"Circuit1!$F$4*($AN$3/1000000000*Circuit1!$F$29)*Circuit1!$B$5*1000+Circuit1!$F$4*Circuit1!$F$9/1000/2","v":4.1136363636363645E-2},{"$f":"Circuit1!$F$4*($AN$4/1000000000*Circuit1!$J$26)*Circuit1!$B$5*1000+Circuit1!$F$4*Circuit1!$F$9/1000/2","v":4.1136363636363645E-2},{"$f":"(A26*A26+((Circuit1!$B$8)^2)/3)*(Circuit1!$J$9+Circuit1!$J$12)/1000*(1+0.002*AE25)","v":0.60724694287535474},{"$f":"Circuit1!$J$8/1000","v":0.05},{"$f":"0","v":0},{"$f":"(Circuit1!$F$19/1000000000000*Circuit1!$F$29)*Circuit1!$B$3*Circuit1!$B$3*Circuit1!$B$5*1000","v":8.7480000000000002E-2},0,{"$f":"Circuit1!$B$8*Circuit1!$B$8/3*Circuit1!$J$4/1000","v":1.9439999999999993E-3},0.86875032769559413,0.63030465603231534,1.1664483188135006,0.65919094287535474,4.1136363636363645E-2,{"$f":"W26*Circuit1!$F$25/MAX(Circuit1!$F$29,1)","v":30.632806283170527},25.437909298005994,{"$f":"$AN$6*(1+AB25*0.85*Circuit1!$F$26/100)/1000/MAX(Circuit1!$F$29,1)","v":4.3123254319146556E-3},{"$f":"X26*Circuit1!$J$22/MAX(Circuit1!$J$26,1)","v":56.689388294336133},41.141000582193108,{"$f":"$AN$7*(1+AE25*Circuit1!$J$23*0.85/100)/MAX(Circuit1!$J$26,1)/1000","v":4.5438678160202722E-3},{"$f":"(U26+T26+S26+R26+Q26+P26+N26+M26+L26+J26+I26+B26+O26+K26)/A26/Circuit1!$B$3","v":0.11510787024996612},null,{"$f":"(A26*A26+((Circuit1!$B$8)^2)/3)*Circuit1!$J$9/1000*50","v":16.904160000000001},null,0.96516189401764119]
[{"$f":"Circuit1!$B$10/50*26","v":15.6},{"$f":"AG26*Circuit1!$B$7/1000000*AC27*(A27*A27+((Circuit1!$B$8)^2)/3)*Circuit1!$B$5*1000","v":0.12138347192417792},{"$f":"(Circuit1!$F$22+A27/(Circuit1!$F$23*Circuit1!$F$29))/(1+((Circuit1!$F$22+A27/(Circuit1!$F$23*Circuit1!$F$29))/Circuit1!$F$4)^(5))^(0.2)","v":1.926126970112426},{"$f":"MAX((Circuit1!$F$4-C27), 0.001)/(Circuit1!$F$5+Circuit1!$F$28+Circuit1!$F$24/Circuit1!$F$29)","v":1.9332534779167134},{"$f":"C27/(Circuit1!$F$6+Circuit1!$F$28+Circuit1!$F$24/Circuit1!$F$29)","v":1.3857028561959901},{"$f":"(Circuit1!$F$20/1000000000+Circuit1!$F$21/2/1000000000)*MAX(Circuit1!$F$29,1)","v":8.0000000000000005E-9},3.6364956335790254E-9,5.77324349461289E-9,{"$f":"0.5*Circuit1!$B$3*(G27*MAX(A27-Circuit1!$B$8, 0)+H27*(A27+Circuit1!$B$8))*Circuit1!$B$5*1000","v":0.44729885426913135},{"$f":"MIN(MAX((1-AG26-Circuit1!$F$7/1000000000+Circuit1!$F$8/1000000000),0.001),1)*Circuit1!$B$7/1000000*AF27*(A27*A27+Circuit1!$B$8^2/3)*Circuit1!$B$5*1000","v":0.98811567312906212},{"$f":"Circuit1!$B$3*$AN$2*Circuit1!$J$26*0.000000001*Circuit1!$B$5*1000","v":0.1812},{"$f":"Circuit1!$J$21*A27*(Circuit1!$F$7/1000000000+Circuit1!$F$8/1000000000)*Circuit1!$B$5*1000","v":0.2702699999999999},{"$f":"A27*Circuit1!$B$4","v":18.72},{"$f":"Circuit1!$F$4*($AN$3/1000000000*Circuit1!$F$29)*Circuit1!$B$5*1000+Circuit1!$F$4*Circuit1!$F$9/1000/2","v":4.1136363636363645E-2},{"$f":"Circuit1!$F$4*($AN$4/1000000000*Circuit1!$J$26)*Circuit1!$B$5*1000+Circuit1!$F$4*Circuit1!$F$9/1000/2","v":4.1136363636363645E-2},{"$f":"(A27*A27+((Circuit1!$B$8)^2)/3)*(Circuit1!$J$9+Circuit1!$J$12)/1000*(1+0.002*AE26)","v":0.65951234761354416},{"$f":"Circuit1!$J$8/1000","v":0.05},{"$f":"0","v":0},{"$f":"(Circuit1!$F$19/1000000000000*Circuit1!$F$29)*Circuit1!$B$3*Circuit1!$B$3*Circuit1!$B$5*1000","v":8.7480000000000002E-2},0,{"$f":"Circuit1!$B$8*Circuit1!$B$8/3*Circuit1!$J$4/1000","v":1.9439999999999993E-3},0.86628658045329121,0.65616232619330928,1.2583856731290619,0.71145634761354415,4.1136363636363645E-2,{"$f":"W27*Circuit1!$F$25/MAX(Circuit1!$F$29,1)","v":31.889489052994833},26.298514459818726,{"$f":"$AN$6*(1+AB26*0.85*Circuit1!$F$26/100)/1000/MAX(Circuit1!$F$29,1)","v":4.3262543655992781E-3},{"$f":"X27*Circuit1!$J$22/MAX(Circuit1!$J$26,1)","v":61.157543714072411},43.444488867197848,{"$f":"$AN$7*(1+AE26*Circuit1!$J$23*0.85/100)/MAX(Circuit1!$J$26,1)/1000","v":4.5811548995571211E-3},{"$f":"(U27+T27+S27+R27+Q27+P27+N27+M27+L27+J27+I27+B27+O27+K27)/A27/Circuit1!$B$3","v":0.11543524078102908},null,{"$f":"(A27*A27+((Circuit1!$B$8)^2)/3)*Circuit1!$J$9/1000*50","v":18.28116},null,0.96460431265369495]
[{"$f":"Circuit1!$B$10/50*27","v":16.2},{"$f":"AG27*Circuit1!$B$7/1000000*AC28*(A28*A28+((Circuit1!$B$8)^2)/3)*Circuit1!$B$5*1000","v":0.13168112370690524},{"$f":"(Circuit1!$F$22+A28/(Circuit1!$F$23*Circuit1!$F$29))/(1+((Circuit1!$F$22+A28/(Circuit1!$F$23*Circuit1!$F$29))/Circuit1!$F$4)^(5))^(0.2)","v":1.9348597281226192},{"$f":"MAX((Circuit1!$F$4-C28), 0.001)/(Circuit1!$F$5+Circuit1!$F$28+Circuit1!$F$24/Circuit1!$F$29)","v":1.9277611772813716},{"$f":"C28/(Circuit1!$F$6+Circuit1!$F$28+Circuit1!$F$24/Circuit1!$F$29)","v":1.3919854159155536},{"$f":"(Circuit1!$F$20/1000000000+Circuit1!$F$21/2/1000000000)*MAX(Circuit1!$F$29,1)","v":8.0000000000000005E-9},3.6455971984055042E-9,5.7471866504708627E-9,{"$f":"0.5*Circuit1!$B$3*(G28*MAX(A28-Circuit1!$B$8, 0)+H28*(A28+Circuit1!$B$8))*Circuit1!$B$5*1000","v":0.46329844488008309},{"$f":"MIN(MAX((1-AG27-Circuit1!$F$7/1000000000+Circuit1!$F$8/1000000000),0.001),1)*Circuit1!$B$7/1000000*AF28*(A28*A28+Circuit1!$B$8^2/3)*Circuit1!$B$5*1000","v":1.0737616248695481},{"$f":"Circuit1!$B$3*$AN$2*Circuit1!$J$26*0.000000001*Circuit1!$B$5*1000","v":0.1812},{"$f":"Circuit1!$J$21*A28*(Circuit1!$F$7/1000000000+Circuit1!$F$8/1000000000)*Circuit1!$B$5*1000","v":0.28066499999999994},{"$f":"A28*Circuit1!$B$4","v":19.439999999999998},{"$f":"Circuit1!$F$4*($AN$3/1000000000*Circuit1!$F$29)*Circuit1!$B$5*1000+Circuit1!$F$4*Circuit1!$F$9/1000/2","v":4.1136363636363645E-2},{"$f":"Circuit1!$F$4*($AN$4/1000000000*Circuit1!$J$26)*Circuit1!$B$5*1000+Circuit1!$F$4*Circuit1!$F$9/1000/2","v":4.1136363636363645E-2},{"$f":"(A28*A28+((Circuit1!$B$8)^2)/3)*(Circuit1!$J$9+Circuit1!$J$12)/1000*(1+0.002*AE27)","v":0.71416431437789485},{"$f":"Circuit1!$J$8/1000","v":0.05},{"$f":"0","v":0},{"$f":"(Circuit1!$F$19/1000000000000*Circuit1!$F$29)*Circuit1!$B$3*Circuit1!$B$3*Circuit1!$B$5*1000","v":8.7480000000000002E-2},0,{"$f":"Circuit1!$B$8*Circuit1!$B$8/3*Circuit1!$J$4/1000","v":1.9439999999999993E-3},0.86375172953292856,0.68245956858698831,1.354426624869548,0.76610831437789484,4.1136363636363645E-2,{"$f":"W28*Circuit1!$F$25/MAX(Circuit1!$F$29,1)","v":33.167535033327631},27.161637863903728,{"$f":"$AN$6*(1+AB27*0.85*Circuit1!$F$26/100)/1000/MAX(Circuit1!$F$29,1)","v":4.3402241446257707E-3},{"$f":"X28*Circuit1!$J$22/MAX(Circuit1!$J$26,1)","v":65.82513396866004},45.748935324338895,{"$f":"$AN$7*(1+AE27*Circuit1!$J$23*0.85/100)/MAX(Circuit1!$J$26,1)/1000","v":4.6185462885000479E-3},{"$f":"(U28+T28+S28+R28+Q28+P28+N28+M28+L28+J28+I28+B28+O28+K28)/A28/Circuit1!$B$3","v":0.11577400841104507},null,{"$f":"(A28*A28+((Circuit1!$B$8)^2)/3)*Circuit1!$J$9/1000*50","v":19.712160000000001},null,0.96402970891670925]
[{"$f":"Circuit1!$B$10/50*28","v":16.8},{"$f":"AG28*Circuit1!$B$7/1000000*AC29*(A29*A29+((Circuit1!$B$8)^2)/3)*Circuit1!$B$5*1000","v":0.14247521766476953},{"$f":"(Circuit1!$F$22+A29/(Circuit1!$F$23*Circuit1!$F$29))/(1+((Circuit1!$F$22+A29/(Circuit1!$F$23*Circuit1!$F$29))/Circuit1!$F$4)^(5))^(0.2)","v":1.9435904165018574},{"$f":"MAX((Circuit1!$F$4-C29), 0.001)/(Circuit1!$F$5+Circuit1!$F$28+Circuit1!$F$24/Circuit1!$F$29)","v":1.9222701783007188},{"$f":"C29/(Circuit1!$F$6+Circuit1!$F$28+Circuit1!$F$24/Circuit1!$F$29)","v":1.3982664866919838},{"$f":"(Circuit1!$F$20/1000000000+Circuit1!$F$21/2/1000000000)*MAX(Circuit1!$F$29,1)","v":8.0000000000000005E-9},3.654742263758276E-9,5.7213700508022511E-9,{"$f":"0.5*Circuit1!$B$3*(G29*MAX(A29-Circuit1!$B$8, 0)+H29*(A29+Circuit1!$B$8))*Circuit1!$B$5*1000","v":0.47925193468387295},{"$f":"MIN(MAX((1-AG28-Circuit1!$F$7/1000000000+Circuit1!$F$8/1000000000),0.001),1)*Circuit1!$B$7/1000000*AF29*(A29*A29+Circuit1!$B$8^2/3)*Circuit1!$B$5*1000","v":1.1635586875388917},{"$f":"Circuit1!$B$3*$AN$2*Circuit1!$J$26*0.000000001*Circuit1!$B$5*1000","v":0.1812},{"$f":"Circuit1!$J$21*A29*(Circuit1!$F$7/1000000000+Circuit1!$F$8/1000000000)*Circuit1!$B$5*1000","v":0.29105999999999999},{"$f":"A29*Circuit1!$B$4","v":20.16},{"$f":"Circuit1!$F$4*($AN$3/1000000000*Circuit1!$F$29)*Circuit1!$B$5*1000+Circuit1!$F$4*Circuit1!$F$9/1000/2","v":4.1136363636363645E-2},{"$f":"Circuit1!$F$4*($AN$4/1000000000*Circuit1!$J$26)*Circuit1!$B$5*1000+Circuit1!$F$4*Circuit1!$F$9/1000/2","v":4.1136363636363645E-2},{"$f":"(A29*A29+((Circuit1!$B$8)^2)/3)*(Circuit1!$J$9+Circuit1!$J$12)/1000*(1+0.002*AE28)","v":0.77122183345997752},{"$f":"Circuit1!$J$8/1000","v":0.05},{"$f":"0","v":0},{"$f":"(Circuit1!$F$19/1000000000000*Circuit1!$F$29)*Circuit1!$B$3*Circuit1!$B$3*Circuit1!$B$5*1000","v":8.7480000000000002E-2},0,{"$f":"Circuit1!$B$8*Circuit1!$B$8/3*Circuit1!$J$4/1000","v":1.9439999999999993E-3},0.86115335667864301,0.70920715234864251,1.4546186875388916,0.82316583345997751,4.1136363636363645E-2,{"$f":"W29*Circuit1!$F$25/MAX(Circuit1!$F$29,1)","v":34.467467604144026},28.027273360289023,{"$f":"$AN$6*(1+AB28*0.85*Circuit1!$F$26/100)/1000/MAX(Circuit1!$F$29,1)","v":4.3542348010367363E-3},{"$f":"X29*Circuit1!$J$22/MAX(Circuit1!$J$26,1)","v":70.694468214390128},48.049098457045453,{"$f":"$AN$7*(1+AE28*Circuit1!$J$23*0.85/100)/MAX(Circuit1!$J$26,1)/1000","v":4.655953230978567E-3},{"$f":"(U29+T29+S29+R29+Q29+P29+N29+M29+L29+J29+I29+B29+O29+K29)/A29/Circuit1!$B$3","v":0.11612333532053692},null,{"$f":"(A29*A29+((Circuit1!$B$8)^2)/3)*Circuit1!$J$9/1000*50","v":21.19716},null,0.96343933402159054]
[{"$f":"Circuit1!$B$10/50*29","v":17.399999999999999},{"$f":"AG29*Circuit1!$B$7/1000000*AC30*(A30*A30+((Circuit1!$B$8)^2)/3)*Circuit1!$B$5*1000","v":0.15377525035784745},{"$f":"(Circuit1!$F$22+A30/(Circuit1!$F$23*Circuit1!$F$29))/(1+((Circuit1!$F$22+A30/(Circuit1!$F$23*Circuit1!$F$29))/Circuit1!$F$4)^(5))^(0.2)","v":1.9523189982296085},{"$f":"MAX((Circuit1!$F$4-C30), 0.001)/(Circuit1!$F$5+Circuit1!$F$28+Circuit1!$F$24/Circuit1!$F$29)","v":1.9167805042581081},{"$f":"C30/(Circuit1!$F$6+Circuit1!$F$28+Circuit1!$F$24/Circuit1!$F$29)","v":1.4045460418918048},{"$f":"(Circuit1!$F$20/1000000000+Circuit1!$F$21/2/1000000000)*MAX(Circuit1!$F$29,1)","v":8.0000000000000005E-9},3.6639311024006545E-9,5.6957904984194584E-9,{"$f":"0.5*Circuit1!$B$3*(G30*MAX(A30-Circuit1!$B$8, 0)+H30*(A30+Circuit1!$B$8))*Circuit1!$B$5*1000","v":0.49516069200591095},{"$f":"MIN(MAX((1-AG29-Circuit1!$F$7/1000000000+Circuit1!$F$8/1000000000),0.001),1)*Circuit1!$B$7/1000000*AF30*(A30*A30+Circuit1!$B$8^2/3)*Circuit1!$B$5*1000","v":1.2575491387996305},{"$f":"Circuit1!$B$3*$AN$2*Circuit1!$J$26*0.000000001*Circuit1!$B$5*1000","v":0.1812},{"$f":"Circuit1!$J$21*A30*(Circuit1!$F$7/1000000000+Circuit1!$F$8/1000000000)*Circuit1!$B$5*1000","v":0.30145499999999997},{"$f":"A30*Circuit1!$B$4","v":20.88},{"$f":"Circuit1!$F$4*($AN$3/1000000000*Circuit1!$F$29)*Circuit1!$B$5*1000+Circuit1!$F$4*Circuit1!$F$9/1000/2","v":4.1136363636363645E-2},{"$f":"Circuit1!$F$4*($AN$4/1000000000*Circuit1!$J$26)*Circuit1!$B$5*1000+Circuit1!$F$4*Circuit1!$F$9/1000/2","v":4.1136363636363645E-2},{"$f":"(A30*A30+((Circuit1!$B$8)^2)/3)*(Circuit1!$J$9+Circuit1!$J$12)/1000*(1+0.002*AE29)","v":0.8307021326916757},{"$f":"Circuit1!$J$8/1000","v":0.05},{"$f":"0","v":0},{"$f":"(Circuit1!$F$19/1000000000000*Circuit1!$F$29)*Circuit1!$B$3*Circuit1!$B$3*Circuit1!$B$5*1000","v":8.7480000000000002E-2},0,{"$f":"Circuit1!$B$8*Circuit1!$B$8/3*Circuit1!$J$4/1000","v":1.9439999999999993E-3},0.85849830681116401,0.7364159423637584,1.5590041387996305,0.88264613269167569,4.1136363636363645E-2,{"$f":"W30*Circuit1!$F$25/MAX(Circuit1!$F$29,1)","v":35.789814798878659},28.895406487396965,{"$f":"$AN$6*(1+AB29*0.85*Circuit1!$F$26/100)/1000/MAX(Circuit1!$F$29,1)","v":4.3682862350027142E-3},{"$f":"X30*Circuit1!$J$22/MAX(Circuit1!$J$26,1)","v":75.767601145662042},50.339996147262418,{"$f":"$AN$7*(1+AE29*Circuit1!$J$23*0.85/100)/MAX(Circuit1!$J$26,1)/1000","v":4.6932906443646468E-3},{"$f":"(U30+T30+S30+R30+Q30+P30+N30+M30+L30+J30+I30+B30+O30+K30)/A30/Circuit1!$B$3","v":0.11648246619314077},null,{"$f":"(A30*A30+((Circuit1!$B$8)^2)/3)*Circuit1!$J$9/1000*50","v":22.736159999999995},null,0.96283428255873094]
[{"$f":"Circuit1!$B$10/50*30","v":18},{"$f":"AG30*Circuit1!$B$7/1000000*AC31*(A31*A31+((Circuit1!$B$8)^2)/3)*Circuit1!$B$5*1000","v":0.16559082271747252},{"$f":"(Circuit1!$F$22+A31/(Circuit1!$F$23*Circuit1!$F$29))/(1+((Circuit1!$F$22+A31/(Circuit1!$F$23*Circuit1!$F$29))/Circuit1!$F$4)^(5))^(0.2)","v":1.9610454358162772},{"$f":"MAX((Circuit1!$F$4-C31), 0.001)/(Circuit1!$F$5+Circuit1!$F$28+Circuit1!$F$24/Circuit1!$F$29)","v":1.9112921787319013},{"$f":"C31/(Circuit1!$F$6+Circuit1!$F$28+Circuit1!$F$24/Circuit1!$F$29)","v":1.4108240545440844},{"$f":"(Circuit1!$F$20/1000000000+Circuit1!$F$21/2/1000000000)*MAX(Circuit1!$F$29,1)","v":8.0000000000000005E-9},3.6731639887970403E-9,5.6704448540078547E-9,{"$f":"0.5*Circuit1!$B$3*(G31*MAX(A31-Circuit1!$B$8, 0)+H31*(A31+Circuit1!$B$8))*Circuit1!$B$5*1000","v":0.51102606751474744},{"$f":"MIN(MAX((1-AG30-Circuit1!$F$7/1000000000+Circuit1!$F$8/1000000000),0.001),1)*Circuit1!$B$7/1000000*AF31*(A31*A31+Circuit1!$B$8^2/3)*Circuit1!$B$5*1000","v":1.3557699756884689},{"$f":"Circuit1!$B$3*$AN$2*Circuit1!$J$26*0.000000001*Circuit1!$B$5*1000","v":0.1812},{"$f":"Circuit1!$J$21*A31*(Circuit1!$F$7/1000000000+Circuit1!$F$8/1000000000)*Circuit1!$B$5*1000","v":0.31184999999999991},{"$f":"A31*Circuit1!$B$4","v":21.599999999999998},{"$f":"Circuit1!$F$4*($AN$3/1000000000*Circuit1!$F$29)*Circuit1!$B$5*1000+Circuit1!$F$4*Circuit1!$F$9/1000/2","v":4.1136363636363645E-2},{"$f":"Circuit1!$F$4*($AN$4/1000000000*Circuit1!$J$26)*Circuit1!$B$5*1000+Circuit1!$F$4*Circuit1!$F$9/1000/2","v":4.1136363636363645E-2},{"$f":"(A31*A31+((Circuit1!$B$8)^2)/3)*(Circuit1!$J$9+Circuit1!$J$12)/1000*(1+0.002*AE30)","v":0.89262065471107532},{"$f":"Circuit1!$J$8/1000","v":0.05},{"$f":"0","v":0},{"$f":"(Circuit1!$F$19/1000000000000*Circuit1!$F$29)*Circuit1!$B$3*Circuit1!$B$3*Circuit1!$B$5*1000","v":8.7480000000000002E-2},0,{"$f":"Circuit1!$B$8*Circuit1!$B$8/3*Circuit1!$J$4/1000","v":1.9439999999999993E-3},0.85579280161942628,0.76409689023221994,1.6676199756884689,0.94456465471107531,4.1136363636363645E-2,{"$f":"W31*Circuit1!$F$25/MAX(Circuit1!$F$29,1)","v":37.135108865285893},29.766014317509956,{"$f":"$AN$6*(1+AB30*0.85*Circuit1!$F$26/100)/1000/MAX(Circuit1!$F$29,1)","v":4.3823782117760474E-3},{"$f":"X31*Circuit1!$J$22/MAX(Circuit1!$J$26,1)","v":81.046330818459595},52.616934359892689,{"$f":"$AN$7*(1+AE30*Circuit1!$J$23*0.85/100)/MAX(Circuit1!$J$26,1)/1000","v":4.7304776563937452E-3},{"$f":"(U31+T31+S31+R31+Q31+P31+N31+M31+L31+J31+I31+B31+O31+K31)/A31/Circuit1!$B$3","v":0.11685071411066894},null,{"$f":"(A31*A31+((Circuit1!$B$8)^2)/3)*Circuit1!$J$9/1000*50","v":24.329160000000002},null,0.96221551990941234]
[{"$f":"Circuit1!$B$10/50*31","v":18.599999999999998},{"$f":"AG31*Circuit1!$B$7/1000000*AC32*(A32*A32+((Circuit1!$B$8)^2)/3)*Circuit1!$B$5*1000","v":0.17793163067145748},{"$f":"(Circuit1!$F$22+A32/(Circuit1!$F$23*Circuit1!$F$29))/(1+((Circuit1!$F$22+A32/(Circuit1!$F$23*Circuit1!$F$29))/Circuit1!$F$4)^(5))^(0.2)","v":1.9697696913002869},{"$f":"MAX((Circuit1!$F$4-C32), 0.001)/(Circuit1!$F$5+Circuit1!$F$28+Circuit1!$F$24/Circuit1!$F$29)","v":1.9058052255973041},{"$f":"C32/(Circuit1!$F$6+Circuit1!$F$28+Circuit1!$F$24/Circuit1!$F$29)","v":1.4171004973383361},{"$f":"(Circuit1!$F$20/1000000000+Circuit1!$F$21/2/1000000000)*MAX(Circuit1!$F$29,1)","v":8.0000000000000005E-9},3.6824411991186051E-9,5.6453300348323717E-9,{"$f":"0.5*Circuit1!$B$3*(G32*MAX(A32-Circuit1!$B$8, 0)+H32*(A32+Circuit1!$B$8))*Circuit1!$B$5*1000","v":0.52684939468217706},{"$f":"MIN(MAX((1-AG31-Circuit1!$F$7/1000000000+Circuit1!$F$8/1000000000),0.001),1)*Circuit1!$B$7/1000000*AF32*(A32*A32+Circuit1!$B$8^2/3)*Circuit1!$B$5*1000","v":1.4582529453311353},{"$f":"Circuit1!$B$3*$AN$2*Circuit1!$J$26*0.000000001*Circuit1!$B$5*1000","v":0.1812},{"$f":"Circuit1!$J$21*A32*(Circuit1!$F$7/1000000000+Circuit1!$F$8/1000000000)*Circuit1!$B$5*1000","v":0.32224499999999995},{"$f":"A32*Circuit1!$B$4","v":22.319999999999997},{"$f":"Circuit1!$F$4*($AN$3/1000000000*Circuit1!$F$29)*Circuit1!$B$5*1000+Circuit1!$F$4*Circuit1!$F$9/1000/2","v":4.1136363636363645E-2},{"$f":"Circuit1!$F$4*($AN$4/1000000000*Circuit1!$J$26)*Circuit1!$B$5*1000+Circuit1!$F$4*Circuit1!$F$9/1000/2","v":4.1136363636363645E-2},{"$f":"(A32*A32+((Circuit1!$B$8)^2)/3)*(Circuit1!$J$9+Circuit1!$J$12)/1000*(1+0.002*AE31)","v":0.95699106037613779},{"$f":"Circuit1!$J$8/1000","v":0.05},{"$f":"0","v":0},{"$f":"(Circuit1!$F$19/1000000000000*Circuit1!$F$29)*Circuit1!$B$3*Circuit1!$B$3*Circuit1!$B$5*1000","v":8.7480000000000002E-2},0,{"$f":"Circuit1!$B$8*Circuit1!$B$8/3*Circuit1!$J$4/1000","v":1.9439999999999993E-3},0.85304252811196213,0.79226102535363452,1.7804979453311351,1.0089350603761378,4.1136363636363645E-2,{"$f":"W32*Circuit1!$F$25/MAX(Circuit1!$F$29,1)","v":38.50388583218664},30.639065339850024,{"$f":"$AN$6*(1+AB31*0.85*Circuit1!$F$26/100)/1000/MAX(Circuit1!$F$29,1)","v":4.3965103591824097E-3},{"$f":"X32*Circuit1!$J$22/MAX(Circuit1!$J$26,1)","v":86.532200143093164},54.875530746391654,{"$f":"$AN$7*(1+AE31*Circuit1!$J$23*0.85/100)/MAX(Circuit1!$J$26,1)/1000","v":4.7674380711098547E-3},{"$f":"(U32+T32+S32+R32+Q32+P32+N32+M32+L32+J32+I32+B32+O32+K32)/A32/Circuit1!$B$3","v":0.11722744963411126},null,{"$f":"(A32*A32+((Circuit1!$B$8)^2)/3)*Circuit1!$J$9/1000*50","v":25.976159999999993},null,0.9615839042832971]
[{"$f":"Circuit1!$B$10/50*32","v":19.2},{"$f":"AG32*Circuit1!$B$7/1000000*AC33*(A33*A33+((Circuit1!$B$8)^2)/3)*Circuit1!$B$5*1000","v":0.19080745603629332},{"$f":"(Circuit1!$F$22+A33/(Circuit1!$F$23*Circuit1!$F$29))/(1+((Circuit1!$F$22+A33/(Circuit1!$F$23*Circuit1!$F$29))/Circuit1!$F$4)^(5))^(0.2)","v":1.9784917262451884},{"$f":"MAX((Circuit1!$F$4-C33), 0.001)/(Circuit1!$F$5+Circuit1!$F$28+Circuit1!$F$24/Circuit1!$F$29)","v":1.9003196690281836},{"$f":"C33/(Circuit1!$F$6+Circuit1!$F$28+Circuit1!$F$24/Circuit1!$F$29)","v":1.4233753426224378},{"$f":"(Circuit1!$F$20/1000000000+Circuit1!$F$21/2/1000000000)*MAX(Circuit1!$F$29,1)","v":8.0000000000000005E-9},3.6917630112488819E-9,5.6204430134786076E-9,{"$f":"0.5*Circuit1!$B$3*(G33*MAX(A33-Circuit1!$B$8, 0)+H33*(A33+Circuit1!$B$8))*Circuit1!$B$5*1000","v":0.54263199023152764},{"$f":"MIN(MAX((1-AG32-Circuit1!$F$7/1000000000+Circuit1!$F$8/1000000000),0.001),1)*Circuit1!$B$7/1000000*AF33*(A33*A33+Circuit1!$B$8^2/3)*Circuit1!$B$5*1000","v":1.5650246449033771},{"$f":"Circuit1!$B$3*$AN$2*Circuit1!$J$26*0.000000001*Circuit1!$B$5*1000","v":0.1812},{"$f":"Circuit1!$J$21*A33*(Circuit1!$F$7/1000000000+Circuit1!$F$8/1000000000)*Circuit1!$B$5*1000","v":0.33263999999999994},{"$f":"A33*Circuit1!$B$4","v":23.04},{"$f":"Circuit1!$F$4*($AN$3/1000000000*Circuit1!$F$29)*Circuit1!$B$5*1000+Circuit1!$F$4*Circuit1!$F$9/1000/2","v":4.1136363636363645E-2},{"$f":"Circuit1!$F$4*($AN$4/1000000000*Circuit1!$J$26)*Circuit1!$B$5*1000+Circuit1!$F$4*Circuit1!$F$9/1000/2","v":4.1136363636363645E-2},{"$f":"(A33*A33+((Circuit1!$B$8)^2)/3)*(Circuit1!$J$9+Circuit1!$J$12)/1000*(1+0.002*AE32)","v":1.0238252563035199},{"$f":"Circuit1!$J$8/1000","v":0.05},{"$f":"0","v":0},{"$f":"(Circuit1!$F$19/1000000000000*Circuit1!$F$29)*Circuit1!$B$3*Circuit1!$B$3*Circuit1!$B$5*1000","v":8.7480000000000002E-2},0,{"$f":"Circuit1!$B$8*Circuit1!$B$8/3*Circuit1!$J$4/1000","v":1.9439999999999993E-3},0.8502527079643134,0.82091944626782098,1.8976646449033772,1.0757692563035199,4.1136363636363645E-2,{"$f":"W33*Circuit1!$F$25/MAX(Circuit1!$F$29,1)","v":39.896685088616103},31.514519384578627,{"$f":"$AN$6*(1+AB32*0.85*Circuit1!$F$26/100)/1000/MAX(Circuit1!$F$29,1)","v":4.410682165722885E-3},{"$f":"X33*Circuit1!$J$22/MAX(Circuit1!$J$26,1)","v":92.226501742304137},57.111732869193148,{"$f":"$AN$7*(1+AE32*Circuit1!$J$23*0.85/100)/MAX(Circuit1!$J$26,1)/1000","v":4.8041007520110077E-3},{"$f":"(U33+T33+S33+R33+Q33+P33+N33+M33+L33+J33+I33+B33+O33+K33)/A33/Circuit1!$B$3","v":0.11761209233831359},null,{"$f":"(A33*A33+((Circuit1!$B$8)^2)/3)*Circuit1!$J$9/1000*50","v":27.677159999999994},null,0.96094020454042794]
[{"$f":"Circuit1!$B$10/50*33","v":19.8},{"$f":"AG33*Circuit1!$B$7/1000000*AC34*(A34*A34+((Circuit1!$B$8)^2)/3)*Circuit1!$B$5*1000","v":0.20422815778715778},{"$f":"(Circuit1!$F$22+A34/(Circuit1!$F$23*Circuit1!$F$29))/(1+((Circuit1!$F$22+A34/(Circuit1!$F$23*Circuit1!$F$29))/Circuit1!$F$4)^(5))^(0.2)","v":1.9872115017367953},{"$f":"MAX((Circuit1!$F$4-C34), 0.001)/(Circuit1!$F$5+Circuit1!$F$28+Circuit1!$F$24/Circuit1!$F$29)","v":1.8948355334988709},{"$f":"C34/(Circuit1!$F$6+Circuit1!$F$28+Circuit1!$F$24/Circuit1!$F$29)","v":1.4296485624005721},{"$f":"(Circuit1!$F$20/1000000000+Circuit1!$F$21/2/1000000000)*MAX(Circuit1!$F$29,1)","v":8.0000000000000005E-9},3.7011297047892541E-9,5.5957808166273566E-9,{"$f":"0.5*Circuit1!$B$3*(G34*MAX(A34-Circuit1!$B$8, 0)+H34*(A34+Circuit1!$B$8))*Circuit1!$B$5*1000","v":0.55837515457450215},{"$f":"MIN(MAX((1-AG33-Circuit1!$F$7/1000000000+Circuit1!$F$8/1000000000),0.001),1)*Circuit1!$B$7/1000000*AF34*(A34*A34+Circuit1!$B$8^2/3)*Circuit1!$B$5*1000","v":1.6761066830942752},{"$f":"Circuit1!$B$3*$AN$2*Circuit1!$J$26*0.000000001*Circuit1!$B$5*1000","v":0.1812},{"$f":"Circuit1!$J$21*A34*(Circuit1!$F$7/1000000000+Circuit1!$F$8/1000000000)*Circuit1!$B$5*1000","v":0.34303499999999992},{"$f":"A34*Circuit1!$B$4","v":23.76},{"$f":"Circuit1!$F$4*($AN$3/1000000000*Circuit1!$F$29)*Circuit1!$B$5*1000+Circuit1!$F$4*Circuit1!$F$9/1000/2","v":4.1136363636363645E-2},{"$f":"Circuit1!$F$4*($AN$4/1000000000*Circuit1!$J$26)*Circuit1!$B$5*1000+Circuit1!$F$4*Circuit1!$F$9/1000/2","v":4.1136363636363645E-2},{"$f":"(A34*A34+((Circuit1!$B$8)^2)/3)*(Circuit1!$J$9+Circuit1!$J$12)/1000*(1+0.002*AE33)","v":1.0931334439788902},{"$f":"Circuit1!$J$8/1000","v":0.05},{"$f":"0","v":0},{"$f":"(Circuit1!$F$19/1000000000000*Circuit1!$F$29)*Circuit1!$B$3*Circuit1!$B$3*Circuit1!$B$5*1000","v":8.7480000000000002E-2},0,{"$f":"Circuit1!$B$8*Circuit1!$B$8/3*Circuit1!$J$4/1000","v":1.9439999999999993E-3},0.84742815215284828,0.8500833123616599,2.0191416830942752,1.1450774439788902,4.1136363636363645E-2,{"$f":"W34*Circuit1!$F$25/MAX(Circuit1!$F$29,1)","v":41.314048980776676},32.392327589800736,{"$f":"$AN$6*(1+AB33*0.85*Circuit1!$F$26/100)/1000/MAX(Circuit1!$F$29,1)","v":4.4248929793403021E-3},{"$f":"X34*Circuit1!$J$22/MAX(Circuit1!$J$26,1)","v":98.130285798381777},59.32183095826371,{"$f":"$AN$7*(1+AE33*Circuit1!$J$23*0.85/100)/MAX(Circuit1!$J$26,1)/1000","v":4.8403999178773969E-3},{"$f":"(U34+T34+S34+R34+Q34+P34+N34+M34+L34+J34+I34+B34+O34+K34)/A34/Circuit1!$B$3","v":0.11800410423698465},null,{"$f":"(A34*A34+((Circuit1!$B$8)^2)/3)*Circuit1!$J$9/1000*50","v":29.432160000000003},null,0.96028511468015465]
[{"$f":"Circuit1!$B$10/50*34","v":20.399999999999999},{"$f":"AG34*Circuit1!$B$7/1000000*AC35*(A35*A35+((Circuit1!$B$8)^2)/3)*Circuit1!$B$5*1000","v":0.21820366379136352},{"$f":"(Circuit1!$F$22+A35/(Circuit1!$F$23*Circuit1!$F$29))/(1+((Circuit1!$F$22+A35/(Circuit1!$F$23*Circuit1!$F$29))/Circuit1!$F$4)^(5))^(0.2)","v":1.9959289783803522},{"$f":"MAX((Circuit1!$F$4-C35), 0.001)/(Circuit1!$F$5+Circuit1!$F$28+Circuit1!$F$24/Circuit1!$F$29)","v":1.8893528437859424},{"$f":"C35/(Circuit1!$F$6+Circuit1!$F$28+Circuit1!$F$24/Circuit1!$F$29)","v":1.4359201283311886},{"$f":"(Circuit1!$F$20/1000000000+Circuit1!$F$21/2/1000000000)*MAX(Circuit1!$F$29,1)","v":8.0000000000000005E-9},3.710541561064341E-9,5.5713405238615303E-9,{"$f":"0.5*Circuit1!$B$3*(G35*MAX(A35-Circuit1!$B$8, 0)+H35*(A35+Circuit1!$B$8))*Circuit1!$B$5*1000","v":0.57408017223692609},{"$f":"MIN(MAX((1-AG34-Circuit1!$F$7/1000000000+Circuit1!$F$8/1000000000),0.001),1)*Circuit1!$B$7/1000000*AF35*(A35*A35+Circuit1!$B$8^2/3)*Circuit1!$B$5*1000","v":1.7915158942621503},{"$f":"Circuit1!$B$3*$AN$2*Circuit1!$J$26*0.000000001*Circuit1!$B$5*1000","v":0.1812},{"$f":"Circuit1!$J$21*A35*(Circuit1!$F$7/1000000000+Circuit1!$F$8/1000000000)*Circuit1!$B$5*1000","v":0.35342999999999991},{"$f":"A35*Circuit1!$B$4","v":24.479999999999997},{"$f":"Circuit1!$F$4*($AN$3/1000000000*Circuit1!$F$29)*Circuit1!$B$5*1000+Circuit1!$F$4*Circuit1!$F$9/1000/2","v":4.1136363636363645E-2},{"$f":"Circuit1!$F$4*($AN$4/1000000000*Circuit1!$J$26)*Circuit1!$B$5*1000+Circuit1!$F$4*Circuit1!$F$9/1000/2","v":4.1136363636363645E-2},{"$f":"(A35*A35+((Circuit1!$B$8)^2)/3)*(Circuit1!$J$9+Circuit1!$J$12)/1000*(1+0.002*AE34)","v":1.1649241874973377},{"$f":"Circuit1!$J$8/1000","v":0.05},{"$f":"0","v":0},{"$f":"(Circuit1!$F$19/1000000000000*Circuit1!$F$29)*Circuit1!$B$3*Circuit1!$B$3*Circuit1!$B$5*1000","v":8.7480000000000002E-2},0,{"$f":"Circuit1!$B$8*Circuit1!$B$8/3*Circuit1!$J$4/1000","v":1.9439999999999993E-3},0.84457330434824562,0.87976383602828956,2.1449458942621504,1.2168681874973377,4.1136363636363645E-2,{"$f":"W35*Circuit1!$F$25/MAX(Circuit1!$F$29,1)","v":42.756522430974876},33.272432412464099,{"$f":"$AN$6*(1+AB34*0.85*Circuit1!$F$26/100)/1000/MAX(Circuit1!$F$29,1)","v":4.4391420068836248E-3},{"$f":"X35*Circuit1!$J$22/MAX(Circuit1!$J$26,1)","v":104.24437046114052},61.502465288847105,{"$f":"$AN$7*(1+AE34*Circuit1!$J$23*0.85/100)/MAX(Circuit1!$J$26,1)/1000","v":4.8762753498422223E-3},{"$f":"(U35+T35+S35+R35+Q35+P35+N35+M35+L35+J35+I35+B35+O35+K35)/A35/Circuit1!$B$3","v":0.11840298466119488},null,{"$f":"(A35*A35+((Circuit1!$B$8)^2)/3)*Circuit1!$J$9/1000*50","v":31.241159999999997},null,0.95961926567347011]
[{"$f":"Circuit1!$B$10/50*35","v":21},{"$f":"AG35*Circuit1!$B$7/1000000*AC36*(A36*A36+((Circuit1!$B$8)^2)/3)*Circuit1!$B$5*1000","v":0.23274396306489256},{"$f":"(Circuit1!$F$22+A36/(Circuit1!$F$23*Circuit1!$F$29))/(1+((Circuit1!$F$22+A36/(Circuit1!$F$23*Circuit1!$F$29))/Circuit1!$F$4)^(5))^(0.2)","v":2.0046441162977282},{"$f":"MAX((Circuit1!$F$4-C36), 0.001)/(Circuit1!$F$5+Circuit1!$F$28+Circuit1!$F$24/Circuit1!$F$29)","v":1.8838716249699825},{"$f":"C36/(Circuit1!$F$6+Circuit1!$F$28+Circuit1!$F$24/Circuit1!$F$29)","v":1.4421900117249844},{"$f":"(Circuit1!$F$20/1000000000+Circuit1!$F$21/2/1000000000)*MAX(Circuit1!$F$29,1)","v":8.0000000000000005E-9},3.7199988631272716E-9,5.5471192665044923E-9,{"$f":"0.5*Circuit1!$B$3*(G36*MAX(A36-Circuit1!$B$8, 0)+H36*(A36+Circuit1!$B$8))*Circuit1!$B$5*1000","v":0.58974831227374325},{"$f":"MIN(MAX((1-AG35-Circuit1!$F$7/1000000000+Circuit1!$F$8/1000000000),0.001),1)*Circuit1!$B$7/1000000*AF36*(A36*A36+Circuit1!$B$8^2/3)*Circuit1!$B$5*1000","v":1.9112645958470389},{"$f":"Circuit1!$B$3*$AN$2*Circuit1!$J$26*0.000000001*Circuit1!$B$5*1000","v":0.1812},{"$f":"Circuit1!$J$21*A36*(Circuit1!$F$7/1000000000+Circuit1!$F$8/1000000000)*Circuit1!$B$5*1000","v":0.36382499999999995},{"$f":"A36*Circuit1!$B$4","v":25.2},{"$f":"Circuit1!$F$4*($AN$3/1000000000*Circuit1!$F$29)*Circuit1!$B$5*1000+Circuit1!$F$4*Circuit1!$F$9/1000/2","v":4.1136363636363645E-2},{"$f":"Circuit1!$F$4*($AN$4/1000000000*Circuit1!$J$26)*Circuit1!$B$5*1000+Circuit1!$F$4*Circuit1!$F$9/1000/2","v":4.1136363636363645E-2},{"$f":"(A36*A36+((Circuit1!$B$8)^2)/3)*(Circuit1!$J$9+Circuit1!$J$12)/1000*(1+0.002*AE35)","v":1.2392044967544293},{"$f":"Circuit1!$J$8/1000","v":0.05},{"$f":"0","v":0},{"$f":"(Circuit1!$F$19/1000000000000*Circuit1!$F$29)*Circuit1!$B$3*Circuit1!$B$3*Circuit1!$B$5*1000","v":8.7480000000000002E-2},0,{"$f":"Circuit1!$B$8*Circuit1!$B$8/3*Circuit1!$J$4/1000","v":1.9439999999999993E-3},0.84169227576190753,0.90997227533863578,2.2750895958470387,1.2911484967544293,4.1136363636363645E-2,{"$f":"W36*Circuit1!$F$25/MAX(Circuit1!$F$29,1)","v":44.224652581457697},34.154767682936061,{"$f":"$AN$6*(1+AB35*0.85*Circuit1!$F$26/100)/1000/MAX(Circuit1!$F$29,1)","v":4.453428314284873E-3},{"$f":"X36*Circuit1!$J$22/MAX(Circuit1!$J$26,1)","v":110.56935435816608},63.650628427038335,{"$f":"$AN$7*(1+AE35*Circuit1!$J$23*0.85/100)/MAX(Circuit1!$J$26,1)/1000","v":4.9116725111509798E-3},{"$f":"(U36+T36+S36+R36+Q36+P36+N36+M36+L36+J36+I36+B36+O36+K36)/A36/Circuit1!$B$3","v":0.11880826625084456},null,{"$f":"(A36*A36+((Circuit1!$B$8)^2)/3)*Circuit1!$J$9/1000*50","v":33.10416},null,0.95894323516224722]
[{"$f":"Circuit1!$B$10/50*36","v":21.599999999999998},{"$f":"AG36*Circuit1!$B$7/1000000*AC37*(A37*A37+((Circuit1!$B$8)^2)/3)*Circuit1!$B$5*1000","v":0.24785909858635838},{"$f":"(Circuit1!$F$22+A37/(Circuit1!$F$23*Circuit1!$F$29))/(1+((Circuit1!$F$22+A37/(Circuit1!$F$23*Circuit1!$F$29))/Circuit1!$F$4)^(5))^(0.2)","v":2.013356875124646},{"$f":"MAX((Circuit1!$F$4-C37), 0.001)/(Circuit1!$F$5+Circuit1!$F$28+Circuit1!$F$24/Circuit1!$F$29)","v":1.8783919024373297},{"$f":"C37/(Circuit1!$F$6+Circuit1!$F$28+Circuit1!$F$24/Circuit1!$F$29)","v":1.4484581835429109},{"$f":"(Circuit1!$F$20/1000000000+Circuit1!$F$21/2/1000000000)*MAX(Circuit1!$F$29,1)","v":8.0000000000000005E-9},3.7295018957648545E-9,{"$f":"F37/E37","v":5.5231142264888164E-9},{"$f":"0.5*Circuit1!$B$3*(G37*MAX(A37-Circuit1!$B$8, 0)+H37*(A37+Circuit1!$B$8))*Circuit1!$B$5*1000","v":0.60538082867358356},{"$f":"MIN(MAX((1-AG36-Circuit1!$F$7/1000000000+Circuit1!$F$8/1000000000),0.001),1)*Circuit1!$B$7/1000000*AF37*(A37*A37+Circuit1!$B$8^2/3)*Circuit1!$B$5*1000","v":2.0353608794019693},{"$f":"Circuit1!$B$3*$AN$2*Circuit1!$J$26*0.000000001*Circuit1!$B$5*1000","v":0.1812},{"$f":"Circuit1!$J$21*A37*(Circuit1!$F$7/1000000000+Circuit1!$F$8/1000000000)*Circuit1!$B$5*1000","v":0.37421999999999989},{"$f":"A37*Circuit1!$B$4","v":25.919999999999998},{"$f":"Circuit1!$F$4*($AN$3/1000000000*Circuit1!$F$29)*Circuit1!$B$5*1000+Circuit1!$F$4*Circuit1!$F$9/1000/2","v":4.1136363636363645E-2},{"$f":"Circuit1!$F$4*($AN$4/1000000000*Circuit1!$J$26)*Circuit1!$B$5*1000+Circuit1!$F$4*Circuit1!$F$9/1000/2","v":4.1136363636363645E-2},{"$f":"(A37*A37+((Circuit1!$B$8)^2)/3)*(Circuit1!$J$9+Circuit1!$J$12)/1000*(1+0.002*AE36)","v":1.3159799228162572},{"$f":"Circuit1!$J$8/1000","v":0.05},{"$f":"0","v":0},{"$f":"(Circuit1!$F$19/1000000000000*Circuit1!$F$29)*Circuit1!$B$3*Circuit1!$B$3*Circuit1!$B$5*1000","v":8.7480000000000002E-2},0,{"$f":"Circuit1!$B$8*Circuit1!$B$8/3*Circuit1!$J$4/1000","v":1.9439999999999993E-3},0.83878887353281684,0.94071992725994191,2.4095808794019691,{"$f":"P37+Q37+U37","v":1.3679239228162572},{"$f":"N37","v":4.1136363636363645E-2},{"$f":"W37*Circuit1!$F$25/MAX(Circuit1!$F$29,1)","v":45.718988464833181},35.03925870206097,{"$f":"$AN$6*(1+AB36*0.85*Circuit1!$F$26/100)/1000/MAX(Circuit1!$F$29,1)","v":4.4677508274450443E-3},{"$f":"X37*Circuit1!$J$22/MAX(Circuit1!$J$26,1)","v":117.1056307389357},65.763662721168544,{"$f":"$AN$7*(1+AE36*Circuit1!$J$23*0.85/100)/MAX(Circuit1!$J$26,1)/1000","v":4.9465425836127562E-3},{"$f":"(U37+T37+S37+R37+Q37+P37+N37+M37+L37+J37+I37+B37+O37+K37)/A37/Circuit1!$B$3","v":0.11921951179302044},null,{"$f":"(A37*A37+((Circuit1!$B$8)^2)/3)*Circuit1!$J$9/1000*50","v":35.021159999999988},null,0.95825755543414459]
[{"$f":"Circuit1!$B$10/50*37","v":22.2},{"$f":"AG37*Circuit1!$B$7/1000000*AC38*(A38*A38+((Circuit1!$B$8)^2)/3)*Circuit1!$B$5*1000","v":0.2635591606793547},{"$f":"(Circuit1!$F$22+A38/(Circuit1!$F$23*Circuit1!$F$29))/(1+((Circuit1!$F$22+A38/(Circuit1!$F$23*Circuit1!$F$29))/Circuit1!$F$4)^(5))^(0.2)","v":2.0220672140079432},{"$f":"MAX((Circuit1!$F$4-C38), 0.001)/(Circuit1!$F$5+Circuit1!$F$28+Circuit1!$F$24/Circuit1!$F$29)","v":1.872913701881797},{"$f":"C38/(Circuit1!$F$6+Circuit1!$F$28+Circuit1!$F$24/Circuit1!$F$29)","v":1.4547246143942039},{"$f":"(Circuit1!$F$20/1000000000+Circuit1!$F$21/2/1000000000)*MAX(Circuit1!$F$29,1)","v":8.0000000000000005E-9},3.7390509455026307E-9,5.4993226352545556E-9,{"$f":"0.5*Circuit1!$B$3*(G38*MAX(A38-Circuit1!$B$8, 0)+H38*(A38+Circuit1!$B$8))*Circuit1!$B$5*1000","v":0.6209789607532249},{"$f":"MIN(MAX((1-AG37-Circuit1!$F$7/1000000000+Circuit1!$F$8/1000000000),0.001),1)*Circuit1!$B$7/1000000*AF38*(A38*A38+Circuit1!$B$8^2/3)*Circuit1!$B$5*1000","v":2.1638089257879192},{"$f":"Circuit1!$B$3*$AN$2*Circuit1!$J$26*0.000000001*Circuit1!$B$5*1000","v":0.1812},{"$f":"Circuit1!$J$21*A38*(Circuit1!$F$7/1000000000+Circuit1!$F$8/1000000000)*Circuit1!$B$5*1000","v":0.38461499999999998},{"$f":"A38*Circuit1!$B$4","v":26.639999999999997},{"$f":"Circuit1!$F$4*($AN$3/1000000000*Circuit1!$F$29)*Circuit1!$B$5*1000+Circuit1!$F$4*Circuit1!$F$9/1000/2","v":4.1136363636363645E-2},{"$f":"Circuit1!$F$4*($AN$4/1000000000*Circuit1!$J$26)*Circuit1!$B$5*1000+Circuit1!$F$4*Circuit1!$F$9/1000/2","v":4.1136363636363645E-2},{"$f":"(A38*A38+((Circuit1!$B$8)^2)/3)*(Circuit1!$J$9+Circuit1!$J$12)/1000*(1+0.002*AE37)","v":1.3952546622378335},{"$f":"Circuit1!$J$8/1000","v":0.05},{"$f":"0","v":0},{"$f":"(Circuit1!$F$19/1000000000000*Circuit1!$F$29)*Circuit1!$B$3*Circuit1!$B$3*Circuit1!$B$5*1000","v":8.7480000000000002E-2},0,{"$f":"Circuit1!$B$8*Circuit1!$B$8/3*Circuit1!$J$4/1000","v":1.9439999999999993E-3},0.83586662426728198,0.9720181214325796,2.5484239257879193,1.4471986622378334,4.1136363636363645E-2,{"$f":"W38*Circuit1!$F$25/MAX(Circuit1!$F$29,1)","v":47.24008070162337},35.925822378682412,{"$f":"$AN$6*(1+AB37*0.85*Circuit1!$F$26/100)/1000/MAX(Circuit1!$F$29,1)","v":4.4821083338095966E-3},{"$f":"X38*Circuit1!$J$22/MAX(Circuit1!$J$26,1)","v":123.85340279329289},67.83925351848481,{"$f":"$AN$7*(1+AE37*Circuit1!$J$23*0.85/100)/MAX(Circuit1!$J$26,1)/1000","v":4.9808424268791198E-3},{"$f":"(U38+T38+S38+R38+Q38+P38+N38+M38+L38+J38+I38+B38+O38+K38)/A38/Circuit1!$B$3","v":0.11963631169944089},null,{"$f":"(A38*A38+((Circuit1!$B$8)^2)/3)*Circuit1!$J$9/1000*50","v":36.992159999999998},null,0.95756271999513753]
[{"$f":"Circuit1!$B$10/50*38","v":22.8},{"$f":"AG38*Circuit1!$B$7/1000000*AC39*(A39*A39+((Circuit1!$B$8)^2)/3)*Circuit1!$B$5*1000","v":0.27985428095361792},{"$f":"(Circuit1!$F$22+A39/(Circuit1!$F$23*Circuit1!$F$29))/(1+((Circuit1!$F$22+A39/(Circuit1!$F$23*Circuit1!$F$29))/Circuit1!$F$4)^(5))^(0.2)","v":2.0307750916028628},{"$f":"MAX((Circuit1!$F$4-C39), 0.001)/(Circuit1!$F$5+Circuit1!$F$28+Circuit1!$F$24/Circuit1!$F$29)","v":1.8674370493063757},{"$f":"C39/(Circuit1!$F$6+Circuit1!$F$28+Circuit1!$F$24/Circuit1!$F$29)","v":1.4609892745344337},{"$f":"(Circuit1!$F$20/1000000000+Circuit1!$F$21/2/1000000000)*MAX(Circuit1!$F$29,1)","v":8.0000000000000005E-9},3.7486463006098132E-9,5.475741772676135E-9,{"$f":"0.5*Circuit1!$B$3*(G39*MAX(A39-Circuit1!$B$8, 0)+H39*(A39+Circuit1!$B$8))*Circuit1!$B$5*1000","v":0.6365439335422538},{"$f":"MIN(MAX((1-AG38-Circuit1!$F$7/1000000000+Circuit1!$F$8/1000000000),0.001),1)*Circuit1!$B$7/1000000*AF39*(A39*A39+Circuit1!$B$8^2/3)*Circuit1!$B$5*1000","v":2.2966093355856478},{"$f":"Circuit1!$B$3*$AN$2*Circuit1!$J$26*0.000000001*Circuit1!$B$5*1000","v":0.1812},{"$f":"Circuit1!$J$21*A39*(Circuit1!$F$7/1000000000+Circuit1!$F$8/1000000000)*Circuit1!$B$5*1000","v":0.39500999999999997},{"$f":"A39*Circuit1!$B$4","v":27.36},{"$f":"Circuit1!$F$4*($AN$3/1000000000*Circuit1!$F$29)*Circuit1!$B$5*1000+Circuit1!$F$4*Circuit1!$F$9/1000/2","v":4.1136363636363645E-2},{"$f":"Circuit1!$F$4*($AN$4/1000000000*Circuit1!$J$26)*Circuit1!$B$5*1000+Circuit1!$F$4*Circuit1!$F$9/1000/2","v":4.1136363636363645E-2},{"$f":"(A39*A39+((Circuit1!$B$8)^2)/3)*(Circuit1!$J$9+Circuit1!$J$12)/1000*(1+0.002*AE38)","v":1.4770316672540855},{"$f":"Circuit1!$J$8/1000","v":0.05},{"$f":"0","v":0},{"$f":"(Circuit1!$F$19/1000000000000*Circuit1!$F$29)*Circuit1!$B$3*Circuit1!$B$3*Circuit1!$B$5*1000","v":8.7480000000000002E-2},0,{"$f":"Circuit1!$B$8*Circuit1!$B$8/3*Circuit1!$J$4/1000","v":1.9439999999999993E-3},0.83292879396895392,1.0038782144958718,2.6916193355856479,1.5289756672540855,4.1136363636363645E-2,{"$f":"W39*Circuit1!$F$25/MAX(Circuit1!$F$29,1)","v":48.788481224499371},36.81436740497103,{"$f":"$AN$6*(1+AB38*0.85*Circuit1!$F$26/100)/1000/MAX(Circuit1!$F$29,1)","v":4.4964994846007789E-3},{"$f":"X39*Circuit1!$J$22/MAX(Circuit1!$J$26,1)","v":130.81269970946249},69.875418657065026,{"$f":"$AN$7*(1+AE38*Circuit1!$J$23*0.85/100)/MAX(Circuit1!$J$26,1)/1000","v":5.0145344683338276E-3},{"$f":"(U39+T39+S39+R39+Q39+P39+N39+M39+L39+J39+I39+B39+O39+K39)/A39/Circuit1!$B$3","v":0.12005828196128772},null,{"$f":"(A39*A39+((Circuit1!$B$8)^2)/3)*Circuit1!$J$9/1000*50","v":39.017160000000004},null,0.95685918899539346]
[{"$f":"Circuit1!$B$10/50*39","v":23.4},{"$f":"AG39*Circuit1!$B$7/1000000*AC40*(A40*A40+((Circuit1!$B$8)^2)/3)*Circuit1!$B$5*1000","v":0.29675462677840453},{"$f":"(Circuit1!$F$22+A40/(Circuit1!$F$23*Circuit1!$F$29))/(1+((Circuit1!$F$22+A40/(Circuit1!$F$23*Circuit1!$F$29))/Circuit1!$F$4)^(5))^(0.2)","v":2.0394804660703825},{"$f":"MAX((Circuit1!$F$4-C40), 0.001)/(Circuit1!$F$5+Circuit1!$F$28+Circuit1!$F$24/Circuit1!$F$29)","v":1.8619619710249169},{"$f":"C40/(Circuit1!$F$6+Circuit1!$F$28+Circuit1!$F$24/Circuit1!$F$29)","v":1.4672521338635847},{"$f":"(Circuit1!$F$20/1000000000+Circuit1!$F$21/2/1000000000)*MAX(Circuit1!$F$29,1)","v":8.0000000000000005E-9},3.7582882511040981E-9,5.4523689660169802E-9,{"$f":"0.5*Circuit1!$B$3*(G40*MAX(A40-Circuit1!$B$8, 0)+H40*(A40+Circuit1!$B$8))*Circuit1!$B$5*1000","v":0.65207695815821742},{"$f":"MIN(MAX((1-AG39-Circuit1!$F$7/1000000000+Circuit1!$F$8/1000000000),0.001),1)*Circuit1!$B$7/1000000*AF40*(A40*A40+Circuit1!$B$8^2/3)*Circuit1!$B$5*1000","v":2.4337594665415598},{"$f":"Circuit1!$B$3*$AN$2*Circuit1!$J$26*0.000000001*Circuit1!$B$5*1000","v":0.1812},{"$f":"Circuit1!$J$21*A40*(Circuit1!$F$7/1000000000+Circuit1!$F$8/1000000000)*Circuit1!$B$5*1000","v":0.40540499999999996},{"$f":"A40*Circuit1!$B$4","v":28.08},{"$f":"Circuit1!$F$4*($AN$3/1000000000*Circuit1!$F$29)*Circuit1!$B$5*1000+Circuit1!$F$4*Circuit1!$F$9/1000/2","v":4.1136363636363645E-2},{"$f":"Circuit1!$F$4*($AN$4/1000000000*Circuit1!$J$26)*Circuit1!$B$5*1000+Circuit1!$F$4*Circuit1!$F$9/1000/2","v":4.1136363636363645E-2},{"$f":"(A40*A40+((Circuit1!$B$8)^2)/3)*(Circuit1!$J$9+Circuit1!$J$12)/1000*(1+0.002*AE39)","v":1.5613127590131817},{"$f":"Circuit1!$J$8/1000","v":0.05},{"$f":"0","v":0},{"$f":"(Circuit1!$F$19/1000000000000*Circuit1!$F$29)*Circuit1!$B$3*Circuit1!$B$3*Circuit1!$B$5*1000","v":8.7480000000000002E-2},0,{"$f":"Circuit1!$B$8*Circuit1!$B$8/3*Circuit1!$J$4/1000","v":1.9439999999999993E-3},0.8299784052995488,1.036311584936622,2.8391644665415599,1.6132567590131817,4.1136363636363645E-2,{"$f":"W40*Circuit1!$F$25/MAX(Circuit1!$F$29,1)","v":50.364743027919829},37.704794466435956,{"$f":"$AN$6*(1+AB39*0.85*Circuit1!$F$26/100)/1000/MAX(Circuit1!$F$29,1)","v":4.5109227976636423E-3},{"$f":"X40*Circuit1!$J$22/MAX(Circuit1!$J$26,1)","v":137.98339307391981},71.870494823204325,{"$f":"$AN$7*(1+AE39*Circuit1!$J$23*0.85/100)/MAX(Circuit1!$J$26,1)/1000","v":5.0475865325202663E-3},{"$f":"(U40+T40+S40+R40+Q40+P40+N40+M40+L40+J40+I40+B40+O40+K40)/A40/Circuit1!$B$3","v":0.1204850624564248},null,{"$f":"(A40*A40+((Circuit1!$B$8)^2)/3)*Circuit1!$J$9/1000*50","v":41.09615999999999},null,0.95614739371323576]
[{"$f":"Circuit1!$B$10/50*40","v":24},{"$f":"AG40*Circuit1!$B$7/1000000*AC41*(A41*A41+((Circuit1!$B$8)^2)/3)*Circuit1!$B$5*1000","v":0.31427039624824749},{"$f":"(Circuit1!$F$22+A41/(Circuit1!$F$23*Circuit1!$F$29))/(1+((Circuit1!$F$22+A41/(Circuit1!$F$23*Circuit1!$F$29))/Circuit1!$F$4)^(5))^(0.2)","v":2.0481832950745797},{"$f":"MAX((Circuit1!$F$4-C41), 0.001)/(Circuit1!$F$5+Circuit1!$F$28+Circuit1!$F$24/Circuit1!$F$29)","v":1.8564884936637864},{"$f":"C41/(Circuit1!$F$6+Circuit1!$F$28+Circuit1!$F$24/Circuit1!$F$29)","v":1.4735131619241582},{"$f":"(Circuit1!$F$20/1000000000+Circuit1!$F$21/2/1000000000)*MAX(Circuit1!$F$29,1)","v":8.0000000000000005E-9},3.7679770887563676E-9,{"$f":"F41/E41","v":5.4292015889110606E-9},{"$f":"0.5*Circuit1!$B$3*(G41*MAX(A41-Circuit1!$B$8, 0)+H41*(A41+Circuit1!$B$8))*Circuit1!$B$5*1000","v":0.6675792321725561},{"$f":"MIN(MAX((1-AG40-Circuit1!$F$7/1000000000+Circuit1!$F$8/1000000000),0.001),1)*Circuit1!$B$7/1000000*AF41*(A41*A41+Circuit1!$B$8^2/3)*Circuit1!$B$5*1000","v":2.5752537708099346},{"$f":"Circuit1!$B$3*$AN$2*Circuit1!$J$26*0.000000001*Circuit1!$B$5*1000","v":0.1812},{"$f":"Circuit1!$J$21*A41*(Circuit1!$F$7/1000000000+Circuit1!$F$8/1000000000)*Circuit1!$B$5*1000","v":0.41579999999999995},{"$f":"A41*Circuit1!$B$4","v":28.799999999999997},{"$f":"Circuit1!$F$4*($AN$3/1000000000*Circuit1!$F$29)*Circuit1!$B$5*1000+Circuit1!$F$4*Circuit1!$F$9/1000/2","v":4.1136363636363645E-2},{"$f":"Circuit1!$F$4*($AN$4/1000000000*Circuit1!$J$26)*Circuit1!$B$5*1000+Circuit1!$F$4*Circuit1!$F$9/1000/2","v":4.1136363636363645E-2},{"$f":"(A41*A41+((Circuit1!$B$8)^2)/3)*(Circuit1!$J$9+Circuit1!$J$12)/1000*(1+0.002*AE40)","v":1.6480987413327643},{"$f":"Circuit1!$J$8/1000","v":0.05},{"$f":"0","v":0},{"$f":"(Circuit1!$F$19/1000000000000*Circuit1!$F$29)*Circuit1!$B$3*Circuit1!$B$3*Circuit1!$B$5*1000","v":8.7480000000000002E-2},0,{"$f":"Circuit1!$B$8*Circuit1!$B$8/3*Circuit1!$J$4/1000","v":1.9439999999999993E-3},0.82701825287575792,1.0693296284208036,2.9910537708099345,1.7000427413327643,4.1136363636363645E-2,{"$f":"W41*Circuit1!$F$25/MAX(Circuit1!$F$29,1)","v":51.969419941251054},38.596996483206176,{"$f":"$AN$6*(1+AB40*0.85*Circuit1!$F$26/100)/1000/MAX(Circuit1!$F$29,1)","v":4.5253766608750511E-3},{"$f":"X41*Circuit1!$J$22/MAX(Circuit1!$J$26,1)","v":145.36521326136281},73.823121377228006,{"$f":"$AN$7*(1+AE40*Circuit1!$J$23*0.85/100)/MAX(Circuit1!$J$26,1)/1000","v":5.0799716196876293E-3},{"$f":"(U41+T41+S41+R41+Q41+P41+N41+M41+L41+J41+I41+B41+O41+K41)/A41/Circuit1!$B$3","v":0.12091631551332022},null,{"$f":"(A41*A41+((Circuit1!$B$8)^2)/3)*Circuit1!$J$9/1000*50","v":43.229159999999993},null,0.9554277402624104]
[{"$f":"Circuit1!$B$10/50*41","v":24.599999999999998},{"$f":"AG41*Circuit1!$B$7/1000000*AC42*(A42*A42+((Circuit1!$B$8)^2)/3)*Circuit1!$B$5*1000","v":0.33241181359186972},{"$f":"(Circuit1!$F$22+A42/(Circuit1!$F$23*Circuit1!$F$29))/(1+((Circuit1!$F$22+A42/(Circuit1!$F$23*Circuit1!$F$29))/Circuit1!$F$4)^(5))^(0.2)","v":2.0568835357800292},{"$f":"MAX((Circuit1!$F$4-C42), 0.001)/(Circuit1!$F$5+Circuit1!$F$28+Circuit1!$F$24/Circuit1!$F$29)","v":1.8510166441635039},{"$f":"C42/(Circuit1!$F$6+Circuit1!$F$28+Circuit1!$F$24/Circuit1!$F$29)","v":1.4797723278993018},{"$f":"(Circuit1!$F$20/1000000000+Circuit1!$F$21/2/1000000000)*MAX(Circuit1!$F$29,1)","v":8.0000000000000005E-9},3.7777131070952504E-9,5.4062370603705453E-9,{"$f":"0.5*Circuit1!$B$3*(G42*MAX(A42-Circuit1!$B$8, 0)+H42*(A42+Circuit1!$B$8))*Circuit1!$B$5*1000","v":0.68305193996758762},{"$f":"MIN(MAX((1-AG41-Circuit1!$F$7/1000000000+Circuit1!$F$8/1000000000),0.001),1)*Circuit1!$B$7/1000000*AF42*(A42*A42+Circuit1!$B$8^2/3)*Circuit1!$B$5*1000","v":2.7210841258079994},{"$f":"Circuit1!$B$3*$AN$2*Circuit1!$J$26*0.000000001*Circuit1!$B$5*1000","v":0.1812},{"$f":"Circuit1!$J$21*A42*(Circuit1!$F$7/1000000000+Circuit1!$F$8/1000000000)*Circuit1!$B$5*1000","v":0.42619499999999999},{"$f":"A42*Circuit1!$B$4","v":29.519999999999996},{"$f":"Circuit1!$F$4*($AN$3/1000000000*Circuit1!$F$29)*Circuit1!$B$5*1000+Circuit1!$F$4*Circuit1!$F$9/1000/2","v":4.1136363636363645E-2},{"$f":"Circuit1!$F$4*($AN$4/1000000000*Circuit1!$J$26)*Circuit1!$B$5*1000+Circuit1!$F$4*Circuit1!$F$9/1000/2","v":4.1136363636363645E-2},{"$f":"(A42*A42+((Circuit1!$B$8)^2)/3)*(Circuit1!$J$9+Circuit1!$J$12)/1000*(1+0.002*AE41)","v":1.7373895128111732},{"$f":"Circuit1!$J$8/1000","v":0.05},{"$f":"0","v":0},{"$f":"(Circuit1!$F$19/1000000000000*Circuit1!$F$29)*Circuit1!$B$3*Circuit1!$B$3*Circuit1!$B$5*1000","v":8.7480000000000002E-2},0,{"$f":"Circuit1!$B$8*Circuit1!$B$8/3*Circuit1!$J$4/1000","v":1.9439999999999993E-3},0.82405091712278167,1.1029437535594573,3.1472791258079993,1.7893335128111731,4.1136363636363645E-2,{"$f":"W42*Circuit1!$F$25/MAX(Circuit1!$F$29,1)","v":53.603066422989627},39.490858879031911,{"$f":"$AN$6*(1+AB41*0.85*Circuit1!$F$26/100)/1000/MAX(Circuit1!$F$29,1)","v":4.5398593360602875E-3},{"$f":"X42*Circuit1!$J$22/MAX(Circuit1!$J$26,1)","v":152.95776551426877},75.732222239603601,{"$f":"$AN$7*(1+AE41*Circuit1!$J$23*0.85/100)/MAX(Circuit1!$J$26,1)/1000","v":5.1116676432433304E-3},{"$f":"(U42+T42+S42+R42+Q42+P42+N42+M42+L42+J42+I42+B42+O42+K42)/A42/Circuit1!$B$3","v":0.12135172465938804},null,{"$f":"(A42*A42+((Circuit1!$B$8)^2)/3)*Circuit1!$J$9/1000*50","v":45.416159999999984},null,0.95470061265695516]
[{"$f":"Circuit1!$B$10/50*42","v":25.2},{"$f":"AG42*Circuit1!$B$7/1000000*AC43*(A43*A43+((Circuit1!$B$8)^2)/3)*Circuit1!$B$5*1000","v":0.35118912496928217},{"$f":"(Circuit1!$F$22+A43/(Circuit1!$F$23*Circuit1!$F$29))/(1+((Circuit1!$F$22+A43/(Circuit1!$F$23*Circuit1!$F$29))/Circuit1!$F$4)^(5))^(0.2)","v":2.0655811448492414},{"$f":"MAX((Circuit1!$F$4-C43), 0.001)/(Circuit1!$F$5+Circuit1!$F$28+Circuit1!$F$24/Circuit1!$F$29)","v":1.8455464497803515},{"$f":"C43/(Circuit1!$F$6+Circuit1!$F$28+Circuit1!$F$24/Circuit1!$F$29)","v":1.4860296006109652},{"$f":"(Circuit1!$F$20/1000000000+Circuit1!$F$21/2/1000000000)*MAX(Circuit1!$F$29,1)","v":8.0000000000000005E-9},3.7874966014115595E-9,5.3834728438187815E-9,{"$f":"0.5*Circuit1!$B$3*(G43*MAX(A43-Circuit1!$B$8, 0)+H43*(A43+Circuit1!$B$8))*Circuit1!$B$5*1000","v":0.69849625308481311},{"$f":"MIN(MAX((1-AG42-Circuit1!$F$7/1000000000+Circuit1!$F$8/1000000000),0.001),1)*Circuit1!$B$7/1000000*AF43*(A43*A43+Circuit1!$B$8^2/3)*Circuit1!$B$5*1000","v":2.8712401535973222},{"$f":"Circuit1!$B$3*$AN$2*Circuit1!$J$26*0.000000001*Circuit1!$B$5*1000","v":0.1812},{"$f":"Circuit1!$J$21*A43*(Circuit1!$F$7/1000000000+Circuit1!$F$8/1000000000)*Circuit1!$B$5*1000","v":0.43658999999999992},{"$f":"A43*Circuit1!$B$4","v":30.24},{"$f":"Circuit1!$F$4*($AN$3/1000000000*Circuit1!$F$29)*Circuit1!$B$5*1000+Circuit1!$F$4*Circuit1!$F$9/1000/2","v":4.1136363636363645E-2},{"$f":"Circuit1!$F$4*($AN$4/1000000000*Circuit1!$J$26)*Circuit1!$B$5*1000+Circuit1!$F$4*Circuit1!$F$9/1000/2","v":4.1136363636363645E-2},{"$f":"(A43*A43+((Circuit1!$B$8)^2)/3)*(Circuit1!$J$9+Circuit1!$J$12)/1000*(1+0.002*AE42)","v":1.8291841754952229},{"$f":"Circuit1!$J$8/1000","v":0.05},{"$f":"0","v":0},{"$f":"(Circuit1!$F$19/1000000000000*Circuit1!$F$29)*Circuit1!$B$3*Circuit1!$B$3*Circuit1!$B$5*1000","v":8.7480000000000002E-2},0,{"$f":"Circuit1!$B$8*Circuit1!$B$8/3*Circuit1!$J$4/1000","v":1.9439999999999993E-3},0.82107877706036969,1.1371653780540953,3.307830153597322,1.8811281754952229,4.1136363636363645E-2,{"$f":"W43*Circuit1!$F$25/MAX(Circuit1!$F$29,1)","v":55.266237373429036},40.386259874452485,{"$f":"$AN$6*(1+AB42*0.85*Circuit1!$F$26/100)/1000/MAX(Circuit1!$F$29,1)","v":4.5543689633596122E-3},{"$f":"X43*Circuit1!$J$22/MAX(Circuit1!$J$26,1)","v":160.76054546482985},77.596986398820619,{"$f":"$AN$7*(1+AE42*Circuit1!$J$23*0.85/100)/MAX(Circuit1!$J$26,1)/1000","v":5.1426571357191808E-3},{"$f":"(U43+T43+S43+R43+Q43+P43+N43+M43+L43+J43+I43+B43+O43+K43)/A43/Circuit1!$B$3","v":0.12179099350006402},null,{"$f":"(A43*A43+((Circuit1!$B$8)^2)/3)*Circuit1!$J$9/1000*50","v":47.65715999999999},null,0.95396637534360473]
[{"$f":"Circuit1!$B$10/50*43","v":25.8},{"$f":"AG43*Circuit1!$B$7/1000000*AC44*(A44*A44+((Circuit1!$B$8)^2)/3)*Circuit1!$B$5*1000","v":0.37061259459960222},{"$f":"(Circuit1!$F$22+A44/(Circuit1!$F$23*Circuit1!$F$29))/(1+((Circuit1!$F$22+A44/(Circuit1!$F$23*Circuit1!$F$29))/Circuit1!$F$4)^(5))^(0.2)","v":2.0742760784401395},{"$f":"MAX((Circuit1!$F$4-C44), 0.001)/(Circuit1!$F$5+Circuit1!$F$28+Circuit1!$F$24/Circuit1!$F$29)","v":1.8400779380879628},{"$f":"C44/(Circuit1!$F$6+Circuit1!$F$28+Circuit1!$F$24/Circuit1!$F$29)","v":1.492284948518086},{"$f":"(Circuit1!$F$20/1000000000+Circuit1!$F$21/2/1000000000)*MAX(Circuit1!$F$29,1)","v":8.0000000000000005E-9},3.797327868762599E-9,5.3609064461478372E-9,{"$f":"0.5*Circuit1!$B$3*(G44*MAX(A44-Circuit1!$B$8, 0)+H44*(A44+Circuit1!$B$8))*Circuit1!$B$5*1000","v":0.713913330564796},{"$f":"MIN(MAX((1-AG43-Circuit1!$F$7/1000000000+Circuit1!$F$8/1000000000),0.001),1)*Circuit1!$B$7/1000000*AF44*(A44*A44+Circuit1!$B$8^2/3)*Circuit1!$B$5*1000","v":3.0257095247892827},{"$f":"Circuit1!$B$3*$AN$2*Circuit1!$J$26*0.000000001*Circuit1!$B$5*1000","v":0.1812},{"$f":"Circuit1!$J$21*A44*(Circuit1!$F$7/1000000000+Circuit1!$F$8/1000000000)*Circuit1!$B$5*1000","v":0.44698499999999991},{"$f":"A44*Circuit1!$B$4","v":30.96},{"$f":"Circuit1!$F$4*($AN$3/1000000000*Circuit1!$F$29)*Circuit1!$B$5*1000+Circuit1!$F$4*Circuit1!$F$9/1000/2","v":4.1136363636363645E-2},{"$f":"Circuit1!$F$4*($AN$4/1000000000*Circuit1!$J$26)*Circuit1!$B$5*1000+Circuit1!$F$4*Circuit1!$F$9/1000/2","v":4.1136363636363645E-2},{"$f":"(A44*A44+((Circuit1!$B$8)^2)/3)*(Circuit1!$J$9+Circuit1!$J$12)/1000*(1+0.002*AE43)","v":1.923481138674114},{"$f":"Circuit1!$J$8/1000","v":0.05},{"$f":"0","v":0},{"$f":"(Circuit1!$F$19/1000000000000*Circuit1!$F$29)*Circuit1!$B$3*Circuit1!$B$3*Circuit1!$B$5*1000","v":8.7480000000000002E-2},0,{"$f":"Circuit1!$B$8*Circuit1!$B$8/3*Circuit1!$J$4/1000","v":1.9439999999999993E-3},0.8181040222856325,1.1720059251643982,3.4726945247892824,1.975425138674114,4.1136363636363645E-2,{"$f":"W44*Circuit1!$F$25/MAX(Circuit1!$F$29,1)","v":56.959487962989755},41.283070800679404,{"$f":"$AN$6*(1+AB43*0.85*Circuit1!$F$26/100)/1000/MAX(Circuit1!$F$29,1)","v":4.5689035659871166E-3},{"$f":"X44*Circuit1!$J$22/MAX(Circuit1!$J$26,1)","v":168.77295390475913},79.416847557517698,{"$f":"$AN$7*(1+AE43*Circuit1!$J$23*0.85/100)/MAX(Circuit1!$J$26,1)/1000","v":5.1729269323654318E-3},{"$f":"(U44+T44+S44+R44+Q44+P44+N44+M44+L44+J44+I44+B44+O44+K44)/A44/Circuit1!$B$3","v":0.12223384468960113},null,{"$f":"(A44*A44+((Circuit1!$B$8)^2)/3)*Circuit1!$J$9/1000*50","v":49.952159999999992},null,0.95322537529230189]
[{"$f":"Circuit1!$B$10/50*44","v":26.4},{"$f":"AG44*Circuit1!$B$7/1000000*AC45*(A45*A45+((Circuit1!$B$8)^2)/3)*Circuit1!$B$5*1000","v":0.39069250116243254},{"$f":"(Circuit1!$F$22+A45/(Circuit1!$F$23*Circuit1!$F$29))/(1+((Circuit1!$F$22+A45/(Circuit1!$F$23*Circuit1!$F$29))/Circuit1!$F$4)^(5))^(0.2)","v":2.0829682922035762},{"$f":"MAX((Circuit1!$F$4-C45), 0.001)/(Circuit1!$F$5+Circuit1!$F$28+Circuit1!$F$24/Circuit1!$F$29)","v":1.8346111369788831},{"$f":"C45/(Circuit1!$F$6+Circuit1!$F$28+Circuit1!$F$24/Circuit1!$F$29)","v":1.4985383397148031},{"$f":"(Circuit1!$F$20/1000000000+Circuit1!$F$21/2/1000000000)*MAX(Circuit1!$F$29,1)","v":8.0000000000000005E-9},3.8072072079763261E-9,5.3385354167999024E-9,{"$f":"0.5*Circuit1!$B$3*(G45*MAX(A45-Circuit1!$B$8, 0)+H45*(A45+Circuit1!$B$8))*Circuit1!$B$5*1000","v":0.72930431927886563},{"$f":"MIN(MAX((1-AG44-Circuit1!$F$7/1000000000+Circuit1!$F$8/1000000000),0.001),1)*Circuit1!$B$7/1000000*AF45*(A45*A45+Circuit1!$B$8^2/3)*Circuit1!$B$5*1000","v":3.1844782439994828},{"$f":"Circuit1!$B$3*$AN$2*Circuit1!$J$26*0.000000001*Circuit1!$B$5*1000","v":0.1812},{"$f":"Circuit1!$J$21*A45*(Circuit1!$F$7/1000000000+Circuit1!$F$8/1000000000)*Circuit1!$B$5*1000","v":0.4573799999999999},{"$f":"A45*Circuit1!$B$4","v":31.679999999999996},{"$f":"Circuit1!$F$4*($AN$3/1000000000*Circuit1!$F$29)*Circuit1!$B$5*1000+Circuit1!$F$4*Circuit1!$F$9/1000/2","v":4.1136363636363645E-2},{"$f":"Circuit1!$F$4*($AN$4/1000000000*Circuit1!$J$26)*Circuit1!$B$5*1000+Circuit1!$F$4*Circuit1!$F$9/1000/2","v":4.1136363636363645E-2},{"$f":"(A45*A45+((Circuit1!$B$8)^2)/3)*(Circuit1!$J$9+Circuit1!$J$12)/1000*(1+0.002*AE44)","v":2.0202782167200888},{"$f":"Circuit1!$J$8/1000","v":0.05},{"$f":"0","v":0},{"$f":"(Circuit1!$F$19/1000000000000*Circuit1!$F$29)*Circuit1!$B$3*Circuit1!$B$3*Circuit1!$B$5*1000","v":8.7480000000000002E-2},0,{"$f":"Circuit1!$B$8*Circuit1!$B$8/3*Circuit1!$J$4/1000","v":1.9439999999999993E-3},0.81512866433206232,1.2074768204412982,3.6418582439994829,2.0722222167200886,4.1136363636363645E-2,{"$f":"W45*Circuit1!$F$25/MAX(Circuit1!$F$29,1)","v":58.683373473447098},42.181156430927146,{"$f":"$AN$6*(1+AB44*0.85*Circuit1!$F$26/100)/1000/MAX(Circuit1!$F$29,1)","v":4.5834610553258338E-3},{"$f":"X45*Circuit1!$J$22/MAX(Circuit1!$J$26,1)","v":176.99431065837487},81.191463378374422,{"$f":"$AN$7*(1+AE44*Circuit1!$J$23*0.85/100)/MAX(Circuit1!$J$26,1)/1000","v":5.2024678407563904E-3},{"$f":"(U45+T45+S45+R45+Q45+P45+N45+M45+L45+J45+I45+B45+O45+K45)/A45/Circuit1!$B$3","v":0.12268001896601514},null,{"$f":"(A45*A45+((Circuit1!$B$8)^2)/3)*Circuit1!$J$9/1000*50","v":52.301159999999989},null,0.95247794371987105]
[{"$f":"Circuit1!$B$10/50*45","v":27},{"$f":"AG45*Circuit1!$B$7/1000000*AC46*(A46*A46+((Circuit1!$B$8)^2)/3)*Circuit1!$B$5*1000","v":0.41143913441816649},{"$f":"(Circuit1!$F$22+A46/(Circuit1!$F$23*Circuit1!$F$29))/(1+((Circuit1!$F$22+A46/(Circuit1!$F$23*Circuit1!$F$29))/Circuit1!$F$4)^(5))^(0.2)","v":2.0916577412808914},{"$f":"MAX((Circuit1!$F$4-C46), 0.001)/(Circuit1!$F$5+Circuit1!$F$28+Circuit1!$F$24/Circuit1!$F$29)","v":1.8291460746661061},{"$f":"C46/(Circuit1!$F$6+Circuit1!$F$28+Circuit1!$F$24/Circuit1!$F$29)","v":1.5047897419286991},{"$f":"(Circuit1!$F$20/1000000000+Circuit1!$F$21/2/1000000000)*MAX(Circuit1!$F$29,1)","v":8.0000000000000005E-9},3.8171349196553825E-9,5.3163573468718271E-9,{"$f":"0.5*Circuit1!$B$3*(G46*MAX(A46-Circuit1!$B$8, 0)+H46*(A46+Circuit1!$B$8))*Circuit1!$B$5*1000","v":0.74467035425288541},{"$f":"MIN(MAX((1-AG45-Circuit1!$F$7/1000000000+Circuit1!$F$8/1000000000),0.001),1)*Circuit1!$B$7/1000000*AF46*(A46*A46+Circuit1!$B$8^2/3)*Circuit1!$B$5*1000","v":3.347530914813877},{"$f":"Circuit1!$B$3*$AN$2*Circuit1!$J$26*0.000000001*Circuit1!$B$5*1000","v":0.1812},{"$f":"Circuit1!$J$21*A46*(Circuit1!$F$7/1000000000+Circuit1!$F$8/1000000000)*Circuit1!$B$5*1000","v":0.46777499999999989},{"$f":"A46*Circuit1!$B$4","v":32.4},{"$f":"Circuit1!$F$4*($AN$3/1000000000*Circuit1!$F$29)*Circuit1!$B$5*1000+Circuit1!$F$4*Circuit1!$F$9/1000/2","v":4.1136363636363645E-2},{"$f":"Circuit1!$F$4*($AN$4/1000000000*Circuit1!$J$26)*Circuit1!$B$5*1000+Circuit1!$F$4*Circuit1!$F$9/1000/2","v":4.1136363636363645E-2},{"$f":"(A46*A46+((Circuit1!$B$8)^2)/3)*(Circuit1!$J$9+Circuit1!$J$12)/1000*(1+0.002*AE45)","v":2.119572720218982},{"$f":"Circuit1!$J$8/1000","v":0.05},{"$f":"0","v":0},{"$f":"(Circuit1!$F$19/1000000000000*Circuit1!$F$29)*Circuit1!$B$3*Circuit1!$B$3*Circuit1!$B$5*1000","v":8.7480000000000002E-2},0,{"$f":"Circuit1!$B$8*Circuit1!$B$8/3*Circuit1!$J$4/1000","v":1.9439999999999993E-3},0.81215454752100491,1.2435894886710519,3.815305914813877,2.1715167202189818,4.1136363636363645E-2,{"$f":"W46*Circuit1!$F$25/MAX(Circuit1!$F$29,1)","v":60.438449149413124},43.080375326161025,{"$f":"$AN$6*(1+AB45*0.85*Circuit1!$F$26/100)/1000/MAX(Circuit1!$F$29,1)","v":4.5980392363060684E-3},{"$f":"X46*Circuit1!$J$22/MAX(Circuit1!$J$26,1)","v":185.42386745995444},82.920694730567348,{"$f":"$AN$7*(1+AE45*Circuit1!$J$23*0.85/100)/MAX(Circuit1!$J$26,1)/1000","v":5.2312743038992185E-3},{"$f":"(U46+T46+S46+R46+Q46+P46+N46+M46+L46+J46+I46+B46+O46+K46)/A46/Circuit1!$B$3","v":0.12312927423140936},null,{"$f":"(A46*A46+((Circuit1!$B$8)^2)/3)*Circuit1!$J$9/1000*50","v":54.704160000000002},null,0.95172439750936688]
[{"$f":"Circuit1!$B$10/50*46","v":27.599999999999998},{"$f":"AG46*Circuit1!$B$7/1000000*AC47*(A47*A47+((Circuit1!$B$8)^2)/3)*Circuit1!$B$5*1000","v":0.43286279199681199},{"$f":"(Circuit1!$F$22+A47/(Circuit1!$F$23*Circuit1!$F$29))/(1+((Circuit1!$F$22+A47/(Circuit1!$F$23*Circuit1!$F$29))/Circuit1!$F$4)^(5))^(0.2)","v":2.1003443803015083},{"$f":"MAX((Circuit1!$F$4-C47), 0.001)/(Circuit1!$F$5+Circuit1!$F$28+Circuit1!$F$24/Circuit1!$F$29)","v":1.8236827796845863},{"$f":"C47/(Circuit1!$F$6+Circuit1!$F$28+Circuit1!$F$24/Circuit1!$F$29)","v":1.5110391225190709},{"$f":"(Circuit1!$F$20/1000000000+Circuit1!$F$21/2/1000000000)*MAX(Circuit1!$F$29,1)","v":8.0000000000000005E-9},3.8271113061809641E-9,5.2943698682421322E-9,{"$f":"0.5*Circuit1!$B$3*(G47*MAX(A47-Circuit1!$B$8, 0)+H47*(A47+Circuit1!$B$8))*Circuit1!$B$5*1000","v":0.76001255898331055},{"$f":"MIN(MAX((1-AG46-Circuit1!$F$7/1000000000+Circuit1!$F$8/1000000000),0.001),1)*Circuit1!$B$7/1000000*AF47*(A47*A47+Circuit1!$B$8^2/3)*Circuit1!$B$5*1000","v":3.5148509830573857},{"$f":"Circuit1!$B$3*$AN$2*Circuit1!$J$26*0.000000001*Circuit1!$B$5*1000","v":0.1812},{"$f":"Circuit1!$J$21*A47*(Circuit1!$F$7/1000000000+Circuit1!$F$8/1000000000)*Circuit1!$B$5*1000","v":0.47816999999999993},{"$f":"A47*Circuit1!$B$4","v":33.119999999999997},{"$f":"Circuit1!$F$4*($AN$3/1000000000*Circuit1!$F$29)*Circuit1!$B$5*1000+Circuit1!$F$4*Circuit1!$F$9/1000/2","v":4.1136363636363645E-2},{"$f":"Circuit1!$F$4*($AN$4/1000000000*Circuit1!$J$26)*Circuit1!$B$5*1000+Circuit1!$F$4*Circuit1!$F$9/1000/2","v":4.1136363636363645E-2},{"$f":"(A47*A47+((Circuit1!$B$8)^2)/3)*(Circuit1!$J$9+Circuit1!$J$12)/1000*(1+0.002*AE46)","v":2.2213615399203408},{"$f":"Circuit1!$J$8/1000","v":0.05},{"$f":"0","v":0},{"$f":"(Circuit1!$F$19/1000000000000*Circuit1!$F$29)*Circuit1!$B$3*Circuit1!$B$3*Circuit1!$B$5*1000","v":8.7480000000000002E-2},0,{"$f":"Circuit1!$B$8*Circuit1!$B$8/3*Circuit1!$J$4/1000","v":1.9439999999999993E-3},0.80918335937593167,1.2803553509801227,3.9930209830573857,2.2733055399203406,4.1136363636363645E-2,{"$f":"W47*Circuit1!$F$25/MAX(Circuit1!$F$29,1)","v":62.225270057633963},43.98058019250167,{"$f":"$AN$6*(1+AB46*0.85*Circuit1!$F$26/100)/1000/MAX(Circuit1!$F$29,1)","v":4.6126358130177446E-3},{"$f":"X47*Circuit1!$J$22/MAX(Circuit1!$J$26,1)","v":194.06081977658894},84.604585274748629,{"$f":"$AN$7*(1+AE46*Circuit1!$J$23*0.85/100)/MAX(Circuit1!$J$26,1)/1000","v":5.2593440633518992E-3},{"$f":"(U47+T47+S47+R47+Q47+P47+N47+M47+L47+J47+I47+B47+O47+K47)/A47/Circuit1!$B$3","v":0.12358138466555124},null,{"$f":"(A47*A47+((Circuit1!$B$8)^2)/3)*Circuit1!$J$9/1000*50","v":57.161159999999988},null,0.95096504037739626]
[{"$f":"Circuit1!$B$10/50*47","v":28.2},{"$f":"AG47*Circuit1!$B$7/1000000*AC48*(A48*A48+((Circuit1!$B$8)^2)/3)*Circuit1!$B$5*1000","v":0.45497377631033381},{"$f":"(Circuit1!$F$22+A48/(Circuit1!$F$23*Circuit1!$F$29))/(1+((Circuit1!$F$22+A48/(Circuit1!$F$23*Circuit1!$F$29))/Circuit1!$F$4)^(5))^(0.2)","v":2.1090281633805823},{"$f":"MAX((Circuit1!$F$4-C48), 0.001)/(Circuit1!$F$5+Circuit1!$F$28+Circuit1!$F$24/Circuit1!$F$29)","v":1.8182212808927156},{"$f":"C48/(Circuit1!$F$6+Circuit1!$F$28+Circuit1!$F$24/Circuit1!$F$29)","v":1.5172864484752391},{"$f":"(Circuit1!$F$20/1000000000+Circuit1!$F$21/2/1000000000)*MAX(Circuit1!$F$29,1)","v":8.0000000000000005E-9},3.8371366717165703E-9,5.2725706527198012E-9,{"$f":"0.5*Circuit1!$B$3*(G48*MAX(A48-Circuit1!$B$8, 0)+H48*(A48+Circuit1!$B$8))*Circuit1!$B$5*1000","v":0.77533204574576753},{"$f":"MIN(MAX((1-AG47-Circuit1!$F$7/1000000000+Circuit1!$F$8/1000000000),0.001),1)*Circuit1!$B$7/1000000*AF48*(A48*A48+Circuit1!$B$8^2/3)*Circuit1!$B$5*1000","v":3.6864209578631821},{"$f":"Circuit1!$B$3*$AN$2*Circuit1!$J$26*0.000000001*Circuit1!$B$5*1000","v":0.1812},{"$f":"Circuit1!$J$21*A48*(Circuit1!$F$7/1000000000+Circuit1!$F$8/1000000000)*Circuit1!$B$5*1000","v":0.4885649999999998},{"$f":"A48*Circuit1!$B$4","v":33.839999999999996},{"$f":"Circuit1!$F$4*($AN$3/1000000000*Circuit1!$F$29)*Circuit1!$B$5*1000+Circuit1!$F$4*Circuit1!$F$9/1000/2","v":4.1136363636363645E-2},{"$f":"Circuit1!$F$4*($AN$4/1000000000*Circuit1!$J$26)*Circuit1!$B$5*1000+Circuit1!$F$4*Circuit1!$F$9/1000/2","v":4.1136363636363645E-2},{"$f":"(A48*A48+((Circuit1!$B$8)^2)/3)*(Circuit1!$J$9+Circuit1!$J$12)/1000*(1+0.002*AE47)","v":2.3256412232832298},{"$f":"Circuit1!$J$8/1000","v":0.05},{"$f":"0","v":0},{"$f":"(Circuit1!$F$19/1000000000000*Circuit1!$F$29)*Circuit1!$B$3*Circuit1!$B$3*Circuit1!$B$5*1000","v":8.7480000000000002E-2},0,{"$f":"Circuit1!$B$8*Circuit1!$B$8/3*Circuit1!$J$4/1000","v":1.9439999999999993E-3},0.80621664063763887,1.3177858220561014,4.1749859578631821,2.3775852232832295,4.1136363636363645E-2,{"$f":"W48*Circuit1!$F$25/MAX(Circuit1!$F$29,1)","v":64.04439095192653},44.881618247808206,{"$f":"$AN$6*(1+AB47*0.85*Circuit1!$F$26/100)/1000/MAX(Circuit1!$F$29,1)","v":4.6272483945119843E-3},{"$f":"X48*Circuit1!$J$22/MAX(Circuit1!$J$26,1)","v":202.90431755215064},86.243341662503042,{"$f":"$AN$7*(1+AE47*Circuit1!$J$23*0.85/100)/MAX(Circuit1!$J$26,1)/1000","v":5.2866778278362588E-3},{"$f":"(U48+T48+S48+R48+Q48+P48+N48+M48+L48+J48+I48+B48+O48+K48)/A48/Circuit1!$B$3","v":0.12403613986547056},null,{"$f":"(A48*A48+((Circuit1!$B$8)^2)/3)*Circuit1!$J$9/1000*50","v":59.672159999999998},null,0.95020016383330863]
[{"$f":"Circuit1!$B$10/50*48","v":28.799999999999997},{"$f":"AG48*Circuit1!$B$7/1000000*AC49*(A49*A49+((Circuit1!$B$8)^2)/3)*Circuit1!$B$5*1000","v":0.47778239154959995},{"$f":"(Circuit1!$F$22+A49/(Circuit1!$F$23*Circuit1!$F$29))/(1+((Circuit1!$F$22+A49/(Circuit1!$F$23*Circuit1!$F$29))/Circuit1!$F$4)^(5))^(0.2)","v":2.1177090441166824},{"$f":"MAX((Circuit1!$F$4-C49), 0.001)/(Circuit1!$F$5+Circuit1!$F$28+Circuit1!$F$24/Circuit1!$F$29)","v":1.8127616074737849},{"$f":"C49/(Circuit1!$F$6+Circuit1!$F$28+Circuit1!$F$24/Circuit1!$F$29)","v":1.5235316864148796},{"$f":"(Circuit1!$F$20/1000000000+Circuit1!$F$21/2/1000000000)*MAX(Circuit1!$F$29,1)","v":8.0000000000000005E-9},3.8472113222115655E-9,5.2509574112142785E-9,{"$f":"0.5*Circuit1!$B$3*(G49*MAX(A49-Circuit1!$B$8, 0)+H49*(A49+Circuit1!$B$8))*Circuit1!$B$5*1000","v":0.79062991589636156},{"$f":"MIN(MAX((1-AG48-Circuit1!$F$7/1000000000+Circuit1!$F$8/1000000000),0.001),1)*Circuit1!$B$7/1000000*AF49*(A49*A49+Circuit1!$B$8^2/3)*Circuit1!$B$5*1000","v":3.8622226106254933},{"$f":"Circuit1!$B$3*$AN$2*Circuit1!$J$26*0.000000001*Circuit1!$B$5*1000","v":0.1812},{"$f":"Circuit1!$J$21*A49*(Circuit1!$F$7/1000000000+Circuit1!$F$8/1000000000)*Circuit1!$B$5*1000","v":0.4989599999999999},{"$f":"A49*Circuit1!$B$4","v":34.559999999999995},{"$f":"Circuit1!$F$4*($AN$3/1000000000*Circuit1!$F$29)*Circuit1!$B$5*1000+Circuit1!$F$4*Circuit1!$F$9/1000/2","v":4.1136363636363645E-2},{"$f":"Circuit1!$F$4*($AN$4/1000000000*Circuit1!$J$26)*Circuit1!$B$5*1000+Circuit1!$F$4*Circuit1!$F$9/1000/2","v":4.1136363636363645E-2},{"$f":"(A49*A49+((Circuit1!$B$8)^2)/3)*(Circuit1!$J$9+Circuit1!$J$12)/1000*(1+0.002*AE48)","v":2.4324080435989237},{"$f":"Circuit1!$J$8/1000","v":0.05},{"$f":"0","v":0},{"$f":"(Circuit1!$F$19/1000000000000*Circuit1!$F$29)*Circuit1!$B$3*Circuit1!$B$3*Circuit1!$B$5*1000","v":8.7480000000000002E-2},0,{"$f":"Circuit1!$B$8*Circuit1!$B$8/3*Circuit1!$J$4/1000","v":1.9439999999999993E-3},0.80325579489686805,1.3558923074459615,4.3611826106254936,2.4843520435989235,4.1136363636363645E-2,{"$f":"W49*Circuit1!$F$25/MAX(Circuit1!$F$29,1)","v":65.896366141873727},45.783331595241428,{"$f":"$AN$6*(1+AB48*0.85*Circuit1!$F$26/100)/1000/MAX(Circuit1!$F$29,1)","v":4.6418745007516683E-3},{"$f":"X49*Circuit1!$J$22/MAX(Circuit1!$J$26,1)","v":211.95347487639899},87.837314567339433,{"$f":"$AN$7*(1+AE48*Circuit1!$J$23*0.85/100)/MAX(Circuit1!$J$26,1)/1000","v":5.3132789518255258E-3},{"$f":"(U49+T49+S49+R49+Q49+P49+N49+M49+L49+J49+I49+B49+O49+K49)/A49/Circuit1!$B$3","v":0.12449334400735851},null,{"$f":"(A49*A49+((Circuit1!$B$8)^2)/3)*Circuit1!$J$9/1000*50","v":62.237159999999982},null,0.94943004796718711]
[{"$f":"Circuit1!$B$10/50*49","v":29.4},{"$f":"AG49*Circuit1!$B$7/1000000*AC50*(A50*A50+((Circuit1!$B$8)^2)/3)*Circuit1!$B$5*1000","v":0.5012989407334536},{"$f":"(Circuit1!$F$22+A50/(Circuit1!$F$23*Circuit1!$F$29))/(1+((Circuit1!$F$22+A50/(Circuit1!$F$23*Circuit1!$F$29))/Circuit1!$F$4)^(5))^(0.2)","v":2.1263869755895297},{"$f":"MAX((Circuit1!$F$4-C50), 0.001)/(Circuit1!$F$5+Circuit1!$F$28+Circuit1!$F$24/Circuit1!$F$29)","v":1.8073037889374028},{"$f":"C50/(Circuit1!$F$6+Circuit1!$F$28+Circuit1!$F$24/Circuit1!$F$29)","v":1.5297748025823956},{"$f":"(Circuit1!$F$20/1000000000+Circuit1!$F$21/2/1000000000)*MAX(Circuit1!$F$29,1)","v":8.0000000000000005E-9},3.8573355654046198E-9,5.2295278929259981E-9,{"$f":"0.5*Circuit1!$B$3*(G50*MAX(A50-Circuit1!$B$8, 0)+H50*(A50+Circuit1!$B$8))*Circuit1!$B$5*1000","v":0.80590726016592973},{"$f":"MIN(MAX((1-AG49-Circuit1!$F$7/1000000000+Circuit1!$F$8/1000000000),0.001),1)*Circuit1!$B$7/1000000*AF50*(A50*A50+Circuit1!$B$8^2/3)*Circuit1!$B$5*1000","v":4.0422371523848124},{"$f":"Circuit1!$B$3*$AN$2*Circuit1!$J$26*0.000000001*Circuit1!$B$5*1000","v":0.1812},{"$f":"Circuit1!$J$21*A50*(Circuit1!$F$7/1000000000+Circuit1!$F$8/1000000000)*Circuit1!$B$5*1000","v":0.50935499999999989},{"$f":"A50*Circuit1!$B$4","v":35.279999999999994},{"$f":"Circuit1!$F$4*($AN$3/1000000000*Circuit1!$F$29)*Circuit1!$B$5*1000+Circuit1!$F$4*Circuit1!$F$9/1000/2","v":4.1136363636363645E-2},{"$f":"Circuit1!$F$4*($AN$4/1000000000*Circuit1!$J$26)*Circuit1!$B$5*1000+Circuit1!$F$4*Circuit1!$F$9/1000/2","v":4.1136363636363645E-2},{"$f":"(A50*A50+((Circuit1!$B$8)^2)/3)*(Circuit1!$J$9+Circuit1!$J$12)/1000*(1+0.002*AE49)","v":2.541658061836646},{"$f":"Circuit1!$J$8/1000","v":0.05},{"$f":"0","v":0},{"$f":"(Circuit1!$F$19/1000000000000*Circuit1!$F$29)*Circuit1!$B$3*Circuit1!$B$3*Circuit1!$B$5*1000","v":8.7480000000000002E-2},0,{"$f":"Circuit1!$B$8*Circuit1!$B$8/3*Circuit1!$J$4/1000","v":1.9439999999999993E-3},0.80030209784727868,1.3946862008993832,4.5515921523848126,2.5936020618366458,4.1136363636363645E-2,{"$f":"W50*Circuit1!$F$25/MAX(Circuit1!$F$29,1)","v":67.78174936371002},46.685557601874606,{"$f":"$AN$6*(1+AB49*0.85*Circuit1!$F$26/100)/1000/MAX(Circuit1!$F$29,1)","v":4.6565115686753008E-3},{"$f":"X50*Circuit1!$J$22/MAX(Circuit1!$J$26,1)","v":221.20737860590191},89.386980710080465,{"$f":"$AN$7*(1+AE49*Circuit1!$J$23*0.85/100)/MAX(Circuit1!$J$26,1)/1000","v":5.339153127629768E-3},{"$f":"(U50+T50+S50+R50+Q50+P50+N50+M50+L50+J50+I50+B50+O50+K50)/A50/Circuit1!$B$3","v":0.12495281502946022},null,{"$f":"(A50*A50+((Circuit1!$B$8)^2)/3)*Circuit1!$J$9/1000*50","v":64.856159999999988},null,0.94865496209775679]
[{"$f":"Circuit1!$B$10/50*50","v":30},{"$f":"AG50*Circuit1!$B$7/1000000*AC51*(A51*A51+((Circuit1!$B$8)^2)/3)*Circuit1!$B$5*1000","v":0.52553372278383514},{"$f":"(Circuit1!$F$22+A51/(Circuit1!$F$23*Circuit1!$F$29))/(1+((Circuit1!$F$22+A51/(Circuit1!$F$23*Circuit1!$F$29))/Circuit1!$F$4)^(5))^(0.2)","v":2.135061910357773},{"$f":"MAX((Circuit1!$F$4-C51), 0.001)/(Circuit1!$F$5+Circuit1!$F$28+Circuit1!$F$24/Circuit1!$F$29)","v":1.8018478551208976},{"$f":"C51/(Circuit1!$F$6+Circuit1!$F$28+Circuit1!$F$24/Circuit1!$F$29)","v":1.5360157628473188},{"$f":"(Circuit1!$F$20/1000000000+Circuit1!$F$21/2/1000000000)*MAX(Circuit1!$F$29,1)","v":8.0000000000000005E-9},3.8675097108269649E-9,5.2082798845568921E-9,{"$f":"0.5*Circuit1!$B$3*(G51*MAX(A51-Circuit1!$B$8, 0)+H51*(A51+Circuit1!$B$8))*Circuit1!$B$5*1000","v":0.82116515894743203},{"$f":"MIN(MAX((1-AG50-Circuit1!$F$7/1000000000+Circuit1!$F$8/1000000000),0.001),1)*Circuit1!$B$7/1000000*AF51*(A51*A51+Circuit1!$B$8^2/3)*Circuit1!$B$5*1000","v":4.2264453905504853},{"$f":"Circuit1!$B$3*$AN$2*Circuit1!$J$26*0.000000001*Circuit1!$B$5*1000","v":0.1812},{"$f":"Circuit1!$J$21*A51*(Circuit1!$F$7/1000000000+Circuit1!$F$8/1000000000)*Circuit1!$B$5*1000","v":0.51975000000000005},{"$f":"A51*Circuit1!$B$4","v":36},{"$f":"Circuit1!$F$4*($AN$3/1000000000*Circuit1!$F$29)*Circuit1!$B$5*1000+Circuit1!$F$4*Circuit1!$F$9/1000/2","v":4.1136363636363645E-2},{"$f":"Circuit1!$F$4*($AN$4/1000000000*Circuit1!$J$26)*Circuit1!$B$5*1000+Circuit1!$F$4*Circuit1!$F$9/1000/2","v":4.1136363636363645E-2},{"$f":"(A51*A51+((Circuit1!$B$8)^2)/3)*(Circuit1!$J$9+Circuit1!$J$12)/1000*(1+0.002*AE50)","v":2.6533871814858623},{"$f":"Circuit1!$J$8/1000","v":0.05},{"$f":"0","v":0},{"$f":"(Circuit1!$F$19/1000000000000*Circuit1!$F$29)*Circuit1!$B$3*Circuit1!$B$3*Circuit1!$B$5*1000","v":8.7480000000000002E-2},0,{"$f":"Circuit1!$B$8*Circuit1!$B$8/3*Circuit1!$J$4/1000","v":1.9439999999999993E-3},0.79735670615412468,1.4341788817312671,4.7461953905504854,2.705331181485862,4.1136363636363645E-2,{"$f":"W51*Circuit1!$F$25/MAX(Circuit1!$F$29,1)","v":69.701093652139576},47.588129280662407,{"$f":"$AN$6*(1+AB50*0.85*Circuit1!$F$26/100)/1000/MAX(Circuit1!$F$29,1)","v":4.6711569583428141E-3},{"$f":"X51*Circuit1!$J$22/MAX(Circuit1!$J$26,1)","v":230.66509598075359},90.892925993042468,{"$f":"$AN$7*(1+AE50*Circuit1!$J$23*0.85/100)/MAX(Circuit1!$J$26,1)/1000","v":5.3643080936229184E-3},{"$f":"(U51+T51+S51+R51+Q51+P51+N51+M51+L51+J51+I51+B51+O51+K51)/A51/Circuit1!$B$3","v":0.12541438383622316},null,{"$f":"(A51*A51+((Circuit1!$B$8)^2)/3)*Circuit1!$J$9/1000*50","v":67.529160000000005},null,0.94787516530643023]

{"sheet":"Circuit2Details","index":8,"n_rows":51,"n_cols":40,"rows_kept":51,"cut":false,"hidden":true,"merged":[]}
["I(Load)","PHC","Vsp","Idr(LH)","Idr(HL) ","Qgs(sw)","tr","tf","PswHS","PconLS","PQrr","PDT","Pout","PdrHS","PdrLS","Pw","Pc",null,"Pcsw",null,"Pesr","Circuit2 Efficiency","PHS","PLS","PLCR","Pdr",0,{"$f":"AA1/((1+(AA1/150)^1)^1)","v":0},"RTHS",0,{"$f":"AD1/((1+(AD1/150)^1)^1)","v":0},"RTLS",{"$f":"Circuit2!$B$6","v":9.9999999999999992E-2}]
[{"$f":"Circuit2!$B$10/50","v":0.6},{"$f":"AG1*Circuit2!$B$7/1000000*AC2*(A2*A2+((Circuit2!$B$8)^2)/3)*Circuit2!$B$5*1000","v":2.9303039999999998E-4},{"$f":"(Circuit2!$F$22+A2/(Circuit2!$F$23*Circuit2!$F$29))/(1+((Circuit2!$F$22+A2/(Circuit2!$F$23*Circuit2!$F$29))/Circuit2!$F$4)^(5))^(0.2)","v":1.7072344312437928},{"$f":"MAX((Circuit2!$F$4-C2), 0.001)/(Circuit2!$F$5+Circuit2!$F$28+Circuit2!$F$24/Circuit2!$F$29)","v":2.0709217413561052},{"$f":"C2/(Circuit2!$F$6+Circuit2!$F$28+Circuit2!$F$24/Circuit2!$F$29)","v":1.2282262095279086},{"$f":"(Circuit2!$F$20/1000000000+Circuit2!$F$21/2/1000000000)*MAX(Circuit2!$F$29,1)","v":8.0000000000000005E-9},{"$f":"F2/D2/(1+F2/D2/0.00000003)","v":3.4223304549866102E-9},{"$f":"F2/E2","v":6.5134581381999234E-9},{"$f":"0.5*Circuit2!$B$3*(G2*MAX((A2-Circuit2!$B$8),0)+H2*(A2+Circuit2!$B$8))*Circuit2!$B$5*1000","v":3.2827829016527608E-2},{"$f":"MIN(MAX((1-AG1-Circuit2!$F$7/1000000000+Circuit2!$F$8/1000000000),0.001),1)*Circuit2!$B$7/1000000*AF2*(A2*A2+((Circuit2!$B$8)^2)/3)*Circuit2!$B$5*1000","v":4.4838143750899192E-3},{"$f":"Circuit2!$B$3*$AN$2*Circuit2!$J$26*0.000000001*Circuit2!$B$5*1000","v":9.1800000000000007E-2},{"$f":"Circuit2!$J$21*A2*(Circuit2!$F$7/1000000000+Circuit2!$F$8/1000000000)*Circuit2!$B$5*1000","v":1.0665000000000001E-2},{"$f":"A2*Circuit2!$B$4","v":0.72},{"$f":"Circuit2!$F$4*($AN$3/1000000000*Circuit2!$F$29)*Circuit2!$B$5*1000+Circuit2!$F$4*Circuit2!$F$9/1000/2","v":4.1136363636363645E-2},{"$f":"Circuit2!$F$4*($AN$4/1000000000*Circuit2!$J$26)*Circuit2!$B$5*1000+Circuit2!$F$4*Circuit2!$F$9/1000/2","v":2.5727272727272727E-2},{"$f":"(A2*A2+((Circuit2!$B$8)^2)/3)*(Circuit2!$J$9+Circuit2!$J$12)/1000*(1+0.002*AE1)","v":1.872E-3},{"$f":"Circuit2!$J$8/1000","v":0.05},{"$f":"0","v":0},{"$f":"(Circuit2!$F$19/1000000000000*Circuit2!$F$29+0*Circuit2!$J$19/1000000000000*Circuit2!$J$26)*Circuit2!$B$3*Circuit2!$B$3*Circuit2!$B$5*1000","v":8.7480000000000002E-2},0,{"$f":"(Circuit2!$B$8/1.732)^2*Circuit2!$J$4/1000","v":1.944114054691208E-3},{"$f":"M2/(U2+T2+S2+R2+Q2+P2+N2+M2+L2+J2+I2+B2+O2+K2)","v":0.67401251424290887},{"$f":"B2+I2+S2","v":0.12060085941652761},{"$f":"J2+L2","v":1.5148814375089921E-2},{"$f":"P2+Q2+U2","v":5.3816114054691208E-2},{"$f":"N2","v":4.1136363636363645E-2},{"$f":"W2*Circuit2!$F$25/MAX(Circuit2!$F$29,1)","v":5.8612017676432417},{"$f":"AA2/((1+(AA2/150)^1)^1)","v":5.6407897230072805},{"$f":"$AN$6*(1+AB1*0.85*Circuit2!$F$26/100)/1000/MAX(Circuit2!$F$29,1)","v":3.9133333333333338E-3},{"$f":"X2*Circuit2!$J$22/MAX(Circuit2!$J$26,1)","v":0.75441095587947804},{"$f":"AD2/((1+(AD2/150)^1)^1)","v":0.75063570388690082},{"$f":"$AN$7/1000*(1+AE1*0.85*Circuit2!$J$23/100)/MAX(Circuit2!$J$26,1)","v":6.6533333333333331E-3},{"$f":"(U2+T2+S2+R2+Q2+P2+N2+M2+L2+J2+I2+B2+O2+K2)/A2/Circuit2!$B$3","v":0.14836519780693683},null,null,null,null,null,"Qrr",{"$f":"VLOOKUP(Circuit2!$J$16,MOSFETs!A1:S64,14,0)","v":15.3}]
[{"$f":"Circuit2!$B$10/50*2","v":1.2},{"$f":"AG2*Circuit2!$B$7/1000000*AC3*(A3*A3+((Circuit2!$B$8)^2)/3)*Circuit2!$B$5*1000","v":1.0866499323315198E-3},{"$f":"(Circuit2!$F$22+A3/(Circuit2!$F$23*Circuit2!$F$29))/(1+((Circuit2!$F$22+A3/(Circuit2!$F$23*Circuit2!$F$29))/Circuit2!$F$4)^(5))^(0.2)","v":1.7160082078974372},{"$f":"MAX((Circuit2!$F$4-C3), 0.001)/(Circuit2!$F$5+Circuit2!$F$28+Circuit2!$F$24/Circuit2!$F$29)","v":2.0654036428318006},{"$f":"C3/(Circuit2!$F$6+Circuit2!$F$28+Circuit2!$F$24/Circuit2!$F$29)","v":1.2345382790629045},{"$f":"(Circuit2!$F$20/1000000000+Circuit2!$F$21/2/1000000000)*MAX(Circuit2!$F$29,1)","v":8.0000000000000005E-9},{"$f":"F3/D3/(1+F3/D3/0.00000003)","v":3.4304283054486776E-9},{"$f":"F3/E3","v":6.480155484585318E-9},{"$f":"0.5*Circuit2!$B$3*(G3*MAX((A3-Circuit2!$B$8),0)+H3*(A3+Circuit2!$B$8))*Circuit2!$B$5*1000","v":4.5559217704525104E-2},{"$f":"MIN(MAX((1-AG2-Circuit2!$F$7/1000000000+Circuit2!$F$8/1000000000),0.001),1)*Circuit2!$B$7/1000000*AF3*(A3*A3+((Circuit2!$B$8)^2)/3)*Circuit2!$B$5*1000","v":1.039357196995523E-2},{"$f":"Circuit2!$B$3*$AN$2*Circuit2!$J$26*0.000000001*Circuit2!$B$5*1000","v":9.1800000000000007E-2},{"$f":"Circuit2!$J$21*A3*(Circuit2!$F$7/1000000000+Circuit2!$F$8/1000000000)*Circuit2!$B$5*1000","v":2.1330000000000002E-2},{"$f":"A3*Circuit2!$B$4","v":1.44},{"$f":"Circuit2!$F$4*($AN$3/1000000000*Circuit2!$F$29)*Circuit2!$B$5*1000+Circuit2!$F$4*Circuit2!$F$9/1000/2","v":4.1136363636363645E-2},{"$f":"Circuit2!$F$4*($AN$4/1000000000*Circuit2!$J$26)*Circuit2!$B$5*1000+Circuit2!$F$4*Circuit2!$F$9/1000/2","v":2.5727272727272727E-2},{"$f":"(A3*A3+((Circuit2!$B$8)^2)/3)*(Circuit2!$J$9+Circuit2!$J$12)/1000*(1+0.002*AE2)","v":4.5788638128763407E-3},{"$f":"Circuit2!$J$8/1000","v":0.05},{"$f":"0","v":0},{"$f":"(Circuit2!$F$19/1000000000000*Circuit2!$F$29+0*Circuit2!$J$19/1000000000000*Circuit2!$J$26)*Circuit2!$B$3*Circuit2!$B$3*Circuit2!$B$5*1000","v":8.7480000000000002E-2},0,{"$f":"(Circuit2!$B$8/1.732)^2*Circuit2!$J$4/1000","v":1.944114054691208E-3},{"$f":"M3/(U3+T3+S3+R3+Q3+P3+N3+M3+L3+J3+I3+B3+O3+K3)","v":0.79075864366609083},{"$f":"B3+I3+S3","v":0.13412586763685663},{"$f":"J3+L3","v":3.1723571969955233E-2},{"$f":"P3+Q3+U3","v":5.6522977867567548E-2},{"$f":"N3","v":4.1136363636363645E-2},{"$f":"W3*Circuit2!$F$25/MAX(Circuit2!$F$29,1)","v":6.5185171671512325},6.2470408790576792,{"$f":"$AN$6*(1+AB2*0.85*Circuit2!$F$26/100)/1000/MAX(Circuit2!$F$29,1)","v":4.0048974901173142E-3},{"$f":"X3*Circuit2!$J$22/MAX(Circuit2!$J$26,1)","v":1.5798338841037705},1.5633681377217636,{"$f":"$AN$7/1000*(1+AE2*0.85*Circuit2!$J$23/100)/MAX(Circuit2!$J$26,1)","v":6.6733701822873749E-3},{"$f":"(U3+T3+S3+R3+Q3+P3+N3+M3+L3+J3+I3+B3+O3+K3)/A3/Circuit2!$B$3","v":0.12646083707208447},null,null,null,null,null,"QTOT_HS",{"$f":"(VLOOKUP(Circuit2!$F$16, MOSFETs!A1:S64,17,0)+(Circuit2!$F$4-4.5)*(VLOOKUP(Circuit2!$F$16, MOSFETs!A1:S64,18,0)-VLOOKUP(Circuit2!$F$16, MOSFETs!A1:S64,17,0))/5.5)","v":15.454545454545455}]
[{"$f":"Circuit2!$B$10/50*3","v":1.7999999999999998},{"$f":"AG3*Circuit2!$B$7/1000000*AC4*(A4*A4+((Circuit2!$B$8)^2)/3)*Circuit2!$B$5*1000","v":1.8423678403384656E-3},{"$f":"(Circuit2!$F$22+A4/(Circuit2!$F$23*Circuit2!$F$29))/(1+((Circuit2!$F$22+A4/(Circuit2!$F$23*Circuit2!$F$29))/Circuit2!$F$4)^(5))^(0.2)","v":1.7247806969769985},{"$f":"MAX((Circuit2!$F$4-C4), 0.001)/(Circuit2!$F$5+Circuit2!$F$28+Circuit2!$F$24/Circuit2!$F$29)","v":2.0598863541025167},{"$f":"C4/(Circuit2!$F$6+Circuit2!$F$28+Circuit2!$F$24/Circuit2!$F$29)","v":1.2408494222856106},{"$f":"(Circuit2!$F$20/1000000000+Circuit2!$F$21/2/1000000000)*MAX(Circuit2!$F$29,1)","v":8.0000000000000005E-9},3.4385633718999082E-9,6.4471964577814927E-9,{"$f":"0.5*Circuit2!$B$3*(G4*MAX((A4-Circuit2!$B$8),0)+H4*(A4+Circuit2!$B$8))*Circuit2!$B$5*1000","v":6.3131074278535898E-2},{"$f":"MIN(MAX((1-AG3-Circuit2!$F$7/1000000000+Circuit2!$F$8/1000000000),0.001),1)*Circuit2!$B$7/1000000*AF4*(A4*A4+((Circuit2!$B$8)^2)/3)*Circuit2!$B$5*1000","v":2.1222677854478351E-2},{"$f":"Circuit2!$B$3*$AN$2*Circuit2!$J$26*0.000000001*Circuit2!$B$5*1000","v":9.1800000000000007E-2},{"$f":"Circuit2!$J$21*A4*(Circuit2!$F$7/1000000000+Circuit2!$F$8/1000000000)*Circuit2!$B$5*1000","v":3.1994999999999996E-2},{"$f":"A4*Circuit2!$B$4","v":2.1599999999999997},{"$f":"Circuit2!$F$4*($AN$3/1000000000*Circuit2!$F$29)*Circuit2!$B$5*1000+Circuit2!$F$4*Circuit2!$F$9/1000/2","v":4.1136363636363645E-2},{"$f":"Circuit2!$F$4*($AN$4/1000000000*Circuit2!$J$26)*Circuit2!$B$5*1000+Circuit2!$F$4*Circuit2!$F$9/1000/2","v":2.5727272727272727E-2},{"$f":"(A4*A4+((Circuit2!$B$8)^2)/3)*(Circuit2!$J$9+Circuit2!$J$12)/1000*(1+0.002*AE3)","v":9.1003657514908201E-3},{"$f":"Circuit2!$J$8/1000","v":0.05},{"$f":"0","v":0},{"$f":"(Circuit2!$F$19/1000000000000*Circuit2!$F$29+0*Circuit2!$J$19/1000000000000*Circuit2!$J$26)*Circuit2!$B$3*Circuit2!$B$3*Circuit2!$B$5*1000","v":8.7480000000000002E-2},0,{"$f":"(Circuit2!$B$8/1.732)^2*Circuit2!$J$4/1000","v":1.944114054691208E-3},0.83546737353018063,0.15245344211887435,5.3217677854478347E-2,6.104447980618203E-2,4.1136363636363645E-2,{"$f":"W4*Circuit2!$F$25/MAX(Circuit2!$F$29,1)","v":7.4092372869772936},7.060485218033266,{"$f":"$AN$6*(1+AB3*0.85*Circuit2!$F$26/100)/1000/MAX(Circuit2!$F$29,1)","v":4.014738466049576E-3},{"$f":"X4*Circuit2!$J$22/MAX(Circuit2!$J$26,1)","v":2.6502403571530215},2.6042281534758498,{"$f":"$AN$7/1000*(1+AE3*0.85*Circuit2!$J$23/100)/MAX(Circuit2!$J$26,1)","v":6.6950645900173498E-3},{"$f":"(U4+T4+S4+R4+Q4+P4+N4+M4+L4+J4+I4+B4+O4+K4)/A4/Circuit2!$B$3","v":0.11969348315477644},null,null,null,null,null,"QTOT_LS",{"$f":"(VLOOKUP(Circuit2!$J$16, MOSFETs!A1:S64,17,0)+(Circuit2!$F$4-4.5)*(VLOOKUP(Circuit2!$J$16, MOSFETs!A1:S64,18,0)-VLOOKUP(Circuit2!$J$16, MOSFETs!$A$2:$S4014,17,0))/5.5)","v":9.290909090909091}]
[{"$f":"Circuit2!$B$10/50*4","v":2.4},{"$f":"AG4*Circuit2!$B$7/1000000*AC5*(A5*A5+((Circuit2!$B$8)^2)/3)*Circuit2!$B$5*1000","v":2.964450186766361E-3},{"$f":"(Circuit2!$F$22+A5/(Circuit2!$F$23*Circuit2!$F$29))/(1+((Circuit2!$F$22+A5/(Circuit2!$F$23*Circuit2!$F$29))/Circuit2!$F$4)^(5))^(0.2)","v":1.7335518721784824},{"$f":"MAX((Circuit2!$F$4-C5), 0.001)/(Circuit2!$F$5+Circuit2!$F$28+Circuit2!$F$24/Circuit2!$F$29)","v":2.0543698917116462},{"$f":"C5/(Circuit2!$F$6+Circuit2!$F$28+Circuit2!$F$24/Circuit2!$F$29)","v":1.2471596202722897},{"$f":"(Circuit2!$F$20/1000000000+Circuit2!$F$21/2/1000000000)*MAX(Circuit2!$F$29,1)","v":8.0000000000000005E-9},3.4467358866546799E-9,6.414575864999043E-9,{"$f":"0.5*Circuit2!$B$3*(G5*MAX((A5-Circuit2!$B$8),0)+H5*(A5+Circuit2!$B$8))*Circuit2!$B$5*1000","v":8.0617246141742538E-2},{"$f":"MIN(MAX((1-AG4-Circuit2!$F$7/1000000000+Circuit2!$F$8/1000000000),0.001),1)*Circuit2!$B$7/1000000*AF5*(A5*A5+((Circuit2!$B$8)^2)/3)*Circuit2!$B$5*1000","v":3.6389626884542392E-2},{"$f":"Circuit2!$B$3*$AN$2*Circuit2!$J$26*0.000000001*Circuit2!$B$5*1000","v":9.1800000000000007E-2},{"$f":"Circuit2!$J$21*A5*(Circuit2!$F$7/1000000000+Circuit2!$F$8/1000000000)*Circuit2!$B$5*1000","v":4.2660000000000003E-2},{"$f":"A5*Circuit2!$B$4","v":2.88},{"$f":"Circuit2!$F$4*($AN$3/1000000000*Circuit2!$F$29)*Circuit2!$B$5*1000+Circuit2!$F$4*Circuit2!$F$9/1000/2","v":4.1136363636363645E-2},{"$f":"Circuit2!$F$4*($AN$4/1000000000*Circuit2!$J$26)*Circuit2!$B$5*1000+Circuit2!$F$4*Circuit2!$F$9/1000/2","v":2.5727272727272727E-2},{"$f":"(A5*A5+((Circuit2!$B$8)^2)/3)*(Circuit2!$J$9+Circuit2!$J$12)/1000*(1+0.002*AE4)","v":1.5452064390350462E-2},{"$f":"Circuit2!$J$8/1000","v":0.05},{"$f":"0","v":0},{"$f":"(Circuit2!$F$19/1000000000000*Circuit2!$F$29+0*Circuit2!$J$19/1000000000000*Circuit2!$J$26)*Circuit2!$B$3*Circuit2!$B$3*Circuit2!$B$5*1000","v":8.7480000000000002E-2},0,{"$f":"(Circuit2!$B$8/1.732)^2*Circuit2!$J$4/1000","v":1.944114054691208E-3},0.8581207219658038,0.1710616963285089,7.9049626884542395E-2,6.7396178445041671E-2,4.1136363636363645E-2,{"$f":"W5*Circuit2!$F$25/MAX(Circuit2!$F$29,1)","v":8.3135984415655333},7.8770224321261928,{"$f":"$AN$6*(1+AB4*0.85*Circuit2!$F$26/100)/1000/MAX(Circuit2!$F$29,1)","v":4.0279427067049598E-3},{"$f":"X5*Circuit2!$J$22/MAX(Circuit2!$J$26,1)","v":3.936671418850211},3.8359976695924725,{"$f":"$AN$7/1000*(1+AE4*0.85*Circuit2!$J$23/100)/MAX(Circuit2!$J$26,1)","v":6.7228484468336101E-3},{"$f":"(U5+T5+S5+R5+Q5+P5+N5+M5+L5+J5+I5+B5+O5+K5)/A5/Circuit2!$B$3","v":0.11653372007019895}]
[{"$f":"Circuit2!$B$10/50*5","v":3},{"$f":"AG5*Circuit2!$B$7/1000000*AC6*(A6*A6+((Circuit2!$B$8)^2)/3)*Circuit2!$B$5*1000","v":4.421521454260083E-3},{"$f":"(Circuit2!$F$22+A6/(Circuit2!$F$23*Circuit2!$F$29))/(1+((Circuit2!$F$22+A6/(Circuit2!$F$23*Circuit2!$F$29))/Circuit2!$F$4)^(5))^(0.2)","v":1.7423217068080694},{"$f":"MAX((Circuit2!$F$4-C6), 0.001)/(Circuit2!$F$5+Circuit2!$F$28+Circuit2!$F$24/Circuit2!$F$29)","v":2.0488542724477554},{"$f":"C6/(Circuit2!$F$6+Circuit2!$F$28+Circuit2!$F$24/Circuit2!$F$29)","v":1.2534688538187551},{"$f":"(Circuit2!$F$20/1000000000+Circuit2!$F$21/2/1000000000)*MAX(Circuit2!$F$29,1)","v":8.0000000000000005E-9},3.4549460835623549E-9,6.382288619001265E-9,{"$f":"0.5*Circuit2!$B$3*(G6*MAX((A6-Circuit2!$B$8),0)+H6*(A6+Circuit2!$B$8))*Circuit2!$B$5*1000","v":9.8019702137894654E-2},{"$f":"MIN(MAX((1-AG5-Circuit2!$F$7/1000000000+Circuit2!$F$8/1000000000),0.001),1)*Circuit2!$B$7/1000000*AF6*(A6*A6+((Circuit2!$B$8)^2)/3)*Circuit2!$B$5*1000","v":5.6036659423677151E-2},{"$f":"Circuit2!$B$3*$AN$2*Circuit2!$J$26*0.000000001*Circuit2!$B$5*1000","v":9.1800000000000007E-2},{"$f":"Circuit2!$J$21*A6*(Circuit2!$F$7/1000000000+Circuit2!$F$8/1000000000)*Circuit2!$B$5*1000","v":5.3325000000000004E-2},{"$f":"A6*Circuit2!$B$4","v":3.5999999999999996},{"$f":"Circuit2!$F$4*($AN$3/1000000000*Circuit2!$F$29)*Circuit2!$B$5*1000+Circuit2!$F$4*Circuit2!$F$9/1000/2","v":4.1136363636363645E-2},{"$f":"Circuit2!$F$4*($AN$4/1000000000*Circuit2!$J$26)*Circuit2!$B$5*1000+Circuit2!$F$4*Circuit2!$F$9/1000/2","v":2.5727272727272727E-2},{"$f":"(A6*A6+((Circuit2!$B$8)^2)/3)*(Circuit2!$J$9+Circuit2!$J$12)/1000*(1+0.002*AE5)","v":2.365207707460135E-2},{"$f":"Circuit2!$J$8/1000","v":0.05},{"$f":"0","v":0},{"$f":"(Circuit2!$F$19/1000000000000*Circuit2!$F$29+0*Circuit2!$J$19/1000000000000*Circuit2!$J$26)*Circuit2!$B$3*Circuit2!$B$3*Circuit2!$B$5*1000","v":8.7480000000000002E-2},0,{"$f":"(Circuit2!$B$8/1.732)^2*Circuit2!$J$4/1000","v":1.944114054691208E-3},0.87092362463019235,0.18992122359215474,0.10936165942367715,7.5596191129292556E-2,4.1136363636363645E-2,{"$f":"W6*Circuit2!$F$25/MAX(Circuit2!$F$29,1)","v":9.2301714665787209},8.6951217048548504,{"$f":"$AN$6*(1+AB5*0.85*Circuit2!$F$26/100)/1000/MAX(Circuit2!$F$29,1)","v":4.0411971524763049E-3},{"$f":"X6*Circuit2!$J$22/MAX(Circuit2!$J$26,1)","v":5.4462106392991219},5.2553973013243453,{"$f":"$AN$7/1000*(1+AE5*0.85*Circuit2!$J$23/100)/MAX(Circuit2!$J$26,1)","v":6.7557282840340271E-3},{"$f":"(U6+T6+S6+R6+Q6+P6+N6+M6+L6+J6+I6+B6+O6+K6)/A6/Circuit2!$B$3","v":0.11482063084746558},null,null,null,null,null,"RonHS(VGS)",{"$f":"(VLOOKUP(Circuit2!$F$16,MOSFETs!A1:S64,2,0)+(Circuit2!$F$4-4.5)*(VLOOKUP(Circuit2!$F$16,MOSFETs!A1:S64,13,0)-VLOOKUP(Circuit2!$F$16,MOSFETs!A1:S64,2,0))/7.5)","v":3.9133333333333336}]
[{"$f":"Circuit2!$B$10/50*6","v":3.5999999999999996},{"$f":"AG6*Circuit2!$B$7/1000000*AC7*(A7*A7+((Circuit2!$B$8)^2)/3)*Circuit2!$B$5*1000","v":6.2143683370100844E-3},{"$f":"(Circuit2!$F$22+A7/(Circuit2!$F$23*Circuit2!$F$29))/(1+((Circuit2!$F$22+A7/(Circuit2!$F$23*Circuit2!$F$29))/Circuit2!$F$4)^(5))^(0.2)","v":1.7510901737788021},{"$f":"MAX((Circuit2!$F$4-C7), 0.001)/(Circuit2!$F$5+Circuit2!$F$28+Circuit2!$F$24/Circuit2!$F$29)","v":2.0433395133466656},{"$f":"C7/(Circuit2!$F$6+Circuit2!$F$28+Circuit2!$F$24/Circuit2!$F$29)","v":1.2597771034379872},{"$f":"(Circuit2!$F$20/1000000000+Circuit2!$F$21/2/1000000000)*MAX(Circuit2!$F$29,1)","v":8.0000000000000005E-9},3.4631941980145821E-9,6.3503297354489524E-9,{"$f":"0.5*Circuit2!$B$3*(G7*MAX((A7-Circuit2!$B$8),0)+H7*(A7+Circuit2!$B$8))*Circuit2!$B$5*1000","v":0.1153403776226935},{"$f":"MIN(MAX((1-AG6-Circuit2!$F$7/1000000000+Circuit2!$F$8/1000000000),0.001),1)*Circuit2!$B$7/1000000*AF7*(A7*A7+((Circuit2!$B$8)^2)/3)*Circuit2!$B$5*1000","v":8.0273932414164792E-2},{"$f":"Circuit2!$B$3*$AN$2*Circuit2!$J$26*0.000000001*Circuit2!$B$5*1000","v":9.1800000000000007E-2},{"$f":"Circuit2!$J$21*A7*(Circuit2!$F$7/1000000000+Circuit2!$F$8/1000000000)*Circuit2!$B$5*1000","v":6.3989999999999991E-2},{"$f":"A7*Circuit2!$B$4","v":4.3199999999999994},{"$f":"Circuit2!$F$4*($AN$3/1000000000*Circuit2!$F$29)*Circuit2!$B$5*1000+Circuit2!$F$4*Circuit2!$F$9/1000/2","v":4.1136363636363645E-2},{"$f":"Circuit2!$F$4*($AN$4/1000000000*Circuit2!$J$26)*Circuit2!$B$5*1000+Circuit2!$F$4*Circuit2!$F$9/1000/2","v":2.5727272727272727E-2},{"$f":"(A7*A7+((Circuit2!$B$8)^2)/3)*(Circuit2!$J$9+Circuit2!$J$12)/1000*(1+0.002*AE6)","v":3.3722766237479579E-2},{"$f":"Circuit2!$J$8/1000","v":0.05},{"$f":"0","v":0},{"$f":"(Circuit2!$F$19/1000000000000*Circuit2!$F$29+0*Circuit2!$J$19/1000000000000*Circuit2!$J$26)*Circuit2!$B$3*Circuit2!$B$3*Circuit2!$B$5*1000","v":8.7480000000000002E-2},0,{"$f":"(Circuit2!$B$8/1.732)^2*Circuit2!$J$4/1000","v":1.944114054691208E-3},0.87847209065016374,0.20903474595970359,0.1442639324141648,8.5666880292170788E-2,4.1136363636363645E-2,{"$f":"W7*Circuit2!$F$25/MAX(Circuit2!$F$29,1)","v":10.159088653641595},9.5146851225017297,{"$f":"$AN$6*(1+AB6*0.85*Circuit2!$F$26/100)/1000/MAX(Circuit2!$F$29,1)","v":4.0544769543748686E-3},{"$f":"X7*Circuit2!$J$22/MAX(Circuit2!$J$26,1)","v":7.1843438342254062},6.8559727314213754,{"$f":"$AN$7/1000*(1+AE6*0.85*Circuit2!$J$23/100)/MAX(Circuit2!$J$26,1)","v":6.7936165644331163E-3},{"$f":"(U7+T7+S7+R7+Q7+P7+N7+M7+L7+J7+I7+B7+O7+K7)/A7/Circuit2!$B$3","v":0.11383400914420543},{"$f":"Circuit1!$B$13","v":0},null,null,null,null,"RonLS(VGS)",{"$f":"(VLOOKUP(Circuit2!$J$16,MOSFETs!A1:S64,2,0)+(Circuit2!$F$4-4.5)*(VLOOKUP(Circuit2!$J$16,MOSFETs!A1:S64,13,0)-VLOOKUP(Circuit2!$J$16,MOSFETs!A1:S64,2,0))/7.5)","v":6.6533333333333333}]
[{"$f":"Circuit2!$B$10/50*7","v":4.2},{"$f":"AG7*Circuit2!$B$7/1000000*AC8*(A8*A8+((Circuit2!$B$8)^2)/3)*Circuit2!$B$5*1000","v":8.3482676654036674E-3},{"$f":"(Circuit2!$F$22+A8/(Circuit2!$F$23*Circuit2!$F$29))/(1+((Circuit2!$F$22+A8/(Circuit2!$F$23*Circuit2!$F$29))/Circuit2!$F$4)^(5))^(0.2)","v":1.7598572456072665},{"$f":"MAX((Circuit2!$F$4-C8), 0.001)/(Circuit2!$F$5+Circuit2!$F$28+Circuit2!$F$24/Circuit2!$F$29)","v":2.0378256316935435},{"$f":"C8/(Circuit2!$F$6+Circuit2!$F$28+Circuit2!$F$24/Circuit2!$F$29)","v":1.2660843493577458},{"$f":"(Circuit2!$F$20/1000000000+Circuit2!$F$21/2/1000000000)*MAX(Circuit2!$F$29,1)","v":8.0000000000000005E-9},3.4714804669525247E-9,6.3186943303249967E-9,{"$f":"0.5*Circuit2!$B$3*(G8*MAX((A8-Circuit2!$B$8),0)+H8*(A8+Circuit2!$B$8))*Circuit2!$B$5*1000","v":0.13258117536302358},{"$f":"MIN(MAX((1-AG7-Circuit2!$F$7/1000000000+Circuit2!$F$8/1000000000),0.001),1)*Circuit2!$B$7/1000000*AF8*(A8*A8+((Circuit2!$B$8)^2)/3)*Circuit2!$B$5*1000","v":0.10922086576993358},{"$f":"Circuit2!$B$3*$AN$2*Circuit2!$J$26*0.000000001*Circuit2!$B$5*1000","v":9.1800000000000007E-2},{"$f":"Circuit2!$J$21*A8*(Circuit2!$F$7/1000000000+Circuit2!$F$8/1000000000)*Circuit2!$B$5*1000","v":7.4655000000000013E-2},{"$f":"A8*Circuit2!$B$4","v":5.04},{"$f":"Circuit2!$F$4*($AN$3/1000000000*Circuit2!$F$29)*Circuit2!$B$5*1000+Circuit2!$F$4*Circuit2!$F$9/1000/2","v":4.1136363636363645E-2},{"$f":"Circuit2!$F$4*($AN$4/1000000000*Circuit2!$J$26)*Circuit2!$B$5*1000+Circuit2!$F$4*Circuit2!$F$9/1000/2","v":2.5727272727272727E-2},{"$f":"(A8*A8+((Circuit2!$B$8)^2)/3)*(Circuit2!$J$9+Circuit2!$J$12)/1000*(1+0.002*AE7)","v":4.5690024805901244E-2},{"$f":"Circuit2!$J$8/1000","v":0.05},{"$f":"0","v":0},{"$f":"(Circuit2!$F$19/1000000000000*Circuit2!$F$29+0*Circuit2!$J$19/1000000000000*Circuit2!$J$26)*Circuit2!$B$3*Circuit2!$B$3*Circuit2!$B$5*1000","v":8.7480000000000002E-2},0,{"$f":"(Circuit2!$B$8/1.732)^2*Circuit2!$J$4/1000","v":1.944114054691208E-3},0.88288108026423462,0.22840944302842725,0.18387586576993359,9.7634138860592454E-2,4.1136363636363645E-2,{"$f":"W8*Circuit2!$F$25/MAX(Circuit2!$F$29,1)","v":11.100698931181565},10.335801462838646,{"$f":"$AN$6*(1+AB7*0.85*Circuit2!$F$26/100)/1000/MAX(Circuit2!$F$29,1)","v":4.0677805230155762E-3},{"$f":"X8*Circuit2!$J$22/MAX(Circuit2!$J$26,1)","v":9.1570181153426926},8.6301737338781788,{"$f":"$AN$7/1000*(1+AE7*0.85*Circuit2!$J$23/100)/MAX(Circuit2!$J$26,1)","v":6.8363410018217703E-3},{"$f":"(U8+T8+S8+R8+Q8+P8+N8+M8+L8+J8+I8+B8+O8+K8)/A8/Circuit2!$B$3","v":0.11326553738140059}]
[{"$f":"Circuit2!$B$10/50*8","v":4.8},{"$f":"AG8*Circuit2!$B$7/1000000*AC9*(A9*A9+((Circuit2!$B$8)^2)/3)*Circuit2!$B$5*1000","v":1.0829940259580496E-2},{"$f":"(Circuit2!$F$22+A9/(Circuit2!$F$23*Circuit2!$F$29))/(1+((Circuit2!$F$22+A9/(Circuit2!$F$23*Circuit2!$F$29))/Circuit2!$F$4)^(5))^(0.2)","v":1.7686228944102931},{"$f":"MAX((Circuit2!$F$4-C9), 0.001)/(Circuit2!$F$5+Circuit2!$F$28+Circuit2!$F$24/Circuit2!$F$29)","v":2.0323126450249731},{"$f":"C9/(Circuit2!$F$6+Circuit2!$F$28+Circuit2!$F$24/Circuit2!$F$29)","v":1.2723905715181965},{"$f":"(Circuit2!$F$20/1000000000+Circuit2!$F$21/2/1000000000)*MAX(Circuit2!$F$29,1)","v":8.0000000000000005E-9},3.4798051288740933E-9,6.2873776174359151E-9,{"$f":"0.5*Circuit2!$B$3*(G9*MAX((A9-Circuit2!$B$8),0)+H9*(A9+Circuit2!$B$8))*Circuit2!$B$5*1000","v":0.14974396640980442},{"$f":"MIN(MAX((1-AG8-Circuit2!$F$7/1000000000+Circuit2!$F$8/1000000000),0.001),1)*Circuit2!$B$7/1000000*AF9*(A9*A9+((Circuit2!$B$8)^2)/3)*Circuit2!$B$5*1000","v":0.14300972405119497},{"$f":"Circuit2!$B$3*$AN$2*Circuit2!$J$26*0.000000001*Circuit2!$B$5*1000","v":9.1800000000000007E-2},{"$f":"Circuit2!$J$21*A9*(Circuit2!$F$7/1000000000+Circuit2!$F$8/1000000000)*Circuit2!$B$5*1000","v":8.5320000000000007E-2},{"$f":"A9*Circuit2!$B$4","v":5.76},{"$f":"Circuit2!$F$4*($AN$3/1000000000*Circuit2!$F$29)*Circuit2!$B$5*1000+Circuit2!$F$4*Circuit2!$F$9/1000/2","v":4.1136363636363645E-2},{"$f":"Circuit2!$F$4*($AN$4/1000000000*Circuit2!$J$26)*Circuit2!$B$5*1000+Circuit2!$F$4*Circuit2!$F$9/1000/2","v":2.5727272727272727E-2},{"$f":"(A9*A9+((Circuit2!$B$8)^2)/3)*(Circuit2!$J$9+Circuit2!$J$12)/1000*(1+0.002*AE8)","v":5.9582973071881429E-2},{"$f":"Circuit2!$J$8/1000","v":0.05},{"$f":"0","v":0},{"$f":"(Circuit2!$F$19/1000000000000*Circuit2!$F$29+0*Circuit2!$J$19/1000000000000*Circuit2!$J$26)*Circuit2!$B$3*Circuit2!$B$3*Circuit2!$B$5*1000","v":8.7480000000000002E-2},0,{"$f":"(Circuit2!$B$8/1.732)^2*Circuit2!$J$4/1000","v":1.944114054691208E-3},0.88525846112438,0.24805390666938493,0.22832972405119498,0.11152708712657264,4.1136363636363645E-2,{"$f":"W9*Circuit2!$F$25/MAX(Circuit2!$F$29,1)","v":12.055419864132109},11.158608463301709,{"$f":"$AN$6*(1+AB8*0.85*Circuit2!$F$26/100)/1000/MAX(Circuit2!$F$29,1)","v":4.0811092994842051E-3},{"$f":"X9*Circuit2!$J$22/MAX(Circuit2!$J$26,1)","v":11.370820257749509},10.569587710703338,{"$f":"$AN$7/1000*(1+AE8*0.85*Circuit2!$J$23/100)/MAX(Circuit2!$J$26,1)","v":6.8837000567085237E-3},{"$f":"(U9+T9+S9+R9+Q9+P9+N9+M9+L9+J9+I9+B9+O9+K9)/A9/Circuit2!$B$3","v":0.11296136031615954},{"$f":"Circuit1!$B$8^2/3","v":0.38879999999999987}]
[{"$f":"Circuit2!$B$10/50*9","v":5.3999999999999995},{"$f":"AG9*Circuit2!$B$7/1000000*AC10*(A10*A10+((Circuit2!$B$8)^2)/3)*Circuit2!$B$5*1000","v":1.3666804448502601E-2},{"$f":"(Circuit2!$F$22+A10/(Circuit2!$F$23*Circuit2!$F$29))/(1+((Circuit2!$F$22+A10/(Circuit2!$F$23*Circuit2!$F$29))/Circuit2!$F$4)^(5))^(0.2)","v":1.777387091901655},{"$f":"MAX((Circuit2!$F$4-C10), 0.001)/(Circuit2!$F$5+Circuit2!$F$28+Circuit2!$F$24/Circuit2!$F$29)","v":2.0268005711310346},{"$f":"C10/(Circuit2!$F$6+Circuit2!$F$28+Circuit2!$F$24/Circuit2!$F$29)","v":1.2786957495695361},{"$f":"(Circuit2!$F$20/1000000000+Circuit2!$F$21/2/1000000000)*MAX(Circuit2!$F$29,1)","v":8.0000000000000005E-9},3.4881684238410967E-9,6.2563749059877176E-9,{"$f":"0.5*Circuit2!$B$3*(G10*MAX((A10-Circuit2!$B$8),0)+H10*(A10+Circuit2!$B$8))*Circuit2!$B$5*1000","v":0.16683059094538183},{"$f":"MIN(MAX((1-AG9-Circuit2!$F$7/1000000000+Circuit2!$F$8/1000000000),0.001),1)*Circuit2!$B$7/1000000*AF10*(A10*A10+((Circuit2!$B$8)^2)/3)*Circuit2!$B$5*1000","v":0.18178507757609927},{"$f":"Circuit2!$B$3*$AN$2*Circuit2!$J$26*0.000000001*Circuit2!$B$5*1000","v":9.1800000000000007E-2},{"$f":"Circuit2!$J$21*A10*(Circuit2!$F$7/1000000000+Circuit2!$F$8/1000000000)*Circuit2!$B$5*1000","v":9.5985000000000001E-2},{"$f":"A10*Circuit2!$B$4","v":6.4799999999999995},{"$f":"Circuit2!$F$4*($AN$3/1000000000*Circuit2!$F$29)*Circuit2!$B$5*1000+Circuit2!$F$4*Circuit2!$F$9/1000/2","v":4.1136363636363645E-2},{"$f":"Circuit2!$F$4*($AN$4/1000000000*Circuit2!$J$26)*Circuit2!$B$5*1000+Circuit2!$F$4*Circuit2!$F$9/1000/2","v":2.5727272727272727E-2},{"$f":"(A10*A10+((Circuit2!$B$8)^2)/3)*(Circuit2!$J$9+Circuit2!$J$12)/1000*(1+0.002*AE9)","v":7.5433593166730137E-2},{"$f":"Circuit2!$J$8/1000","v":0.05},{"$f":"0","v":0},{"$f":"(Circuit2!$F$19/1000000000000*Circuit2!$F$29+0*Circuit2!$J$19/1000000000000*Circuit2!$J$26)*Circuit2!$B$3*Circuit2!$B$3*Circuit2!$B$5*1000","v":8.7480000000000002E-2},0,{"$f":"(Circuit2!$B$8/1.732)^2*Circuit2!$J$4/1000","v":1.944114054691208E-3},0.88624003818713426,0.26797739539388443,0.27777007757609928,0.12737770722142136,4.1136363636363645E-2,{"$f":"W10*Circuit2!$F$25/MAX(Circuit2!$F$29,1)","v":13.023701416142783},11.983258847955309,{"$f":"$AN$6*(1+AB9*0.85*Circuit2!$F$26/100)/1000/MAX(Circuit2!$F$29,1)","v":4.0944655196046018E-3},{"$f":"X10*Circuit2!$J$22/MAX(Circuit2!$J$26,1)","v":13.832949863289743},12.664988826880645,{"$f":"$AN$7/1000*(1+AE9*0.85*Circuit2!$J$23/100)/MAX(Circuit2!$J$26,1)","v":6.9354691701570071E-3},{"$f":"(U10+T10+S10+R10+Q10+P10+N10+M10+L10+J10+I10+B10+O10+K10)/A10/Circuit2!$B$3","v":0.11283624716905927}]
[{"$f":"Circuit2!$B$10/50*10","v":6},{"$f":"AG10*Circuit2!$B$7/1000000*AC11*(A11*A11+((Circuit2!$B$8)^2)/3)*Circuit2!$B$5*1000","v":1.6866738821809713E-2},{"$f":"(Circuit2!$F$22+A11/(Circuit2!$F$23*Circuit2!$F$29))/(1+((Circuit2!$F$22+A11/(Circuit2!$F$23*Circuit2!$F$29))/Circuit2!$F$4)^(5))^(0.2)","v":1.786149809388784},{"$f":"MAX((Circuit2!$F$4-C11), 0.001)/(Circuit2!$F$5+Circuit2!$F$28+Circuit2!$F$24/Circuit2!$F$29)","v":2.0212894280573686},{"$f":"C11/(Circuit2!$F$6+Circuit2!$F$28+Circuit2!$F$24/Circuit2!$F$29)","v":1.2849998628696289},{"$f":"(Circuit2!$F$20/1000000000+Circuit2!$F$21/2/1000000000)*MAX(Circuit2!$F$29,1)","v":8.0000000000000005E-9},3.4965705934863806E-9,6.2256815982334855E-9,{"$f":"0.5*Circuit2!$B$3*(G11*MAX((A11-Circuit2!$B$8),0)+H11*(A11+Circuit2!$B$8))*Circuit2!$B$5*1000","v":0.18384285910633821},{"$f":"MIN(MAX((1-AG10-Circuit2!$F$7/1000000000+Circuit2!$F$8/1000000000),0.001),1)*Circuit2!$B$7/1000000*AF11*(A11*A11+((Circuit2!$B$8)^2)/3)*Circuit2!$B$5*1000","v":0.22570220401977284},{"$f":"Circuit2!$B$3*$AN$2*Circuit2!$J$26*0.000000001*Circuit2!$B$5*1000","v":9.1800000000000007E-2},{"$f":"Circuit2!$J$21*A11*(Circuit2!$F$7/1000000000+Circuit2!$F$8/1000000000)*Circuit2!$B$5*1000","v":0.10665000000000001},{"$f":"A11*Circuit2!$B$4","v":7.1999999999999993},{"$f":"Circuit2!$F$4*($AN$3/1000000000*Circuit2!$F$29)*Circuit2!$B$5*1000+Circuit2!$F$4*Circuit2!$F$9/1000/2","v":4.1136363636363645E-2},{"$f":"Circuit2!$F$4*($AN$4/1000000000*Circuit2!$J$26)*Circuit2!$B$5*1000+Circuit2!$F$4*Circuit2!$F$9/1000/2","v":2.5727272727272727E-2},{"$f":"(A11*A11+((Circuit2!$B$8)^2)/3)*(Circuit2!$J$9+Circuit2!$J$12)/1000*(1+0.002*AE10)","v":9.3276318727117974E-2},{"$f":"Circuit2!$J$8/1000","v":0.05},{"$f":"0","v":0},{"$f":"(Circuit2!$F$19/1000000000000*Circuit2!$F$29+0*Circuit2!$J$19/1000000000000*Circuit2!$J$26)*Circuit2!$B$3*Circuit2!$B$3*Circuit2!$B$5*1000","v":8.7480000000000002E-2},0,{"$f":"(Circuit2!$B$8/1.732)^2*Circuit2!$J$4/1000","v":1.944114054691208E-3},0.88621646799899245,0.28818959792814791,0.33235220401977283,0.14522043278180921,4.1136363636363645E-2,{"$f":"W11*Circuit2!$F$25/MAX(Circuit2!$F$29,1)","v":14.006014459307989},12.809909294012259,{"$f":"$AN$6*(1+AB10*0.85*Circuit2!$F$26/100)/1000/MAX(Circuit2!$F$29,1)","v":4.1078516624711604E-3},{"$f":"X11*Circuit2!$J$22/MAX(Circuit2!$J$26,1)","v":16.551139760184686},14.906358296931957,{"$f":"$AN$7/1000*(1+AE10*0.85*Circuit2!$J$23/100)/MAX(Circuit2!$J$26,1)","v":6.9914020753539877E-3},{"$f":"(U11+T11+S11+R11+Q11+P11+N11+M11+L11+J11+I11+B11+O11+K11)/A11/Circuit2!$B$3","v":0.11283924820963008},{"$f":"Circuit2!$F$17","v":4}]
[{"$f":"Circuit2!$B$10/50*11","v":6.6},{"$f":"AG11*Circuit2!$B$7/1000000*AC12*(A12*A12+((Circuit2!$B$8)^2)/3)*Circuit2!$B$5*1000","v":2.0437995618652317E-2},{"$f":"(Circuit2!$F$22+A12/(Circuit2!$F$23*Circuit2!$F$29))/(1+((Circuit2!$F$22+A12/(Circuit2!$F$23*Circuit2!$F$29))/Circuit2!$F$4)^(5))^(0.2)","v":1.7949110177694887},{"$f":"MAX((Circuit2!$F$4-C12), 0.001)/(Circuit2!$F$5+Circuit2!$F$28+Circuit2!$F$24/Circuit2!$F$29)","v":2.01577923410724},{"$f":"C12/(Circuit2!$F$6+Circuit2!$F$28+Circuit2!$F$24/Circuit2!$F$29)","v":1.2913028904816466},{"$f":"(Circuit2!$F$20/1000000000+Circuit2!$F$21/2/1000000000)*MAX(Circuit2!$F$29,1)","v":8.0000000000000005E-9},3.5050118810209036E-9,6.1952931871902324E-9,{"$f":"0.5*Circuit2!$B$3*(G12*MAX((A12-Circuit2!$B$8),0)+H12*(A12+Circuit2!$B$8))*Circuit2!$B$5*1000","v":0.2007825517825691},{"$f":"MIN(MAX((1-AG11-Circuit2!$F$7/1000000000+Circuit2!$F$8/1000000000),0.001),1)*Circuit2!$B$7/1000000*AF12*(A12*A12+((Circuit2!$B$8)^2)/3)*Circuit2!$B$5*1000","v":0.27492504359289505},{"$f":"Circuit2!$B$3*$AN$2*Circuit2!$J$26*0.000000001*Circuit2!$B$5*1000","v":9.1800000000000007E-2},{"$f":"Circuit2!$J$21*A12*(Circuit2!$F$7/1000000000+Circuit2!$F$8/1000000000)*Circuit2!$B$5*1000","v":0.11731499999999999},{"$f":"A12*Circuit2!$B$4","v":7.919999999999999},{"$f":"Circuit2!$F$4*($AN$3/1000000000*Circuit2!$F$29)*Circuit2!$B$5*1000+Circuit2!$F$4*Circuit2!$F$9/1000/2","v":4.1136363636363645E-2},{"$f":"Circuit2!$F$4*($AN$4/1000000000*Circuit2!$J$26)*Circuit2!$B$5*1000+Circuit2!$F$4*Circuit2!$F$9/1000/2","v":2.5727272727272727E-2},{"$f":"(A12*A12+((Circuit2!$B$8)^2)/3)*(Circuit2!$J$9+Circuit2!$J$12)/1000*(1+0.002*AE11)","v":0.11314758279760102},{"$f":"Circuit2!$J$8/1000","v":0.05},{"$f":"0","v":0},{"$f":"(Circuit2!$F$19/1000000000000*Circuit2!$F$29+0*Circuit2!$J$19/1000000000000*Circuit2!$J$26)*Circuit2!$B$3*Circuit2!$B$3*Circuit2!$B$5*1000","v":8.7480000000000002E-2},0,{"$f":"(Circuit2!$B$8/1.732)^2*Circuit2!$J$4/1000","v":1.944114054691208E-3},0.88544094367293547,0.30870054740122144,0.39224004359289505,0.16509169685229225,4.1136363636363645E-2,{"$f":"W12*Circuit2!$F$25/MAX(Circuit2!$F$29,1)","v":15.002846603699362},13.63871616081834,{"$f":"$AN$6*(1+AB11*0.85*Circuit2!$F$26/100)/1000/MAX(Circuit2!$F$29,1)","v":4.1212702713477826E-3},{"$f":"X12*Circuit2!$J$22/MAX(Circuit2!$J$26,1)","v":19.533554170926173},17.282909804892217,{"$f":"$AN$7/1000*(1+AE11*0.85*Circuit2!$J$23/100)/MAX(Circuit2!$J$26,1)","v":7.0512313391221096E-3},{"$f":"(U12+T12+S12+R12+Q12+P12+N12+M12+L12+J12+I12+B12+O12+K12)/A12/Circuit2!$B$3","v":0.11293807985113689}]
[{"$f":"Circuit2!$B$10/50*12","v":7.1999999999999993},{"$f":"AG12*Circuit2!$B$7/1000000*AC13*(A13*A13+((Circuit2!$B$8)^2)/3)*Circuit2!$B$5*1000","v":2.4389166590212667E-2},{"$f":"(Circuit2!$F$22+A13/(Circuit2!$F$23*Circuit2!$F$29))/(1+((Circuit2!$F$22+A13/(Circuit2!$F$23*Circuit2!$F$29))/Circuit2!$F$4)^(5))^(0.2)","v":1.8036706875286896},{"$f":"MAX((Circuit2!$F$4-C13), 0.001)/(Circuit2!$F$5+Circuit2!$F$28+Circuit2!$F$24/Circuit2!$F$29)","v":2.0102700078435918},{"$f":"C13/(Circuit2!$F$6+Circuit2!$F$28+Circuit2!$F$24/Circuit2!$F$29)","v":1.2976048111717193},{"$f":"(Circuit2!$F$20/1000000000+Circuit2!$F$21/2/1000000000)*MAX(Circuit2!$F$29,1)","v":8.0000000000000005E-9},3.5134925312407742E-9,6.1652052544226545E-9,{"$f":"0.5*Circuit2!$B$3*(G13*MAX((A13-Circuit2!$B$8),0)+H13*(A13+Circuit2!$B$8))*Circuit2!$B$5*1000","v":0.21765142139343935},{"$f":"MIN(MAX((1-AG12-Circuit2!$F$7/1000000000+Circuit2!$F$8/1000000000),0.001),1)*Circuit2!$B$7/1000000*AF13*(A13*A13+((Circuit2!$B$8)^2)/3)*Circuit2!$B$5*1000","v":0.32962389268832853},{"$f":"Circuit2!$B$3*$AN$2*Circuit2!$J$26*0.000000001*Circuit2!$B$5*1000","v":9.1800000000000007E-2},{"$f":"Circuit2!$J$21*A13*(Circuit2!$F$7/1000000000+Circuit2!$F$8/1000000000)*Circuit2!$B$5*1000","v":0.12797999999999998},{"$f":"A13*Circuit2!$B$4","v":8.6399999999999988},{"$f":"Circuit2!$F$4*($AN$3/1000000000*Circuit2!$F$29)*Circuit2!$B$5*1000+Circuit2!$F$4*Circuit2!$F$9/1000/2","v":4.1136363636363645E-2},{"$f":"Circuit2!$F$4*($AN$4/1000000000*Circuit2!$J$26)*Circuit2!$B$5*1000+Circuit2!$F$4*Circuit2!$F$9/1000/2","v":2.5727272727272727E-2},{"$f":"(A13*A13+((Circuit2!$B$8)^2)/3)*(Circuit2!$J$9+Circuit2!$J$12)/1000*(1+0.002*AE12)","v":0.13508532819808874},{"$f":"Circuit2!$J$8/1000","v":0.05},{"$f":"0","v":0},{"$f":"(Circuit2!$F$19/1000000000000*Circuit2!$F$29+0*Circuit2!$J$19/1000000000000*Circuit2!$J$26)*Circuit2!$B$3*Circuit2!$B$3*Circuit2!$B$5*1000","v":8.7480000000000002E-2},0,{"$f":"(Circuit2!$B$8/1.732)^2*Circuit2!$J$4/1000","v":1.944114054691208E-3},0.88408485552749005,0.32952058798365202,0.45760389268832852,0.18702944225277998,4.1136363636363645E-2,{"$f":"W13*Circuit2!$F$25/MAX(Circuit2!$F$29,1)","v":16.014700576005488},14.46983356332975,{"$f":"$AN$6*(1+AB12*0.85*Circuit2!$F$26/100)/1000/MAX(Circuit2!$F$29,1)","v":4.1347238843385909E-3},{"$f":"X13*Circuit2!$J$22/MAX(Circuit2!$J$26,1)","v":22.788673855878759},19.783131626051965,{"$f":"$AN$7/1000*(1+AE12*0.85*Circuit2!$J$23/100)/MAX(Circuit2!$J$26,1)","v":7.1146690404596874E-3},{"$f":"(U13+T13+S13+R13+Q13+P13+N13+M13+L13+J13+I13+B13+O13+K13)/A13/Circuit2!$B$3","v":0.1131113143436157}]
[{"$f":"Circuit2!$B$10/50*13","v":7.8},{"$f":"AG13*Circuit2!$B$7/1000000*AC14*(A14*A14+((Circuit2!$B$8)^2)/3)*Circuit2!$B$5*1000","v":2.8729168381831791E-2},{"$f":"(Circuit2!$F$22+A14/(Circuit2!$F$23*Circuit2!$F$29))/(1+((Circuit2!$F$22+A14/(Circuit2!$F$23*Circuit2!$F$29))/Circuit2!$F$4)^(5))^(0.2)","v":1.8124287887351593},{"$f":"MAX((Circuit2!$F$4-C14), 0.001)/(Circuit2!$F$5+Circuit2!$F$28+Circuit2!$F$24/Circuit2!$F$29)","v":2.004761768091095},{"$f":"C14/(Circuit2!$F$6+Circuit2!$F$28+Circuit2!$F$24/Circuit2!$F$29)","v":1.3039056034065895},{"$f":"(Circuit2!$F$20/1000000000+Circuit2!$F$21/2/1000000000)*MAX(Circuit2!$F$29,1)","v":8.0000000000000005E-9},3.5220127905342381E-9,6.1354134678915141E-9,{"$f":"0.5*Circuit2!$B$3*(G14*MAX((A14-Circuit2!$B$8),0)+H14*(A14+Circuit2!$B$8))*Circuit2!$B$5*1000","v":0.23445119264180017},{"$f":"MIN(MAX((1-AG13-Circuit2!$F$7/1000000000+Circuit2!$F$8/1000000000),0.001),1)*Circuit2!$B$7/1000000*AF14*(A14*A14+((Circuit2!$B$8)^2)/3)*Circuit2!$B$5*1000","v":0.38997292398773531},{"$f":"Circuit2!$B$3*$AN$2*Circuit2!$J$26*0.000000001*Circuit2!$B$5*1000","v":9.1800000000000007E-2},{"$f":"Circuit2!$J$21*A14*(Circuit2!$F$7/1000000000+Circuit2!$F$8/1000000000)*Circuit2!$B$5*1000","v":0.13864500000000002},{"$f":"A14*Circuit2!$B$4","v":9.36},{"$f":"Circuit2!$F$4*($AN$3/1000000000*Circuit2!$F$29)*Circuit2!$B$5*1000+Circuit2!$F$4*Circuit2!$F$9/1000/2","v":4.1136363636363645E-2},{"$f":"Circuit2!$F$4*($AN$4/1000000000*Circuit2!$J$26)*Circuit2!$B$5*1000+Circuit2!$F$4*Circuit2!$F$9/1000/2","v":2.5727272727272727E-2},{"$f":"(A14*A14+((Circuit2!$B$8)^2)/3)*(Circuit2!$J$9+Circuit2!$J$12)/1000*(1+0.002*AE13)","v":0.15912848704852606},{"$f":"Circuit2!$J$8/1000","v":0.05},{"$f":"0","v":0},{"$f":"(Circuit2!$F$19/1000000000000*Circuit2!$F$29+0*Circuit2!$J$19/1000000000000*Circuit2!$J$26)*Circuit2!$B$3*Circuit2!$B$3*Circuit2!$B$5*1000","v":8.7480000000000002E-2},0,{"$f":"(Circuit2!$B$8/1.732)^2*Circuit2!$J$4/1000","v":1.944114054691208E-3},0.88226856322688341,0.35066036102363196,0.52861792398773533,0.21107260110321727,4.1136363636363645E-2,{"$f":"W14*Circuit2!$F$25/MAX(Circuit2!$F$29,1)","v":17.042093545748514},15.303412317220323,{"$f":"$AN$6*(1+AB13*0.85*Circuit2!$F$26/100)/1000/MAX(Circuit2!$F$29,1)","v":4.1482150031156408E-3},{"$f":"X14*Circuit2!$J$22/MAX(Circuit2!$J$26,1)","v":26.325172614589217},22.394850568611659,{"$f":"$AN$7/1000*(1+AE13*0.85*Circuit2!$J$23/100)/MAX(Circuit2!$J$26,1)","v":7.1814078949036866E-3},{"$f":"(U14+T14+S14+R14+Q14+P14+N14+M14+L14+J14+I14+B14+O14+K14)/A14/Circuit2!$B$3","v":0.11334417224869892}]
[{"$f":"Circuit2!$B$10/50*14","v":8.4},{"$f":"AG14*Circuit2!$B$7/1000000*AC15*(A15*A15+((Circuit2!$B$8)^2)/3)*Circuit2!$B$5*1000","v":3.3467234614190634E-2},{"$f":"(Circuit2!$F$22+A15/(Circuit2!$F$23*Circuit2!$F$29))/(1+((Circuit2!$F$22+A15/(Circuit2!$F$23*Circuit2!$F$29))/Circuit2!$F$4)^(5))^(0.2)","v":1.8211852910382784},{"$f":"MAX((Circuit2!$F$4-C15), 0.001)/(Circuit2!$F$5+Circuit2!$F$28+Circuit2!$F$24/Circuit2!$F$29)","v":1.9992545339381897},{"$f":"C15/(Circuit2!$F$6+Circuit2!$F$28+Circuit2!$F$24/Circuit2!$F$29)","v":1.3102052453512796},{"$f":"(Circuit2!$F$20/1000000000+Circuit2!$F$21/2/1000000000)*MAX(Circuit2!$F$29,1)","v":8.0000000000000005E-9},3.5305729068886028E-9,6.1059135798644419E-9,{"$f":"0.5*Circuit2!$B$3*(G15*MAX((A15-Circuit2!$B$8),0)+H15*(A15+Circuit2!$B$8))*Circuit2!$B$5*1000","v":0.25118356324661845},{"$f":"MIN(MAX((1-AG14-Circuit2!$F$7/1000000000+Circuit2!$F$8/1000000000),0.001),1)*Circuit2!$B$7/1000000*AF15*(A15*A15+((Circuit2!$B$8)^2)/3)*Circuit2!$B$5*1000","v":0.45614760043567903},{"$f":"Circuit2!$B$3*$AN$2*Circuit2!$J$26*0.000000001*Circuit2!$B$5*1000","v":9.1800000000000007E-2},{"$f":"Circuit2!$J$21*A15*(Circuit2!$F$7/1000000000+Circuit2!$F$8/1000000000)*Circuit2!$B$5*1000","v":0.14931000000000003},{"$f":"A15*Circuit2!$B$4","v":10.08},{"$f":"Circuit2!$F$4*($AN$3/1000000000*Circuit2!$F$29)*Circuit2!$B$5*1000+Circuit2!$F$4*Circuit2!$F$9/1000/2","v":4.1136363636363645E-2},{"$f":"Circuit2!$F$4*($AN$4/1000000000*Circuit2!$J$26)*Circuit2!$B$5*1000+Circuit2!$F$4*Circuit2!$F$9/1000/2","v":2.5727272727272727E-2},{"$f":"(A15*A15+((Circuit2!$B$8)^2)/3)*(Circuit2!$J$9+Circuit2!$J$12)/1000*(1+0.002*AE14)","v":0.18531643887011159},{"$f":"Circuit2!$J$8/1000","v":0.05},{"$f":"0","v":0},{"$f":"(Circuit2!$F$19/1000000000000*Circuit2!$F$29+0*Circuit2!$J$19/1000000000000*Circuit2!$J$26)*Circuit2!$B$3*Circuit2!$B$3*Circuit2!$B$5*1000","v":8.7480000000000002E-2},0,{"$f":"(Circuit2!$B$8/1.732)^2*Circuit2!$J$4/1000","v":1.944114054691208E-3},0.88007935756985578,0.3721307978608091,0.60545760043567909,0.23726055292480283,4.1136363636363645E-2,{"$f":"W15*Circuit2!$F$25/MAX(Circuit2!$F$29,1)","v":18.085556776035322},16.139599192451726,{"$f":"$AN$6*(1+AB14*0.85*Circuit2!$F$26/100)/1000/MAX(Circuit2!$F$29,1)","v":4.1617460757953613E-3},{"$f":"X15*Circuit2!$J$22/MAX(Circuit2!$J$26,1)","v":30.151788501696817},25.105319868705735,{"$f":"$AN$7/1000*(1+AE14*0.85*Circuit2!$J$23/100)/MAX(Circuit2!$J$26,1)","v":7.2511229613353833E-3},{"$f":"(U15+T15+S15+R15+Q15+P15+N15+M15+L15+J15+I15+B15+O15+K15)/A15/Circuit2!$B$3","v":0.11362611694032666}]
[{"$f":"Circuit2!$B$10/50*15","v":9},{"$f":"AG15*Circuit2!$B$7/1000000*AC16*(A16*A16+((Circuit2!$B$8)^2)/3)*Circuit2!$B$5*1000","v":3.8612909115905307E-2},{"$f":"(Circuit2!$F$22+A16/(Circuit2!$F$23*Circuit2!$F$29))/(1+((Circuit2!$F$22+A16/(Circuit2!$F$23*Circuit2!$F$29))/Circuit2!$F$4)^(5))^(0.2)","v":1.8299401636648032},{"$f":"MAX((Circuit2!$F$4-C16), 0.001)/(Circuit2!$F$5+Circuit2!$F$28+Circuit2!$F$24/Circuit2!$F$29)","v":1.9937483247391177},{"$f":"C16/(Circuit2!$F$6+Circuit2!$F$28+Circuit2!$F$24/Circuit2!$F$29)","v":1.3165037148667649},{"$f":"(Circuit2!$F$20/1000000000+Circuit2!$F$21/2/1000000000)*MAX(Circuit2!$F$29,1)","v":8.0000000000000005E-9},3.5391731298971281E-9,6.0767014248870774E-9,{"$f":"0.5*Circuit2!$B$3*(G16*MAX((A16-Circuit2!$B$8),0)+H16*(A16+Circuit2!$B$8))*Circuit2!$B$5*1000","v":0.26785020465494097},{"$f":"MIN(MAX((1-AG15-Circuit2!$F$7/1000000000+Circuit2!$F$8/1000000000),0.001),1)*Circuit2!$B$7/1000000*AF16*(A16*A16+((Circuit2!$B$8)^2)/3)*Circuit2!$B$5*1000","v":0.52832205067363325},{"$f":"Circuit2!$B$3*$AN$2*Circuit2!$J$26*0.000000001*Circuit2!$B$5*1000","v":9.1800000000000007E-2},{"$f":"Circuit2!$J$21*A16*(Circuit2!$F$7/1000000000+Circuit2!$F$8/1000000000)*Circuit2!$B$5*1000","v":0.15997500000000001},{"$f":"A16*Circuit2!$B$4","v":10.799999999999999},{"$f":"Circuit2!$F$4*($AN$3/1000000000*Circuit2!$F$29)*Circuit2!$B$5*1000+Circuit2!$F$4*Circuit2!$F$9/1000/2","v":4.1136363636363645E-2},{"$f":"Circuit2!$F$4*($AN$4/1000000000*Circuit2!$J$26)*Circuit2!$B$5*1000+Circuit2!$F$4*Circuit2!$F$9/1000/2","v":2.5727272727272727E-2},{"$f":"(A16*A16+((Circuit2!$B$8)^2)/3)*(Circuit2!$J$9+Circuit2!$J$12)/1000*(1+0.002*AE15)","v":0.21368845928865063},{"$f":"Circuit2!$J$8/1000","v":0.05},{"$f":"0","v":0},{"$f":"(Circuit2!$F$19/1000000000000*Circuit2!$F$29+0*Circuit2!$J$19/1000000000000*Circuit2!$J$26)*Circuit2!$B$3*Circuit2!$B$3*Circuit2!$B$5*1000","v":8.7480000000000002E-2},0,{"$f":"(Circuit2!$B$8/1.732)^2*Circuit2!$J$4/1000","v":1.944114054691208E-3},0.87758242219022953,0.39394311377084629,0.68829705067363323,0.26563257334334184,4.1136363636363645E-2,{"$f":"W16*Circuit2!$F$25/MAX(Circuit2!$F$29,1)","v":19.145635329263129},16.978536240672504,{"$f":"$AN$6*(1+AB15*0.85*Circuit2!$F$26/100)/1000/MAX(Circuit2!$F$29,1)","v":4.1753194848221341E-3},{"$f":"X16*Circuit2!$J$22/MAX(Circuit2!$J$26,1)","v":34.27719312354693},27.901331040379564,{"$f":"$AN$7/1000*(1+AE15*0.85*Circuit2!$J$23/100)/MAX(Circuit2!$J$26,1)","v":7.3234739881774726E-3},{"$f":"(U16+T16+S16+R16+Q16+P16+N16+M16+L16+J16+I16+B16+O16+K16)/A16/Circuit2!$B$3","v":0.11394941087177274}]
[{"$f":"Circuit2!$B$10/50*16","v":9.6},{"$f":"AG16*Circuit2!$B$7/1000000*AC17*(A17*A17+((Circuit2!$B$8)^2)/3)*Circuit2!$B$5*1000","v":4.4176037763934986E-2},{"$f":"(Circuit2!$F$22+A17/(Circuit2!$F$23*Circuit2!$F$29))/(1+((Circuit2!$F$22+A17/(Circuit2!$F$23*Circuit2!$F$29))/Circuit2!$F$4)^(5))^(0.2)","v":1.8386933754156427},{"$f":"MAX((Circuit2!$F$4-C17), 0.001)/(Circuit2!$F$5+Circuit2!$F$28+Circuit2!$F$24/Circuit2!$F$29)","v":1.9882431601159483},{"$f":"C17/(Circuit2!$F$6+Circuit2!$F$28+Circuit2!$F$24/Circuit2!$F$29)","v":1.3228009895076567},{"$f":"(Circuit2!$F$20/1000000000+Circuit2!$F$21/2/1000000000)*MAX(Circuit2!$F$29,1)","v":8.0000000000000005E-9},3.5478137107658462E-9,6.0477729178125133E-9,{"$f":"0.5*Circuit2!$B$3*(G17*MAX((A17-Circuit2!$B$8),0)+H17*(A17+Circuit2!$B$8))*Circuit2!$B$5*1000","v":0.28445276273388792},{"$f":"MIN(MAX((1-AG16-Circuit2!$F$7/1000000000+Circuit2!$F$8/1000000000),0.001),1)*Circuit2!$B$7/1000000*AF17*(A17*A17+((Circuit2!$B$8)^2)/3)*Circuit2!$B$5*1000","v":0.60666647862249379},{"$f":"Circuit2!$B$3*$AN$2*Circuit2!$J$26*0.000000001*Circuit2!$B$5*1000","v":9.1800000000000007E-2},{"$f":"Circuit2!$J$21*A17*(Circuit2!$F$7/1000000000+Circuit2!$F$8/1000000000)*Circuit2!$B$5*1000","v":0.17064000000000001},{"$f":"A17*Circuit2!$B$4","v":11.52},{"$f":"Circuit2!$F$4*($AN$3/1000000000*Circuit2!$F$29)*Circuit2!$B$5*1000+Circuit2!$F$4*Circuit2!$F$9/1000/2","v":4.1136363636363645E-2},{"$f":"Circuit2!$F$4*($AN$4/1000000000*Circuit2!$J$26)*Circuit2!$B$5*1000+Circuit2!$F$4*Circuit2!$F$9/1000/2","v":2.5727272727272727E-2},{"$f":"(A17*A17+((Circuit2!$B$8)^2)/3)*(Circuit2!$J$9+Circuit2!$J$12)/1000*(1+0.002*AE16)","v":0.24428317353094944},{"$f":"Circuit2!$J$8/1000","v":0.05},{"$f":"0","v":0},{"$f":"(Circuit2!$F$19/1000000000000*Circuit2!$F$29+0*Circuit2!$J$19/1000000000000*Circuit2!$J$26)*Circuit2!$B$3*Circuit2!$B$3*Circuit2!$B$5*1000","v":8.7480000000000002E-2},0,{"$f":"(Circuit2!$B$8/1.732)^2*Circuit2!$J$4/1000","v":1.944114054691208E-3},0.87482777377356513,0.41610880049782289,0.7773064786224938,0.29622728758564065,4.1136363636363645E-2,{"$f":"W17*Circuit2!$F$25/MAX(Circuit2!$F$29,1)","v":20.222887704194193},17.820360096936522,{"$f":"$AN$6*(1+AB16*0.85*Circuit2!$F$26/100)/1000/MAX(Circuit2!$F$29,1)","v":4.1889375360502912E-3},{"$f":"X17*Circuit2!$J$22/MAX(Circuit2!$J$26,1)","v":38.709862635400192},30.769347792534447,{"$f":"$AN$7/1000*(1+AE16*0.85*Circuit2!$J$23/100)/MAX(Circuit2!$J$26,1)","v":7.3981083990248987E-3},{"$f":"(U17+T17+S17+R17+Q17+P17+N17+M17+L17+J17+I17+B17+O17+K17)/A17/Circuit2!$B$3","v":0.11430821356831244}]
[{"$f":"Circuit2!$B$10/50*17","v":10.199999999999999},{"$f":"AG17*Circuit2!$B$7/1000000*AC18*(A18*A18+((Circuit2!$B$8)^2)/3)*Circuit2!$B$5*1000","v":5.0166757802731429E-2},{"$f":"(Circuit2!$F$22+A18/(Circuit2!$F$23*Circuit2!$F$29))/(1+((Circuit2!$F$22+A18/(Circuit2!$F$23*Circuit2!$F$29))/Circuit2!$F$4)^(5))^(0.2)","v":1.8474448946626578},{"$f":"MAX((Circuit2!$F$4-C18), 0.001)/(Circuit2!$F$5+Circuit2!$F$28+Circuit2!$F$24/Circuit2!$F$29)","v":1.9827390599605925},{"$f":"C18/(Circuit2!$F$6+Circuit2!$F$28+Circuit2!$F$24/Circuit2!$F$29)","v":1.3290970465198979},{"$f":"(Circuit2!$F$20/1000000000+Circuit2!$F$21/2/1000000000)*MAX(Circuit2!$F$29,1)","v":8.0000000000000005E-9},3.5564949023203275E-9,6.0191240518870817E-9,{"$f":"0.5*Circuit2!$B$3*(G18*MAX((A18-Circuit2!$B$8),0)+H18*(A18+Circuit2!$B$8))*Circuit2!$B$5*1000","v":0.30099285844334295},{"$f":"MIN(MAX((1-AG17-Circuit2!$F$7/1000000000+Circuit2!$F$8/1000000000),0.001),1)*Circuit2!$B$7/1000000*AF18*(A18*A18+((Circuit2!$B$8)^2)/3)*Circuit2!$B$5*1000","v":0.69134468403621974},{"$f":"Circuit2!$B$3*$AN$2*Circuit2!$J$26*0.000000001*Circuit2!$B$5*1000","v":9.1800000000000007E-2},{"$f":"Circuit2!$J$21*A18*(Circuit2!$F$7/1000000000+Circuit2!$F$8/1000000000)*Circuit2!$B$5*1000","v":0.18130499999999999},{"$f":"A18*Circuit2!$B$4","v":12.239999999999998},{"$f":"Circuit2!$F$4*($AN$3/1000000000*Circuit2!$F$29)*Circuit2!$B$5*1000+Circuit2!$F$4*Circuit2!$F$9/1000/2","v":4.1136363636363645E-2},{"$f":"Circuit2!$F$4*($AN$4/1000000000*Circuit2!$J$26)*Circuit2!$B$5*1000+Circuit2!$F$4*Circuit2!$F$9/1000/2","v":2.5727272727272727E-2},{"$f":"(A18*A18+((Circuit2!$B$8)^2)/3)*(Circuit2!$J$9+Circuit2!$J$12)/1000*(1+0.002*AE17)","v":0.27713803033378515},{"$f":"Circuit2!$J$8/1000","v":0.05},{"$f":"0","v":0},{"$f":"(Circuit2!$F$19/1000000000000*Circuit2!$F$29+0*Circuit2!$J$19/1000000000000*Circuit2!$J$26)*Circuit2!$B$3*Circuit2!$B$3*Circuit2!$B$5*1000","v":8.7480000000000002E-2},0,{"$f":"(Circuit2!$B$8/1.732)^2*Circuit2!$J$4/1000","v":1.944114054691208E-3},0.87185479125522258,0.43863961624607439,0.87264968403621967,0.32908214438847633,4.1136363636363645E-2,{"$f":"W18*Circuit2!$F$25/MAX(Circuit2!$F$29,1)","v":21.317885349559216},18.66520121882948,{"$f":"$AN$6*(1+AB17*0.85*Circuit2!$F$26/100)/1000/MAX(Circuit2!$F$29,1)","v":4.2026024474092561E-3},{"$f":"X18*Circuit2!$J$22/MAX(Circuit2!$J$26,1)","v":43.457954265003735},33.695658390045232,{"$f":"$AN$7/1000*(1+AE17*0.85*Circuit2!$J$23/100)/MAX(Circuit2!$J$26,1)","v":7.4746648673130727E-3},{"$f":"(U18+T18+S18+R18+Q18+P18+N18+M18+L18+J18+I18+B18+O18+K18)/A18/Circuit2!$B$3","v":0.11469799902805888}]
[{"$f":"Circuit2!$B$10/50*18","v":10.799999999999999},{"$f":"AG18*Circuit2!$B$7/1000000*AC19*(A19*A19+((Circuit2!$B$8)^2)/3)*Circuit2!$B$5*1000","v":5.6595484275168619E-2},{"$f":"(Circuit2!$F$22+A19/(Circuit2!$F$23*Circuit2!$F$29))/(1+((Circuit2!$F$22+A19/(Circuit2!$F$23*Circuit2!$F$29))/Circuit2!$F$4)^(5))^(0.2)","v":1.8561946893454673},{"$f":"MAX((Circuit2!$F$4-C19), 0.001)/(Circuit2!$F$5+Circuit2!$F$28+Circuit2!$F$24/Circuit2!$F$29)","v":1.9772360444368131},{"$f":"C19/(Circuit2!$F$6+Circuit2!$F$28+Circuit2!$F$24/Circuit2!$F$29)","v":1.3353918628384658},{"$f":"(Circuit2!$F$20/1000000000+Circuit2!$F$21/2/1000000000)*MAX(Circuit2!$F$29,1)","v":8.0000000000000005E-9},3.5652169590123876E-9,5.9907508968906393E-9,{"$f":"0.5*Circuit2!$B$3*(G19*MAX((A19-Circuit2!$B$8),0)+H19*(A19+Circuit2!$B$8))*Circuit2!$B$5*1000","v":0.31747208848998359},{"$f":"MIN(MAX((1-AG18-Circuit2!$F$7/1000000000+Circuit2!$F$8/1000000000),0.001),1)*Circuit2!$B$7/1000000*AF19*(A19*A19+((Circuit2!$B$8)^2)/3)*Circuit2!$B$5*1000","v":0.78251177131250171},{"$f":"Circuit2!$B$3*$AN$2*Circuit2!$J$26*0.000000001*Circuit2!$B$5*1000","v":9.1800000000000007E-2},{"$f":"Circuit2!$J$21*A19*(Circuit2!$F$7/1000000000+Circuit2!$F$8/1000000000)*Circuit2!$B$5*1000","v":0.19197},{"$f":"A19*Circuit2!$B$4","v":12.959999999999999},{"$f":"Circuit2!$F$4*($AN$3/1000000000*Circuit2!$F$29)*Circuit2!$B$5*1000+Circuit2!$F$4*Circuit2!$F$9/1000/2","v":4.1136363636363645E-2},{"$f":"Circuit2!$F$4*($AN$4/1000000000*Circuit2!$J$26)*Circuit2!$B$5*1000+Circuit2!$F$4*Circuit2!$F$9/1000/2","v":2.5727272727272727E-2},{"$f":"(A19*A19+((Circuit2!$B$8)^2)/3)*(Circuit2!$J$9+Circuit2!$J$12)/1000*(1+0.002*AE18)","v":0.31228881233298456},{"$f":"Circuit2!$J$8/1000","v":0.05},{"$f":"0","v":0},{"$f":"(Circuit2!$F$19/1000000000000*Circuit2!$F$29+0*Circuit2!$J$19/1000000000000*Circuit2!$J$26)*Circuit2!$B$3*Circuit2!$B$3*Circuit2!$B$5*1000","v":8.7480000000000002E-2},0,{"$f":"(Circuit2!$B$8/1.732)^2*Circuit2!$J$4/1000","v":1.944114054691208E-3},0.8686952452835569,0.46154757276515224,0.97448177131250169,0.36423292638767574,4.1136363636363645E-2,{"$f":"W19*Circuit2!$F$25/MAX(Circuit2!$F$29,1)","v":22.431212036386398},19.51318305845896,{"$f":"$AN$6*(1+AB18*0.85*Circuit2!$F$26/100)/1000/MAX(Circuit2!$F$29,1)","v":4.2163163365526585E-3},{"$f":"X19*Circuit2!$J$22/MAX(Circuit2!$J$26,1)","v":48.529192211362584},36.66654133138492,{"$f":"$AN$7/1000*(1+AE18*0.85*Circuit2!$J$23/100)/MAX(Circuit2!$J$26,1)","v":7.5527773833195984E-3},{"$f":"(U19+T19+S19+R19+Q19+P19+N19+M19+L19+J19+I19+B19+O19+K19)/A19/Circuit2!$B$3","v":0.11511516903417413}]
[{"$f":"Circuit2!$B$10/50*19","v":11.4},{"$f":"AG19*Circuit2!$B$7/1000000*AC20*(A20*A20+((Circuit2!$B$8)^2)/3)*Circuit2!$B$5*1000","v":6.3472893662432903E-2},{"$f":"(Circuit2!$F$22+A20/(Circuit2!$F$23*Circuit2!$F$29))/(1+((Circuit2!$F$22+A20/(Circuit2!$F$23*Circuit2!$F$29))/Circuit2!$F$4)^(5))^(0.2)","v":1.8649427269682723},{"$f":"MAX((Circuit2!$F$4-C20), 0.001)/(Circuit2!$F$5+Circuit2!$F$28+Circuit2!$F$24/Circuit2!$F$29)","v":1.9717341339822188},{"$f":"C20/(Circuit2!$F$6+Circuit2!$F$28+Circuit2!$F$24/Circuit2!$F$29)","v":1.3416854150850881},{"$f":"(Circuit2!$F$20/1000000000+Circuit2!$F$21/2/1000000000)*MAX(Circuit2!$F$29,1)","v":8.0000000000000005E-9},3.5739801369267274E-9,5.9626495973295278E-9,{"$f":"0.5*Circuit2!$B$3*(G20*MAX((A20-Circuit2!$B$8),0)+H20*(A20+Circuit2!$B$8))*Circuit2!$B$5*1000","v":0.33389202596326906},{"$f":"MIN(MAX((1-AG19-Circuit2!$F$7/1000000000+Circuit2!$F$8/1000000000),0.001),1)*Circuit2!$B$7/1000000*AF20*(A20*A20+((Circuit2!$B$8)^2)/3)*Circuit2!$B$5*1000","v":0.88031211934303366},{"$f":"Circuit2!$B$3*$AN$2*Circuit2!$J$26*0.000000001*Circuit2!$B$5*1000","v":9.1800000000000007E-2},{"$f":"Circuit2!$J$21*A20*(Circuit2!$F$7/1000000000+Circuit2!$F$8/1000000000)*Circuit2!$B$5*1000","v":0.20263500000000004},{"$f":"A20*Circuit2!$B$4","v":13.68},{"$f":"Circuit2!$F$4*($AN$3/1000000000*Circuit2!$F$29)*Circuit2!$B$5*1000+Circuit2!$F$4*Circuit2!$F$9/1000/2","v":4.1136363636363645E-2},{"$f":"Circuit2!$F$4*($AN$4/1000000000*Circuit2!$J$26)*Circuit2!$B$5*1000+Circuit2!$F$4*Circuit2!$F$9/1000/2","v":2.5727272727272727E-2},{"$f":"(A20*A20+((Circuit2!$B$8)^2)/3)*(Circuit2!$J$9+Circuit2!$J$12)/1000*(1+0.002*AE19)","v":0.34976919831348213},{"$f":"Circuit2!$J$8/1000","v":0.05},{"$f":"0","v":0},{"$f":"(Circuit2!$F$19/1000000000000*Circuit2!$F$29+0*Circuit2!$J$19/1000000000000*Circuit2!$J$26)*Circuit2!$B$3*Circuit2!$B$3*Circuit2!$B$5*1000","v":8.7480000000000002E-2},0,{"$f":"(Circuit2!$B$8/1.732)^2*Circuit2!$J$4/1000","v":1.944114054691208E-3},0.86537536451208519,0.48484491962570198,1.0829471193430338,0.40171331236817331,4.1136363636363645E-2,{"$f":"W20*Circuit2!$F$25/MAX(Circuit2!$F$29,1)","v":23.563463093809116},20.364421180977466,{"$f":"$AN$6*(1+AB19*0.85*Circuit2!$F$26/100)/1000/MAX(Circuit2!$F$29,1)","v":4.2300812074176561E-3},{"$f":"X20*Circuit2!$J$22/MAX(Circuit2!$J$26,1)","v":53.930766543283077},39.668438061676632,{"$f":"$AN$7/1000*(1+AE19*0.85*Circuit2!$J$23/100)/MAX(Circuit2!$J$26,1)","v":7.6320796766258213E-3},{"$f":"(U20+T20+S20+R20+Q20+P20+N20+M20+L20+J20+I20+B20+O20+K20)/A20/Circuit2!$B$3","v":0.11555679084576422}]
[{"$f":"Circuit2!$B$10/50*20","v":12},{"$f":"AG20*Circuit2!$B$7/1000000*AC21*(A21*A21+((Circuit2!$B$8)^2)/3)*Circuit2!$B$5*1000","v":7.0809905135643877E-2},{"$f":"(Circuit2!$F$22+A21/(Circuit2!$F$23*Circuit2!$F$29))/(1+((Circuit2!$F$22+A21/(Circuit2!$F$23*Circuit2!$F$29))/Circuit2!$F$4)^(5))^(0.2)","v":1.8736889745967016},{"$f":"MAX((Circuit2!$F$4-C21), 0.001)/(Circuit2!$F$5+Circuit2!$F$28+Circuit2!$F$24/Circuit2!$F$29)","v":1.9662333493102508},{"$f":"C21/(Circuit2!$F$6+Circuit2!$F$28+Circuit2!$F$24/Circuit2!$F$29)","v":1.3479776795659724},{"$f":"(Circuit2!$F$20/1000000000+Circuit2!$F$21/2/1000000000)*MAX(Circuit2!$F$29,1)","v":8.0000000000000005E-9},3.5827846937875164E-9,5.9348163706804658E-9,{"$f":"0.5*Circuit2!$B$3*(G21*MAX((A21-Circuit2!$B$8),0)+H21*(A21+Circuit2!$B$8))*Circuit2!$B$5*1000","v":0.35025422095398051},{"$f":"MIN(MAX((1-AG20-Circuit2!$F$7/1000000000+Circuit2!$F$8/1000000000),0.001),1)*Circuit2!$B$7/1000000*AF21*(A21*A21+((Circuit2!$B$8)^2)/3)*Circuit2!$B$5*1000","v":0.98487767537119741},{"$f":"Circuit2!$B$3*$AN$2*Circuit2!$J$26*0.000000001*Circuit2!$B$5*1000","v":9.1800000000000007E-2},{"$f":"Circuit2!$J$21*A21*(Circuit2!$F$7/1000000000+Circuit2!$F$8/1000000000)*Circuit2!$B$5*1000","v":0.21330000000000002},{"$f":"A21*Circuit2!$B$4","v":14.399999999999999},{"$f":"Circuit2!$F$4*($AN$3/1000000000*Circuit2!$F$29)*Circuit2!$B$5*1000+Circuit2!$F$4*Circuit2!$F$9/1000/2","v":4.1136363636363645E-2},{"$f":"Circuit2!$F$4*($AN$4/1000000000*Circuit2!$J$26)*Circuit2!$B$5*1000+Circuit2!$F$4*Circuit2!$F$9/1000/2","v":2.5727272727272727E-2},{"$f":"(A21*A21+((Circuit2!$B$8)^2)/3)*(Circuit2!$J$9+Circuit2!$J$12)/1000*(1+0.002*AE20)","v":0.38961039084799903},{"$f":"Circuit2!$J$8/1000","v":0.05},{"$f":"0","v":0},{"$f":"(Circuit2!$F$19/1000000000000*Circuit2!$F$29+0*Circuit2!$J$19/1000000000000*Circuit2!$J$26)*Circuit2!$B$3*Circuit2!$B$3*Circuit2!$B$5*1000","v":8.7480000000000002E-2},0,{"$f":"(Circuit2!$B$8/1.732)^2*Circuit2!$J$4/1000","v":1.944114054691208E-3},0.86191726608011165,0.5085441260896244,1.1981776753711975,0.44155450490269021,4.1136363636363645E-2,{"$f":"W21*Circuit2!$F$25/MAX(Circuit2!$F$29,1)","v":24.715244527955747},21.219022353828823,{"$f":"$AN$6*(1+AB20*0.85*Circuit2!$F$26/100)/1000/MAX(Circuit2!$F$29,1)","v":4.2438989359163586E-3},{"$f":"X21*Circuit2!$J$22/MAX(Circuit2!$J$26,1)","v":59.669248233485632},42.688125752498429,{"$f":"$AN$7/1000*(1+AE20*0.85*Circuit2!$J$23/100)/MAX(Circuit2!$J$26,1)","v":7.7122098263762645E-3},{"$f":"(U21+T21+S21+R21+Q21+P21+N21+M21+L21+J21+I21+B21+O21+K21)/A21/Circuit2!$B$3","v":0.11602041626893851}]
[{"$f":"Circuit2!$B$10/50*21","v":12.6},{"$f":"AG21*Circuit2!$B$7/1000000*AC22*(A22*A22+((Circuit2!$B$8)^2)/3)*Circuit2!$B$5*1000","v":7.8617660023642455E-2},{"$f":"(Circuit2!$F$22+A22/(Circuit2!$F$23*Circuit2!$F$29))/(1+((Circuit2!$F$22+A22/(Circuit2!$F$23*Circuit2!$F$29))/Circuit2!$F$4)^(5))^(0.2)","v":1.882433398854666},{"$f":"MAX((Circuit2!$F$4-C22), 0.001)/(Circuit2!$F$5+Circuit2!$F$28+Circuit2!$F$24/Circuit2!$F$29)","v":1.9607337114121599},{"$f":"C22/(Circuit2!$F$6+Circuit2!$F$28+Circuit2!$F$24/Circuit2!$F$29)","v":1.3542686322695439},{"$f":"(Circuit2!$F$20/1000000000+Circuit2!$F$21/2/1000000000)*MAX(Circuit2!$F$29,1)","v":8.0000000000000005E-9},3.5916308889648959E-9,5.9072475056837456E-9,{"$f":"0.5*Circuit2!$B$3*(G22*MAX((A22-Circuit2!$B$8),0)+H22*(A22+Circuit2!$B$8))*Circuit2!$B$5*1000","v":0.36656020115588767},{"$f":"MIN(MAX((1-AG21-Circuit2!$F$7/1000000000+Circuit2!$F$8/1000000000),0.001),1)*Circuit2!$B$7/1000000*AF22*(A22*A22+((Circuit2!$B$8)^2)/3)*Circuit2!$B$5*1000","v":1.0963266211608667},{"$f":"Circuit2!$B$3*$AN$2*Circuit2!$J$26*0.000000001*Circuit2!$B$5*1000","v":9.1800000000000007E-2},{"$f":"Circuit2!$J$21*A22*(Circuit2!$F$7/1000000000+Circuit2!$F$8/1000000000)*Circuit2!$B$5*1000","v":0.22396500000000003},{"$f":"A22*Circuit2!$B$4","v":15.12},{"$f":"Circuit2!$F$4*($AN$3/1000000000*Circuit2!$F$29)*Circuit2!$B$5*1000+Circuit2!$F$4*Circuit2!$F$9/1000/2","v":4.1136363636363645E-2},{"$f":"Circuit2!$F$4*($AN$4/1000000000*Circuit2!$J$26)*Circuit2!$B$5*1000+Circuit2!$F$4*Circuit2!$F$9/1000/2","v":2.5727272727272727E-2},{"$f":"(A22*A22+((Circuit2!$B$8)^2)/3)*(Circuit2!$J$9+Circuit2!$J$12)/1000*(1+0.002*AE21)","v":0.43184081993879608},{"$f":"Circuit2!$J$8/1000","v":0.05},{"$f":"0","v":0},{"$f":"(Circuit2!$F$19/1000000000000*Circuit2!$F$29+0*Circuit2!$J$19/1000000000000*Circuit2!$J$26)*Circuit2!$B$3*Circuit2!$B$3*Circuit2!$B$5*1000","v":8.7480000000000002E-2},0,{"$f":"(Circuit2!$B$8/1.732)^2*Circuit2!$J$4/1000","v":1.944114054691208E-3},0.85833995659749562,0.53265786117953007,1.3202916211608666,0.48378493399348727,4.1136363636363645E-2,{"$f":"W22*Circuit2!$F$25/MAX(Circuit2!$F$29,1)","v":25.887172053325163},22.077083636443422,{"$f":"$AN$6*(1+AB21*0.85*Circuit2!$F$26/100)/1000/MAX(Circuit2!$F$29,1)","v":4.2577712551520094E-3},{"$f":"X22*Circuit2!$J$22/MAX(Circuit2!$J$26,1)","v":65.750522733811152},45.712883033149971,{"$f":"$AN$7/1000*(1+AE21*0.85*Circuit2!$J$23/100)/MAX(Circuit2!$J$26,1)","v":7.7928148733199037E-3},{"$f":"(U22+T22+S22+R22+Q22+P22+N22+M22+L22+J22+I22+B22+O22+K22)/A22/Circuit2!$B$3","v":0.11650395537498361}]
[{"$f":"Circuit2!$B$10/50*22","v":13.2},{"$f":"AG22*Circuit2!$B$7/1000000*AC23*(A23*A23+((Circuit2!$B$8)^2)/3)*Circuit2!$B$5*1000","v":8.6907500220045134E-2},{"$f":"(Circuit2!$F$22+A23/(Circuit2!$F$23*Circuit2!$F$29))/(1+((Circuit2!$F$22+A23/(Circuit2!$F$23*Circuit2!$F$29))/Circuit2!$F$4)^(5))^(0.2)","v":1.8911759659212379},{"$f":"MAX((Circuit2!$F$4-C23), 0.001)/(Circuit2!$F$5+Circuit2!$F$28+Circuit2!$F$24/Circuit2!$F$29)","v":1.9552352415589702},{"$f":"C23/(Circuit2!$F$6+Circuit2!$F$28+Circuit2!$F$24/Circuit2!$F$29)","v":1.3605582488642001},{"$f":"(Circuit2!$F$20/1000000000+Circuit2!$F$21/2/1000000000)*MAX(Circuit2!$F$29,1)","v":8.0000000000000005E-9},3.6005189834814211E-9,5.8799393606840683E-9,{"$f":"0.5*Circuit2!$B$3*(G23*MAX((A23-Circuit2!$B$8),0)+H23*(A23+Circuit2!$B$8))*Circuit2!$B$5*1000","v":0.38281147245108993},{"$f":"MIN(MAX((1-AG22-Circuit2!$F$7/1000000000+Circuit2!$F$8/1000000000),0.001),1)*Circuit2!$B$7/1000000*AF23*(A23*A23+((Circuit2!$B$8)^2)/3)*Circuit2!$B$5*1000","v":1.2147624414168434},{"$f":"Circuit2!$B$3*$AN$2*Circuit2!$J$26*0.000000001*Circuit2!$B$5*1000","v":9.1800000000000007E-2},{"$f":"Circuit2!$J$21*A23*(Circuit2!$F$7/1000000000+Circuit2!$F$8/1000000000)*Circuit2!$B$5*1000","v":0.23462999999999998},{"$f":"A23*Circuit2!$B$4","v":15.839999999999998},{"$f":"Circuit2!$F$4*($AN$3/1000000000*Circuit2!$F$29)*Circuit2!$B$5*1000+Circuit2!$F$4*Circuit2!$F$9/1000/2","v":4.1136363636363645E-2},{"$f":"Circuit2!$F$4*($AN$4/1000000000*Circuit2!$J$26)*Circuit2!$B$5*1000+Circuit2!$F$4*Circuit2!$F$9/1000/2","v":2.5727272727272727E-2},{"$f":"(A23*A23+((Circuit2!$B$8)^2)/3)*(Circuit2!$J$9+Circuit2!$J$12)/1000*(1+0.002*AE22)","v":0.47648592954309671},{"$f":"Circuit2!$J$8/1000","v":0.05},{"$f":"0","v":0},{"$f":"(Circuit2!$F$19/1000000000000*Circuit2!$F$29+0*Circuit2!$J$19/1000000000000*Circuit2!$J$26)*Circuit2!$B$3*Circuit2!$B$3*Circuit2!$B$5*1000","v":8.7480000000000002E-2},0,{"$f":"(Circuit2!$B$8/1.732)^2*Circuit2!$J$4/1000","v":1.944114054691208E-3},0.85466003763524268,0.55719897267113505,1.4493924414168433,0.52843004359778789,4.1136363636363645E-2,{"$f":"W23*Circuit2!$F$25/MAX(Circuit2!$F$29,1)","v":27.079870071817165},22.93869150189224,{"$f":"$AN$6*(1+AB22*0.85*Circuit2!$F$26/100)/1000/MAX(Circuit2!$F$29,1)","v":4.2716997406424592E-3},{"$f":"X23*Circuit2!$J$22/MAX(Circuit2!$J$26,1)","v":72.1797435825588},48.730641969440732,{"$f":"$AN$7/1000*(1+AE22*0.85*Circuit2!$J$23/100)/MAX(Circuit2!$J$26,1)","v":7.8735552437035981E-3},{"$f":"(U23+T23+S23+R23+Q23+P23+N23+M23+L23+J23+I23+B23+O23+K23)/A23/Circuit2!$B$3","v":0.11700558771495835}]
[{"$f":"Circuit2!$B$10/50*23","v":13.799999999999999},{"$f":"AG23*Circuit2!$B$7/1000000*AC24*(A24*A24+((Circuit2!$B$8)^2)/3)*Circuit2!$B$5*1000","v":9.5690946297488366E-2},{"$f":"(Circuit2!$F$22+A24/(Circuit2!$F$23*Circuit2!$F$29))/(1+((Circuit2!$F$22+A24/(Circuit2!$F$23*Circuit2!$F$29))/Circuit2!$F$4)^(5))^(0.2)","v":1.8999166415275468},{"$f":"MAX((Circuit2!$F$4-C24), 0.001)/(Circuit2!$F$5+Circuit2!$F$28+Circuit2!$F$24/Circuit2!$F$29)","v":1.9497379613034298},{"$f":"C24/(Circuit2!$F$6+Circuit2!$F$28+Circuit2!$F$24/Circuit2!$F$29)","v":1.3668465046960769},{"$f":"(Circuit2!$F$20/1000000000+Circuit2!$F$21/2/1000000000)*MAX(Circuit2!$F$29,1)","v":8.0000000000000005E-9},3.6094492400184318E-9,5.8528883620175243E-9,{"$f":"0.5*Circuit2!$B$3*(G24*MAX((A24-Circuit2!$B$8),0)+H24*(A24+Circuit2!$B$8))*Circuit2!$B$5*1000","v":0.39900951947956559},{"$f":"MIN(MAX((1-AG23-Circuit2!$F$7/1000000000+Circuit2!$F$8/1000000000),0.001),1)*Circuit2!$B$7/1000000*AF24*(A24*A24+((Circuit2!$B$8)^2)/3)*Circuit2!$B$5*1000","v":1.3402734039920063},{"$f":"Circuit2!$B$3*$AN$2*Circuit2!$J$26*0.000000001*Circuit2!$B$5*1000","v":9.1800000000000007E-2},{"$f":"Circuit2!$J$21*A24*(Circuit2!$F$7/1000000000+Circuit2!$F$8/1000000000)*Circuit2!$B$5*1000","v":0.24529499999999999},{"$f":"A24*Circuit2!$B$4","v":16.559999999999999},{"$f":"Circuit2!$F$4*($AN$3/1000000000*Circuit2!$F$29)*Circuit2!$B$5*1000+Circuit2!$F$4*Circuit2!$F$9/1000/2","v":4.1136363636363645E-2},{"$f":"Circuit2!$F$4*($AN$4/1000000000*Circuit2!$J$26)*Circuit2!$B$5*1000+Circuit2!$F$4*Circuit2!$F$9/1000/2","v":2.5727272727272727E-2},{"$f":"(A24*A24+((Circuit2!$B$8)^2)/3)*(Circuit2!$J$9+Circuit2!$J$12)/1000*(1+0.002*AE23)","v":0.52356804965129},{"$f":"Circuit2!$J$8/1000","v":0.05},{"$f":"0","v":0},{"$f":"(Circuit2!$F$19/1000000000000*Circuit2!$F$29+0*Circuit2!$J$19/1000000000000*Circuit2!$J$26)*Circuit2!$B$3*Circuit2!$B$3*Circuit2!$B$5*1000","v":8.7480000000000002E-2},0,{"$f":"(Circuit2!$B$8/1.732)^2*Circuit2!$J$4/1000","v":1.944114054691208E-3},0.85089220521257247,0.58218046577705396,1.5855684039920064,0.57551216370598124,4.1136363636363645E-2,{"$f":"W24*Circuit2!$F$25/MAX(Circuit2!$F$29,1)","v":28.293970636764822},23.803921020757031,{"$f":"$AN$6*(1+AB23*0.85*Circuit2!$F$26/100)/1000/MAX(Circuit2!$F$29,1)","v":4.2856857960624087E-3},{"$f":"X24*Circuit2!$J$22/MAX(Circuit2!$J$26,1)","v":78.961306518801919},51.730120507709728,{"$f":"$AN$7/1000*(1+AE23*0.85*Circuit2!$J$23/100)/MAX(Circuit2!$J$26,1)","v":7.9541088060682223E-3},{"$f":"(U24+T24+S24+R24+Q24+P24+N24+M24+L24+J24+I24+B24+O24+K24)/A24/Circuit2!$B$3","v":0.11752369969709348}]
[{"$f":"Circuit2!$B$10/50*24","v":14.399999999999999},{"$f":"AG24*Circuit2!$B$7/1000000*AC25*(A25*A25+((Circuit2!$B$8)^2)/3)*Circuit2!$B$5*1000","v":0.10497967607532088},{"$f":"(Circuit2!$F$22+A25/(Circuit2!$F$23*Circuit2!$F$29))/(1+((Circuit2!$F$22+A25/(Circuit2!$F$23*Circuit2!$F$29))/Circuit2!$F$4)^(5))^(0.2)","v":1.9086553909536947},{"$f":"MAX((Circuit2!$F$4-C25), 0.001)/(Circuit2!$F$5+Circuit2!$F$28+Circuit2!$F$24/Circuit2!$F$29)","v":1.9442418924819531},{"$f":"C25/(Circuit2!$F$6+Circuit2!$F$28+Circuit2!$F$24/Circuit2!$F$29)","v":1.3731333747868308},{"$f":"(Circuit2!$F$20/1000000000+Circuit2!$F$21/2/1000000000)*MAX(Circuit2!$F$29,1)","v":8.0000000000000005E-9},3.6184219229223367E-9,5.8260910024431851E-9,{"$f":"0.5*Circuit2!$B$3*(G25*MAX((A25-Circuit2!$B$8),0)+H25*(A25+Circuit2!$B$8))*Circuit2!$B$5*1000","v":0.41515580619343806},{"$f":"MIN(MAX((1-AG24-Circuit2!$F$7/1000000000+Circuit2!$F$8/1000000000),0.001),1)*Circuit2!$B$7/1000000*AF25*(A25*A25+((Circuit2!$B$8)^2)/3)*Circuit2!$B$5*1000","v":1.4729324408812641},{"$f":"Circuit2!$B$3*$AN$2*Circuit2!$J$26*0.000000001*Circuit2!$B$5*1000","v":9.1800000000000007E-2},{"$f":"Circuit2!$J$21*A25*(Circuit2!$F$7/1000000000+Circuit2!$F$8/1000000000)*Circuit2!$B$5*1000","v":0.25595999999999997},{"$f":"A25*Circuit2!$B$4","v":17.279999999999998},{"$f":"Circuit2!$F$4*($AN$3/1000000000*Circuit2!$F$29)*Circuit2!$B$5*1000+Circuit2!$F$4*Circuit2!$F$9/1000/2","v":4.1136363636363645E-2},{"$f":"Circuit2!$F$4*($AN$4/1000000000*Circuit2!$J$26)*Circuit2!$B$5*1000+Circuit2!$F$4*Circuit2!$F$9/1000/2","v":2.5727272727272727E-2},{"$f":"(A25*A25+((Circuit2!$B$8)^2)/3)*(Circuit2!$J$9+Circuit2!$J$12)/1000*(1+0.002*AE24)","v":0.57310635229666029},{"$f":"Circuit2!$J$8/1000","v":0.05},{"$f":"0","v":0},{"$f":"(Circuit2!$F$19/1000000000000*Circuit2!$F$29+0*Circuit2!$J$19/1000000000000*Circuit2!$J$26)*Circuit2!$B$3*Circuit2!$B$3*Circuit2!$B$5*1000","v":8.7480000000000002E-2},0,{"$f":"(Circuit2!$B$8/1.732)^2*Circuit2!$J$4/1000","v":1.944114054691208E-3},0.84704960456268819,0.60761548226875894,1.728892440881264,0.62505046635135153,4.1136363636363645E-2,{"$f":"W25*Circuit2!$F$25/MAX(Circuit2!$F$29,1)","v":29.530112438261686},24.672835133785771,{"$f":"$AN$6*(1+AB24*0.85*Circuit2!$F$26/100)/1000/MAX(Circuit2!$F$29,1)","v":4.299730639995579E-3},{"$f":"X25*Circuit2!$J$22/MAX(Circuit2!$J$26,1)","v":86.098843555886944},54.700930927372262,{"$f":"$AN$7/1000*(1+AE24*0.85*Circuit2!$J$23/100)/MAX(Circuit2!$J$26,1)","v":8.0341744065998508E-3},{"$f":"(U25+T25+S25+R25+Q25+P25+N25+M25+L25+J25+I25+B25+O25+K25)/A25/Circuit2!$B$3","v":0.11805684042745956}]
[{"$f":"Circuit2!$B$10/50*25","v":15},{"$f":"AG25*Circuit2!$B$7/1000000*AC26*(A26*A26+((Circuit2!$B$8)^2)/3)*Circuit2!$B$5*1000","v":0.11478550430858714},{"$f":"(Circuit2!$F$22+A26/(Circuit2!$F$23*Circuit2!$F$29))/(1+((Circuit2!$F$22+A26/(Circuit2!$F$23*Circuit2!$F$29))/Circuit2!$F$4)^(5))^(0.2)","v":1.9173921790256943},{"$f":"MAX((Circuit2!$F$4-C26), 0.001)/(Circuit2!$F$5+Circuit2!$F$28+Circuit2!$F$24/Circuit2!$F$29)","v":1.9387470572165446},{"$f":"C26/(Circuit2!$F$6+Circuit2!$F$28+Circuit2!$F$24/Circuit2!$F$29)","v":1.3794188338314348},{"$f":"(Circuit2!$F$20/1000000000+Circuit2!$F$21/2/1000000000)*MAX(Circuit2!$F$29,1)","v":8.0000000000000005E-9},3.6274372982108298E-9,5.7995438396178965E-9,{"$f":"0.5*Circuit2!$B$3*(G26*MAX((A26-Circuit2!$B$8),0)+H26*(A26+Circuit2!$B$8))*Circuit2!$B$5*1000","v":0.43125177639645151},{"$f":"MIN(MAX((1-AG25-Circuit2!$F$7/1000000000+Circuit2!$F$8/1000000000),0.001),1)*Circuit2!$B$7/1000000*AF26*(A26*A26+((Circuit2!$B$8)^2)/3)*Circuit2!$B$5*1000","v":1.6127974002210805},{"$f":"Circuit2!$B$3*$AN$2*Circuit2!$J$26*0.000000001*Circuit2!$B$5*1000","v":9.1800000000000007E-2},{"$f":"Circuit2!$J$21*A26*(Circuit2!$F$7/1000000000+Circuit2!$F$8/1000000000)*Circuit2!$B$5*1000","v":0.26662500000000006},{"$f":"A26*Circuit2!$B$4","v":18},{"$f":"Circuit2!$F$4*($AN$3/1000000000*Circuit2!$F$29)*Circuit2!$B$5*1000+Circuit2!$F$4*Circuit2!$F$9/1000/2","v":4.1136363636363645E-2},{"$f":"Circuit2!$F$4*($AN$4/1000000000*Circuit2!$J$26)*Circuit2!$B$5*1000+Circuit2!$F$4*Circuit2!$F$9/1000/2","v":2.5727272727272727E-2},{"$f":"(A26*A26+((Circuit2!$B$8)^2)/3)*(Circuit2!$J$9+Circuit2!$J$12)/1000*(1+0.002*AE25)","v":0.62511688590301662},{"$f":"Circuit2!$J$8/1000","v":0.05},{"$f":"0","v":0},{"$f":"(Circuit2!$F$19/1000000000000*Circuit2!$F$29+0*Circuit2!$J$19/1000000000000*Circuit2!$J$26)*Circuit2!$B$3*Circuit2!$B$3*Circuit2!$B$5*1000","v":8.7480000000000002E-2},0,{"$f":"(Circuit2!$B$8/1.732)^2*Circuit2!$J$4/1000","v":1.944114054691208E-3},0.84314408304494748,0.63351728070503865,1.8794224002210806,0.67706099995770785,4.1136363636363645E-2,{"$f":"W26*Circuit2!$F$25/MAX(Circuit2!$F$29,1)","v":30.788939842264881},25.545484034416887,{"$f":"$AN$6*(1+AB25*0.85*Circuit2!$F$26/100)/1000/MAX(Circuit2!$F$29,1)","v":4.313835294128078E-3},{"$f":"X26*Circuit2!$J$22/MAX(Circuit2!$J$26,1)","v":93.595235531009806},57.633661426289521,{"$f":"$AN$7/1000*(1+AE25*0.85*Circuit2!$J$23/100)/MAX(Circuit2!$J$26,1)","v":8.1134747640723755E-3},{"$f":"(U26+T26+S26+R26+Q26+P26+N26+M26+L26+J26+I26+B26+O26+K26)/A26/Circuit2!$B$3","v":0.11860369065137479}]
[{"$f":"Circuit2!$B$10/50*26","v":15.6},{"$f":"AG26*Circuit2!$B$7/1000000*AC27*(A27*A27+((Circuit2!$B$8)^2)/3)*Circuit2!$B$5*1000","v":0.1251203640441991},{"$f":"(Circuit2!$F$22+A27/(Circuit2!$F$23*Circuit2!$F$29))/(1+((Circuit2!$F$22+A27/(Circuit2!$F$23*Circuit2!$F$29))/Circuit2!$F$4)^(5))^(0.2)","v":1.926126970112426},{"$f":"MAX((Circuit2!$F$4-C27), 0.001)/(Circuit2!$F$5+Circuit2!$F$28+Circuit2!$F$24/Circuit2!$F$29)","v":1.9332534779167134},{"$f":"C27/(Circuit2!$F$6+Circuit2!$F$28+Circuit2!$F$24/Circuit2!$F$29)","v":1.3857028561959901},{"$f":"(Circuit2!$F$20/1000000000+Circuit2!$F$21/2/1000000000)*MAX(Circuit2!$F$29,1)","v":8.0000000000000005E-9},3.6364956335790254E-9,5.77324349461289E-9,{"$f":"0.5*Circuit2!$B$3*(G27*MAX((A27-Circuit2!$B$8),0)+H27*(A27+Circuit2!$B$8))*Circuit2!$B$5*1000","v":0.44729885426913135},{"$f":"MIN(MAX((1-AG26-Circuit2!$F$7/1000000000+Circuit2!$F$8/1000000000),0.001),1)*Circuit2!$B$7/1000000*AF27*(A27*A27+((Circuit2!$B$8)^2)/3)*Circuit2!$B$5*1000","v":1.7599116240707653},{"$f":"Circuit2!$B$3*$AN$2*Circuit2!$J$26*0.000000001*Circuit2!$B$5*1000","v":9.1800000000000007E-2},{"$f":"Circuit2!$J$21*A27*(Circuit2!$F$7/1000000000+Circuit2!$F$8/1000000000)*Circuit2!$B$5*1000","v":0.27729000000000004},{"$f":"A27*Circuit2!$B$4","v":18.72},{"$f":"Circuit2!$F$4*($AN$3/1000000000*Circuit2!$F$29)*Circuit2!$B$5*1000+Circuit2!$F$4*Circuit2!$F$9/1000/2","v":4.1136363636363645E-2},{"$f":"Circuit2!$F$4*($AN$4/1000000000*Circuit2!$J$26)*Circuit2!$B$5*1000+Circuit2!$F$4*Circuit2!$F$9/1000/2","v":2.5727272727272727E-2},{"$f":"(A27*A27+((Circuit2!$B$8)^2)/3)*(Circuit2!$J$9+Circuit2!$J$12)/1000*(1+0.002*AE26)","v":0.67961267906132172},{"$f":"Circuit2!$J$8/1000","v":0.05},{"$f":"0","v":0},{"$f":"(Circuit2!$F$19/1000000000000*Circuit2!$F$29+0*Circuit2!$J$19/1000000000000*Circuit2!$J$26)*Circuit2!$B$3*Circuit2!$B$3*Circuit2!$B$5*1000","v":8.7480000000000002E-2},0,{"$f":"(Circuit2!$B$8/1.732)^2*Circuit2!$J$4/1000","v":1.944114054691208E-3},0.83918637167841215,0.65989921831333043,2.0372016240707653,0.73155679311601296,4.1136363636363645E-2,{"$f":"W27*Circuit2!$F$25/MAX(Circuit2!$F$29,1)","v":32.071102010027857},26.421904675675677,{"$f":"$AN$6*(1+AB26*0.85*Circuit2!$F$26/100)/1000/MAX(Circuit2!$F$29,1)","v":4.3280005732252323E-3},{"$f":"X27*Circuit2!$J$22/MAX(Circuit2!$J$26,1)","v":101.45264087872411},60.519929632189566,{"$f":"$AN$7/1000*(1+AE26*0.85*Circuit2!$J$23/100)/MAX(Circuit2!$J$26,1)","v":8.1917586476199251E-3},{"$f":"(U27+T27+S27+R27+Q27+P27+N27+M27+L27+J27+I27+B27+O27+K27)/A27/Circuit2!$B$3","v":0.11916304098217813}]
[{"$f":"Circuit2!$B$10/50*27","v":16.2},{"$f":"AG27*Circuit2!$B$7/1000000*AC28*(A28*A28+((Circuit2!$B$8)^2)/3)*Circuit2!$B$5*1000","v":0.13599629004058891},{"$f":"(Circuit2!$F$22+A28/(Circuit2!$F$23*Circuit2!$F$29))/(1+((Circuit2!$F$22+A28/(Circuit2!$F$23*Circuit2!$F$29))/Circuit2!$F$4)^(5))^(0.2)","v":1.9348597281226192},{"$f":"MAX((Circuit2!$F$4-C28), 0.001)/(Circuit2!$F$5+Circuit2!$F$28+Circuit2!$F$24/Circuit2!$F$29)","v":1.9277611772813716},{"$f":"C28/(Circuit2!$F$6+Circuit2!$F$28+Circuit2!$F$24/Circuit2!$F$29)","v":1.3919854159155536},{"$f":"(Circuit2!$F$20/1000000000+Circuit2!$F$21/2/1000000000)*MAX(Circuit2!$F$29,1)","v":8.0000000000000005E-9},3.6455971984055042E-9,5.7471866504708627E-9,{"$f":"0.5*Circuit2!$B$3*(G28*MAX((A28-Circuit2!$B$8),0)+H28*(A28+Circuit2!$B$8))*Circuit2!$B$5*1000","v":0.46329844488008309},{"$f":"MIN(MAX((1-AG27-Circuit2!$F$7/1000000000+Circuit2!$F$8/1000000000),0.001),1)*Circuit2!$B$7/1000000*AF28*(A28*A28+((Circuit2!$B$8)^2)/3)*Circuit2!$B$5*1000","v":1.9143047957334418},{"$f":"Circuit2!$B$3*$AN$2*Circuit2!$J$26*0.000000001*Circuit2!$B$5*1000","v":9.1800000000000007E-2},{"$f":"Circuit2!$J$21*A28*(Circuit2!$F$7/1000000000+Circuit2!$F$8/1000000000)*Circuit2!$B$5*1000","v":0.28795500000000002},{"$f":"A28*Circuit2!$B$4","v":19.439999999999998},{"$f":"Circuit2!$F$4*($AN$3/1000000000*Circuit2!$F$29)*Circuit2!$B$5*1000+Circuit2!$F$4*Circuit2!$F$9/1000/2","v":4.1136363636363645E-2},{"$f":"Circuit2!$F$4*($AN$4/1000000000*Circuit2!$J$26)*Circuit2!$B$5*1000+Circuit2!$F$4*Circuit2!$F$9/1000/2","v":2.5727272727272727E-2},{"$f":"(A28*A28+((Circuit2!$B$8)^2)/3)*(Circuit2!$J$9+Circuit2!$J$12)/1000*(1+0.002*AE27)","v":0.73660390240656415},{"$f":"Circuit2!$J$8/1000","v":0.05},{"$f":"0","v":0},{"$f":"(Circuit2!$F$19/1000000000000*Circuit2!$F$29+0*Circuit2!$J$19/1000000000000*Circuit2!$J$26)*Circuit2!$B$3*Circuit2!$B$3*Circuit2!$B$5*1000","v":8.7480000000000002E-2},0,{"$f":"(Circuit2!$B$8/1.732)^2*Circuit2!$J$4/1000","v":1.944114054691208E-3},0.83518621717440433,0.68677473492067198,2.202259795733442,0.78854801646125539,4.1136363636363645E-2,{"$f":"W28*Circuit2!$F$25/MAX(Circuit2!$F$29,1)","v":33.377252117144657},27.302120408988355,{"$f":"$AN$6*(1+AB27*0.85*Circuit2!$F$26/100)/1000/MAX(Circuit2!$F$29,1)","v":4.3422270771272704E-3},{"$f":"X28*Circuit2!$J$22/MAX(Circuit2!$J$26,1)","v":109.6725378275254},63.352408428555087,{"$f":"$AN$7/1000*(1+AE27*0.85*Circuit2!$J$23/100)/MAX(Circuit2!$J$26,1)","v":8.2688023051265044E-3},{"$f":"(U28+T28+S28+R28+Q28+P28+N28+M28+L28+J28+I28+B28+O28+K28)/A28/Circuit2!$B$3","v":0.11973377666398666}]
[{"$f":"Circuit2!$B$10/50*28","v":16.8},{"$f":"AG28*Circuit2!$B$7/1000000*AC29*(A29*A29+((Circuit2!$B$8)^2)/3)*Circuit2!$B$5*1000","v":0.14742540448666158},{"$f":"(Circuit2!$F$22+A29/(Circuit2!$F$23*Circuit2!$F$29))/(1+((Circuit2!$F$22+A29/(Circuit2!$F$23*Circuit2!$F$29))/Circuit2!$F$4)^(5))^(0.2)","v":1.9435904165018574},{"$f":"MAX((Circuit2!$F$4-C29), 0.001)/(Circuit2!$F$5+Circuit2!$F$28+Circuit2!$F$24/Circuit2!$F$29)","v":1.9222701783007188},{"$f":"C29/(Circuit2!$F$6+Circuit2!$F$28+Circuit2!$F$24/Circuit2!$F$29)","v":1.3982664866919838},{"$f":"(Circuit2!$F$20/1000000000+Circuit2!$F$21/2/1000000000)*MAX(Circuit2!$F$29,1)","v":8.0000000000000005E-9},3.654742263758276E-9,5.7213700508022511E-9,{"$f":"0.5*Circuit2!$B$3*(G29*MAX((A29-Circuit2!$B$8),0)+H29*(A29+Circuit2!$B$8))*Circuit2!$B$5*1000","v":0.47925193468387295},{"$f":"MIN(MAX((1-AG28-Circuit2!$F$7/1000000000+Circuit2!$F$8/1000000000),0.001),1)*Circuit2!$B$7/1000000*AF29*(A29*A29+((Circuit2!$B$8)^2)/3)*Circuit2!$B$5*1000","v":2.0759939942652408},{"$f":"Circuit2!$B$3*$AN$2*Circuit2!$J$26*0.000000001*Circuit2!$B$5*1000","v":9.1800000000000007E-2},{"$f":"Circuit2!$J$21*A29*(Circuit2!$F$7/1000000000+Circuit2!$F$8/1000000000)*Circuit2!$B$5*1000","v":0.29862000000000005},{"$f":"A29*Circuit2!$B$4","v":20.16},{"$f":"Circuit2!$F$4*($AN$3/1000000000*Circuit2!$F$29)*Circuit2!$B$5*1000+Circuit2!$F$4*Circuit2!$F$9/1000/2","v":4.1136363636363645E-2},{"$f":"Circuit2!$F$4*($AN$4/1000000000*Circuit2!$J$26)*Circuit2!$B$5*1000+Circuit2!$F$4*Circuit2!$F$9/1000/2","v":2.5727272727272727E-2},{"$f":"(A29*A29+((Circuit2!$B$8)^2)/3)*(Circuit2!$J$9+Circuit2!$J$12)/1000*(1+0.002*AE28)","v":0.79609807585636194},{"$f":"Circuit2!$J$8/1000","v":0.05},{"$f":"0","v":0},{"$f":"(Circuit2!$F$19/1000000000000*Circuit2!$F$29+0*Circuit2!$J$19/1000000000000*Circuit2!$J$26)*Circuit2!$B$3*Circuit2!$B$3*Circuit2!$B$5*1000","v":8.7480000000000002E-2},0,{"$f":"(Circuit2!$B$8/1.732)^2*Circuit2!$J$4/1000","v":1.944114054691208E-3},0.83115248021122212,0.71415733917053448,2.3746139942652409,0.84804218991105318,4.1136363636363645E-2,{"$f":"W29*Circuit2!$F$25/MAX(Circuit2!$F$29,1)","v":34.708046683687975},28.186140755788575,{"$f":"$AN$6*(1+AB28*0.85*Circuit2!$F$26/100)/1000/MAX(Circuit2!$F$29,1)","v":4.3565151848863727E-3},{"$f":"X29*Circuit2!$J$22/MAX(Circuit2!$J$26,1)","v":118.25577691440898},66.124825870277675,{"$f":"$AN$7/1000*(1+AE28*0.85*Circuit2!$J$23/100)/MAX(Circuit2!$J$26,1)","v":8.3444101526008816E-3},{"$f":"(U29+T29+S29+R29+Q29+P29+N29+M29+L29+J29+I29+B29+O29+K29)/A29/Circuit2!$B$3","v":0.12031486686364316}]
[{"$f":"Circuit2!$B$10/50*29","v":17.399999999999999},{"$f":"AG29*Circuit2!$B$7/1000000*AC30*(A30*A30+((Circuit2!$B$8)^2)/3)*Circuit2!$B$5*1000","v":0.15941990510018428},{"$f":"(Circuit2!$F$22+A30/(Circuit2!$F$23*Circuit2!$F$29))/(1+((Circuit2!$F$22+A30/(Circuit2!$F$23*Circuit2!$F$29))/Circuit2!$F$4)^(5))^(0.2)","v":1.9523189982296085},{"$f":"MAX((Circuit2!$F$4-C30), 0.001)/(Circuit2!$F$5+Circuit2!$F$28+Circuit2!$F$24/Circuit2!$F$29)","v":1.9167805042581081},{"$f":"C30/(Circuit2!$F$6+Circuit2!$F$28+Circuit2!$F$24/Circuit2!$F$29)","v":1.4045460418918048},{"$f":"(Circuit2!$F$20/1000000000+Circuit2!$F$21/2/1000000000)*MAX(Circuit2!$F$29,1)","v":8.0000000000000005E-9},3.6639311024006545E-9,5.6957904984194584E-9,{"$f":"0.5*Circuit2!$B$3*(G30*MAX((A30-Circuit2!$B$8),0)+H30*(A30+Circuit2!$B$8))*Circuit2!$B$5*1000","v":0.49516069200591095},{"$f":"MIN(MAX((1-AG29-Circuit2!$F$7/1000000000+Circuit2!$F$8/1000000000),0.001),1)*Circuit2!$B$7/1000000*AF30*(A30*A30+((Circuit2!$B$8)^2)/3)*Circuit2!$B$5*1000","v":2.2449848925122966},{"$f":"Circuit2!$B$3*$AN$2*Circuit2!$J$26*0.000000001*Circuit2!$B$5*1000","v":9.1800000000000007E-2},{"$f":"Circuit2!$J$21*A30*(Circuit2!$F$7/1000000000+Circuit2!$F$8/1000000000)*Circuit2!$B$5*1000","v":0.30928499999999998},{"$f":"A30*Circuit2!$B$4","v":20.88},{"$f":"Circuit2!$F$4*($AN$3/1000000000*Circuit2!$F$29)*Circuit2!$B$5*1000+Circuit2!$F$4*Circuit2!$F$9/1000/2","v":4.1136363636363645E-2},{"$f":"Circuit2!$F$4*($AN$4/1000000000*Circuit2!$J$26)*Circuit2!$B$5*1000+Circuit2!$F$4*Circuit2!$F$9/1000/2","v":2.5727272727272727E-2},{"$f":"(A30*A30+((Circuit2!$B$8)^2)/3)*(Circuit2!$J$9+Circuit2!$J$12)/1000*(1+0.002*AE29)","v":0.85810030806391802},{"$f":"Circuit2!$J$8/1000","v":0.05},{"$f":"0","v":0},{"$f":"(Circuit2!$F$19/1000000000000*Circuit2!$F$29+0*Circuit2!$J$19/1000000000000*Circuit2!$J$26)*Circuit2!$B$3*Circuit2!$B$3*Circuit2!$B$5*1000","v":8.7480000000000002E-2},0,{"$f":"(Circuit2!$B$8/1.732)^2*Circuit2!$J$4/1000","v":1.944114054691208E-3},0.82709321121519741,0.74206059710609518,2.5542698925122966,0.91004442211860925,4.1136363636363645E-2,{"$f":"W30*Circuit2!$F$25/MAX(Circuit2!$F$29,1)","v":36.064145019356225},29.073961306949659,{"$f":"$AN$6*(1+AB29*0.85*Circuit2!$F$26/100)/1000/MAX(Circuit2!$F$29,1)","v":4.3708650510592773E-3},{"$f":"X30*Circuit2!$J$22/MAX(Circuit2!$J$26,1)","v":127.20264064711236},68.831942049775762,{"$f":"$AN$7/1000*(1+AE29*0.85*Circuit2!$J$23/100)/MAX(Circuit2!$J$26,1)","v":8.4184147719251392E-3},{"$f":"(U30+T30+S30+R30+Q30+P30+N30+M30+L30+J30+I30+B30+O30+K30)/A30/Circuit2!$B$3","v":0.12090535703113331}]
[{"$f":"Circuit2!$B$10/50*30","v":18},{"$f":"AG30*Circuit2!$B$7/1000000*AC31*(A31*A31+((Circuit2!$B$8)^2)/3)*Circuit2!$B$5*1000","v":0.17199205554762773},{"$f":"(Circuit2!$F$22+A31/(Circuit2!$F$23*Circuit2!$F$29))/(1+((Circuit2!$F$22+A31/(Circuit2!$F$23*Circuit2!$F$29))/Circuit2!$F$4)^(5))^(0.2)","v":1.9610454358162772},{"$f":"MAX((Circuit2!$F$4-C31), 0.001)/(Circuit2!$F$5+Circuit2!$F$28+Circuit2!$F$24/Circuit2!$F$29)","v":1.9112921787319013},{"$f":"C31/(Circuit2!$F$6+Circuit2!$F$28+Circuit2!$F$24/Circuit2!$F$29)","v":1.4108240545440844},{"$f":"(Circuit2!$F$20/1000000000+Circuit2!$F$21/2/1000000000)*MAX(Circuit2!$F$29,1)","v":8.0000000000000005E-9},3.6731639887970403E-9,5.6704448540078547E-9,{"$f":"0.5*Circuit2!$B$3*(G31*MAX((A31-Circuit2!$B$8),0)+H31*(A31+Circuit2!$B$8))*Circuit2!$B$5*1000","v":0.51102606751474744},{"$f":"MIN(MAX((1-AG30-Circuit2!$F$7/1000000000+Circuit2!$F$8/1000000000),0.001),1)*Circuit2!$B$7/1000000*AF31*(A31*A31+((Circuit2!$B$8)^2)/3)*Circuit2!$B$5*1000","v":2.4212730379049527},{"$f":"Circuit2!$B$3*$AN$2*Circuit2!$J$26*0.000000001*Circuit2!$B$5*1000","v":9.1800000000000007E-2},{"$f":"Circuit2!$J$21*A31*(Circuit2!$F$7/1000000000+Circuit2!$F$8/1000000000)*Circuit2!$B$5*1000","v":0.31995000000000001},{"$f":"A31*Circuit2!$B$4","v":21.599999999999998},{"$f":"Circuit2!$F$4*($AN$3/1000000000*Circuit2!$F$29)*Circuit2!$B$5*1000+Circuit2!$F$4*Circuit2!$F$9/1000/2","v":4.1136363636363645E-2},{"$f":"Circuit2!$F$4*($AN$4/1000000000*Circuit2!$J$26)*Circuit2!$B$5*1000+Circuit2!$F$4*Circuit2!$F$9/1000/2","v":2.5727272727272727E-2},{"$f":"(A31*A31+((Circuit2!$B$8)^2)/3)*(Circuit2!$J$9+Circuit2!$J$12)/1000*(1+0.002*AE30)","v":0.92261355541598145},{"$f":"Circuit2!$J$8/1000","v":0.05},{"$f":"0","v":0},{"$f":"(Circuit2!$F$19/1000000000000*Circuit2!$F$29+0*Circuit2!$J$19/1000000000000*Circuit2!$J$26)*Circuit2!$B$3*Circuit2!$B$3*Circuit2!$B$5*1000","v":8.7480000000000002E-2},0,{"$f":"(Circuit2!$B$8/1.732)^2*Circuit2!$J$4/1000","v":1.944114054691208E-3},0.82301571159177722,0.7704981230623752,2.7412230379049527,0.97455766947067268,4.1136363636363645E-2,{"$f":"W31*Circuit2!$F$25/MAX(Circuit2!$F$29,1)","v":37.446208780831434},29.96556374043406,{"$f":"$AN$6*(1+AB30*0.85*Circuit2!$F$26/100)/1000/MAX(Circuit2!$F$29,1)","v":4.3852766040748028E-3},{"$f":"X31*Circuit2!$J$22/MAX(Circuit2!$J$26,1)","v":136.51290728766665},71.469506511937368,{"$f":"$AN$7/1000*(1+AE30*0.85*Circuit2!$J$23/100)/MAX(Circuit2!$J$26,1)","v":8.4906762933379537E-3},{"$f":"(U31+T31+S31+R31+Q31+P31+N31+M31+L31+J31+I31+B31+O31+K31)/A31/Circuit2!$B$3","v":0.12150436327222978}]
[{"$f":"Circuit2!$B$10/50*31","v":18.599999999999998},{"$f":"AG31*Circuit2!$B$7/1000000*AC32*(A32*A32+((Circuit2!$B$8)^2)/3)*Circuit2!$B$5*1000","v":0.18515417801570597},{"$f":"(Circuit2!$F$22+A32/(Circuit2!$F$23*Circuit2!$F$29))/(1+((Circuit2!$F$22+A32/(Circuit2!$F$23*Circuit2!$F$29))/Circuit2!$F$4)^(5))^(0.2)","v":1.9697696913002869},{"$f":"MAX((Circuit2!$F$4-C32), 0.001)/(Circuit2!$F$5+Circuit2!$F$28+Circuit2!$F$24/Circuit2!$F$29)","v":1.9058052255973041},{"$f":"C32/(Circuit2!$F$6+Circuit2!$F$28+Circuit2!$F$24/Circuit2!$F$29)","v":1.4171004973383361},{"$f":"(Circuit2!$F$20/1000000000+Circuit2!$F$21/2/1000000000)*MAX(Circuit2!$F$29,1)","v":8.0000000000000005E-9},3.6824411991186051E-9,5.6453300348323717E-9,{"$f":"0.5*Circuit2!$B$3*(G32*MAX((A32-Circuit2!$B$8),0)+H32*(A32+Circuit2!$B$8))*Circuit2!$B$5*1000","v":0.52684939468217706},{"$f":"MIN(MAX((1-AG31-Circuit2!$F$7/1000000000+Circuit2!$F$8/1000000000),0.001),1)*Circuit2!$B$7/1000000*AF32*(A32*A32+((Circuit2!$B$8)^2)/3)*Circuit2!$B$5*1000","v":2.6048451613928485},{"$f":"Circuit2!$B$3*$AN$2*Circuit2!$J$26*0.000000001*Circuit2!$B$5*1000","v":9.1800000000000007E-2},{"$f":"Circuit2!$J$21*A32*(Circuit2!$F$7/1000000000+Circuit2!$F$8/1000000000)*Circuit2!$B$5*1000","v":0.33061499999999999},{"$f":"A32*Circuit2!$B$4","v":22.319999999999997},{"$f":"Circuit2!$F$4*($AN$3/1000000000*Circuit2!$F$29)*Circuit2!$B$5*1000+Circuit2!$F$4*Circuit2!$F$9/1000/2","v":4.1136363636363645E-2},{"$f":"Circuit2!$F$4*($AN$4/1000000000*Circuit2!$J$26)*Circuit2!$B$5*1000+Circuit2!$F$4*Circuit2!$F$9/1000/2","v":2.5727272727272727E-2},{"$f":"(A32*A32+((Circuit2!$B$8)^2)/3)*(Circuit2!$J$9+Circuit2!$J$12)/1000*(1+0.002*AE31)","v":0.98963888908500841},{"$f":"Circuit2!$J$8/1000","v":0.05},{"$f":"0","v":0},{"$f":"(Circuit2!$F$19/1000000000000*Circuit2!$F$29+0*Circuit2!$J$19/1000000000000*Circuit2!$J$26)*Circuit2!$B$3*Circuit2!$B$3*Circuit2!$B$5*1000","v":8.7480000000000002E-2},0,{"$f":"(Circuit2!$B$8/1.732)^2*Circuit2!$J$4/1000","v":1.944114054691208E-3},0.81892658587424583,0.79948357269788306,2.9354601613928484,1.0415830031396995,4.1136363636363645E-2,{"$f":"W32*Circuit2!$F$25/MAX(Circuit2!$F$29,1)","v":38.854901633117116},30.860915944294153,{"$f":"$AN$6*(1+AB31*0.85*Circuit2!$F$26/100)/1000/MAX(Circuit2!$F$29,1)","v":4.3997495465203538E-3},{"$f":"X32*Circuit2!$J$22/MAX(Circuit2!$J$26,1)","v":146.18591603736385},74.034200204301328,{"$f":"$AN$7/1000*(1+AE31*0.85*Circuit2!$J$23/100)/MAX(Circuit2!$J$26,1)","v":8.5610812587042732E-3},{"$f":"(U32+T32+S32+R32+Q32+P32+N32+M32+L32+J32+I32+B32+O32+K32)/A32/Circuit2!$B$3","v":0.12211106798205228}]
[{"$f":"Circuit2!$B$10/50*32","v":19.2},{"$f":"AG32*Circuit2!$B$7/1000000*AC33*(A33*A33+((Circuit2!$B$8)^2)/3)*Circuit2!$B$5*1000","v":0.19891864768387807},{"$f":"(Circuit2!$F$22+A33/(Circuit2!$F$23*Circuit2!$F$29))/(1+((Circuit2!$F$22+A33/(Circuit2!$F$23*Circuit2!$F$29))/Circuit2!$F$4)^(5))^(0.2)","v":1.9784917262451884},{"$f":"MAX((Circuit2!$F$4-C33), 0.001)/(Circuit2!$F$5+Circuit2!$F$28+Circuit2!$F$24/Circuit2!$F$29)","v":1.9003196690281836},{"$f":"C33/(Circuit2!$F$6+Circuit2!$F$28+Circuit2!$F$24/Circuit2!$F$29)","v":1.4233753426224378},{"$f":"(Circuit2!$F$20/1000000000+Circuit2!$F$21/2/1000000000)*MAX(Circuit2!$F$29,1)","v":8.0000000000000005E-9},3.6917630112488819E-9,5.6204430134786076E-9,{"$f":"0.5*Circuit2!$B$3*(G33*MAX((A33-Circuit2!$B$8),0)+H33*(A33+Circuit2!$B$8))*Circuit2!$B$5*1000","v":0.54263199023152764},{"$f":"MIN(MAX((1-AG32-Circuit2!$F$7/1000000000+Circuit2!$F$8/1000000000),0.001),1)*Circuit2!$B$7/1000000*AF33*(A33*A33+((Circuit2!$B$8)^2)/3)*Circuit2!$B$5*1000","v":2.7956804682354379},{"$f":"Circuit2!$B$3*$AN$2*Circuit2!$J$26*0.000000001*Circuit2!$B$5*1000","v":9.1800000000000007E-2},{"$f":"Circuit2!$J$21*A33*(Circuit2!$F$7/1000000000+Circuit2!$F$8/1000000000)*Circuit2!$B$5*1000","v":0.34128000000000003},{"$f":"A33*Circuit2!$B$4","v":23.04},{"$f":"Circuit2!$F$4*($AN$3/1000000000*Circuit2!$F$29)*Circuit2!$B$5*1000+Circuit2!$F$4*Circuit2!$F$9/1000/2","v":4.1136363636363645E-2},{"$f":"Circuit2!$F$4*($AN$4/1000000000*Circuit2!$J$26)*Circuit2!$B$5*1000+Circuit2!$F$4*Circuit2!$F$9/1000/2","v":2.5727272727272727E-2},{"$f":"(A33*A33+((Circuit2!$B$8)^2)/3)*(Circuit2!$J$9+Circuit2!$J$12)/1000*(1+0.002*AE32)","v":1.0591757603017653},{"$f":"Circuit2!$J$8/1000","v":0.05},{"$f":"0","v":0},{"$f":"(Circuit2!$F$19/1000000000000*Circuit2!$F$29+0*Circuit2!$J$19/1000000000000*Circuit2!$J$26)*Circuit2!$B$3*Circuit2!$B$3*Circuit2!$B$5*1000","v":8.7480000000000002E-2},0,{"$f":"(Circuit2!$B$8/1.732)^2*Circuit2!$J$4/1000","v":1.944114054691208E-3},0.81483178841908799,0.82903063791540577,3.1369604682354382,1.1111198743564565,4.1136363636363645E-2,{"$f":"W33*Circuit2!$F$25/MAX(Circuit2!$F$29,1)","v":40.290889002688722},31.759972230293773,{"$f":"$AN$6*(1+AB32*0.85*Circuit2!$F$26/100)/1000/MAX(Circuit2!$F$29,1)","v":4.4142833571385277E-3},{"$f":"X33*Circuit2!$J$22/MAX(Circuit2!$J$26,1)","v":156.22063131812482},76.523566021176009,{"$f":"$AN$7/1000*(1+AE32*0.85*Circuit2!$J$23/100)/MAX(Circuit2!$J$26,1)","v":8.6295410719814513E-3},{"$f":"(U33+T33+S33+R33+Q33+P33+N33+M33+L33+J33+I33+B33+O33+K33)/A33/Circuit2!$B$3","v":0.12272471621905789}]
[{"$f":"Circuit2!$B$10/50*33","v":19.8},{"$f":"AG33*Circuit2!$B$7/1000000*AC34*(A34*A34+((Circuit2!$B$8)^2)/3)*Circuit2!$B$5*1000","v":0.21329788879731579},{"$f":"(Circuit2!$F$22+A34/(Circuit2!$F$23*Circuit2!$F$29))/(1+((Circuit2!$F$22+A34/(Circuit2!$F$23*Circuit2!$F$29))/Circuit2!$F$4)^(5))^(0.2)","v":1.9872115017367953},{"$f":"MAX((Circuit2!$F$4-C34), 0.001)/(Circuit2!$F$5+Circuit2!$F$28+Circuit2!$F$24/Circuit2!$F$29)","v":1.8948355334988709},{"$f":"C34/(Circuit2!$F$6+Circuit2!$F$28+Circuit2!$F$24/Circuit2!$F$29)","v":1.4296485624005721},{"$f":"(Circuit2!$F$20/1000000000+Circuit2!$F$21/2/1000000000)*MAX(Circuit2!$F$29,1)","v":8.0000000000000005E-9},3.7011297047892541E-9,5.5957808166273566E-9,{"$f":"0.5*Circuit2!$B$3*(G34*MAX((A34-Circuit2!$B$8),0)+H34*(A34+Circuit2!$B$8))*Circuit2!$B$5*1000","v":0.55837515457450215},{"$f":"MIN(MAX((1-AG33-Circuit2!$F$7/1000000000+Circuit2!$F$8/1000000000),0.001),1)*Circuit2!$B$7/1000000*AF34*(A34*A34+((Circuit2!$B$8)^2)/3)*Circuit2!$B$5*1000","v":2.9937518737930784},{"$f":"Circuit2!$B$3*$AN$2*Circuit2!$J$26*0.000000001*Circuit2!$B$5*1000","v":9.1800000000000007E-2},{"$f":"Circuit2!$J$21*A34*(Circuit2!$F$7/1000000000+Circuit2!$F$8/1000000000)*Circuit2!$B$5*1000","v":0.35194500000000006},{"$f":"A34*Circuit2!$B$4","v":23.76},{"$f":"Circuit2!$F$4*($AN$3/1000000000*Circuit2!$F$29)*Circuit2!$B$5*1000+Circuit2!$F$4*Circuit2!$F$9/1000/2","v":4.1136363636363645E-2},{"$f":"Circuit2!$F$4*($AN$4/1000000000*Circuit2!$J$26)*Circuit2!$B$5*1000+Circuit2!$F$4*Circuit2!$F$9/1000/2","v":2.5727272727272727E-2},{"$f":"(A34*A34+((Circuit2!$B$8)^2)/3)*(Circuit2!$J$9+Circuit2!$J$12)/1000*(1+0.002*AE33)","v":1.1312222559270546},{"$f":"Circuit2!$J$8/1000","v":0.05},{"$f":"0","v":0},{"$f":"(Circuit2!$F$19/1000000000000*Circuit2!$F$29+0*Circuit2!$J$19/1000000000000*Circuit2!$J$26)*Circuit2!$B$3*Circuit2!$B$3*Circuit2!$B$5*1000","v":8.7480000000000002E-2},0,{"$f":"(Circuit2!$B$8/1.732)^2*Circuit2!$J$4/1000","v":1.944114054691208E-3},0.81073666693098712,0.85915304337181797,3.3456968737930786,1.1831663699817458,4.1136363636363645E-2,{"$f":"W34*Circuit2!$F$25/MAX(Circuit2!$F$29,1)","v":41.754837907870353},32.66267362281495,{"$f":"$AN$6*(1+AB33*0.85*Circuit2!$F$26/100)/1000/MAX(Circuit2!$F$29,1)","v":4.4288772942947252E-3},{"$f":"X34*Circuit2!$J$22/MAX(Circuit2!$J$26,1)","v":166.61570431489531},78.935931814606832,{"$f":"$AN$7/1000*(1+AE33*0.85*Circuit2!$J$23/100)/MAX(Circuit2!$J$26,1)","v":8.6959901452213616E-3},{"$f":"(U34+T34+S34+R34+Q34+P34+N34+M34+L34+J34+I34+B34+O34+K34)/A34/Circuit2!$B$3","v":0.12334461247268635}]
[{"$f":"Circuit2!$B$10/50*34","v":20.399999999999999},{"$f":"AG34*Circuit2!$B$7/1000000*AC35*(A35*A35+((Circuit2!$B$8)^2)/3)*Circuit2!$B$5*1000","v":0.22830437201859632},{"$f":"(Circuit2!$F$22+A35/(Circuit2!$F$23*Circuit2!$F$29))/(1+((Circuit2!$F$22+A35/(Circuit2!$F$23*Circuit2!$F$29))/Circuit2!$F$4)^(5))^(0.2)","v":1.9959289783803522},{"$f":"MAX((Circuit2!$F$4-C35), 0.001)/(Circuit2!$F$5+Circuit2!$F$28+Circuit2!$F$24/Circuit2!$F$29)","v":1.8893528437859424},{"$f":"C35/(Circuit2!$F$6+Circuit2!$F$28+Circuit2!$F$24/Circuit2!$F$29)","v":1.4359201283311886},{"$f":"(Circuit2!$F$20/1000000000+Circuit2!$F$21/2/1000000000)*MAX(Circuit2!$F$29,1)","v":8.0000000000000005E-9},3.710541561064341E-9,5.5713405238615303E-9,{"$f":"0.5*Circuit2!$B$3*(G35*MAX((A35-Circuit2!$B$8),0)+H35*(A35+Circuit2!$B$8))*Circuit2!$B$5*1000","v":0.57408017223692609},{"$f":"MIN(MAX((1-AG34-Circuit2!$F$7/1000000000+Circuit2!$F$8/1000000000),0.001),1)*Circuit2!$B$7/1000000*AF35*(A35*A35+((Circuit2!$B$8)^2)/3)*Circuit2!$B$5*1000","v":3.199027157052301},{"$f":"Circuit2!$B$3*$AN$2*Circuit2!$J$26*0.000000001*Circuit2!$B$5*1000","v":9.1800000000000007E-2},{"$f":"Circuit2!$J$21*A35*(Circuit2!$F$7/1000000000+Circuit2!$F$8/1000000000)*Circuit2!$B$5*1000","v":0.36260999999999999},{"$f":"A35*Circuit2!$B$4","v":24.479999999999997},{"$f":"Circuit2!$F$4*($AN$3/1000000000*Circuit2!$F$29)*Circuit2!$B$5*1000+Circuit2!$F$4*Circuit2!$F$9/1000/2","v":4.1136363636363645E-2},{"$f":"Circuit2!$F$4*($AN$4/1000000000*Circuit2!$J$26)*Circuit2!$B$5*1000+Circuit2!$F$4*Circuit2!$F$9/1000/2","v":2.5727272727272727E-2},{"$f":"(A35*A35+((Circuit2!$B$8)^2)/3)*(Circuit2!$J$9+Circuit2!$J$12)/1000*(1+0.002*AE34)","v":1.205775338371281},{"$f":"Circuit2!$J$8/1000","v":0.05},{"$f":"0","v":0},{"$f":"(Circuit2!$F$19/1000000000000*Circuit2!$F$29+0*Circuit2!$J$19/1000000000000*Circuit2!$J$26)*Circuit2!$B$3*Circuit2!$B$3*Circuit2!$B$5*1000","v":8.7480000000000002E-2},0,{"$f":"(Circuit2!$B$8/1.732)^2*Circuit2!$J$4/1000","v":1.944114054691208E-3},0.80664600413890686,0.88986454425552242,3.5616371570523011,1.2577194524259723,4.1136363636363645E-2,{"$f":"W35*Circuit2!$F$25/MAX(Circuit2!$F$29,1)","v":43.247416850818389},33.568948208144107,{"$f":"$AN$6*(1+AB34*0.85*Circuit2!$F$26/100)/1000/MAX(Circuit2!$F$29,1)","v":4.443530400666835E-3},{"$f":"X35*Circuit2!$J$22/MAX(Circuit2!$J$26,1)","v":177.36953042120459},81.270329370449502,{"$f":"$AN$7/1000*(1+AE34*0.85*Circuit2!$J$23/100)/MAX(Circuit2!$J$26,1)","v":8.7603838434888153E-3},{"$f":"(U35+T35+S35+R35+Q35+P35+N35+M35+L35+J35+I35+B35+O35+K35)/A35/Circuit2!$B$3","v":0.12397011760660714}]
[{"$f":"Circuit2!$B$10/50*35","v":21},{"$f":"AG35*Circuit2!$B$7/1000000*AC36*(A36*A36+((Circuit2!$B$8)^2)/3)*Circuit2!$B$5*1000","v":0.24395061273883481},{"$f":"(Circuit2!$F$22+A36/(Circuit2!$F$23*Circuit2!$F$29))/(1+((Circuit2!$F$22+A36/(Circuit2!$F$23*Circuit2!$F$29))/Circuit2!$F$4)^(5))^(0.2)","v":2.0046441162977282},{"$f":"MAX((Circuit2!$F$4-C36), 0.001)/(Circuit2!$F$5+Circuit2!$F$28+Circuit2!$F$24/Circuit2!$F$29)","v":1.8838716249699825},{"$f":"C36/(Circuit2!$F$6+Circuit2!$F$28+Circuit2!$F$24/Circuit2!$F$29)","v":1.4421900117249844},{"$f":"(Circuit2!$F$20/1000000000+Circuit2!$F$21/2/1000000000)*MAX(Circuit2!$F$29,1)","v":8.0000000000000005E-9},3.7199988631272716E-9,5.5471192665044923E-9,{"$f":"0.5*Circuit2!$B$3*(G36*MAX((A36-Circuit2!$B$8),0)+H36*(A36+Circuit2!$B$8))*Circuit2!$B$5*1000","v":0.58974831227374325},{"$f":"MIN(MAX((1-AG35-Circuit2!$F$7/1000000000+Circuit2!$F$8/1000000000),0.001),1)*Circuit2!$B$7/1000000*AF36*(A36*A36+((Circuit2!$B$8)^2)/3)*Circuit2!$B$5*1000","v":3.4114700136329454},{"$f":"Circuit2!$B$3*$AN$2*Circuit2!$J$26*0.000000001*Circuit2!$B$5*1000","v":9.1800000000000007E-2},{"$f":"Circuit2!$J$21*A36*(Circuit2!$F$7/1000000000+Circuit2!$F$8/1000000000)*Circuit2!$B$5*1000","v":0.37327500000000002},{"$f":"A36*Circuit2!$B$4","v":25.2},{"$f":"Circuit2!$F$4*($AN$3/1000000000*Circuit2!$F$29)*Circuit2!$B$5*1000+Circuit2!$F$4*Circuit2!$F$9/1000/2","v":4.1136363636363645E-2},{"$f":"Circuit2!$F$4*($AN$4/1000000000*Circuit2!$J$26)*Circuit2!$B$5*1000+Circuit2!$F$4*Circuit2!$F$9/1000/2","v":2.5727272727272727E-2},{"$f":"(A36*A36+((Circuit2!$B$8)^2)/3)*(Circuit2!$J$9+Circuit2!$J$12)/1000*(1+0.002*AE35)","v":1.2828310657821373},{"$f":"Circuit2!$J$8/1000","v":0.05},{"$f":"0","v":0},{"$f":"(Circuit2!$F$19/1000000000000*Circuit2!$F$29+0*Circuit2!$J$19/1000000000000*Circuit2!$J$26)*Circuit2!$B$3*Circuit2!$B$3*Circuit2!$B$5*1000","v":8.7480000000000002E-2},0,{"$f":"(Circuit2!$B$8/1.732)^2*Circuit2!$J$4/1000","v":1.944114054691208E-3},0.80256405828206756,0.92117892501257803,3.7847450136329455,1.3347751798368286,4.1136363636363645E-2,{"$f":"W36*Circuit2!$F$25/MAX(Circuit2!$F$29,1)","v":44.769295755611296},34.478711530424704,{"$f":"$AN$6*(1+AB35*0.85*Circuit2!$F$26/100)/1000/MAX(Circuit2!$F$29,1)","v":4.4582415089150212E-3},{"$f":"X36*Circuit2!$J$22/MAX(Circuit2!$J$26,1)","v":188.48030167892068},83.526412354290287,{"$f":"$AN$7/1000*(1+AE35*0.85*Circuit2!$J$23/100)/MAX(Circuit2!$J$26,1)","v":8.8226963220758327E-3},{"$f":"(U36+T36+S36+R36+Q36+P36+N36+M36+L36+J36+I36+B36+O36+K36)/A36/Circuit2!$B$3","v":0.12460064585256346}]
[{"$f":"Circuit2!$B$10/50*36","v":21.599999999999998},{"$f":"AG36*Circuit2!$B$7/1000000*AC37*(A37*A37+((Circuit2!$B$8)^2)/3)*Circuit2!$B$5*1000","v":0.26024917004934384},{"$f":"(Circuit2!$F$22+A37/(Circuit2!$F$23*Circuit2!$F$29))/(1+((Circuit2!$F$22+A37/(Circuit2!$F$23*Circuit2!$F$29))/Circuit2!$F$4)^(5))^(0.2)","v":2.013356875124646},{"$f":"MAX((Circuit2!$F$4-C37), 0.001)/(Circuit2!$F$5+Circuit2!$F$28+Circuit2!$F$24/Circuit2!$F$29)","v":1.8783919024373297},{"$f":"C37/(Circuit2!$F$6+Circuit2!$F$28+Circuit2!$F$24/Circuit2!$F$29)","v":1.4484581835429109},{"$f":"(Circuit2!$F$20/1000000000+Circuit2!$F$21/2/1000000000)*MAX(Circuit2!$F$29,1)","v":8.0000000000000005E-9},3.7295018957648545E-9,5.5231142264888164E-9,{"$f":"0.5*Circuit2!$B$3*(G37*MAX((A37-Circuit2!$B$8),0)+H37*(A37+Circuit2!$B$8))*Circuit2!$B$5*1000","v":0.60538082867358356},{"$f":"MIN(MAX((1-AG36-Circuit2!$F$7/1000000000+Circuit2!$F$8/1000000000),0.001),1)*Circuit2!$B$7/1000000*AF37*(A37*A37+((Circuit2!$B$8)^2)/3)*Circuit2!$B$5*1000","v":3.6310409979680474},{"$f":"Circuit2!$B$3*$AN$2*Circuit2!$J$26*0.000000001*Circuit2!$B$5*1000","v":9.1800000000000007E-2},{"$f":"Circuit2!$J$21*A37*(Circuit2!$F$7/1000000000+Circuit2!$F$8/1000000000)*Circuit2!$B$5*1000","v":0.38394},{"$f":"A37*Circuit2!$B$4","v":25.919999999999998},{"$f":"Circuit2!$F$4*($AN$3/1000000000*Circuit2!$F$29)*Circuit2!$B$5*1000+Circuit2!$F$4*Circuit2!$F$9/1000/2","v":4.1136363636363645E-2},{"$f":"Circuit2!$F$4*($AN$4/1000000000*Circuit2!$J$26)*Circuit2!$B$5*1000+Circuit2!$F$4*Circuit2!$F$9/1000/2","v":2.5727272727272727E-2},{"$f":"(A37*A37+((Circuit2!$B$8)^2)/3)*(Circuit2!$J$9+Circuit2!$J$12)/1000*(1+0.002*AE36)","v":1.3623847900857049},{"$f":"Circuit2!$J$8/1000","v":0.05},{"$f":"0","v":0},{"$f":"(Circuit2!$F$19/1000000000000*Circuit2!$F$29+0*Circuit2!$J$19/1000000000000*Circuit2!$J$26)*Circuit2!$B$3*Circuit2!$B$3*Circuit2!$B$5*1000","v":8.7480000000000002E-2},0,{"$f":"(Circuit2!$B$8/1.732)^2*Circuit2!$J$4/1000","v":1.944114054691208E-3},{"$f":"M37/(U37+T37+S37+R37+Q37+P37+N37+M37+L37+J37+I37+B37+O37+K37)","v":0.79849460263087002},0.95310999872292745,4.0149809979680473,{"$f":"P37+Q37+U37","v":1.4143289041403961},{"$f":"N37","v":4.1136363636363645E-2},{"$f":"W37*Circuit2!$F$25/MAX(Circuit2!$F$29,1)","v":46.321145937934276},35.391867022245087,{"$f":"$AN$6*(1+AB36*0.85*Circuit2!$F$26/100)/1000/MAX(Circuit2!$F$29,1)","v":4.4730092481090299E-3},{"$f":"X37*Circuit2!$J$22/MAX(Circuit2!$J$26,1)","v":199.94605369880875},85.704375682529403,{"$f":"$AN$7/1000*(1+AE36*0.85*Circuit2!$J$23/100)/MAX(Circuit2!$J$26,1)","v":8.8829183362178783E-3},{"$f":"(U37+T37+S37+R37+Q37+P37+N37+M37+L37+J37+I37+B37+O37+K37)/A37/Circuit2!$B$3","v":0.1252356617947338}]
[{"$f":"Circuit2!$B$10/50*37","v":22.2},{"$f":"AG37*Circuit2!$B$7/1000000*AC38*(A38*A38+((Circuit2!$B$8)^2)/3)*Circuit2!$B$5*1000","v":0.27721264610730362},{"$f":"(Circuit2!$F$22+A38/(Circuit2!$F$23*Circuit2!$F$29))/(1+((Circuit2!$F$22+A38/(Circuit2!$F$23*Circuit2!$F$29))/Circuit2!$F$4)^(5))^(0.2)","v":2.0220672140079432},{"$f":"MAX((Circuit2!$F$4-C38), 0.001)/(Circuit2!$F$5+Circuit2!$F$28+Circuit2!$F$24/Circuit2!$F$29)","v":1.872913701881797},{"$f":"C38/(Circuit2!$F$6+Circuit2!$F$28+Circuit2!$F$24/Circuit2!$F$29)","v":1.4547246143942039},{"$f":"(Circuit2!$F$20/1000000000+Circuit2!$F$21/2/1000000000)*MAX(Circuit2!$F$29,1)","v":8.0000000000000005E-9},3.7390509455026307E-9,5.4993226352545556E-9,{"$f":"0.5*Circuit2!$B$3*(G38*MAX((A38-Circuit2!$B$8),0)+H38*(A38+Circuit2!$B$8))*Circuit2!$B$5*1000","v":0.6209789607532249},{"$f":"MIN(MAX((1-AG37-Circuit2!$F$7/1000000000+Circuit2!$F$8/1000000000),0.001),1)*Circuit2!$B$7/1000000*AF38*(A38*A38+((Circuit2!$B$8)^2)/3)*Circuit2!$B$5*1000","v":3.8576983509470848},{"$f":"Circuit2!$B$3*$AN$2*Circuit2!$J$26*0.000000001*Circuit2!$B$5*1000","v":9.1800000000000007E-2},{"$f":"Circuit2!$J$21*A38*(Circuit2!$F$7/1000000000+Circuit2!$F$8/1000000000)*Circuit2!$B$5*1000","v":0.39460499999999998},{"$f":"A38*Circuit2!$B$4","v":26.639999999999997},{"$f":"Circuit2!$F$4*($AN$3/1000000000*Circuit2!$F$29)*Circuit2!$B$5*1000+Circuit2!$F$4*Circuit2!$F$9/1000/2","v":4.1136363636363645E-2},{"$f":"Circuit2!$F$4*($AN$4/1000000000*Circuit2!$J$26)*Circuit2!$B$5*1000+Circuit2!$F$4*Circuit2!$F$9/1000/2","v":2.5727272727272727E-2},{"$f":"(A38*A38+((Circuit2!$B$8)^2)/3)*(Circuit2!$J$9+Circuit2!$J$12)/1000*(1+0.002*AE37)","v":1.4444313318632158},{"$f":"Circuit2!$J$8/1000","v":0.05},{"$f":"0","v":0},{"$f":"(Circuit2!$F$19/1000000000000*Circuit2!$F$29+0*Circuit2!$J$19/1000000000000*Circuit2!$J$26)*Circuit2!$B$3*Circuit2!$B$3*Circuit2!$B$5*1000","v":8.7480000000000002E-2},0,{"$f":"(Circuit2!$B$8/1.732)^2*Circuit2!$J$4/1000","v":1.944114054691208E-3},0.79444096400495146,0.98567160686052846,4.2523033509470851,1.4963754459179071,4.1136363636363645E-2,{"$f":"W38*Circuit2!$F$25/MAX(Circuit2!$F$29,1)","v":47.903640093421686},36.308306459756224,{"$f":"$AN$6*(1+AB37*0.85*Circuit2!$F$26/100)/1000/MAX(Circuit2!$F$29,1)","v":4.4878320507177067E-3},{"$f":"X38*Circuit2!$J$22/MAX(Circuit2!$J$26,1)","v":211.76470687716483},87.804878219810021,{"$f":"$AN$7/1000*(1+AE37*0.85*Circuit2!$J$23/100)/MAX(Circuit2!$J$26,1)","v":8.9410550888522084E-3},{"$f":"(U38+T38+S38+R38+Q38+P38+N38+M38+L38+J38+I38+B38+O38+K38)/A38/Circuit2!$B$3","v":0.12587467732766197}]
[{"$f":"Circuit2!$B$10/50*38","v":22.8},{"$f":"AG38*Circuit2!$B$7/1000000*AC39*(A39*A39+((Circuit2!$B$8)^2)/3)*Circuit2!$B$5*1000","v":0.29485368566803821},{"$f":"(Circuit2!$F$22+A39/(Circuit2!$F$23*Circuit2!$F$29))/(1+((Circuit2!$F$22+A39/(Circuit2!$F$23*Circuit2!$F$29))/Circuit2!$F$4)^(5))^(0.2)","v":2.0307750916028628},{"$f":"MAX((Circuit2!$F$4-C39), 0.001)/(Circuit2!$F$5+Circuit2!$F$28+Circuit2!$F$24/Circuit2!$F$29)","v":1.8674370493063757},{"$f":"C39/(Circuit2!$F$6+Circuit2!$F$28+Circuit2!$F$24/Circuit2!$F$29)","v":1.4609892745344337},{"$f":"(Circuit2!$F$20/1000000000+Circuit2!$F$21/2/1000000000)*MAX(Circuit2!$F$29,1)","v":8.0000000000000005E-9},3.7486463006098132E-9,5.475741772676135E-9,{"$f":"0.5*Circuit2!$B$3*(G39*MAX((A39-Circuit2!$B$8),0)+H39*(A39+Circuit2!$B$8))*Circuit2!$B$5*1000","v":0.6365439335422538},{"$f":"MIN(MAX((1-AG38-Circuit2!$F$7/1000000000+Circuit2!$F$8/1000000000),0.001),1)*Circuit2!$B$7/1000000*AF39*(A39*A39+((Circuit2!$B$8)^2)/3)*Circuit2!$B$5*1000","v":4.0913987144843338},{"$f":"Circuit2!$B$3*$AN$2*Circuit2!$J$26*0.000000001*Circuit2!$B$5*1000","v":9.1800000000000007E-2},{"$f":"Circuit2!$J$21*A39*(Circuit2!$F$7/1000000000+Circuit2!$F$8/1000000000)*Circuit2!$B$5*1000","v":0.40527000000000007},{"$f":"A39*Circuit2!$B$4","v":27.36},{"$f":"Circuit2!$F$4*($AN$3/1000000000*Circuit2!$F$29)*Circuit2!$B$5*1000+Circuit2!$F$4*Circuit2!$F$9/1000/2","v":4.1136363636363645E-2},{"$f":"Circuit2!$F$4*($AN$4/1000000000*Circuit2!$J$26)*Circuit2!$B$5*1000+Circuit2!$F$4*Circuit2!$F$9/1000/2","v":2.5727272727272727E-2},{"$f":"(A39*A39+((Circuit2!$B$8)^2)/3)*(Circuit2!$J$9+Circuit2!$J$12)/1000*(1+0.002*AE38)","v":1.5289651321521893},{"$f":"Circuit2!$J$8/1000","v":0.05},{"$f":"0","v":0},{"$f":"(Circuit2!$F$19/1000000000000*Circuit2!$F$29+0*Circuit2!$J$19/1000000000000*Circuit2!$J$26)*Circuit2!$B$3*Circuit2!$B$3*Circuit2!$B$5*1000","v":8.7480000000000002E-2},0,{"$f":"(Circuit2!$B$8/1.732)^2*Circuit2!$J$4/1000","v":1.944114054691208E-3},0.7904060601109798,1.018877619210292,4.4966687144843336,1.5809092462068806,4.1136363636363645E-2,{"$f":"W39*Circuit2!$F$25/MAX(Circuit2!$F$29,1)","v":49.517452293620188},37.22791043418178,{"$f":"$AN$6*(1+AB38*0.85*Circuit2!$F$26/100)/1000/MAX(Circuit2!$F$29,1)","v":4.5027081599967027E-3},{"$f":"X39*Circuit2!$J$22/MAX(Circuit2!$J$26,1)","v":223.9341019813198},89.828970182762291,{"$f":"$AN$7/1000*(1+AE38*0.85*Circuit2!$J$23/100)/MAX(Circuit2!$J$26,1)","v":8.9971241671669457E-3},{"$f":"(U39+T39+S39+R39+Q39+P39+N39+M39+L39+J39+I39+B39+O39+K39)/A39/Circuit2!$B$3","v":0.1265172485974603}]
[{"$f":"Circuit2!$B$10/50*39","v":23.4},{"$f":"AG39*Circuit2!$B$7/1000000*AC40*(A40*A40+((Circuit2!$B$8)^2)/3)*Circuit2!$B$5*1000","v":0.31318497559795233},{"$f":"(Circuit2!$F$22+A40/(Circuit2!$F$23*Circuit2!$F$29))/(1+((Circuit2!$F$22+A40/(Circuit2!$F$23*Circuit2!$F$29))/Circuit2!$F$4)^(5))^(0.2)","v":2.0394804660703825},{"$f":"MAX((Circuit2!$F$4-C40), 0.001)/(Circuit2!$F$5+Circuit2!$F$28+Circuit2!$F$24/Circuit2!$F$29)","v":1.8619619710249169},{"$f":"C40/(Circuit2!$F$6+Circuit2!$F$28+Circuit2!$F$24/Circuit2!$F$29)","v":1.4672521338635847},{"$f":"(Circuit2!$F$20/1000000000+Circuit2!$F$21/2/1000000000)*MAX(Circuit2!$F$29,1)","v":8.0000000000000005E-9},3.7582882511040981E-9,5.4523689660169802E-9,{"$f":"0.5*Circuit2!$B$3*(G40*MAX((A40-Circuit2!$B$8),0)+H40*(A40+Circuit2!$B$8))*Circuit2!$B$5*1000","v":0.65207695815821742},{"$f":"MIN(MAX((1-AG39-Circuit2!$F$7/1000000000+Circuit2!$F$8/1000000000),0.001),1)*Circuit2!$B$7/1000000*AF40*(A40*A40+((Circuit2!$B$8)^2)/3)*Circuit2!$B$5*1000","v":4.3320977382714752},{"$f":"Circuit2!$B$3*$AN$2*Circuit2!$J$26*0.000000001*Circuit2!$B$5*1000","v":9.1800000000000007E-2},{"$f":"Circuit2!$J$21*A40*(Circuit2!$F$7/1000000000+Circuit2!$F$8/1000000000)*Circuit2!$B$5*1000","v":0.41593500000000005},{"$f":"A40*Circuit2!$B$4","v":28.08},{"$f":"Circuit2!$F$4*($AN$3/1000000000*Circuit2!$F$29)*Circuit2!$B$5*1000+Circuit2!$F$4*Circuit2!$F$9/1000/2","v":4.1136363636363645E-2},{"$f":"Circuit2!$F$4*($AN$4/1000000000*Circuit2!$J$26)*Circuit2!$B$5*1000+Circuit2!$F$4*Circuit2!$F$9/1000/2","v":2.5727272727272727E-2},{"$f":"(A40*A40+((Circuit2!$B$8)^2)/3)*(Circuit2!$J$9+Circuit2!$J$12)/1000*(1+0.002*AE39)","v":1.6159803820844014},{"$f":"Circuit2!$J$8/1000","v":0.05},{"$f":"0","v":0},{"$f":"(Circuit2!$F$19/1000000000000*Circuit2!$F$29+0*Circuit2!$J$19/1000000000000*Circuit2!$J$26)*Circuit2!$B$3*Circuit2!$B$3*Circuit2!$B$5*1000","v":8.7480000000000002E-2},0,{"$f":"(Circuit2!$B$8/1.732)^2*Circuit2!$J$4/1000","v":1.944114054691208E-3},0.78639243546816473,1.0527419337561699,4.7480327382714753,1.6679244961390927,4.1136363636363645E-2,{"$f":"W40*Circuit2!$F$25/MAX(Circuit2!$F$29,1)","v":51.163257980549858},38.150548833448063,{"$f":"$AN$6*(1+AB39*0.85*Circuit2!$F$26/100)/1000/MAX(Circuit2!$F$29,1)","v":4.5176356376422583E-3},{"$f":"X40*Circuit2!$J$22/MAX(Circuit2!$J$26,1)","v":236.45203036591946},91.778026166157161,{"$f":"$AN$7/1000*(1+AE39*0.85*Circuit2!$J$23/100)/MAX(Circuit2!$J$26,1)","v":9.0511536047766395E-3},{"$f":"(U40+T40+S40+R40+Q40+P40+N40+M40+L40+J40+I40+B40+O40+K40)/A40/Circuit2!$B$3","v":0.12716297295060677}]
[{"$f":"Circuit2!$B$10/50*40","v":24},{"$f":"AG40*Circuit2!$B$7/1000000*AC41*(A41*A41+((Circuit2!$B$8)^2)/3)*Circuit2!$B$5*1000","v":0.33221924422272558},{"$f":"(Circuit2!$F$22+A41/(Circuit2!$F$23*Circuit2!$F$29))/(1+((Circuit2!$F$22+A41/(Circuit2!$F$23*Circuit2!$F$29))/Circuit2!$F$4)^(5))^(0.2)","v":2.0481832950745797},{"$f":"MAX((Circuit2!$F$4-C41), 0.001)/(Circuit2!$F$5+Circuit2!$F$28+Circuit2!$F$24/Circuit2!$F$29)","v":1.8564884936637864},{"$f":"C41/(Circuit2!$F$6+Circuit2!$F$28+Circuit2!$F$24/Circuit2!$F$29)","v":1.4735131619241582},{"$f":"(Circuit2!$F$20/1000000000+Circuit2!$F$21/2/1000000000)*MAX(Circuit2!$F$29,1)","v":8.0000000000000005E-9},3.7679770887563676E-9,5.4292015889110606E-9,{"$f":"0.5*Circuit2!$B$3*(G41*MAX((A41-Circuit2!$B$8),0)+H41*(A41+Circuit2!$B$8))*Circuit2!$B$5*1000","v":0.6675792321725561},{"$f":"MIN(MAX((1-AG40-Circuit2!$F$7/1000000000+Circuit2!$F$8/1000000000),0.001),1)*Circuit2!$B$7/1000000*AF41*(A41*A41+((Circuit2!$B$8)^2)/3)*Circuit2!$B$5*1000","v":4.57975058654295},{"$f":"Circuit2!$B$3*$AN$2*Circuit2!$J$26*0.000000001*Circuit2!$B$5*1000","v":9.1800000000000007E-2},{"$f":"Circuit2!$J$21*A41*(Circuit2!$F$7/1000000000+Circuit2!$F$8/1000000000)*Circuit2!$B$5*1000","v":0.42660000000000003},{"$f":"A41*Circuit2!$B$4","v":28.799999999999997},{"$f":"Circuit2!$F$4*($AN$3/1000000000*Circuit2!$F$29)*Circuit2!$B$5*1000+Circuit2!$F$4*Circuit2!$F$9/1000/2","v":4.1136363636363645E-2},{"$f":"Circuit2!$F$4*($AN$4/1000000000*Circuit2!$J$26)*Circuit2!$B$5*1000+Circuit2!$F$4*Circuit2!$F$9/1000/2","v":2.5727272727272727E-2},{"$f":"(A41*A41+((Circuit2!$B$8)^2)/3)*(Circuit2!$J$9+Circuit2!$J$12)/1000*(1+0.002*AE40)","v":1.7054711318413993},{"$f":"Circuit2!$J$8/1000","v":0.05},{"$f":"0","v":0},{"$f":"(Circuit2!$F$19/1000000000000*Circuit2!$F$29+0*Circuit2!$J$19/1000000000000*Circuit2!$J$26)*Circuit2!$B$3*Circuit2!$B$3*Circuit2!$B$5*1000","v":8.7480000000000002E-2},0,{"$f":"(Circuit2!$B$8/1.732)^2*Circuit2!$J$4/1000","v":1.944114054691208E-3},0.78240229568996422,1.0872784763952816,5.0063505865429496,1.7574152458960905,4.1136363636363645E-2,{"$f":"W41*Circuit2!$F$25/MAX(Circuit2!$F$29,1)","v":52.841733952810692},39.076081329326321,{"$f":"$AN$6*(1+AB40*0.85*Circuit2!$F$26/100)/1000/MAX(Circuit2!$F$29,1)","v":4.5326123716092704E-3},{"$f":"X41*Circuit2!$J$22/MAX(Circuit2!$J$26,1)","v":249.31625920983888},93.653684313975418,{"$f":"$AN$7/1000*(1+AE40*0.85*Circuit2!$J$23/100)/MAX(Circuit2!$J$26,1)","v":9.1031800939777672E-3},{"$f":"(U41+T41+S41+R41+Q41+P41+N41+M41+L41+J41+I41+B41+O41+K41)/A41/Circuit2!$B$3","v":0.12781148592082622}]
[{"$f":"Circuit2!$B$10/50*41","v":24.599999999999998},{"$f":"AG41*Circuit2!$B$7/1000000*AC42*(A42*A42+((Circuit2!$B$8)^2)/3)*Circuit2!$B$5*1000","v":0.35196926040277515},{"$f":"(Circuit2!$F$22+A42/(Circuit2!$F$23*Circuit2!$F$29))/(1+((Circuit2!$F$22+A42/(Circuit2!$F$23*Circuit2!$F$29))/Circuit2!$F$4)^(5))^(0.2)","v":2.0568835357800292},{"$f":"MAX((Circuit2!$F$4-C42), 0.001)/(Circuit2!$F$5+Circuit2!$F$28+Circuit2!$F$24/Circuit2!$F$29)","v":1.8510166441635039},{"$f":"C42/(Circuit2!$F$6+Circuit2!$F$28+Circuit2!$F$24/Circuit2!$F$29)","v":1.4797723278993018},{"$f":"(Circuit2!$F$20/1000000000+Circuit2!$F$21/2/1000000000)*MAX(Circuit2!$F$29,1)","v":8.0000000000000005E-9},3.7777131070952504E-9,5.4062370603705453E-9,{"$f":"0.5*Circuit2!$B$3*(G42*MAX((A42-Circuit2!$B$8),0)+H42*(A42+Circuit2!$B$8))*Circuit2!$B$5*1000","v":0.68305193996758762},{"$f":"MIN(MAX((1-AG41-Circuit2!$F$7/1000000000+Circuit2!$F$8/1000000000),0.001),1)*Circuit2!$B$7/1000000*AF42*(A42*A42+((Circuit2!$B$8)^2)/3)*Circuit2!$B$5*1000","v":4.8343123542183797},{"$f":"Circuit2!$B$3*$AN$2*Circuit2!$J$26*0.000000001*Circuit2!$B$5*1000","v":9.1800000000000007E-2},{"$f":"Circuit2!$J$21*A42*(Circuit2!$F$7/1000000000+Circuit2!$F$8/1000000000)*Circuit2!$B$5*1000","v":0.4372649999999999},{"$f":"A42*Circuit2!$B$4","v":29.519999999999996},{"$f":"Circuit2!$F$4*($AN$3/1000000000*Circuit2!$F$29)*Circuit2!$B$5*1000+Circuit2!$F$4*Circuit2!$F$9/1000/2","v":4.1136363636363645E-2},{"$f":"Circuit2!$F$4*($AN$4/1000000000*Circuit2!$J$26)*Circuit2!$B$5*1000+Circuit2!$F$4*Circuit2!$F$9/1000/2","v":2.5727272727272727E-2},{"$f":"(A42*A42+((Circuit2!$B$8)^2)/3)*(Circuit2!$J$9+Circuit2!$J$12)/1000*(1+0.002*AE41)","v":1.7974313807595328},{"$f":"Circuit2!$J$8/1000","v":0.05},{"$f":"0","v":0},{"$f":"(Circuit2!$F$19/1000000000000*Circuit2!$F$29+0*Circuit2!$J$19/1000000000000*Circuit2!$J$26)*Circuit2!$B$3*Circuit2!$B$3*Circuit2!$B$5*1000","v":8.7480000000000002E-2},0,{"$f":"(Circuit2!$B$8/1.732)^2*Circuit2!$J$4/1000","v":1.944114054691208E-3},0.77843753992356313,1.1225012003703627,5.2715773542183797,1.849375494814224,4.1136363636363645E-2,{"$f":"W42*Circuit2!$F$25/MAX(Circuit2!$F$29,1)","v":54.553558337999632},40.004357866894139,{"$f":"$AN$6*(1+AB41*0.85*Circuit2!$F$26/100)/1000/MAX(Circuit2!$F$29,1)","v":4.5476360840188317E-3},{"$f":"X42*Circuit2!$J$22/MAX(Circuit2!$J$26,1)","v":262.52455224007531},95.45779183851883,{"$f":"$AN$7/1000*(1+AE41*0.85*Circuit2!$J$23/100)/MAX(Circuit2!$J$26,1)","v":9.153247362031559E-3},{"$f":"(U42+T42+S42+R42+Q42+P42+N42+M42+L42+J42+I42+B42+O42+K42)/A42/Circuit2!$B$3","v":0.12846245828511724}]
[{"$f":"Circuit2!$B$10/50*42","v":25.2},{"$f":"AG42*Circuit2!$B$7/1000000*AC43*(A43*A43+((Circuit2!$B$8)^2)/3)*Circuit2!$B$5*1000","v":0.37244783226101374},{"$f":"(Circuit2!$F$22+A43/(Circuit2!$F$23*Circuit2!$F$29))/(1+((Circuit2!$F$22+A43/(Circuit2!$F$23*Circuit2!$F$29))/Circuit2!$F$4)^(5))^(0.2)","v":2.0655811448492414},{"$f":"MAX((Circuit2!$F$4-C43), 0.001)/(Circuit2!$F$5+Circuit2!$F$28+Circuit2!$F$24/Circuit2!$F$29)","v":1.8455464497803515},{"$f":"C43/(Circuit2!$F$6+Circuit2!$F$28+Circuit2!$F$24/Circuit2!$F$29)","v":1.4860296006109652},{"$f":"(Circuit2!$F$20/1000000000+Circuit2!$F$21/2/1000000000)*MAX(Circuit2!$F$29,1)","v":8.0000000000000005E-9},3.7874966014115595E-9,5.3834728438187815E-9,{"$f":"0.5*Circuit2!$B$3*(G43*MAX((A43-Circuit2!$B$8),0)+H43*(A43+Circuit2!$B$8))*Circuit2!$B$5*1000","v":0.69849625308481311},{"$f":"MIN(MAX((1-AG42-Circuit2!$F$7/1000000000+Circuit2!$F$8/1000000000),0.001),1)*Circuit2!$B$7/1000000*AF43*(A43*A43+((Circuit2!$B$8)^2)/3)*Circuit2!$B$5*1000","v":5.0957384024980765},{"$f":"Circuit2!$B$3*$AN$2*Circuit2!$J$26*0.000000001*Circuit2!$B$5*1000","v":9.1800000000000007E-2},{"$f":"Circuit2!$J$21*A43*(Circuit2!$F$7/1000000000+Circuit2!$F$8/1000000000)*Circuit2!$B$5*1000","v":0.44793000000000005},{"$f":"A43*Circuit2!$B$4","v":30.24},{"$f":"Circuit2!$F$4*($AN$3/1000000000*Circuit2!$F$29)*Circuit2!$B$5*1000+Circuit2!$F$4*Circuit2!$F$9/1000/2","v":4.1136363636363645E-2},{"$f":"Circuit2!$F$4*($AN$4/1000000000*Circuit2!$J$26)*Circuit2!$B$5*1000+Circuit2!$F$4*Circuit2!$F$9/1000/2","v":2.5727272727272727E-2},{"$f":"(A43*A43+((Circuit2!$B$8)^2)/3)*(Circuit2!$J$9+Circuit2!$J$12)/1000*(1+0.002*AE42)","v":1.8918551505929988},{"$f":"Circuit2!$J$8/1000","v":0.05},{"$f":"0","v":0},{"$f":"(Circuit2!$F$19/1000000000000*Circuit2!$F$29+0*Circuit2!$J$19/1000000000000*Circuit2!$J$26)*Circuit2!$B$3*Circuit2!$B$3*Circuit2!$B$5*1000","v":8.7480000000000002E-2},0,{"$f":"(Circuit2!$B$8/1.732)^2*Circuit2!$J$4/1000","v":1.944114054691208E-3},0.77449979129821567,1.1584240853458267,5.5436684024980769,1.94379926464769,4.1136363636363645E-2,{"$f":"W43*Circuit2!$F$25/MAX(Circuit2!$F$29,1)","v":56.299410547807184},40.935219154269369,{"$f":"$AN$6*(1+AB42*0.85*Circuit2!$F$26/100)/1000/MAX(Circuit2!$F$29,1)","v":4.5627043391034119E-3},{"$f":"X43*Circuit2!$J$22/MAX(Circuit2!$J$26,1)","v":276.07468644440422},97.192356842968948,{"$f":"$AN$7/1000*(1+AE42*0.85*Circuit2!$J$23/100)/MAX(Circuit2!$J$26,1)","v":9.201404716896169E-3},{"$f":"(U43+T43+S43+R43+Q43+P43+N43+M43+L43+J43+I43+B43+O43+K43)/A43/Circuit2!$B$3","v":0.12911559321711386}]
[{"$f":"Circuit2!$B$10/50*43","v":25.8},{"$f":"AG43*Circuit2!$B$7/1000000*AC44*(A44*A44+((Circuit2!$B$8)^2)/3)*Circuit2!$B$5*1000","v":0.3936678055159481},{"$f":"(Circuit2!$F$22+A44/(Circuit2!$F$23*Circuit2!$F$29))/(1+((Circuit2!$F$22+A44/(Circuit2!$F$23*Circuit2!$F$29))/Circuit2!$F$4)^(5))^(0.2)","v":2.0742760784401395},{"$f":"MAX((Circuit2!$F$4-C44), 0.001)/(Circuit2!$F$5+Circuit2!$F$28+Circuit2!$F$24/Circuit2!$F$29)","v":1.8400779380879628},{"$f":"C44/(Circuit2!$F$6+Circuit2!$F$28+Circuit2!$F$24/Circuit2!$F$29)","v":1.492284948518086},{"$f":"(Circuit2!$F$20/1000000000+Circuit2!$F$21/2/1000000000)*MAX(Circuit2!$F$29,1)","v":8.0000000000000005E-9},3.797327868762599E-9,5.3609064461478372E-9,{"$f":"0.5*Circuit2!$B$3*(G44*MAX((A44-Circuit2!$B$8),0)+H44*(A44+Circuit2!$B$8))*Circuit2!$B$5*1000","v":0.713913330564796},{"$f":"MIN(MAX((1-AG43-Circuit2!$F$7/1000000000+Circuit2!$F$8/1000000000),0.001),1)*Circuit2!$B$7/1000000*AF44*(A44*A44+((Circuit2!$B$8)^2)/3)*Circuit2!$B$5*1000","v":5.3639846240768643},{"$f":"Circuit2!$B$3*$AN$2*Circuit2!$J$26*0.000000001*Circuit2!$B$5*1000","v":9.1800000000000007E-2},{"$f":"Circuit2!$J$21*A44*(Circuit2!$F$7/1000000000+Circuit2!$F$8/1000000000)*Circuit2!$B$5*1000","v":0.45859500000000003},{"$f":"A44*Circuit2!$B$4","v":30.96},{"$f":"Circuit2!$F$4*($AN$3/1000000000*Circuit2!$F$29)*Circuit2!$B$5*1000+Circuit2!$F$4*Circuit2!$F$9/1000/2","v":4.1136363636363645E-2},{"$f":"Circuit2!$F$4*($AN$4/1000000000*Circuit2!$J$26)*Circuit2!$B$5*1000+Circuit2!$F$4*Circuit2!$F$9/1000/2","v":2.5727272727272727E-2},{"$f":"(A44*A44+((Circuit2!$B$8)^2)/3)*(Circuit2!$J$9+Circuit2!$J$12)/1000*(1+0.002*AE43)","v":1.9887365439864717},{"$f":"Circuit2!$J$8/1000","v":0.05},{"$f":"0","v":0},{"$f":"(Circuit2!$F$19/1000000000000*Circuit2!$F$29+0*Circuit2!$J$19/1000000000000*Circuit2!$J$26)*Circuit2!$B$3*Circuit2!$B$3*Circuit2!$B$5*1000","v":8.7480000000000002E-2},0,{"$f":"(Circuit2!$B$8/1.732)^2*Circuit2!$J$4/1000","v":1.944114054691208E-3},0.77059042528837673,1.1950611360807442,5.8225796240768641,2.0406806580411629,4.1136363636363645E-2,{"$f":"W44*Circuit2!$F$25/MAX(Circuit2!$F$29,1)","v":58.079971213524168},41.868497151456687,{"$f":"$AN$6*(1+AB43*0.85*Circuit2!$F$26/100)/1000/MAX(Circuit2!$F$29,1)","v":4.5778145511564724E-3},{"$f":"X44*Circuit2!$J$22/MAX(Circuit2!$J$26,1)","v":289.96446527902782},98.859506220052623,{"$f":"$AN$7/1000*(1+AE43*0.85*Circuit2!$J$23/100)/MAX(Circuit2!$J$26,1)","v":9.2477057612178892E-3},{"$f":"(U44+T44+S44+R44+Q44+P44+N44+M44+L44+J44+I44+B44+O44+K44)/A44/Circuit2!$B$3","v":0.12977062356124808}]
[{"$f":"Circuit2!$B$10/50*44","v":26.4},{"$f":"AG44*Circuit2!$B$7/1000000*AC45*(A45*A45+((Circuit2!$B$8)^2)/3)*Circuit2!$B$5*1000","v":0.41564206139622384},{"$f":"(Circuit2!$F$22+A45/(Circuit2!$F$23*Circuit2!$F$29))/(1+((Circuit2!$F$22+A45/(Circuit2!$F$23*Circuit2!$F$29))/Circuit2!$F$4)^(5))^(0.2)","v":2.0829682922035762},{"$f":"MAX((Circuit2!$F$4-C45), 0.001)/(Circuit2!$F$5+Circuit2!$F$28+Circuit2!$F$24/Circuit2!$F$29)","v":1.8346111369788831},{"$f":"C45/(Circuit2!$F$6+Circuit2!$F$28+Circuit2!$F$24/Circuit2!$F$29)","v":1.4985383397148031},{"$f":"(Circuit2!$F$20/1000000000+Circuit2!$F$21/2/1000000000)*MAX(Circuit2!$F$29,1)","v":8.0000000000000005E-9},3.8072072079763261E-9,5.3385354167999024E-9,{"$f":"0.5*Circuit2!$B$3*(G45*MAX((A45-Circuit2!$B$8),0)+H45*(A45+Circuit2!$B$8))*Circuit2!$B$5*1000","v":0.72930431927886563},{"$f":"MIN(MAX((1-AG44-Circuit2!$F$7/1000000000+Circuit2!$F$8/1000000000),0.001),1)*Circuit2!$B$7/1000000*AF45*(A45*A45+((Circuit2!$B$8)^2)/3)*Circuit2!$B$5*1000","v":5.6390076477876292},{"$f":"Circuit2!$B$3*$AN$2*Circuit2!$J$26*0.000000001*Circuit2!$B$5*1000","v":9.1800000000000007E-2},{"$f":"Circuit2!$J$21*A45*(Circuit2!$F$7/1000000000+Circuit2!$F$8/1000000000)*Circuit2!$B$5*1000","v":0.46925999999999995},{"$f":"A45*Circuit2!$B$4","v":31.679999999999996},{"$f":"Circuit2!$F$4*($AN$3/1000000000*Circuit2!$F$29)*Circuit2!$B$5*1000+Circuit2!$F$4*Circuit2!$F$9/1000/2","v":4.1136363636363645E-2},{"$f":"Circuit2!$F$4*($AN$4/1000000000*Circuit2!$J$26)*Circuit2!$B$5*1000+Circuit2!$F$4*Circuit2!$F$9/1000/2","v":2.5727272727272727E-2},{"$f":"(A45*A45+((Circuit2!$B$8)^2)/3)*(Circuit2!$J$9+Circuit2!$J$12)/1000*(1+0.002*AE44)","v":2.0880697901557306},{"$f":"Circuit2!$J$8/1000","v":0.05},{"$f":"0","v":0},{"$f":"(Circuit2!$F$19/1000000000000*Circuit2!$F$29+0*Circuit2!$J$19/1000000000000*Circuit2!$J$26)*Circuit2!$B$3*Circuit2!$B$3*Circuit2!$B$5*1000","v":8.7480000000000002E-2},0,{"$f":"(Circuit2!$B$8/1.732)^2*Circuit2!$J$4/1000","v":1.944114054691208E-3},0.76671059595058866,1.2324263806750895,6.1082676477876294,2.1400139042104218,4.1136363636363645E-2,{"$f":"W45*Circuit2!$F$25/MAX(Circuit2!$F$29,1)","v":59.895922100809351},42.80401555779801,{"$f":"$AN$6*(1+AB44*0.85*Circuit2!$F$26/100)/1000/MAX(Circuit2!$F$29,1)","v":4.5929639924676691E-3},{"$f":"X45*Circuit2!$J$22/MAX(Circuit2!$J$26,1)","v":304.19172885982391},100.46144927279352,{"$f":"$AN$7/1000*(1+AE44*0.85*Circuit2!$J$23/100)/MAX(Circuit2!$J$26,1)","v":9.292207268512943E-3},{"$f":"(U45+T45+S45+R45+Q45+P45+N45+M45+L45+J45+I45+B45+O45+K45)/A45/Circuit2!$B$3","v":0.1304273092456969}]
[{"$f":"Circuit2!$B$10/50*45","v":27},{"$f":"AG45*Circuit2!$B$7/1000000*AC46*(A46*A46+((Circuit2!$B$8)^2)/3)*Circuit2!$B$5*1000","v":0.43838351413105198},{"$f":"(Circuit2!$F$22+A46/(Circuit2!$F$23*Circuit2!$F$29))/(1+((Circuit2!$F$22+A46/(Circuit2!$F$23*Circuit2!$F$29))/Circuit2!$F$4)^(5))^(0.2)","v":2.0916577412808914},{"$f":"MAX((Circuit2!$F$4-C46), 0.001)/(Circuit2!$F$5+Circuit2!$F$28+Circuit2!$F$24/Circuit2!$F$29)","v":1.8291460746661061},{"$f":"C46/(Circuit2!$F$6+Circuit2!$F$28+Circuit2!$F$24/Circuit2!$F$29)","v":1.5047897419286991},{"$f":"(Circuit2!$F$20/1000000000+Circuit2!$F$21/2/1000000000)*MAX(Circuit2!$F$29,1)","v":8.0000000000000005E-9},3.8171349196553825E-9,5.3163573468718271E-9,{"$f":"0.5*Circuit2!$B$3*(G46*MAX((A46-Circuit2!$B$8),0)+H46*(A46+Circuit2!$B$8))*Circuit2!$B$5*1000","v":0.74467035425288541},{"$f":"MIN(MAX((1-AG45-Circuit2!$F$7/1000000000+Circuit2!$F$8/1000000000),0.001),1)*Circuit2!$B$7/1000000*AF46*(A46*A46+((Circuit2!$B$8)^2)/3)*Circuit2!$B$5*1000","v":5.9207649918395511},{"$f":"Circuit2!$B$3*$AN$2*Circuit2!$J$26*0.000000001*Circuit2!$B$5*1000","v":9.1800000000000007E-2},{"$f":"Circuit2!$J$21*A46*(Circuit2!$F$7/1000000000+Circuit2!$F$8/1000000000)*Circuit2!$B$5*1000","v":0.47992500000000005},{"$f":"A46*Circuit2!$B$4","v":32.4},{"$f":"Circuit2!$F$4*($AN$3/1000000000*Circuit2!$F$29)*Circuit2!$B$5*1000+Circuit2!$F$4*Circuit2!$F$9/1000/2","v":4.1136363636363645E-2},{"$f":"Circuit2!$F$4*($AN$4/1000000000*Circuit2!$J$26)*Circuit2!$B$5*1000+Circuit2!$F$4*Circuit2!$F$9/1000/2","v":2.5727272727272727E-2},{"$f":"(A46*A46+((Circuit2!$B$8)^2)/3)*(Circuit2!$J$9+Circuit2!$J$12)/1000*(1+0.002*AE45)","v":2.1898492796567184},{"$f":"Circuit2!$J$8/1000","v":0.05},{"$f":"0","v":0},{"$f":"(Circuit2!$F$19/1000000000000*Circuit2!$F$29+0*Circuit2!$J$19/1000000000000*Circuit2!$J$26)*Circuit2!$B$3*Circuit2!$B$3*Circuit2!$B$5*1000","v":8.7480000000000002E-2},0,{"$f":"(Circuit2!$B$8/1.732)^2*Circuit2!$J$4/1000","v":1.944114054691208E-3},0.76286126004023713,1.2705338683839373,6.4006899918395508,2.2417933937114096,4.1136363636363645E-2,{"$f":"W46*Circuit2!$F$25/MAX(Circuit2!$F$29,1)","v":61.747946003459354},43.741590297964855,{"$f":"$AN$6*(1+AB45*0.85*Circuit2!$F$26/100)/1000/MAX(Circuit2!$F$29,1)","v":4.6081498012353938E-3},{"$f":"X46*Circuit2!$J$22/MAX(Circuit2!$J$26,1)","v":318.75436159360959},102.0004466230299,{"$f":"$AN$7/1000*(1+AE45*0.85*Circuit2!$J$23/100)/MAX(Circuit2!$J$26,1)","v":9.3349682120898846E-3},{"$f":"(U46+T46+S46+R46+Q46+P46+N46+M46+L46+J46+I46+B46+O46+K46)/A46/Circuit2!$B$3","v":0.1310854348466004}]
[{"$f":"Circuit2!$B$10/50*46","v":27.599999999999998},{"$f":"AG46*Circuit2!$B$7/1000000*AC47*(A47*A47+((Circuit2!$B$8)^2)/3)*Circuit2!$B$5*1000","v":0.4619051080251444},{"$f":"(Circuit2!$F$22+A47/(Circuit2!$F$23*Circuit2!$F$29))/(1+((Circuit2!$F$22+A47/(Circuit2!$F$23*Circuit2!$F$29))/Circuit2!$F$4)^(5))^(0.2)","v":2.1003443803015083},{"$f":"MAX((Circuit2!$F$4-C47), 0.001)/(Circuit2!$F$5+Circuit2!$F$28+Circuit2!$F$24/Circuit2!$F$29)","v":1.8236827796845863},{"$f":"C47/(Circuit2!$F$6+Circuit2!$F$28+Circuit2!$F$24/Circuit2!$F$29)","v":1.5110391225190709},{"$f":"(Circuit2!$F$20/1000000000+Circuit2!$F$21/2/1000000000)*MAX(Circuit2!$F$29,1)","v":8.0000000000000005E-9},3.8271113061809641E-9,5.2943698682421322E-9,{"$f":"0.5*Circuit2!$B$3*(G47*MAX((A47-Circuit2!$B$8),0)+H47*(A47+Circuit2!$B$8))*Circuit2!$B$5*1000","v":0.76001255898331055},{"$f":"MIN(MAX((1-AG46-Circuit2!$F$7/1000000000+Circuit2!$F$8/1000000000),0.001),1)*Circuit2!$B$7/1000000*AF47*(A47*A47+((Circuit2!$B$8)^2)/3)*Circuit2!$B$5*1000","v":6.2092151739971149},{"$f":"Circuit2!$B$3*$AN$2*Circuit2!$J$26*0.000000001*Circuit2!$B$5*1000","v":9.1800000000000007E-2},{"$f":"Circuit2!$J$21*A47*(Circuit2!$F$7/1000000000+Circuit2!$F$8/1000000000)*Circuit2!$B$5*1000","v":0.49058999999999997},{"$f":"A47*Circuit2!$B$4","v":33.119999999999997},{"$f":"Circuit2!$F$4*($AN$3/1000000000*Circuit2!$F$29)*Circuit2!$B$5*1000+Circuit2!$F$4*Circuit2!$F$9/1000/2","v":4.1136363636363645E-2},{"$f":"Circuit2!$F$4*($AN$4/1000000000*Circuit2!$J$26)*Circuit2!$B$5*1000+Circuit2!$F$4*Circuit2!$F$9/1000/2","v":2.5727272727272727E-2},{"$f":"(A47*A47+((Circuit2!$B$8)^2)/3)*(Circuit2!$J$9+Circuit2!$J$12)/1000*(1+0.002*AE46)","v":2.2940695899660311},{"$f":"Circuit2!$J$8/1000","v":0.05},{"$f":"0","v":0},{"$f":"(Circuit2!$F$19/1000000000000*Circuit2!$F$29+0*Circuit2!$J$19/1000000000000*Circuit2!$J$26)*Circuit2!$B$3*Circuit2!$B$3*Circuit2!$B$5*1000","v":8.7480000000000002E-2},0,{"$f":"(Circuit2!$B$8/1.732)^2*Circuit2!$J$4/1000","v":1.944114054691208E-3},0.75904319905351547,1.3093976670084551,6.6998051739971149,2.3460137040207223,4.1136363636363645E-2,{"$f":"W47*Circuit2!$F$25/MAX(Circuit2!$F$29,1)","v":63.636726616610915},44.681030006707864,{"$f":"$AN$6*(1+AB46*0.85*Circuit2!$F$26/100)/1000/MAX(Circuit2!$F$29,1)","v":4.6233689894556503E-3},{"$f":"X47*Circuit2!$J$22/MAX(Circuit2!$J$26,1)","v":333.65029766505631},103.47878392999154,{"$f":"$AN$7/1000*(1+AE46*0.85*Circuit2!$J$23/100)/MAX(Circuit2!$J$26,1)","v":9.3760489351192855E-3},{"$f":"(U47+T47+S47+R47+Q47+P47+N47+M47+L47+J47+I47+B47+O47+K47)/A47/Circuit2!$B$3","v":0.13174480731095992}]
[{"$f":"Circuit2!$B$10/50*47","v":28.2},{"$f":"AG47*Circuit2!$B$7/1000000*AC48*(A48*A48+((Circuit2!$B$8)^2)/3)*Circuit2!$B$5*1000","v":0.48621981413739029},{"$f":"(Circuit2!$F$22+A48/(Circuit2!$F$23*Circuit2!$F$29))/(1+((Circuit2!$F$22+A48/(Circuit2!$F$23*Circuit2!$F$29))/Circuit2!$F$4)^(5))^(0.2)","v":2.1090281633805823},{"$f":"MAX((Circuit2!$F$4-C48), 0.001)/(Circuit2!$F$5+Circuit2!$F$28+Circuit2!$F$24/Circuit2!$F$29)","v":1.8182212808927156},{"$f":"C48/(Circuit2!$F$6+Circuit2!$F$28+Circuit2!$F$24/Circuit2!$F$29)","v":1.5172864484752391},{"$f":"(Circuit2!$F$20/1000000000+Circuit2!$F$21/2/1000000000)*MAX(Circuit2!$F$29,1)","v":8.0000000000000005E-9},3.8371366717165703E-9,5.2725706527198012E-9,{"$f":"0.5*Circuit2!$B$3*(G48*MAX((A48-Circuit2!$B$8),0)+H48*(A48+Circuit2!$B$8))*Circuit2!$B$5*1000","v":0.77533204574576753},{"$f":"MIN(MAX((1-AG47-Circuit2!$F$7/1000000000+Circuit2!$F$8/1000000000),0.001),1)*Circuit2!$B$7/1000000*AF48*(A48*A48+((Circuit2!$B$8)^2)/3)*Circuit2!$B$5*1000","v":6.5043177861458199},{"$f":"Circuit2!$B$3*$AN$2*Circuit2!$J$26*0.000000001*Circuit2!$B$5*1000","v":9.1800000000000007E-2},{"$f":"Circuit2!$J$21*A48*(Circuit2!$F$7/1000000000+Circuit2!$F$8/1000000000)*Circuit2!$B$5*1000","v":0.50125500000000001},{"$f":"A48*Circuit2!$B$4","v":33.839999999999996},{"$f":"Circuit2!$F$4*($AN$3/1000000000*Circuit2!$F$29)*Circuit2!$B$5*1000+Circuit2!$F$4*Circuit2!$F$9/1000/2","v":4.1136363636363645E-2},{"$f":"Circuit2!$F$4*($AN$4/1000000000*Circuit2!$J$26)*Circuit2!$B$5*1000+Circuit2!$F$4*Circuit2!$F$9/1000/2","v":2.5727272727272727E-2},{"$f":"(A48*A48+((Circuit2!$B$8)^2)/3)*(Circuit2!$J$9+Circuit2!$J$12)/1000*(1+0.002*AE47)","v":2.4007255034183923},{"$f":"Circuit2!$J$8/1000","v":0.05},{"$f":"0","v":0},{"$f":"(Circuit2!$F$19/1000000000000*Circuit2!$F$29+0*Circuit2!$J$19/1000000000000*Circuit2!$J$26)*Circuit2!$B$3*Circuit2!$B$3*Circuit2!$B$5*1000","v":8.7480000000000002E-2},0,{"$f":"(Circuit2!$B$8/1.732)^2*Circuit2!$J$4/1000","v":1.944114054691208E-3},0.75525703927071308,1.3490318598831579,7.0055727861458195,2.4526696174730835,4.1136363636363645E-2,{"$f":"W48*Circuit2!$F$25/MAX(Circuit2!$F$29,1)","v":65.56294839032148},45.622136512722598,{"$f":"$AN$6*(1+AB47*0.85*Circuit2!$F$26/100)/1000/MAX(Circuit2!$F$29,1)","v":4.6386184507907526E-3},{"$f":"X48*Circuit2!$J$22/MAX(Circuit2!$J$26,1)","v":348.87752475006181},104.89874992610156,{"$f":"$AN$7/1000*(1+AE47*0.85*Circuit2!$J$23/100)/MAX(Circuit2!$J$26,1)","v":9.4155104490991452E-3},{"$f":"(U48+T48+S48+R48+Q48+P48+N48+M48+L48+J48+I48+B48+O48+K48)/A48/Circuit2!$B$3","v":0.13240525384121068}]
[{"$f":"Circuit2!$B$10/50*48","v":28.799999999999997},{"$f":"AG48*Circuit2!$B$7/1000000*AC49*(A49*A49+((Circuit2!$B$8)^2)/3)*Circuit2!$B$5*1000","v":0.51134062659014712},{"$f":"(Circuit2!$F$22+A49/(Circuit2!$F$23*Circuit2!$F$29))/(1+((Circuit2!$F$22+A49/(Circuit2!$F$23*Circuit2!$F$29))/Circuit2!$F$4)^(5))^(0.2)","v":2.1177090441166824},{"$f":"MAX((Circuit2!$F$4-C49), 0.001)/(Circuit2!$F$5+Circuit2!$F$28+Circuit2!$F$24/Circuit2!$F$29)","v":1.8127616074737849},{"$f":"C49/(Circuit2!$F$6+Circuit2!$F$28+Circuit2!$F$24/Circuit2!$F$29)","v":1.5235316864148796},{"$f":"(Circuit2!$F$20/1000000000+Circuit2!$F$21/2/1000000000)*MAX(Circuit2!$F$29,1)","v":8.0000000000000005E-9},3.8472113222115655E-9,5.2509574112142785E-9,{"$f":"0.5*Circuit2!$B$3*(G49*MAX((A49-Circuit2!$B$8),0)+H49*(A49+Circuit2!$B$8))*Circuit2!$B$5*1000","v":0.79062991589636156},{"$f":"MIN(MAX((1-AG48-Circuit2!$F$7/1000000000+Circuit2!$F$8/1000000000),0.001),1)*Circuit2!$B$7/1000000*AF49*(A49*A49+((Circuit2!$B$8)^2)/3)*Circuit2!$B$5*1000","v":6.806033539774953},{"$f":"Circuit2!$B$3*$AN$2*Circuit2!$J$26*0.000000001*Circuit2!$B$5*1000","v":9.1800000000000007E-2},{"$f":"Circuit2!$J$21*A49*(Circuit2!$F$7/1000000000+Circuit2!$F$8/1000000000)*Circuit2!$B$5*1000","v":0.51191999999999993},{"$f":"A49*Circuit2!$B$4","v":34.559999999999995},{"$f":"Circuit2!$F$4*($AN$3/1000000000*Circuit2!$F$29)*Circuit2!$B$5*1000+Circuit2!$F$4*Circuit2!$F$9/1000/2","v":4.1136363636363645E-2},{"$f":"Circuit2!$F$4*($AN$4/1000000000*Circuit2!$J$26)*Circuit2!$B$5*1000+Circuit2!$F$4*Circuit2!$F$9/1000/2","v":2.5727272727272727E-2},{"$f":"(A49*A49+((Circuit2!$B$8)^2)/3)*(Circuit2!$J$9+Circuit2!$J$12)/1000*(1+0.002*AE48)","v":2.5098120188633843},{"$f":"Circuit2!$J$8/1000","v":0.05},{"$f":"0","v":0},{"$f":"(Circuit2!$F$19/1000000000000*Circuit2!$F$29+0*Circuit2!$J$19/1000000000000*Circuit2!$J$26)*Circuit2!$B$3*Circuit2!$B$3*Circuit2!$B$5*1000","v":8.7480000000000002E-2},0,{"$f":"(Circuit2!$B$8/1.732)^2*Circuit2!$J$4/1000","v":1.944114054691208E-3},0.75150326989956706,1.3894505424865087,7.3179535397749529,2.5617561329180756,4.1136363636363645E-2,{"$f":"W49*Circuit2!$F$25/MAX(Circuit2!$F$29,1)","v":67.527296364844318},46.564705322029006,{"$f":"$AN$6*(1+AB48*0.85*Circuit2!$F$26/100)/1000/MAX(Circuit2!$F$29,1)","v":4.6538949684236802E-3},{"$f":"X49*Circuit2!$J$22/MAX(Circuit2!$J$26,1)","v":364.43408628079266},106.26261828280394,{"$f":"$AN$7/1000*(1+AE48*0.85*Circuit2!$J$23/100)/MAX(Circuit2!$J$26,1)","v":9.4534138475607481E-3},{"$f":"(U49+T49+S49+R49+Q49+P49+N49+M49+L49+J49+I49+B49+O49+K49)/A49/Circuit2!$B$3","v":0.13306661994080779}]
[{"$f":"Circuit2!$B$10/50*49","v":29.4},{"$f":"AG49*Circuit2!$B$7/1000000*AC50*(A50*A50+((Circuit2!$B$8)^2)/3)*Circuit2!$B$5*1000","v":0.53728055854128709},{"$f":"(Circuit2!$F$22+A50/(Circuit2!$F$23*Circuit2!$F$29))/(1+((Circuit2!$F$22+A50/(Circuit2!$F$23*Circuit2!$F$29))/Circuit2!$F$4)^(5))^(0.2)","v":2.1263869755895297},{"$f":"MAX((Circuit2!$F$4-C50), 0.001)/(Circuit2!$F$5+Circuit2!$F$28+Circuit2!$F$24/Circuit2!$F$29)","v":1.8073037889374028},{"$f":"C50/(Circuit2!$F$6+Circuit2!$F$28+Circuit2!$F$24/Circuit2!$F$29)","v":1.5297748025823956},{"$f":"(Circuit2!$F$20/1000000000+Circuit2!$F$21/2/1000000000)*MAX(Circuit2!$F$29,1)","v":8.0000000000000005E-9},3.8573355654046198E-9,5.2295278929259981E-9,{"$f":"0.5*Circuit2!$B$3*(G50*MAX((A50-Circuit2!$B$8),0)+H50*(A50+Circuit2!$B$8))*Circuit2!$B$5*1000","v":0.80590726016592973},{"$f":"MIN(MAX((1-AG49-Circuit2!$F$7/1000000000+Circuit2!$F$8/1000000000),0.001),1)*Circuit2!$B$7/1000000*AF50*(A50*A50+((Circuit2!$B$8)^2)/3)*Circuit2!$B$5*1000","v":7.1143242880223765},{"$f":"Circuit2!$B$3*$AN$2*Circuit2!$J$26*0.000000001*Circuit2!$B$5*1000","v":9.1800000000000007E-2},{"$f":"Circuit2!$J$21*A50*(Circuit2!$F$7/1000000000+Circuit2!$F$8/1000000000)*Circuit2!$B$5*1000","v":0.52258499999999997},{"$f":"A50*Circuit2!$B$4","v":35.279999999999994},{"$f":"Circuit2!$F$4*($AN$3/1000000000*Circuit2!$F$29)*Circuit2!$B$5*1000+Circuit2!$F$4*Circuit2!$F$9/1000/2","v":4.1136363636363645E-2},{"$f":"Circuit2!$F$4*($AN$4/1000000000*Circuit2!$J$26)*Circuit2!$B$5*1000+Circuit2!$F$4*Circuit2!$F$9/1000/2","v":2.5727272727272727E-2},{"$f":"(A50*A50+((Circuit2!$B$8)^2)/3)*(Circuit2!$J$9+Circuit2!$J$12)/1000*(1+0.002*AE49)","v":2.6213243582245629},{"$f":"Circuit2!$J$8/1000","v":0.05},{"$f":"0","v":0},{"$f":"(Circuit2!$F$19/1000000000000*Circuit2!$F$29+0*Circuit2!$J$19/1000000000000*Circuit2!$J$26)*Circuit2!$B$3*Circuit2!$B$3*Circuit2!$B$5*1000","v":8.7480000000000002E-2},0,{"$f":"(Circuit2!$B$8/1.732)^2*Circuit2!$J$4/1000","v":1.944114054691208E-3},0.74778225943276089,1.4306678187072168,7.6369092880223768,2.6732684722792541,4.1136363636363645E-2,{"$f":"W50*Circuit2!$F$25/MAX(Circuit2!$F$29,1)","v":69.530455989170733},47.508526101226217,{"$f":"$AN$6*(1+AB49*0.85*Circuit2!$F$26/100)/1000/MAX(Circuit2!$F$29,1)","v":4.6691952229045378E-3},{"$f":"X50*Circuit2!$J$22/MAX(Circuit2!$J$26,1)","v":380.31808254351432},107.57263283936052,{"$f":"$AN$7/1000*(1+AE49*0.85*Circuit2!$J$23/100)/MAX(Circuit2!$J$26,1)","v":9.4898198220100538E-3},{"$f":"(U50+T50+S50+R50+Q50+P50+N50+M50+L50+J50+I50+B50+O50+K50)/A50/Circuit2!$B$3","v":0.13372876761726893}]
[{"$f":"Circuit2!$B$10/50*50","v":30},{"$f":"AG50*Circuit2!$B$7/1000000*AC51*(A51*A51+((Circuit2!$B$8)^2)/3)*Circuit2!$B$5*1000","v":0.56405263785450854},{"$f":"(Circuit2!$F$22+A51/(Circuit2!$F$23*Circuit2!$F$29))/(1+((Circuit2!$F$22+A51/(Circuit2!$F$23*Circuit2!$F$29))/Circuit2!$F$4)^(5))^(0.2)","v":2.135061910357773},{"$f":"MAX((Circuit2!$F$4-C51), 0.001)/(Circuit2!$F$5+Circuit2!$F$28+Circuit2!$F$24/Circuit2!$F$29)","v":1.8018478551208976},{"$f":"C51/(Circuit2!$F$6+Circuit2!$F$28+Circuit2!$F$24/Circuit2!$F$29)","v":1.5360157628473188},{"$f":"(Circuit2!$F$20/1000000000+Circuit2!$F$21/2/1000000000)*MAX(Circuit2!$F$29,1)","v":8.0000000000000005E-9},3.8675097108269649E-9,5.2082798845568921E-9,{"$f":"0.5*Circuit2!$B$3*(G51*MAX((A51-Circuit2!$B$8),0)+H51*(A51+Circuit2!$B$8))*Circuit2!$B$5*1000","v":0.82116515894743203},{"$f":"MIN(MAX((1-AG50-Circuit2!$F$7/1000000000+Circuit2!$F$8/1000000000),0.001),1)*Circuit2!$B$7/1000000*AF51*(A51*A51+((Circuit2!$B$8)^2)/3)*Circuit2!$B$5*1000","v":7.4291530290992105},{"$f":"Circuit2!$B$3*$AN$2*Circuit2!$J$26*0.000000001*Circuit2!$B$5*1000","v":9.1800000000000007E-2},{"$f":"Circuit2!$J$21*A51*(Circuit2!$F$7/1000000000+Circuit2!$F$8/1000000000)*Circuit2!$B$5*1000","v":0.53325000000000011},{"$f":"A51*Circuit2!$B$4","v":36},{"$f":"Circuit2!$F$4*($AN$3/1000000000*Circuit2!$F$29)*Circuit2!$B$5*1000+Circuit2!$F$4*Circuit2!$F$9/1000/2","v":4.1136363636363645E-2},{"$f":"Circuit2!$F$4*($AN$4/1000000000*Circuit2!$J$26)*Circuit2!$B$5*1000+Circuit2!$F$4*Circuit2!$F$9/1000/2","v":2.5727272727272727E-2},{"$f":"(A51*A51+((Circuit2!$B$8)^2)/3)*(Circuit2!$J$9+Circuit2!$J$12)/1000*(1+0.002*AE50)","v":2.735257968975362},{"$f":"Circuit2!$J$8/1000","v":0.05},{"$f":"0","v":0},{"$f":"(Circuit2!$F$19/1000000000000*Circuit2!$F$29+0*Circuit2!$J$19/1000000000000*Circuit2!$J$26)*Circuit2!$B$3*Circuit2!$B$3*Circuit2!$B$5*1000","v":8.7480000000000002E-2},0,{"$f":"(Circuit2!$B$8/1.732)^2*Circuit2!$J$4/1000","v":1.944114054691208E-3},0.74409427034278797,1.4726977968019406,7.9624030290992103,2.7872020830300532,4.1136363636363645E-2,{"$f":"W51*Circuit2!$F$25/MAX(Circuit2!$F$29,1)","v":71.573112924574318},48.453383160892706,{"$f":"$AN$6*(1+AB50*0.85*Circuit2!$F$26/100)/1000/MAX(Circuit2!$F$29,1)","v":4.6845157999949949E-3},{"$f":"X51*Circuit2!$J$22/MAX(Circuit2!$J$26,1)","v":396.52767084914063},108.83099575719244,{"$f":"$AN$7/1000*(1+AE50*0.85*Circuit2!$J$23/100)/MAX(Circuit2!$J$26,1)","v":9.5247882676374081E-3},{"$f":"(U51+T51+S51+R51+Q51+P51+N51+M51+L51+J51+I51+B51+O51+K51)/A51/Circuit2!$B$3","v":0.13439157373693011}]

{"sheet":"Constants","index":9,"n_rows":180,"n_cols":13,"rows_kept":180,"cut":false,"hidden":true,"merged":[]}
["Nominal Values of Capacitance (uC)",null,"NominalValueofInductor(Uh)",null,"LowSide_MOSFET","HighSide_MOSFET",{"$f":"CONCATENATE(Circuit2!F16,\"x\",Circuit2!F29,\"+\",Circuit2!J16,\"x\",Circuit2!J26,\"@\",Circuit2!B5,\"kHz;\")","v":"NTMFS4C05x1+NTMFS4C08x1@500kHz;"},null,null,null,null,"DPAK","HighSide"]
[0.01,null,"0.0018  ",null,"NTMFS4C05","NTMFS4C05",{"$f":"CONCATENATE(\"Vin=\",Circuit2!$B$3,\"V;\",\"Vout=\",Circuit2!B4,\"V;\",\"Driver=\",Circuit2!F3,\"(\",Circuit2!$F$4,\"V)\")","v":"Vin=12V;Vout=1.2V;Driver=NCP81151(5V)"},null,null,null,null,"SOIC−8","LowSide"]
[1.4999999999999999E-2,null,2.2000000000000001E-3,null,"NTMFS4C06","NTMFS4C06",null,null,null,null,null,"SO−8FL"]
[2.1999999999999999E-2,null,2.7000000000000001E-3,null,"NTMFS4C08","NTMFS4C08",{"$f":"CONCATENATE(Circuit1!F16,\"x\",Circuit1!F29,\"+\",Circuit1!J16,\"x\",Circuit1!J26,\"@\",Circuit1!B5,\"kHz;\")","v":"NTMFS4C05x1+NTMFS4C05x1@500kHz;"},null,null,null,null,"u-8FL"]
[3.3000000000000002E-2,null,3.3E-3,null,"NTMFS4C09","NTMFS4C09",{"$f":"CONCATENATE(\"Vin=\",Circuit1!$B$3,\"V;\",\"Vout=\",Circuit1!B4,\"V;\",\"Driver=\",Circuit1!F3,\"(\",Circuit1!$F$4,\"V)\")","v":"Vin=12V;Vout=1.2V;Driver=NCP5911(5V)"}]
[4.7E-2,null,3.8999999999999998E-3,null,"NTMFS4C10","NTMFS4C10"]
[6.8000000000000005E-2,null,4.7000000000000002E-3,null,"NTMFS4C13","NTMFS4C13"]
[0.1,null,5.5999999999999999E-3,null,"NTTFS4C05","NTTFS4C05"]
[0.15,null,6.7999999999999996E-3,null,"NTTFS4C10","NTTFS4C10"]
[0.22,null,8.2000000000000007E-3,null,"NTTFS4C25","NTTFS4C25"]
[0.33,null,"0.010  ",null,"NTMFS4C35","NTMFS4C35","-"]
[0.47,{"$f":"INDEX(A2:A15,1+MATCH(0.9,A2:A15))","v":1},1.2E-2,null,"NTTFS4C06","NTTFS4C13","-"]
[0.68,null,1.4999999999999999E-2,null,"NTTFS4C13","NTTFS4C08","-"]
[1,null,1.7999999999999999E-2,null,"NTTFS4C08","NVTFS4C10"]
[1.5,null,2.1999999999999999E-2,null,"NVTFS4C05","NVTFS4C25"]
[2.2000000000000002,null,2.7E-2,null,"NVTFS4C10","NTTFS4H07N"]
[3.3,null,3.3000000000000002E-2,null,"NVTFS4C25","NTTFS4H05N",null,{"$f":"MIN(MAX(IF(ISNUMBER(VLOOKUP(Circuit1!F16,MOSFETs!A1:S147,2,0)+(Circuit1!$F$4-4.5)*(VLOOKUP(Circuit1!F16,MOSFETs!A1:S1497,13,0)-VLOOKUP(Circuit1!F16,MOSFETs!A1:S147,2,0))/5.5),VLOOKUP(Circuit1!F16,MOSFETs!A1:S147,2,0), 0.001),0.001),1000)","v":4},{"$f":"MIN(MAX(IF(ISNUMBER(VLOOKUP(Circuit1!J16,MOSFETs!A1:S147,2,0)+(Circuit1!$F$4-4.5)*(VLOOKUP(Circuit1!J16,MOSFETs!A1:S1497,13,0)-VLOOKUP(Circuit1!J16,MOSFETs!A1:S147,2,0))/5.5),VLOOKUP(Circuit1!J16,MOSFETs!A1:S147,2,0), 0.001),0.001),1000)","v":4},{"$f":"MIN(MAX(IF(ISNUMBER(VLOOKUP(Circuit2!F16,MOSFETs!A1:S64,2,0)+(Circuit2!$F$4-4.5)*(VLOOKUP(Circuit2!F16,MOSFETs!A1:S64,13,0)-VLOOKUP(Circuit2!F16,MOSFETs!A1:S64,2,0))/5.5),VLOOKUP(Circuit2!F16,MOSFETs!A1:S64,2,0), 0.001),0.001),1000)","v":4},{"$f":"MIN(MAX(IF(ISNUMBER(VLOOKUP(Circuit2!J16,MOSFETs!A1:S64,2,0)+(Circuit2!$F$4-4.5)*(VLOOKUP(Circuit2!J16,MOSFETs!A1:S64,13,0)-VLOOKUP(Circuit2!J16,MOSFETs!A1:S64,2,0))/5.5),VLOOKUP(Circuit2!J16,MOSFETs!A1:S64,2,0), 0.001),0.001),1000)","v":6.8}]
[4.7,null,3.9E-2,null,"NTTFS4H07N","NTMFS5C404NL",null,{"$f":"MIN(MAX(IF(ISNUMBER(VLOOKUP(Circuit1!F16, MOSFETs!A1:S147,17,0)+(Circuit1!F4-4.5)*(VLOOKUP(Circuit1!F16, MOSFETs!A1:S147,18,0)-VLOOKUP(Circuit1!F16, MOSFETs!A1:S147,17,0))/5.5),VLOOKUP(Circuit1!F16, MOSFETs!A1:S147,17,0),20),0.001),1000000)","v":14},{"$f":"MIN(MAX(IF(ISNUMBER(VLOOKUP(Circuit1!J16, MOSFETs!A1:S147,17,0)+(Circuit1!F4-4.5)*(VLOOKUP(Circuit1!J16, MOSFETs!A1:S147,18,0)-VLOOKUP(Circuit1!J16, MOSFETs!A1:S147,17,0))/5.5),VLOOKUP(Circuit1!J16, MOSFETs!A1:S147,17,0),20),0.001),1000000)","v":14},{"$f":"MIN(MAX(IF(ISNUMBER(VLOOKUP(Circuit2!F16, MOSFETs!A1:S64,17,0)+(Circuit2!F4-4.5)*(VLOOKUP(Circuit2!F16, MOSFETs!A1:S64,18,0)-VLOOKUP(Circuit2!F16, MOSFETs!A1:S64,17,0))/5.5),VLOOKUP(Circuit2!F16, MOSFETs!A1:S64,17,0),20),0.001),1000000)","v":14},{"$f":"MIN(MAX(IF(ISNUMBER(VLOOKUP(Circuit2!J16, MOSFETs!A1:S64,17,0)+(Circuit2!F4-4.5)*(VLOOKUP(Circuit2!J16, MOSFETs!A1:S64,18,0)-VLOOKUP(Circuit2!J16, MOSFETs!A1:S64,17,0))/5.5),VLOOKUP(Circuit2!J16, MOSFETs!A1:S64,17,0),20),0.001),1000000)","v":8.4}]
[6.8,null,4.7E-2,null,"NTTFS4H05N","NTMFS5C410NL",null,{"$f":"IF(ISNUMBER(VLOOKUP(Circuit1!F16,MOSFETs!A1:S147,4,0)),VLOOKUP(Circuit1!F16,MOSFETs!A1:S147,4,0),0.000000001)","v":1215},{"$f":"IF(ISNUMBER(VLOOKUP(Circuit1!J16,MOSFETs!A1:S147,4,0)),VLOOKUP(Circuit1!J16,MOSFETs!A1:S147,4,0),0.000000001)","v":1215},{"$f":"IF(ISNUMBER(VLOOKUP(Circuit2!F16,MOSFETs!A1:S64,4,0)),VLOOKUP(Circuit2!F16,MOSFETs!A1:S64,4,0),0.000000001)","v":1215},{"$f":"IF(ISNUMBER(VLOOKUP(Circuit2!J16,MOSFETs!A1:S64,4,0)),VLOOKUP(Circuit2!J16,MOSFETs!A1:S64,4,0),0.000000001)","v":702}]
[10,null,5.6000000000000001E-2,null,"NTMFS4H02N","NTMFS5C442NL",null,{"$f":"IF(ISNUMBER(VLOOKUP(Circuit1!F16,MOSFETs!A1:S147,5,0)),VLOOKUP(Circuit1!F16,MOSFETs!A1:S147,5,0),0.000000001)","v":5},{"$f":"IF(ISNUMBER(VLOOKUP(Circuit1!J16,MOSFETs!A1:S147,14,0)),VLOOKUP(Circuit1!J16,MOSFETs!A1:S147,14,0),1)","v":30.2},{"$f":"IF(ISNUMBER(VLOOKUP(Circuit2!F16,MOSFETs!A1:S64,5,0)),VLOOKUP(Circuit2!F16,MOSFETs!A1:S64,5,0),0.000000001)","v":5},{"$f":"IF(ISNUMBER(VLOOKUP(Circuit2!J16,MOSFETs!A1:S64,14,0)),VLOOKUP(Circuit2!J16,MOSFETs!A1:S64,14,0),1)","v":15.3}]
[15,null,6.8000000000000005E-2,null,"NTMFS4H02NF","NTMFS5C604NL",null,{"$f":"IF(ISNUMBER(VLOOKUP(Circuit1!F16,MOSFETs!A1:S147,6,0)),VLOOKUP(Circuit1!F16,MOSFETs!A1:S147,6,0),0.000000001)","v":6},{"$f":"IF(ISNUMBER(VLOOKUP(Circuit1!J16, MOSFETs!A1:S147,8,0)),VLOOKUP(Circuit1!J16, MOSFETs!A1:S147,8,0),0.7)","v":0.77},{"$f":"IF(ISNUMBER(VLOOKUP(Circuit2!F16,MOSFETs!A1:S64,6,0)),VLOOKUP(Circuit2!F16,MOSFETs!A1:S64,6,0),0.000000001)","v":6},{"$f":"IF(ISNUMBER(VLOOKUP(Circuit2!J16, MOSFETs!A1:S64,8,0)),VLOOKUP(Circuit2!J16, MOSFETs!A1:S64,8,0),0.7)","v":0.79}]
[22,null,8.2000000000000003E-2,null,"NTMFS4H01N","NTMFS5C612NL",null,{"$f":"IF(ISNUMBER(VLOOKUP(Circuit1!F16,MOSFETs!A1:S147,7,0)),VLOOKUP(Circuit1!F16,MOSFETs!A1:S147,7,0),0.000000001)","v":1.7},{"$f":"IF(ISNUMBER(VLOOKUP(Circuit1!J16, MOSFETs!A1:S147,11,0)),VLOOKUP(Circuit1!J16, MOSFETs!A1:S147,11,0),50)","v":48.6},{"$f":"IF(ISNUMBER(VLOOKUP(Circuit2!F16,MOSFETs!A1:S64,7,0)),VLOOKUP(Circuit2!F16,MOSFETs!A1:S64,7,0),0.000000001)","v":1.7},{"$f":"IF(ISNUMBER(VLOOKUP(Circuit2!J16, MOSFETs!A1:S64,11,0)),VLOOKUP(Circuit2!J16, MOSFETs!A1:S64,11,0),50)","v":49.8}]
[33,null,"0.100  ",null,"NTMFS4H01NF","NTMFS5C646NL",null,{"$f":"IF(ISNUMBER(VLOOKUP(Circuit1!F16,MOSFETs!A1:S147,9,0)),VLOOKUP(Circuit1!F16,MOSFETs!A1:S147,9,0),10)","v":68},{"$f":"IF(ISNUMBER(VLOOKUP(Circuit1!J16, MOSFETs!A1:S147,12,0)),VLOOKUP(Circuit1!J16, MOSFETs!A1:S147,12,0),0.005)*100","v":0.48799999999999999},{"$f":"IF(ISNUMBER(VLOOKUP(Circuit2!F16,MOSFETs!A1:S64,9,0)),VLOOKUP(Circuit2!F16,MOSFETs!A1:S64,9,0),10)","v":68},{"$f":"IF(ISNUMBER(VLOOKUP(Circuit2!J16, MOSFETs!A1:S64,12,0)),VLOOKUP(Circuit2!J16, MOSFETs!A1:S64,12,0),0.005)*100","v":0.47200000000000003}]
[47,null,0.12,null,"NTMFS4H013NF","NTMFD4C20N",null,{"$f":"IF(ISNUMBER(VLOOKUP(Circuit1!F16,MOSFETs!A1:S147,10,0)),VLOOKUP(Circuit1!F16,MOSFETs!A1:S147,10,0),0)","v":0.69},{"$f":"IF(ISNUMBER(VLOOKUP(Circuit1!J16,MOSFETs!A1:S147,20,0)),VLOOKUP(Circuit1!J16,MOSFETs!A1:S147,20,0),\"IDSMAX UNKOWN\")","v":"IDSMAX UNKOWN"},{"$f":"IF(ISNUMBER(VLOOKUP(Circuit2!F16,MOSFETs!A1:S64,10,0)),VLOOKUP(Circuit2!F16,MOSFETs!A1:S64,10,0),0)","v":0.69},{"$f":"IF(ISNUMBER(VLOOKUP(Circuit2!J16,MOSFETs!A1:S64,20,0)),VLOOKUP(Circuit2!J16,MOSFETs!A1:S64,20,0),\"IDSMAX UNKOWN\")","v":"IDSMAX UNKOWN"}]
[68,null,0.15,null,"NTMFS5C404NL","NTMFD4H84NF",null,{"$f":"IF(ISNUMBER(VLOOKUP(Circuit1!F16,MOSFETs!A1:S147,11,0)),VLOOKUP(Circuit1!F16,MOSFETs!A1:S147,11,0),50)","v":48.6},null,{"$f":"IF(ISNUMBER(VLOOKUP(Circuit2!F16,MOSFETs!A1:S64,11,0)),VLOOKUP(Circuit2!F16,MOSFETs!A1:S64,11,0),50)","v":48.6}]
[100,null,0.18,null,"NTMFS5C410NL","NTMFD4H85NF",null,{"$f":"IF(ISNUMBER(VLOOKUP(Circuit1!F16,MOSFETs!A1:S147,12,0)),VLOOKUP(Circuit1!F16,MOSFETs!A1:S147,12,0),0.005)*100","v":0.48799999999999999},null,{"$f":"IF(ISNUMBER(VLOOKUP(Circuit2!F16,MOSFETs!A1:S64,12,0)),VLOOKUP(Circuit2!F16,MOSFETs!A1:S64,12,0),0.005)*100","v":0.48799999999999999}]
[150,null,0.22,null,"NTMFS5C442NL","NTMFD4C85N",null,{"$f":"IF(ISNUMBER(VLOOKUP(Circuit1!F16,MOSFETs!A1:S147,20,0)),VLOOKUP(Circuit1!F16,MOSFETs!A1:S147,20,0),0)","v":0},null,{"$f":"IF(ISNUMBER(VLOOKUP(Circuit2!F16,MOSFETs!A1:S64,20,0)),VLOOKUP(Circuit2!F16,MOSFETs!A1:S64,20,0),0)","v":0}]
[220,null,0.27,null,"NTMFS5C604NL","NTMFD4C86N"]
[330,null,0.33,null,"NTMFS5C612NL","NTMFD4C87N"]
[470,null,0.39,null,"NTMFS5C646NL","NTMFD4C88N"]
[680,null,0.47,null,"NTMFD4C20N",null,null,1]
[1000,null,0.56000000000000005,null,"NTMFD4H84NF",null,null,2]
[1500,null,0.68,null,"NTMFD4H85NF",null,null,3]
[2200,null,0.82,null,"NTMFD4C85N",null,null,4]
[3300,null,"1.0  ",null,"NTMFD4C86N",null,null,5]
[4700,null,1.2,null,"NTMFD4C87N",null,null,6]
[6800,null,1.5,null,"NTMFD4C88N",null,null,7]
[10000,null,1.8,null,null,null,null,8]
[null,null,2.2000000000000002,null,null,null,null,9]
[null,null,2.7,null,null,null,null,10]
[null,null,3.3,null,null,null,null,11]
[null,null,3.9,null,null,null,null,12]
[null,null,4.7,null,null,null,null,13]
[null,null,5.6,null,null,null,null,14]
[null,null,6.8,null,null,null,null,15]
[null,null,8.1999999999999993,null,null,null,null,16]
[null,null,"10  ",null,null,null,null,17]
[null,null,12,null,null,null,null,18]
[null,null,15,null,null,null,null,19]
[null,null,18,null,null,null,null,20]
[null,null,22,null,null,null,null,21]
[null,null,27,null,null,null,null,22]
[null,null,33,null,null,null,null,23]
[null,null,39,null,null,null,null,24]
[null,null,47,null,null,null,null,25]
[null,null,null,null,null,null,null,26]
[null,null,null,null,null,null,null,27]
[null,null,null,null,null,null,null,28]
[null,null,null,null,null,null,null,29]
[null,null,null,null,null,null,null,30]
[null,null,null,null,null,null,null,31]
[null,null,null,null,null,null,null,32]
[null,null,null,null,null,null,null,33]
[null,null,null,null,null,null,null,34]
[null,null,null,null,null,null,null,35]
[null,null,null,null,null,null,null,36]
[null,null,null,null,null,null,null,37]
[null,null,null,null,null,null,null,38]
[null,null,null,null,null,null,null,39]
[null,null,null,null,null,null,null,40]
[null,null,null,null,null,null,null,41]
[null,null,null,null,null,null,null,42]
[null,null,null,null,null,null,null,43]
[null,null,null,null,null,null,null,44]
[null,null,null,null,null,null,null,45]
[null,null,null,null,null,null,null,46]
[null,null,null,null,null,null,null,47]
[null,null,null,null,null,null,null,48]
[null,null,null,null,null,null,null,49]
[null,null,null,null,null,null,null,50]
[null,null,null,null,null,null,null,51]
[null,null,null,null,null,null,null,52]
[null,null,null,null,null,null,null,53]
[null,null,null,null,null,null,null,54]
[null,null,null,null,null,null,null,55]
[null,null,null,null,null,null,null,56]
[null,null,null,null,null,null,null,57]
[null,null,null,null,null,null,null,58]
[null,null,null,null,null,null,null,59]
[null,null,null,null,null,null,null,60]
[null,null,null,null,null,null,null,61]
[null,null,null,null,null,null,null,62]
[null,null,null,null,null,null,null,63]
[null,null,null,null,null,null,null,64]
[null,null,null,null,null,null,null,65]
[null,null,null,null,null,null,null,66]
[null,null,null,null,null,null,null,67]
[null,null,null,null,null,null,null,68]
[null,null,null,null,null,null,null,69]
[null,null,null,null,null,null,null,70]
[null,null,null,null,null,null,null,71]
[null,null,null,null,null,null,null,72]
[null,null,null,null,null,null,null,73]
[null,null,null,null,null,null,null,74]
[null,null,null,null,null,null,null,75]
[null,null,null,null,null,null,null,76]
[null,null,null,null,null,null,null,77]
[null,null,null,null,null,null,null,78]
[null,null,null,null,null,null,null,79]
[null,null,null,null,null,null,null,80]
[null,null,null,null,null,null,null,81]
[null,null,null,null,null,null,null,82]
[null,null,null,null,null,null,null,83]
[null,null,null,null,null,null,null,84]
[null,null,null,null,null,null,null,85]
[null,null,null,null,null,null,null,86]
[null,null,null,null,null,null,null,87]
[null,null,null,null,null,null,null,88]
[null,null,null,null,null,null,null,89]
[null,null,null,null,null,null,null,90]
[null,null,null,null,null,null,null,91]
[null,null,null,null,null,null,null,92]
[null,null,null,null,null,null,null,93]
[null,null,null,null,null,null,null,94]
[null,null,null,null,null,null,null,95]
[null,null,null,null,null,null,null,96]
[null,null,null,null,null,null,null,97]
[null,null,null,null,null,null,null,98]
[null,null,null,null,null,null,null,99]
[null,null,null,null,null,null,null,100]
[null,null,null,null,null,null,null,101]
[null,null,null,null,null,null,null,102]
[null,null,null,null,null,null,null,103]
[null,null,null,null,null,null,null,104]
[null,null,null,null,null,null,null,105]
[null,null,null,null,null,null,null,106]
[null,null,null,null,null,null,null,107]
[null,null,null,null,null,null,null,108]
[null,null,null,null,null,null,null,109]
[null,null,null,null,null,null,null,110]
[null,null,null,null,null,null,null,111]
[null,null,null,null,null,null,null,112]
[null,null,null,null,null,null,null,113]
[null,null,null,null,null,null,null,114]
[null,null,null,null,null,null,null,115]
[null,null,null,null,null,null,null,116]
[null,null,null,null,null,null,null,117]
[null,null,null,null,null,null,null,118]
[null,null,null,null,null,null,null,119]
[null,null,null,null,null,null,null,120]
[null,null,null,null,null,null,null,121]
[null,null,null,null,null,null,null,122]
[null,null,null,null,null,null,null,123]
[null,null,null,null,null,null,null,124]
[null,null,null,null,null,null,null,125]
[null,null,null,null,null,null,null,126]
[null,null,null,null,null,null,null,127]
[null,null,null,null,null,null,null,128]
[null,null,null,null,null,null,null,129]
[null,null,null,null,null,null,null,130]
[null,null,null,null,null,null,null,131]
[null,null,null,null,null,null,null,132]
[null,null,null,null,null,null,null,133]
[null,null,null,null,null,null,null,134]
[null,null,null,null,null,null,null,135]
[null,null,null,null,null,null,null,136]
[null,null,null,null,null,null,null,137]
[null,null,null,null,null,null,null,138]
[null,null,null,null,null,null,null,139]
[null,null,null,null,null,null,null,140]
[null,null,null,null,null,null,null,141]
[null,null,null,null,null,null,null,142]
[null,null,null,null,null,null,null,143]
[null,null,null,null,null,null,null,144]
[null,null,null,null,null,null,null,145]
[null,null,null,null,null,null,null,146]
[null,null,null,null,null,null,null,147]
[null,null,null,null,null,null,null,148]
[null,null,null,null,null,null,null,149]
[null,null,null,null,null,null,null,150]

{"sheet":"Control1","index":10,"n_rows":122,"n_cols":26,"rows_kept":122,"cut":false,"hidden":true,"merged":[]}
["I(Load)","PHC",null,null,null,null,null,null,"PswHS","PconLS","PQrr","PDT",null,"PdrHS","PdrLS","Pw","P-pcb",null,"Pcsw",null,"Pesr",null,1,2]
[{"$f":"Circuit1Details!A2","v":0.6},{"$f":"Circuit1Details!B2*1000","v":0.29303039999999997},null,null,null,null,null,null,{"$f":"Circuit1Details!I2*1000","v":32.827829016527609},{"$f":"Circuit1Details!J2*1000","v":2.6372735560454403},{"$f":"Circuit1Details!K2*1000","v":181.2},{"$f":"Circuit1Details!L2*1000","v":10.394999999999998},null,{"$f":"Circuit1Details!N2*1000","v":41.136363636363647},{"$f":"Circuit1Details!O2*1000","v":41.136363636363647},{"$f":"Circuit1Details!P2*1000*Circuit1!$J$9/(Circuit1!$J$9+Circuit1!$J$12)","v":1.1232},{"$f":"Circuit1Details!P2*1000*Circuit1!$J$12/(Circuit1!$J$9+Circuit1!$J$12)","v":0.74879999999999991},null,{"$f":"Circuit1Details!S2*1000","v":87.48},null,{"$f":"Circuit1Details!U2*1000","v":1.9439999999999993},null,2]
[{"$f":"Circuit1Details!A3","v":1.2},{"$f":"Circuit1Details!B3*1000","v":1.1911131928818544},null,null,null,null,null,null,{"$f":"Circuit1Details!I3*1000","v":45.559217704525103},{"$f":"Circuit1Details!J3*1000","v":6.0085013953123187},{"$f":"Circuit1Details!K3*1000","v":181.2},{"$f":"Circuit1Details!L3*1000","v":20.789999999999996},null,{"$f":"Circuit1Details!N3*1000","v":41.136363636363647},{"$f":"Circuit1Details!O3*1000","v":41.136363636363647},{"$f":"Circuit1Details!P3*1000*Circuit1!$J$9/(Circuit1!$J$9+Circuit1!$J$12)","v":2.7466603019351448},{"$f":"Circuit1Details!P3*1000*Circuit1!$J$12/(Circuit1!$J$9+Circuit1!$J$12)","v":1.8311068679567633},null,{"$f":"Circuit1Details!S3*1000","v":87.48},null,{"$f":"Circuit1Details!U3*1000","v":1.9439999999999993}]
[{"$f":"Circuit1Details!A4","v":1.7999999999999998},{"$f":"Circuit1Details!B4*1000","v":1.9435630135049251},null,null,null,null,null,null,{"$f":"Circuit1Details!I4*1000","v":63.131074278535898},{"$f":"Circuit1Details!J4*1000","v":12.372178331198525},{"$f":"Circuit1Details!K4*1000","v":181.2},{"$f":"Circuit1Details!L4*1000","v":31.184999999999995},null,{"$f":"Circuit1Details!N4*1000","v":41.136363636363647},{"$f":"Circuit1Details!O4*1000","v":41.136363636363647},{"$f":"Circuit1Details!P4*1000*Circuit1!$J$9/(Circuit1!$J$9+Circuit1!$J$12)","v":5.457256477015541},{"$f":"Circuit1Details!P4*1000*Circuit1!$J$12/(Circuit1!$J$9+Circuit1!$J$12)","v":3.6381709846770272},null,{"$f":"Circuit1Details!S4*1000","v":87.48},null,{"$f":"Circuit1Details!U4*1000","v":1.9439999999999993}]
[{"$f":"Circuit1Details!A5","v":2.4},{"$f":"Circuit1Details!B5*1000","v":3.0737151189454535},null,null,null,null,null,null,{"$f":"Circuit1Details!I5*1000","v":80.617246141742541},{"$f":"Circuit1Details!J5*1000","v":21.25859036454651},{"$f":"Circuit1Details!K5*1000","v":181.2},{"$f":"Circuit1Details!L5*1000","v":41.579999999999991},null,{"$f":"Circuit1Details!N5*1000","v":41.136363636363647},{"$f":"Circuit1Details!O5*1000","v":41.136363636363647},{"$f":"Circuit1Details!P5*1000*Circuit1!$J$9/(Circuit1!$J$9+Circuit1!$J$12)","v":9.2617053860766667},{"$f":"Circuit1Details!P5*1000*Circuit1!$J$12/(Circuit1!$J$9+Circuit1!$J$12)","v":6.1744702573844439},null,{"$f":"Circuit1Details!S5*1000","v":87.48},null,{"$f":"Circuit1Details!U5*1000","v":1.9439999999999993}]
[{"$f":"Circuit1Details!A6","v":3},{"$f":"Circuit1Details!B6*1000","v":4.5384529802569764},null,null,null,null,null,null,{"$f":"Circuit1Details!I6*1000","v":98.019702137894654},{"$f":"Circuit1Details!J6*1000","v":32.748317649657942},{"$f":"Circuit1Details!K6*1000","v":181.2},{"$f":"Circuit1Details!L6*1000","v":51.974999999999994},null,{"$f":"Circuit1Details!N6*1000","v":41.136363636363647},{"$f":"Circuit1Details!O6*1000","v":41.136363636363647},{"$f":"Circuit1Details!P6*1000*Circuit1!$J$9/(Circuit1!$J$9+Circuit1!$J$12)","v":14.167502556917469},{"$f":"Circuit1Details!P6*1000*Circuit1!$J$12/(Circuit1!$J$9+Circuit1!$J$12)","v":9.4450017046116468},null,{"$f":"Circuit1Details!S6*1000","v":87.48},null,{"$f":"Circuit1Details!U6*1000","v":1.9439999999999993}]
[{"$f":"Circuit1Details!A7","v":3.5999999999999996},{"$f":"Circuit1Details!B7*1000","v":6.3351410787750186},null,null,null,null,null,null,{"$f":"Circuit1Details!I7*1000","v":115.3403776226935},{"$f":"Circuit1Details!J7*1000","v":46.890553163488718},{"$f":"Circuit1Details!K7*1000","v":181.2},{"$f":"Circuit1Details!L7*1000","v":62.36999999999999},null,{"$f":"Circuit1Details!N7*1000","v":41.136363636363647},{"$f":"Circuit1Details!O7*1000","v":41.136363636363647},{"$f":"Circuit1Details!P7*1000*Circuit1!$J$9/(Circuit1!$J$9+Circuit1!$J$12)","v":20.183687738596614},{"$f":"Circuit1Details!P7*1000*Circuit1!$J$12/(Circuit1!$J$9+Circuit1!$J$12)","v":13.455791825731078},null,{"$f":"Circuit1Details!S7*1000","v":87.48},null,{"$f":"Circuit1Details!U7*1000","v":1.9439999999999993}]
[{"$f":"Circuit1Details!A8","v":4.2},{"$f":"Circuit1Details!B8*1000","v":8.4670086567242091},null,null,null,null,null,null,{"$f":"Circuit1Details!I8*1000","v":132.58117536302359},{"$f":"Circuit1Details!J8*1000","v":63.734935985916202},{"$f":"Circuit1Details!K8*1000","v":181.2},{"$f":"Circuit1Details!L8*1000","v":72.765000000000001},null,{"$f":"Circuit1Details!N8*1000","v":41.136363636363647},{"$f":"Circuit1Details!O8*1000","v":41.136363636363647},{"$f":"Circuit1Details!P8*1000*Circuit1!$J$9/(Circuit1!$J$9+Circuit1!$J$12)","v":27.32058272056177},{"$f":"Circuit1Details!P8*1000*Circuit1!$J$12/(Circuit1!$J$9+Circuit1!$J$12)","v":18.213721813707846},null,{"$f":"Circuit1Details!S8*1000","v":87.48},null,{"$f":"Circuit1Details!U8*1000","v":1.9439999999999993}]
[{"$f":"Circuit1Details!A9","v":4.8},{"$f":"Circuit1Details!B9*1000","v":10.939045887179146},null,null,null,null,null,null,{"$f":"Circuit1Details!I9*1000","v":149.74396640980441},{"$f":"Circuit1Details!J9*1000","v":83.335236570393477},{"$f":"Circuit1Details!K9*1000","v":181.2},{"$f":"Circuit1Details!L9*1000","v":83.159999999999982},null,{"$f":"Circuit1Details!N9*1000","v":41.136363636363647},{"$f":"Circuit1Details!O9*1000","v":41.136363636363647},{"$f":"Circuit1Details!P9*1000*Circuit1!$J$9/(Circuit1!$J$9+Circuit1!$J$12)","v":35.589724736555347},{"$f":"Circuit1Details!P9*1000*Circuit1!$J$12/(Circuit1!$J$9+Circuit1!$J$12)","v":23.726483157703566},null,{"$f":"Circuit1Details!S9*1000","v":87.48},null,{"$f":"Circuit1Details!U9*1000","v":1.9439999999999993}]
[{"$f":"Circuit1Details!A10","v":5.3999999999999995},{"$f":"Circuit1Details!B10*1000","v":13.756987280082882},null,null,null,null,null,null,{"$f":"Circuit1Details!I10*1000","v":166.83059094538183},{"$f":"Circuit1Details!J10*1000","v":105.74994269945334},{"$f":"Circuit1Details!K10*1000","v":181.2},{"$f":"Circuit1Details!L10*1000","v":93.554999999999978},null,{"$f":"Circuit1Details!N10*1000","v":41.136363636363647},{"$f":"Circuit1Details!O10*1000","v":41.136363636363647},{"$f":"Circuit1Details!P10*1000*Circuit1!$J$9/(Circuit1!$J$9+Circuit1!$J$12)","v":45.003783571321847},{"$f":"Circuit1Details!P10*1000*Circuit1!$J$12/(Circuit1!$J$9+Circuit1!$J$12)","v":30.002522380881231},null,{"$f":"Circuit1Details!S10*1000","v":87.48},null,{"$f":"Circuit1Details!U10*1000","v":1.9439999999999993},null,null,"NTTFS4932N","NTMFS4825NFE",0.9584376391651801]
[{"$f":"Circuit1Details!A11","v":6},{"$f":"Circuit1Details!B11*1000","v":16.926979007775124},null,null,null,null,null,null,{"$f":"Circuit1Details!I11*1000","v":183.84285910633821},{"$f":"Circuit1Details!J11*1000","v":131.04213157954658},{"$f":"Circuit1Details!K11*1000","v":181.2},{"$f":"Circuit1Details!L11*1000","v":103.94999999999999},null,{"$f":"Circuit1Details!N11*1000","v":41.136363636363647},{"$f":"Circuit1Details!O11*1000","v":41.136363636363647},{"$f":"Circuit1Details!P11*1000*Circuit1!$J$9/(Circuit1!$J$9+Circuit1!$J$12)","v":55.576469603108151},{"$f":"Circuit1Details!P11*1000*Circuit1!$J$12/(Circuit1!$J$9+Circuit1!$J$12)","v":37.050979735405427},null,{"$f":"Circuit1Details!S11*1000","v":87.48},null,{"$f":"Circuit1Details!U11*1000","v":1.9439999999999993},null,null,"NTMFS4934N","NTMFS4897NF",0.95858587485743862]
[{"$f":"Circuit1Details!A12","v":6.6},{"$f":"Circuit1Details!B12*1000","v":20.455450791895718},null,null,null,null,null,null,{"$f":"Circuit1Details!I12*1000","v":200.7825517825691},{"$f":"Circuit1Details!J12*1000","v":159.27910030992354},{"$f":"Circuit1Details!K12*1000","v":181.2},{"$f":"Circuit1Details!L12*1000","v":114.34499999999997},null,{"$f":"Circuit1Details!N12*1000","v":41.136363636363647},{"$f":"Circuit1Details!O12*1000","v":41.136363636363647},{"$f":"Circuit1Details!P12*1000*Circuit1!$J$9/(Circuit1!$J$9+Circuit1!$J$12)","v":67.322433262221807},{"$f":"Circuit1Details!P12*1000*Circuit1!$J$12/(Circuit1!$J$9+Circuit1!$J$12)","v":44.881622174814538},null,{"$f":"Circuit1Details!S12*1000","v":87.48},null,{"$f":"Circuit1Details!U12*1000","v":1.9439999999999993},null,null,"NTMFS4937N","NTMFS4897NF",0.95861487733662853]
[{"$f":"Circuit1Details!A13","v":7.1999999999999993},{"$f":"Circuit1Details!B13*1000","v":24.349061582816503},null,null,null,null,null,null,{"$f":"Circuit1Details!I13*1000","v":217.65142139343934},{"$f":"Circuit1Details!J13*1000","v":190.53188379288861},{"$f":"Circuit1Details!K13*1000","v":181.2},{"$f":"Circuit1Details!L13*1000","v":124.73999999999998},null,{"$f":"Circuit1Details!N13*1000","v":41.136363636363647},{"$f":"Circuit1Details!O13*1000","v":41.136363636363647},{"$f":"Circuit1Details!P13*1000*Circuit1!$J$9/(Circuit1!$J$9+Circuit1!$J$12)","v":80.257156056888832},{"$f":"Circuit1Details!P13*1000*Circuit1!$J$12/(Circuit1!$J$9+Circuit1!$J$12)","v":53.504770704592559},null,{"$f":"Circuit1Details!S13*1000","v":87.48},null,{"$f":"Circuit1Details!U13*1000","v":1.9439999999999993},null,null,"NTMFS4936N","NTMFS4897NF",0.95781491773023508]
[{"$f":"Circuit1Details!A14","v":7.8},{"$f":"Circuit1Details!B14*1000","v":28.614675384204954},null,null,null,null,null,null,{"$f":"Circuit1Details!I14*1000","v":234.45119264180016},{"$f":"Circuit1Details!J14*1000","v":224.8747044706395},{"$f":"Circuit1Details!K14*1000","v":181.2},{"$f":"Circuit1Details!L14*1000","v":135.13499999999996},null,{"$f":"Circuit1Details!N14*1000","v":41.136363636363647},{"$f":"Circuit1Details!O14*1000","v":41.136363636363647},{"$f":"Circuit1Details!P14*1000*Circuit1!$J$9/(Circuit1!$J$9+Circuit1!$J$12)","v":94.396833465506958},{"$f":"Circuit1Details!P14*1000*Circuit1!$J$12/(Circuit1!$J$9+Circuit1!$J$12)","v":62.931222310337979},null,{"$f":"Circuit1Details!S14*1000","v":87.48},null,{"$f":"Circuit1Details!U14*1000","v":1.9439999999999993},null,null,"NTMFS4936N","NTMFS4825NFE",0.95786840659031203]
[{"$f":"Circuit1Details!A15","v":8.4},{"$f":"Circuit1Details!B15*1000","v":33.25935037941035},null,null,null,null,null,null,{"$f":"Circuit1Details!I15*1000","v":251.18356324661843},{"$f":"Circuit1Details!J15*1000","v":262.38437325153762},{"$f":"Circuit1Details!K15*1000","v":181.2},{"$f":"Circuit1Details!L15*1000","v":145.53},null,{"$f":"Circuit1Details!N15*1000","v":41.136363636363647},{"$f":"Circuit1Details!O15*1000","v":41.136363636363647},{"$f":"Circuit1Details!P15*1000*Circuit1!$J$9/(Circuit1!$J$9+Circuit1!$J$12)","v":109.75825025296334},{"$f":"Circuit1Details!P15*1000*Circuit1!$J$12/(Circuit1!$J$9+Circuit1!$J$12)","v":73.172166835308886},null,{"$f":"Circuit1Details!S15*1000","v":87.48},null,{"$f":"Circuit1Details!U15*1000","v":1.9439999999999993},null,null,"NTTFS4932N","NTMFS4897NF",0.95838472305391487]
[{"$f":"Circuit1Details!A16","v":9},{"$f":"Circuit1Details!B16*1000","v":38.290334093004624},null,null,null,null,null,null,{"$f":"Circuit1Details!I16*1000","v":267.85020465494097},{"$f":"Circuit1Details!J16*1000","v":303.13965307770366},{"$f":"Circuit1Details!K16*1000","v":181.2},{"$f":"Circuit1Details!L16*1000","v":155.92499999999995},null,{"$f":"Circuit1Details!N16*1000","v":41.136363636363647},{"$f":"Circuit1Details!O16*1000","v":41.136363636363647},{"$f":"Circuit1Details!P16*1000*Circuit1!$J$9/(Circuit1!$J$9+Circuit1!$J$12)","v":126.35864907373227},{"$f":"Circuit1Details!P16*1000*Circuit1!$J$12/(Circuit1!$J$9+Circuit1!$J$12)","v":84.239099382488178},null,{"$f":"Circuit1Details!S16*1000","v":87.48},null,{"$f":"Circuit1Details!U16*1000","v":1.9439999999999993},null,null,"NTMFS4934N","NTMFS4933N",0.95760750115804882]
[{"$f":"Circuit1Details!A17","v":9.6},{"$f":"Circuit1Details!B17*1000","v":43.715061158697267},null,null,null,null,null,null,{"$f":"Circuit1Details!I17*1000","v":284.45276273388794},{"$f":"Circuit1Details!J17*1000","v":347.22059439619221},{"$f":"Circuit1Details!K17*1000","v":181.2},{"$f":"Circuit1Details!L17*1000","v":166.31999999999996},null,{"$f":"Circuit1Details!N17*1000","v":41.136363636363647},{"$f":"Circuit1Details!O17*1000","v":41.136363636363647},{"$f":"Circuit1Details!P17*1000*Circuit1!$J$9/(Circuit1!$J$9+Circuit1!$J$12)","v":144.21559355020196},{"$f":"Circuit1Details!P17*1000*Circuit1!$J$12/(Circuit1!$J$9+Circuit1!$J$12)","v":96.143729033467963},null,{"$f":"Circuit1Details!S17*1000","v":87.48},null,{"$f":"Circuit1Details!U17*1000","v":1.9439999999999993},null,null,"NTMFS4937N","NTMFS4825NFE",0.95866834759264485]
[{"$f":"Circuit1Details!A18","v":10.199999999999999},{"$f":"Circuit1Details!B18*1000","v":49.54115195384518},null,null,null,null,null,null,{"$f":"Circuit1Details!I18*1000","v":300.99285844334293},{"$f":"Circuit1Details!J18*1000","v":394.7078517077357},{"$f":"Circuit1Details!K18*1000","v":181.2},{"$f":"Circuit1Details!L18*1000","v":176.71499999999995},null,{"$f":"Circuit1Details!N18*1000","v":41.136363636363647},{"$f":"Circuit1Details!O18*1000","v":41.136363636363647},{"$f":"Circuit1Details!P18*1000*Circuit1!$J$9/(Circuit1!$J$9+Circuit1!$J$12)","v":163.34682734070446},{"$f":"Circuit1Details!P18*1000*Circuit1!$J$12/(Circuit1!$J$9+Circuit1!$J$12)","v":108.89788489380298},null,{"$f":"Circuit1Details!S18*1000","v":87.48},null,{"$f":"Circuit1Details!U18*1000","v":1.9439999999999993},null,null,"NTMFS4934N","NTMFS4825NFE",0.9586399465477784]
[{"$f":"Circuit1Details!A19","v":10.799999999999999},{"$f":"Circuit1Details!B19*1000","v":55.776411167673714},null,null,null,null,null,null,{"$f":"Circuit1Details!I19*1000","v":317.47208848998361},{"$f":"Circuit1Details!J19*1000","v":445.68199103791471},{"$f":"Circuit1Details!K19*1000","v":181.2},{"$f":"Circuit1Details!L19*1000","v":187.10999999999996},null,{"$f":"Circuit1Details!N19*1000","v":41.136363636363647},{"$f":"Circuit1Details!O19*1000","v":41.136363636363647},{"$f":"Circuit1Details!P19*1000*Circuit1!$J$9/(Circuit1!$J$9+Circuit1!$J$12)","v":183.77013101751541},{"$f":"Circuit1Details!P19*1000*Circuit1!$J$12/(Circuit1!$J$9+Circuit1!$J$12)","v":122.51342067834359},null,{"$f":"Circuit1Details!S19*1000","v":87.48},null,{"$f":"Circuit1Details!U19*1000","v":1.9439999999999993},null,null,"NTMFS4937N","NTMFS4933N",0.95764127310565439]
[{"$f":"Circuit1Details!A20","v":11.4},{"$f":"Circuit1Details!B20*1000","v":62.428825787368744},null,null,null,null,null,null,{"$f":"Circuit1Details!I20*1000","v":333.89202596326908},{"$f":"Circuit1Details!J20*1000","v":500.22279902121716},{"$f":"Circuit1Details!K20*1000","v":181.2},{"$f":"Circuit1Details!L20*1000","v":197.505},null,{"$f":"Circuit1Details!N20*1000","v":41.136363636363647},{"$f":"Circuit1Details!O20*1000","v":41.136363636363647},{"$f":"Circuit1Details!P20*1000*Circuit1!$J$9/(Circuit1!$J$9+Circuit1!$J$12)","v":205.50317883967492},{"$f":"Circuit1Details!P20*1000*Circuit1!$J$12/(Circuit1!$J$9+Circuit1!$J$12)","v":137.00211922644993},null,{"$f":"Circuit1Details!S20*1000","v":87.48},null,{"$f":"Circuit1Details!U20*1000","v":1.9439999999999993},null,null,"NTD4806N","NTMFS4897NF",0.93873026148745431]
[{"$f":"Circuit1Details!A21","v":12},{"$f":"Circuit1Details!B21*1000","v":69.506562220090188},null,null,null,null,null,null,{"$f":"Circuit1Details!I21*1000","v":350.25422095398051},{"$f":"Circuit1Details!J21*1000","v":558.40860500781992},{"$f":"Circuit1Details!K21*1000","v":181.2},{"$f":"Circuit1Details!L21*1000","v":207.89999999999998},null,{"$f":"Circuit1Details!N21*1000","v":41.136363636363647},{"$f":"Circuit1Details!O21*1000","v":41.136363636363647},{"$f":"Circuit1Details!P21*1000*Circuit1!$J$9/(Circuit1!$J$9+Circuit1!$J$12)","v":228.56339770847507},{"$f":"Circuit1Details!P21*1000*Circuit1!$J$12/(Circuit1!$J$9+Circuit1!$J$12)","v":152.37559847231671},null,{"$f":"Circuit1Details!S21*1000","v":87.48},null,{"$f":"Circuit1Details!U21*1000","v":1.9439999999999993},null,null,"NTD4806N","NTMFS4852N",0.93557752409543493]
[{"$f":"Circuit1Details!A22","v":12.6},{"$f":"Circuit1Details!B22*1000","v":77.01796241198538},null,null,null,null,null,null,{"$f":"Circuit1Details!I22*1000","v":366.56020115588768},{"$f":"Circuit1Details!J22*1000","v":620.31562801837356},{"$f":"Circuit1Details!K22*1000","v":181.2},{"$f":"Circuit1Details!L22*1000","v":218.29499999999996},null,{"$f":"Circuit1Details!N22*1000","v":41.136363636363647},{"$f":"Circuit1Details!O22*1000","v":41.136363636363647},{"$f":"Circuit1Details!P22*1000*Circuit1!$J$9/(Circuit1!$J$9+Circuit1!$J$12)","v":252.96783071661963},{"$f":"Circuit1Details!P22*1000*Circuit1!$J$12/(Circuit1!$J$9+Circuit1!$J$12)","v":168.64522047774642},null,{"$f":"Circuit1Details!S22*1000","v":87.48},null,{"$f":"Circuit1Details!U22*1000","v":1.9439999999999993},null,null,"NTD4806N","NTMFS4934N",0.93655270473209951]
[{"$f":"Circuit1Details!A23","v":13.2},{"$f":"Circuit1Details!B23*1000","v":84.97153892055141},null,null,null,null,null,null,{"$f":"Circuit1Details!I23*1000","v":382.81147245108991},{"$f":"Circuit1Details!J23*1000","v":686.01736037334331},{"$f":"Circuit1Details!K23*1000","v":181.2},{"$f":"Circuit1Details!L23*1000","v":228.68999999999994},null,{"$f":"Circuit1Details!N23*1000","v":41.136363636363647},{"$f":"Circuit1Details!O23*1000","v":41.136363636363647},{"$f":"Circuit1Details!P23*1000*Circuit1!$J$9/(Circuit1!$J$9+Circuit1!$J$12)","v":278.73300773101516},{"$f":"Circuit1Details!P23*1000*Circuit1!$J$12/(Circuit1!$J$9+Circuit1!$J$12)","v":185.8220051540101},null,{"$f":"Circuit1Details!S23*1000","v":87.48},null,{"$f":"Circuit1Details!U23*1000","v":1.9439999999999993},null,null,"NTD4806N","NTMFS4846N",0.93043372816415415]
[{"$f":"Circuit1Details!A24","v":13.799999999999999},{"$f":"Circuit1Details!B24*1000","v":93.375968964895151},null,null,null,null,null,null,{"$f":"Circuit1Details!I24*1000","v":399.0095194795656},{"$f":"Circuit1Details!J24*1000","v":755.5839993492458},{"$f":"Circuit1Details!K24*1000","v":181.2},{"$f":"Circuit1Details!L24*1000","v":239.08499999999995},null,{"$f":"Circuit1Details!N24*1000","v":41.136363636363647},{"$f":"Circuit1Details!O24*1000","v":41.136363636363647},{"$f":"Circuit1Details!P24*1000*Circuit1!$J$9/(Circuit1!$J$9+Circuit1!$J$12)","v":305.87482537496214},{"$f":"Circuit1Details!P24*1000*Circuit1!$J$12/(Circuit1!$J$9+Circuit1!$J$12)","v":203.91655024997476},null,{"$f":"Circuit1Details!S24*1000","v":87.48},null,{"$f":"Circuit1Details!U24*1000","v":1.9439999999999993},null,null,"NTD4806N","NTMFS4898N",0.93154026210752694]
[{"$f":"Circuit1Details!A25","v":14.399999999999999},{"$f":"Circuit1Details!B25*1000","v":102.24008752951625},null,null,null,null,null,null,{"$f":"Circuit1Details!I25*1000","v":415.15580619343808},{"$f":"Circuit1Details!J25*1000","v":829.08193724629427},{"$f":"Circuit1Details!K25*1000","v":181.2},{"$f":"Circuit1Details!L25*1000","v":249.47999999999996},null,{"$f":"Circuit1Details!N25*1000","v":41.136363636363647},{"$f":"Circuit1Details!O25*1000","v":41.136363636363647},{"$f":"Circuit1Details!P25*1000*Circuit1!$J$9/(Circuit1!$J$9+Circuit1!$J$12)","v":334.40843859592746},{"$f":"Circuit1Details!P25*1000*Circuit1!$J$12/(Circuit1!$J$9+Circuit1!$J$12)","v":222.93895906395164},null,{"$f":"Circuit1Details!S25*1000","v":87.48},null,{"$f":"Circuit1Details!U25*1000","v":1.9439999999999993},null,null,"NTD4806N","NTMFS4845N",0.93179998017684351]
[{"$f":"Circuit1Details!A26","v":15},{"$f":"Circuit1Details!B26*1000","v":111.57287963586384},null,null,null,null,null,null,{"$f":"Circuit1Details!I26*1000","v":431.25177639645153},{"$f":"Circuit1Details!J26*1000","v":906.57331881350058},{"$f":"Circuit1Details!K26*1000","v":181.2},{"$f":"Circuit1Details!L26*1000","v":259.875},null,{"$f":"Circuit1Details!N26*1000","v":41.136363636363647},{"$f":"Circuit1Details!O26*1000","v":41.136363636363647},{"$f":"Circuit1Details!P26*1000*Circuit1!$J$9/(Circuit1!$J$9+Circuit1!$J$12)","v":364.34816572521288},{"$f":"Circuit1Details!P26*1000*Circuit1!$J$12/(Circuit1!$J$9+Circuit1!$J$12)","v":242.89877715014191},null,{"$f":"Circuit1Details!S26*1000","v":87.48},null,{"$f":"Circuit1Details!U26*1000","v":1.9439999999999993},null,null,"NTD4806N","NTMFS4825NFE",0.93878064953170903]
[{"$f":"Circuit1Details!A27","v":15.6},{"$f":"Circuit1Details!B27*1000","v":121.38347192417793},null,null,null,null,null,null,{"$f":"Circuit1Details!I27*1000","v":447.29885426913137},{"$f":"Circuit1Details!J27*1000","v":988.11567312906209},{"$f":"Circuit1Details!K27*1000","v":181.2},{"$f":"Circuit1Details!L27*1000","v":270.26999999999992},null,{"$f":"Circuit1Details!N27*1000","v":41.136363636363647},{"$f":"Circuit1Details!O27*1000","v":41.136363636363647},{"$f":"Circuit1Details!P27*1000*Circuit1!$J$9/(Circuit1!$J$9+Circuit1!$J$12)","v":395.70740856812654},{"$f":"Circuit1Details!P27*1000*Circuit1!$J$12/(Circuit1!$J$9+Circuit1!$J$12)","v":263.80493904541765},null,{"$f":"Circuit1Details!S27*1000","v":87.48},null,{"$f":"Circuit1Details!U27*1000","v":1.9439999999999993},null,null,"NTD4806N","NTMFS4833N",0.9362240691639665]
[{"$f":"Circuit1Details!A28","v":16.2},{"$f":"Circuit1Details!B28*1000","v":131.68112370690525},null,null,null,null,null,null,{"$f":"Circuit1Details!I28*1000","v":463.29844488008308},{"$f":"Circuit1Details!J28*1000","v":1073.7616248695481},{"$f":"Circuit1Details!K28*1000","v":181.2},{"$f":"Circuit1Details!L28*1000","v":280.66499999999996},null,{"$f":"Circuit1Details!N28*1000","v":41.136363636363647},{"$f":"Circuit1Details!O28*1000","v":41.136363636363647},{"$f":"Circuit1Details!P28*1000*Circuit1!$J$9/(Circuit1!$J$9+Circuit1!$J$12)","v":428.49858862673693},{"$f":"Circuit1Details!P28*1000*Circuit1!$J$12/(Circuit1!$J$9+Circuit1!$J$12)","v":285.66572575115794},null,{"$f":"Circuit1Details!S28*1000","v":87.48},null,{"$f":"Circuit1Details!U28*1000","v":1.9439999999999993},null,null,"NTD4806N","NTMFS4834N",0.93168985942890459]
[{"$f":"Circuit1Details!A29","v":16.8},{"$f":"Circuit1Details!B29*1000","v":142.47521766476953},null,null,null,null,null,null,{"$f":"Circuit1Details!I29*1000","v":479.25193468387295},{"$f":"Circuit1Details!J29*1000","v":1163.5586875388917},{"$f":"Circuit1Details!K29*1000","v":181.2},{"$f":"Circuit1Details!L29*1000","v":291.06},null,{"$f":"Circuit1Details!N29*1000","v":41.136363636363647},{"$f":"Circuit1Details!O29*1000","v":41.136363636363647},{"$f":"Circuit1Details!P29*1000*Circuit1!$J$9/(Circuit1!$J$9+Circuit1!$J$12)","v":462.73310007598656},{"$f":"Circuit1Details!P29*1000*Circuit1!$J$12/(Circuit1!$J$9+Circuit1!$J$12)","v":308.48873338399102},null,{"$f":"Circuit1Details!S29*1000","v":87.48},null,{"$f":"Circuit1Details!U29*1000","v":1.9439999999999993},null,null,"NTD4806N","NTMFS4933N",0.93775560928660284]
[{"$f":"Circuit1Details!A30","v":17.399999999999999},{"$f":"Circuit1Details!B30*1000","v":153.77525035784745},null,null,null,null,null,null,{"$f":"Circuit1Details!I30*1000","v":495.16069200591096},{"$f":"Circuit1Details!J30*1000","v":1257.5491387996306},{"$f":"Circuit1Details!K30*1000","v":181.2},{"$f":"Circuit1Details!L30*1000","v":301.45499999999998},null,{"$f":"Circuit1Details!N30*1000","v":41.136363636363647},{"$f":"Circuit1Details!O30*1000","v":41.136363636363647},{"$f":"Circuit1Details!P30*1000*Circuit1!$J$9/(Circuit1!$J$9+Circuit1!$J$12)","v":498.42127961500546},{"$f":"Circuit1Details!P30*1000*Circuit1!$J$12/(Circuit1!$J$9+Circuit1!$J$12)","v":332.28085307667027},null,{"$f":"Circuit1Details!S30*1000","v":87.48},null,{"$f":"Circuit1Details!U30*1000","v":1.9439999999999993},null,null,"NTTFS4932N","NTD4813NH",0.88575110948931235]
[{"$f":"Circuit1Details!A31","v":18},{"$f":"Circuit1Details!B31*1000","v":165.59082271747252},null,null,null,null,null,null,{"$f":"Circuit1Details!I31*1000","v":511.02606751474747},{"$f":"Circuit1Details!J31*1000","v":1355.769975688469},{"$f":"Circuit1Details!K31*1000","v":181.2},{"$f":"Circuit1Details!L31*1000","v":311.84999999999991},null,{"$f":"Circuit1Details!N31*1000","v":41.136363636363647},{"$f":"Circuit1Details!O31*1000","v":41.136363636363647},{"$f":"Circuit1Details!P31*1000*Circuit1!$J$9/(Circuit1!$J$9+Circuit1!$J$12)","v":535.57239282664523},{"$f":"Circuit1Details!P31*1000*Circuit1!$J$12/(Circuit1!$J$9+Circuit1!$J$12)","v":357.04826188443013},null,{"$f":"Circuit1Details!S31*1000","v":87.48},null,{"$f":"Circuit1Details!U31*1000","v":1.9439999999999993},null,null,"NTMFS4852N","NTD4813NH",0.88378204365107937]
[{"$f":"Circuit1Details!A32","v":18.599999999999998},{"$f":"Circuit1Details!B32*1000","v":177.93163067145747},null,null,null,null,null,null,{"$f":"Circuit1Details!I32*1000","v":526.84939468217704},{"$f":"Circuit1Details!J32*1000","v":1458.2529453311352},{"$f":"Circuit1Details!K32*1000","v":181.2},{"$f":"Circuit1Details!L32*1000","v":322.24499999999995},null,{"$f":"Circuit1Details!N32*1000","v":41.136363636363647},{"$f":"Circuit1Details!O32*1000","v":41.136363636363647},{"$f":"Circuit1Details!P32*1000*Circuit1!$J$9/(Circuit1!$J$9+Circuit1!$J$12)","v":574.19463622568264},{"$f":"Circuit1Details!P32*1000*Circuit1!$J$12/(Circuit1!$J$9+Circuit1!$J$12)","v":382.7964241504551},null,{"$f":"Circuit1Details!S32*1000","v":87.48},null,{"$f":"Circuit1Details!U32*1000","v":1.9439999999999993},null,null,"NTMFS4825NFE","NTD4813NH",0.88482145690769376]
[{"$f":"Circuit1Details!A33","v":19.2},{"$f":"Circuit1Details!B33*1000","v":190.8074560362933},null,null,null,null,null,null,{"$f":"Circuit1Details!I33*1000","v":542.63199023152765},{"$f":"Circuit1Details!J33*1000","v":1565.0246449033771},{"$f":"Circuit1Details!K33*1000","v":181.2},{"$f":"Circuit1Details!L33*1000","v":332.63999999999993},null,{"$f":"Circuit1Details!N33*1000","v":41.136363636363647},{"$f":"Circuit1Details!O33*1000","v":41.136363636363647},{"$f":"Circuit1Details!P33*1000*Circuit1!$J$9/(Circuit1!$J$9+Circuit1!$J$12)","v":614.29515378211204},{"$f":"Circuit1Details!P33*1000*Circuit1!$J$12/(Circuit1!$J$9+Circuit1!$J$12)","v":409.53010252140797},null,{"$f":"Circuit1Details!S33*1000","v":87.48},null,{"$f":"Circuit1Details!U33*1000","v":1.9439999999999993},null,null,"NTMFS4936N","NTD4813NH",0.88525301110723065]
[{"$f":"Circuit1Details!A34","v":19.8},{"$f":"Circuit1Details!B34*1000","v":204.22815778715778},null,null,null,null,null,null,{"$f":"Circuit1Details!I34*1000","v":558.37515457450218},{"$f":"Circuit1Details!J34*1000","v":1676.1066830942752},{"$f":"Circuit1Details!K34*1000","v":181.2},{"$f":"Circuit1Details!L34*1000","v":343.03499999999991},null,{"$f":"Circuit1Details!N34*1000","v":41.136363636363647},{"$f":"Circuit1Details!O34*1000","v":41.136363636363647},{"$f":"Circuit1Details!P34*1000*Circuit1!$J$9/(Circuit1!$J$9+Circuit1!$J$12)","v":655.88006638733418},{"$f":"Circuit1Details!P34*1000*Circuit1!$J$12/(Circuit1!$J$9+Circuit1!$J$12)","v":437.2533775915561},null,{"$f":"Circuit1Details!S34*1000","v":87.48},null,{"$f":"Circuit1Details!U34*1000","v":1.9439999999999993},null,null,"NTMFS4897NF","NTD4813NH",0.88476987637076432]
[{"$f":"Circuit1Details!A35","v":20.399999999999999},{"$f":"Circuit1Details!B35*1000","v":218.20366379136351},null,null,null,null,null,null,{"$f":"Circuit1Details!I35*1000","v":574.08017223692605},{"$f":"Circuit1Details!J35*1000","v":1791.5158942621504},{"$f":"Circuit1Details!K35*1000","v":181.2},{"$f":"Circuit1Details!L35*1000","v":353.42999999999989},null,{"$f":"Circuit1Details!N35*1000","v":41.136363636363647},{"$f":"Circuit1Details!O35*1000","v":41.136363636363647},{"$f":"Circuit1Details!P35*1000*Circuit1!$J$9/(Circuit1!$J$9+Circuit1!$J$12)","v":698.95451249840266},{"$f":"Circuit1Details!P35*1000*Circuit1!$J$12/(Circuit1!$J$9+Circuit1!$J$12)","v":465.96967499893509},null,{"$f":"Circuit1Details!S35*1000","v":87.48},null,{"$f":"Circuit1Details!U35*1000","v":1.9439999999999993},null,null,"NTD4904N","NTD4813NH",0.88336370853285295]
[{"$f":"Circuit1Details!A36","v":21},{"$f":"Circuit1Details!B36*1000","v":232.74396306489257},null,null,null,null,null,null,{"$f":"Circuit1Details!I36*1000","v":589.7483122737433},{"$f":"Circuit1Details!J36*1000","v":1911.2645958470389},{"$f":"Circuit1Details!K36*1000","v":181.2},{"$f":"Circuit1Details!L36*1000","v":363.82499999999993},null,{"$f":"Circuit1Details!N36*1000","v":41.136363636363647},{"$f":"Circuit1Details!O36*1000","v":41.136363636363647},{"$f":"Circuit1Details!P36*1000*Circuit1!$J$9/(Circuit1!$J$9+Circuit1!$J$12)","v":743.52269805265757},{"$f":"Circuit1Details!P36*1000*Circuit1!$J$12/(Circuit1!$J$9+Circuit1!$J$12)","v":495.68179870177175},null,{"$f":"Circuit1Details!S36*1000","v":87.48},null,{"$f":"Circuit1Details!U36*1000","v":1.9439999999999993},null,null,"NTMFS4935N","NTD4813NH",0.8849793430319427]
[{"$f":"Circuit1Details!A37","v":21.599999999999998},{"$f":"Circuit1Details!B37*1000","v":247.85909858635839},null,null,null,null,null,null,{"$f":"Circuit1Details!I37*1000","v":605.38082867358355},{"$f":"Circuit1Details!J37*1000","v":2035.3608794019692},{"$f":"Circuit1Details!K37*1000","v":181.2},{"$f":"Circuit1Details!L37*1000","v":374.21999999999991},null,{"$f":"Circuit1Details!N37*1000","v":41.136363636363647},{"$f":"Circuit1Details!O37*1000","v":41.136363636363647},{"$f":"Circuit1Details!P37*1000*Circuit1!$J$9/(Circuit1!$J$9+Circuit1!$J$12)","v":789.58795368975427},{"$f":"Circuit1Details!P37*1000*Circuit1!$J$12/(Circuit1!$J$9+Circuit1!$J$12)","v":526.39196912650289},null,{"$f":"Circuit1Details!S37*1000","v":87.48},null,{"$f":"Circuit1Details!U37*1000","v":1.9439999999999993},null,null,"NTMFS4934N","NTD4813NH",0.88633381922897603]
[{"$f":"Circuit1Details!A38","v":22.2},{"$f":"Circuit1Details!B38*1000","v":263.5591606793547},null,null,null,null,null,null,{"$f":"Circuit1Details!I38*1000","v":620.9789607532249},{"$f":"Circuit1Details!J38*1000","v":2163.8089257879192},{"$f":"Circuit1Details!K38*1000","v":181.2},{"$f":"Circuit1Details!L38*1000","v":384.61500000000001},null,{"$f":"Circuit1Details!N38*1000","v":41.136363636363647},{"$f":"Circuit1Details!O38*1000","v":41.136363636363647},{"$f":"Circuit1Details!P38*1000*Circuit1!$J$9/(Circuit1!$J$9+Circuit1!$J$12)","v":837.15279734270007},{"$f":"Circuit1Details!P38*1000*Circuit1!$J$12/(Circuit1!$J$9+Circuit1!$J$12)","v":558.1018648951333},null,{"$f":"Circuit1Details!S38*1000","v":87.48},null,{"$f":"Circuit1Details!U38*1000","v":1.9439999999999993},null,null,"NTMFS4923NE","NTD4813NH",0.88497957320625564]
[{"$f":"Circuit1Details!A39","v":22.8},{"$f":"Circuit1Details!B39*1000","v":279.85428095361794},null,null,null,null,null,null,{"$f":"Circuit1Details!I39*1000","v":636.54393354225385},{"$f":"Circuit1Details!J39*1000","v":2296.6093355856478},{"$f":"Circuit1Details!K39*1000","v":181.2},{"$f":"Circuit1Details!L39*1000","v":395.01},null,{"$f":"Circuit1Details!N39*1000","v":41.136363636363647},{"$f":"Circuit1Details!O39*1000","v":41.136363636363647},{"$f":"Circuit1Details!P39*1000*Circuit1!$J$9/(Circuit1!$J$9+Circuit1!$J$12)","v":886.2190003524513},{"$f":"Circuit1Details!P39*1000*Circuit1!$J$12/(Circuit1!$J$9+Circuit1!$J$12)","v":590.8126669016342},null,{"$f":"Circuit1Details!S39*1000","v":87.48},null,{"$f":"Circuit1Details!U39*1000","v":1.9439999999999993},null,null,"NTMFS4937N","NTD4813NH",0.88595990417786963]
[{"$f":"Circuit1Details!A40","v":23.4},{"$f":"Circuit1Details!B40*1000","v":296.75462677840454},null,null,null,null,null,null,{"$f":"Circuit1Details!I40*1000","v":652.07695815821739},{"$f":"Circuit1Details!J40*1000","v":2433.75946654156},{"$f":"Circuit1Details!K40*1000","v":181.2},{"$f":"Circuit1Details!L40*1000","v":405.40499999999997},null,{"$f":"Circuit1Details!N40*1000","v":41.136363636363647},{"$f":"Circuit1Details!O40*1000","v":41.136363636363647},{"$f":"Circuit1Details!P40*1000*Circuit1!$J$9/(Circuit1!$J$9+Circuit1!$J$12)","v":936.78765540790903},{"$f":"Circuit1Details!P40*1000*Circuit1!$J$12/(Circuit1!$J$9+Circuit1!$J$12)","v":624.52510360527265},null,{"$f":"Circuit1Details!S40*1000","v":87.48},null,{"$f":"Circuit1Details!U40*1000","v":1.9439999999999993}]
[{"$f":"Circuit1Details!A41","v":24},{"$f":"Circuit1Details!B41*1000","v":314.27039624824749},null,null,null,null,null,null,{"$f":"Circuit1Details!I41*1000","v":667.57923217255609},{"$f":"Circuit1Details!J41*1000","v":2575.2537708099344},{"$f":"Circuit1Details!K41*1000","v":181.2},{"$f":"Circuit1Details!L41*1000","v":415.79999999999995},null,{"$f":"Circuit1Details!N41*1000","v":41.136363636363647},{"$f":"Circuit1Details!O41*1000","v":41.136363636363647},{"$f":"Circuit1Details!P41*1000*Circuit1!$J$9/(Circuit1!$J$9+Circuit1!$J$12)","v":988.85924479965865},{"$f":"Circuit1Details!P41*1000*Circuit1!$J$12/(Circuit1!$J$9+Circuit1!$J$12)","v":659.23949653310569},null,{"$f":"Circuit1Details!S41*1000","v":87.48},null,{"$f":"Circuit1Details!U41*1000","v":1.9439999999999993}]
[{"$f":"Circuit1Details!A42","v":24.599999999999998},{"$f":"Circuit1Details!B42*1000","v":332.4118135918697},null,null,null,null,null,null,{"$f":"Circuit1Details!I42*1000","v":683.0519399675876},{"$f":"Circuit1Details!J42*1000","v":2721.0841258079995},{"$f":"Circuit1Details!K42*1000","v":181.2},{"$f":"Circuit1Details!L42*1000","v":426.19499999999999},null,{"$f":"Circuit1Details!N42*1000","v":41.136363636363647},{"$f":"Circuit1Details!O42*1000","v":41.136363636363647},{"$f":"Circuit1Details!P42*1000*Circuit1!$J$9/(Circuit1!$J$9+Circuit1!$J$12)","v":1042.4337076867039},{"$f":"Circuit1Details!P42*1000*Circuit1!$J$12/(Circuit1!$J$9+Circuit1!$J$12)","v":694.95580512446918},null,{"$f":"Circuit1Details!S42*1000","v":87.48},null,{"$f":"Circuit1Details!U42*1000","v":1.9439999999999993}]
[20,{"$f":"Circuit1Details!B43*1000","v":351.18912496928215},null,null,null,null,null,null,{"$f":"Circuit1Details!I43*1000","v":698.49625308481313},{"$f":"Circuit1Details!J43*1000","v":2871.2401535973222},{"$f":"Circuit1Details!K43*1000","v":181.2},{"$f":"Circuit1Details!L43*1000","v":436.58999999999992},null,{"$f":"Circuit1Details!N43*1000","v":41.136363636363647},{"$f":"Circuit1Details!O43*1000","v":41.136363636363647},{"$f":"Circuit1Details!P43*1000*Circuit1!$J$9/(Circuit1!$J$9+Circuit1!$J$12)","v":1097.5105052971337},{"$f":"Circuit1Details!P43*1000*Circuit1!$J$12/(Circuit1!$J$9+Circuit1!$J$12)","v":731.67367019808921},null,{"$f":"Circuit1Details!S43*1000","v":87.48},null,{"$f":"Circuit1Details!U43*1000","v":1.9439999999999993}]
[{"$f":"Circuit1Details!A44","v":25.8},{"$f":"Circuit1Details!B44*1000","v":370.61259459960223},null,null,null,null,null,null,{"$f":"Circuit1Details!I44*1000","v":713.91333056479596},{"$f":"Circuit1Details!J44*1000","v":3025.7095247892826},{"$f":"Circuit1Details!K44*1000","v":181.2},{"$f":"Circuit1Details!L44*1000","v":446.9849999999999},null,{"$f":"Circuit1Details!N44*1000","v":41.136363636363647},{"$f":"Circuit1Details!O44*1000","v":41.136363636363647},{"$f":"Circuit1Details!P44*1000*Circuit1!$J$9/(Circuit1!$J$9+Circuit1!$J$12)","v":1154.0886832044685},{"$f":"Circuit1Details!P44*1000*Circuit1!$J$12/(Circuit1!$J$9+Circuit1!$J$12)","v":769.3924554696456},null,{"$f":"Circuit1Details!S44*1000","v":87.48},null,{"$f":"Circuit1Details!U44*1000","v":1.9439999999999993}]
[{"$f":"Circuit1Details!A45","v":26.4},{"$f":"Circuit1Details!B45*1000","v":390.69250116243256},null,null,null,null,null,null,{"$f":"Circuit1Details!I45*1000","v":729.30431927886559},{"$f":"Circuit1Details!J45*1000","v":3184.4782439994829},{"$f":"Circuit1Details!K45*1000","v":181.2},{"$f":"Circuit1Details!L45*1000","v":457.37999999999988},null,{"$f":"Circuit1Details!N45*1000","v":41.136363636363647},{"$f":"Circuit1Details!O45*1000","v":41.136363636363647},{"$f":"Circuit1Details!P45*1000*Circuit1!$J$9/(Circuit1!$J$9+Circuit1!$J$12)","v":1212.1669300320532},{"$f":"Circuit1Details!P45*1000*Circuit1!$J$12/(Circuit1!$J$9+Circuit1!$J$12)","v":808.11128668803553},null,{"$f":"Circuit1Details!S45*1000","v":87.48},null,{"$f":"Circuit1Details!U45*1000","v":1.9439999999999993}]
[{"$f":"Circuit1Details!A46","v":27},{"$f":"Circuit1Details!B46*1000","v":411.43913441816647},null,null,null,null,null,null,{"$f":"Circuit1Details!I46*1000","v":744.67035425288543},{"$f":"Circuit1Details!J46*1000","v":3347.5309148138772},{"$f":"Circuit1Details!K46*1000","v":181.2},{"$f":"Circuit1Details!L46*1000","v":467.77499999999986},null,{"$f":"Circuit1Details!N46*1000","v":41.136363636363647},{"$f":"Circuit1Details!O46*1000","v":41.136363636363647},{"$f":"Circuit1Details!P46*1000*Circuit1!$J$9/(Circuit1!$J$9+Circuit1!$J$12)","v":1271.7436321313892},{"$f":"Circuit1Details!P46*1000*Circuit1!$J$12/(Circuit1!$J$9+Circuit1!$J$12)","v":847.82908808759271},null,{"$f":"Circuit1Details!S46*1000","v":87.48},null,{"$f":"Circuit1Details!U46*1000","v":1.9439999999999993}]
[{"$f":"Circuit1Details!A47","v":27.599999999999998},{"$f":"Circuit1Details!B47*1000","v":432.86279199681201},null,null,null,null,null,null,{"$f":"Circuit1Details!I47*1000","v":760.01255898331056},{"$f":"Circuit1Details!J47*1000","v":3514.8509830573857},{"$f":"Circuit1Details!K47*1000","v":181.2},{"$f":"Circuit1Details!L47*1000","v":478.1699999999999},null,{"$f":"Circuit1Details!N47*1000","v":41.136363636363647},{"$f":"Circuit1Details!O47*1000","v":41.136363636363647},{"$f":"Circuit1Details!P47*1000*Circuit1!$J$9/(Circuit1!$J$9+Circuit1!$J$12)","v":1332.8169239522044},{"$f":"Circuit1Details!P47*1000*Circuit1!$J$12/(Circuit1!$J$9+Circuit1!$J$12)","v":888.54461596813633},null,{"$f":"Circuit1Details!S47*1000","v":87.48},null,{"$f":"Circuit1Details!U47*1000","v":1.9439999999999993}]
[{"$f":"Circuit1Details!A48","v":28.2},{"$f":"Circuit1Details!B48*1000","v":454.97377631033379},null,null,null,null,null,null,{"$f":"Circuit1Details!I48*1000","v":775.33204574576757},{"$f":"Circuit1Details!J48*1000","v":3686.4209578631821},{"$f":"Circuit1Details!K48*1000","v":181.2},{"$f":"Circuit1Details!L48*1000","v":488.56499999999983},null,{"$f":"Circuit1Details!N48*1000","v":41.136363636363647},{"$f":"Circuit1Details!O48*1000","v":41.136363636363647},{"$f":"Circuit1Details!P48*1000*Circuit1!$J$9/(Circuit1!$J$9+Circuit1!$J$12)","v":1395.384733969938},{"$f":"Circuit1Details!P48*1000*Circuit1!$J$12/(Circuit1!$J$9+Circuit1!$J$12)","v":930.25648931329192},null,{"$f":"Circuit1Details!S48*1000","v":87.48},null,{"$f":"Circuit1Details!U48*1000","v":1.9439999999999993}]
[{"$f":"Circuit1Details!A49","v":28.799999999999997},{"$f":"Circuit1Details!B49*1000","v":477.78239154959994},null,null,null,null,null,null,{"$f":"Circuit1Details!I49*1000","v":790.62991589636158},{"$f":"Circuit1Details!J49*1000","v":3862.2226106254934},{"$f":"Circuit1Details!K49*1000","v":181.2},{"$f":"Circuit1Details!L49*1000","v":498.95999999999992},null,{"$f":"Circuit1Details!N49*1000","v":41.136363636363647},{"$f":"Circuit1Details!O49*1000","v":41.136363636363647},{"$f":"Circuit1Details!P49*1000*Circuit1!$J$9/(Circuit1!$J$9+Circuit1!$J$12)","v":1459.4448261593541},{"$f":"Circuit1Details!P49*1000*Circuit1!$J$12/(Circuit1!$J$9+Circuit1!$J$12)","v":972.96321743956946},null,{"$f":"Circuit1Details!S49*1000","v":87.48},null,{"$f":"Circuit1Details!U49*1000","v":1.9439999999999993}]
[{"$f":"Circuit1Details!A50","v":29.4},{"$f":"Circuit1Details!B50*1000","v":501.29894073345361},null,null,null,null,null,null,{"$f":"Circuit1Details!I50*1000","v":805.90726016592976},{"$f":"Circuit1Details!J50*1000","v":4042.2371523848124},{"$f":"Circuit1Details!K50*1000","v":181.2},{"$f":"Circuit1Details!L50*1000","v":509.3549999999999},null,{"$f":"Circuit1Details!N50*1000","v":41.136363636363647},{"$f":"Circuit1Details!O50*1000","v":41.136363636363647},{"$f":"Circuit1Details!P50*1000*Circuit1!$J$9/(Circuit1!$J$9+Circuit1!$J$12)","v":1524.9948371019877},{"$f":"Circuit1Details!P50*1000*Circuit1!$J$12/(Circuit1!$J$9+Circuit1!$J$12)","v":1016.6632247346585},null,{"$f":"Circuit1Details!S50*1000","v":87.48},null,{"$f":"Circuit1Details!U50*1000","v":1.9439999999999993}]
[{"$f":"Circuit1Details!A51","v":30},{"$f":"Circuit1Details!B51*1000","v":525.53372278383517},null,null,null,null,null,null,{"$f":"Circuit1Details!I51*1000","v":821.16515894743202},{"$f":"Circuit1Details!J51*1000","v":4226.4453905504852},{"$f":"Circuit1Details!K51*1000","v":181.2},{"$f":"Circuit1Details!L51*1000","v":519.75},null,{"$f":"Circuit1Details!N51*1000","v":41.136363636363647},{"$f":"Circuit1Details!O51*1000","v":41.136363636363647},{"$f":"Circuit1Details!P51*1000*Circuit1!$J$9/(Circuit1!$J$9+Circuit1!$J$12)","v":1592.0323088915172},{"$f":"Circuit1Details!P51*1000*Circuit1!$J$12/(Circuit1!$J$9+Circuit1!$J$12)","v":1061.3548725943449},null,{"$f":"Circuit1Details!S51*1000","v":87.48},null,{"$f":"Circuit1Details!U51*1000","v":1.9439999999999993}]
[]
[]
[]
[]
[]
[]
[]
[]
[]
[]
[]
[]
[]
[]
[]
[]
[]
[]
[{"$f":"OFFSET(A1,$A$72,0)","v":27.599999999999998},{"$f":"OFFSET(B1,$A$72,0)+OFFSET(S1,$A$72,0)","v":520.34279199681202},0,0,0,0,0,0,{"$f":"OFFSET(I1,$A$72,0)","v":760.01255898331056},{"$f":"OFFSET(J1,$A$72,0)","v":3514.8509830573857},{"$f":"OFFSET(K1,$A$72,0)","v":181.2},{"$f":"OFFSET(L1,$A$72,0)","v":478.1699999999999},null,{"$f":"OFFSET(N1,$A$72,0)","v":41.136363636363647},41.136363636363647,1332.8169239522044,888.54461596813633,0,87.48,0,1.9439999999999993]
[]
[46]
[{"$f":"A2","v":0.6}]
[1.2]
[1.7999999999999998]
[2.4]
[3]
[3.5999999999999996]
[4.2]
[4.8]
[5.3999999999999995]
[6]
[6.6]
[7.1999999999999993]
[7.8]
[8.4]
[9]
[9.6]
[10.199999999999999]
[10.799999999999999]
[11.4]
[12]
[12.6]
[13.2]
[13.799999999999999]
[14.399999999999999]
[15]
[15.6]
[16.2]
[16.8]
[17.399999999999999]
[18]
[18.599999999999998]
[19.2]
[19.8]
[20.399999999999999]
[21]
[21.599999999999998]
[{"$f":"A38","v":22.2}]
[22.8]
[23.4]
[24]
[24.599999999999998]
[20]
[25.8]
[26.4]
[27]
[27.599999999999998]
[28.2]
[28.799999999999997]
[29.4]
[30]

{"sheet":"Control2","index":11,"n_rows":122,"n_cols":21,"rows_kept":122,"cut":false,"hidden":true,"merged":[]}
["I(Load)","PHC",null,null,null,null,null,null,"PswHS","PconLS","PQrr","PDT",null,"PdrHS","PdrLS","Pw","P-PCB",null,"Pcsw",null,"Pesr"]
[{"$f":"Circuit2Details!A2","v":0.6},{"$f":"Circuit2Details!B2*1000","v":0.29303039999999997},null,null,null,null,null,null,{"$f":"Circuit2Details!I2*1000","v":32.827829016527609},{"$f":"Circuit2Details!J2*1000","v":4.4838143750899189},{"$f":"Circuit2Details!K2*1000","v":91.800000000000011},{"$f":"Circuit2Details!L2*1000","v":10.665000000000001},null,{"$f":"Circuit2Details!N2*1000","v":41.136363636363647},{"$f":"Circuit2Details!O2*1000","v":25.727272727272727},{"$f":"Circuit2Details!P2*1000*Circuit2!$J$9/(Circuit2!$J$9+Circuit2!$J$12)","v":1.1232},{"$f":"Circuit2Details!P2*1000*Circuit2!$J$12/(Circuit2!$J$9+Circuit2!$J$12)","v":0.74879999999999991},null,{"$f":"Circuit2Details!S2*1000","v":87.48},null,{"$f":"Circuit2Details!U2*1000","v":1.9441140546912079}]
[{"$f":"Circuit2Details!A3","v":1.2},{"$f":"Circuit2Details!B3*1000","v":1.0866499323315197},null,null,null,null,null,null,{"$f":"Circuit2Details!I3*1000","v":45.559217704525103},{"$f":"Circuit2Details!J3*1000","v":10.39357196995523},{"$f":"Circuit2Details!K3*1000","v":91.800000000000011},{"$f":"Circuit2Details!L3*1000","v":21.330000000000002},null,{"$f":"Circuit2Details!N3*1000","v":41.136363636363647},{"$f":"Circuit2Details!O3*1000","v":25.727272727272727},{"$f":"Circuit2Details!P3*1000*Circuit2!$J$9/(Circuit2!$J$9+Circuit2!$J$12)","v":2.7473182877258044},{"$f":"Circuit2Details!P3*1000*Circuit2!$J$12/(Circuit2!$J$9+Circuit2!$J$12)","v":1.8315455251505361},null,{"$f":"Circuit2Details!S3*1000","v":87.48},null,{"$f":"Circuit2Details!U3*1000","v":1.9441140546912079}]
[{"$f":"Circuit2Details!A4","v":1.7999999999999998},{"$f":"Circuit2Details!B4*1000","v":1.8423678403384656},null,null,null,null,null,null,{"$f":"Circuit2Details!I4*1000","v":63.131074278535898},{"$f":"Circuit2Details!J4*1000","v":21.222677854478352},{"$f":"Circuit2Details!K4*1000","v":91.800000000000011},{"$f":"Circuit2Details!L4*1000","v":31.994999999999997},null,{"$f":"Circuit2Details!N4*1000","v":41.136363636363647},{"$f":"Circuit2Details!O4*1000","v":25.727272727272727},{"$f":"Circuit2Details!P4*1000*Circuit2!$J$9/(Circuit2!$J$9+Circuit2!$J$12)","v":5.4602194508944919},{"$f":"Circuit2Details!P4*1000*Circuit2!$J$12/(Circuit2!$J$9+Circuit2!$J$12)","v":3.6401463005963279},null,{"$f":"Circuit2Details!S4*1000","v":87.48},null,{"$f":"Circuit2Details!U4*1000","v":1.9441140546912079}]
[{"$f":"Circuit2Details!A5","v":2.4},{"$f":"Circuit2Details!B5*1000","v":2.9644501867663609},null,null,null,null,null,null,{"$f":"Circuit2Details!I5*1000","v":80.617246141742541},{"$f":"Circuit2Details!J5*1000","v":36.389626884542395},{"$f":"Circuit2Details!K5*1000","v":91.800000000000011},{"$f":"Circuit2Details!L5*1000","v":42.660000000000004},null,{"$f":"Circuit2Details!N5*1000","v":41.136363636363647},{"$f":"Circuit2Details!O5*1000","v":25.727272727272727},{"$f":"Circuit2Details!P5*1000*Circuit2!$J$9/(Circuit2!$J$9+Circuit2!$J$12)","v":9.2712386342102775},{"$f":"Circuit2Details!P5*1000*Circuit2!$J$12/(Circuit2!$J$9+Circuit2!$J$12)","v":6.1808257561401847},null,{"$f":"Circuit2Details!S5*1000","v":87.48},null,{"$f":"Circuit2Details!U5*1000","v":1.9441140546912079}]
[{"$f":"Circuit2Details!A6","v":3},{"$f":"Circuit2Details!B6*1000","v":4.4215214542600831},null,null,null,null,null,null,{"$f":"Circuit2Details!I6*1000","v":98.019702137894654},{"$f":"Circuit2Details!J6*1000","v":56.03665942367715},{"$f":"Circuit2Details!K6*1000","v":91.800000000000011},{"$f":"Circuit2Details!L6*1000","v":53.325000000000003},null,{"$f":"Circuit2Details!N6*1000","v":41.136363636363647},{"$f":"Circuit2Details!O6*1000","v":25.727272727272727},{"$f":"Circuit2Details!P6*1000*Circuit2!$J$9/(Circuit2!$J$9+Circuit2!$J$12)","v":14.19124624476081},{"$f":"Circuit2Details!P6*1000*Circuit2!$J$12/(Circuit2!$J$9+Circuit2!$J$12)","v":9.4608308298405408},null,{"$f":"Circuit2Details!S6*1000","v":87.48},null,{"$f":"Circuit2Details!U6*1000","v":1.9441140546912079}]
[{"$f":"Circuit2Details!A7","v":3.5999999999999996},{"$f":"Circuit2Details!B7*1000","v":6.2143683370100842},null,null,null,null,null,null,{"$f":"Circuit2Details!I7*1000","v":115.3403776226935},{"$f":"Circuit2Details!J7*1000","v":80.27393241416479},{"$f":"Circuit2Details!K7*1000","v":91.800000000000011},{"$f":"Circuit2Details!L7*1000","v":63.989999999999995},null,{"$f":"Circuit2Details!N7*1000","v":41.136363636363647},{"$f":"Circuit2Details!O7*1000","v":25.727272727272727},{"$f":"Circuit2Details!P7*1000*Circuit2!$J$9/(Circuit2!$J$9+Circuit2!$J$12)","v":20.233659742487745},{"$f":"Circuit2Details!P7*1000*Circuit2!$J$12/(Circuit2!$J$9+Circuit2!$J$12)","v":13.48910649499183},null,{"$f":"Circuit2Details!S7*1000","v":87.48},null,{"$f":"Circuit2Details!U7*1000","v":1.9441140546912079}]
[{"$f":"Circuit2Details!A8","v":4.2},{"$f":"Circuit2Details!B8*1000","v":8.348267665403668},null,null,null,null,null,null,{"$f":"Circuit2Details!I8*1000","v":132.58117536302359},{"$f":"Circuit2Details!J8*1000","v":109.22086576993358},{"$f":"Circuit2Details!K8*1000","v":91.800000000000011},{"$f":"Circuit2Details!L8*1000","v":74.655000000000015},null,{"$f":"Circuit2Details!N8*1000","v":41.136363636363647},{"$f":"Circuit2Details!O8*1000","v":25.727272727272727},{"$f":"Circuit2Details!P8*1000*Circuit2!$J$9/(Circuit2!$J$9+Circuit2!$J$12)","v":27.414014883540744},{"$f":"Circuit2Details!P8*1000*Circuit2!$J$12/(Circuit2!$J$9+Circuit2!$J$12)","v":18.276009922360497},null,{"$f":"Circuit2Details!S8*1000","v":87.48},null,{"$f":"Circuit2Details!U8*1000","v":1.9441140546912079}]
[{"$f":"Circuit2Details!A9","v":4.8},{"$f":"Circuit2Details!B9*1000","v":10.829940259580496},null,null,null,null,null,null,{"$f":"Circuit2Details!I9*1000","v":149.74396640980441},{"$f":"Circuit2Details!J9*1000","v":143.00972405119498},{"$f":"Circuit2Details!K9*1000","v":91.800000000000011},{"$f":"Circuit2Details!L9*1000","v":85.320000000000007},null,{"$f":"Circuit2Details!N9*1000","v":41.136363636363647},{"$f":"Circuit2Details!O9*1000","v":25.727272727272727},{"$f":"Circuit2Details!P9*1000*Circuit2!$J$9/(Circuit2!$J$9+Circuit2!$J$12)","v":35.749783843128853},{"$f":"Circuit2Details!P9*1000*Circuit2!$J$12/(Circuit2!$J$9+Circuit2!$J$12)","v":23.83318922875257},null,{"$f":"Circuit2Details!S9*1000","v":87.48},null,{"$f":"Circuit2Details!U9*1000","v":1.9441140546912079}]
[{"$f":"Circuit2Details!A10","v":5.3999999999999995},{"$f":"Circuit2Details!B10*1000","v":13.666804448502601},null,null,null,null,null,null,{"$f":"Circuit2Details!I10*1000","v":166.83059094538183},{"$f":"Circuit2Details!J10*1000","v":181.78507757609927},{"$f":"Circuit2Details!K10*1000","v":91.800000000000011},{"$f":"Circuit2Details!L10*1000","v":95.984999999999999},null,{"$f":"Circuit2Details!N10*1000","v":41.136363636363647},{"$f":"Circuit2Details!O10*1000","v":25.727272727272727},{"$f":"Circuit2Details!P10*1000*Circuit2!$J$9/(Circuit2!$J$9+Circuit2!$J$12)","v":45.260155900038079},{"$f":"Circuit2Details!P10*1000*Circuit2!$J$12/(Circuit2!$J$9+Circuit2!$J$12)","v":30.173437266692055},null,{"$f":"Circuit2Details!S10*1000","v":87.48},null,{"$f":"Circuit2Details!U10*1000","v":1.9441140546912079}]
[{"$f":"Circuit2Details!A11","v":6},{"$f":"Circuit2Details!B11*1000","v":16.866738821809712},null,null,null,null,null,null,{"$f":"Circuit2Details!I11*1000","v":183.84285910633821},{"$f":"Circuit2Details!J11*1000","v":225.70220401977284},{"$f":"Circuit2Details!K11*1000","v":91.800000000000011},{"$f":"Circuit2Details!L11*1000","v":106.65},null,{"$f":"Circuit2Details!N11*1000","v":41.136363636363647},{"$f":"Circuit2Details!O11*1000","v":25.727272727272727},{"$f":"Circuit2Details!P11*1000*Circuit2!$J$9/(Circuit2!$J$9+Circuit2!$J$12)","v":55.965791236270775},{"$f":"Circuit2Details!P11*1000*Circuit2!$J$12/(Circuit2!$J$9+Circuit2!$J$12)","v":37.310527490847186},null,{"$f":"Circuit2Details!S11*1000","v":87.48},null,{"$f":"Circuit2Details!U11*1000","v":1.9441140546912079}]
[{"$f":"Circuit2Details!A12","v":6.6},{"$f":"Circuit2Details!B12*1000","v":20.437995618652316},null,null,null,null,null,null,{"$f":"Circuit2Details!I12*1000","v":200.7825517825691},{"$f":"Circuit2Details!J12*1000","v":274.92504359289507},{"$f":"Circuit2Details!K12*1000","v":91.800000000000011},{"$f":"Circuit2Details!L12*1000","v":117.31499999999998},null,{"$f":"Circuit2Details!N12*1000","v":41.136363636363647},{"$f":"Circuit2Details!O12*1000","v":25.727272727272727},{"$f":"Circuit2Details!P12*1000*Circuit2!$J$9/(Circuit2!$J$9+Circuit2!$J$12)","v":67.888549678560622},{"$f":"Circuit2Details!P12*1000*Circuit2!$J$12/(Circuit2!$J$9+Circuit2!$J$12)","v":45.25903311904041},null,{"$f":"Circuit2Details!S12*1000","v":87.48},null,{"$f":"Circuit2Details!U12*1000","v":1.9441140546912079}]
[{"$f":"Circuit2Details!A13","v":7.1999999999999993},{"$f":"Circuit2Details!B13*1000","v":24.389166590212668},null,null,null,null,null,null,{"$f":"Circuit2Details!I13*1000","v":217.65142139343934},{"$f":"Circuit2Details!J13*1000","v":329.62389268832851},{"$f":"Circuit2Details!K13*1000","v":91.800000000000011},{"$f":"Circuit2Details!L13*1000","v":127.97999999999999},null,{"$f":"Circuit2Details!N13*1000","v":41.136363636363647},{"$f":"Circuit2Details!O13*1000","v":25.727272727272727},{"$f":"Circuit2Details!P13*1000*Circuit2!$J$9/(Circuit2!$J$9+Circuit2!$J$12)","v":81.05119691885325},{"$f":"Circuit2Details!P13*1000*Circuit2!$J$12/(Circuit2!$J$9+Circuit2!$J$12)","v":54.034131279235496},null,{"$f":"Circuit2Details!S13*1000","v":87.48},null,{"$f":"Circuit2Details!U13*1000","v":1.9441140546912079}]
[{"$f":"Circuit2Details!A14","v":7.8},{"$f":"Circuit2Details!B14*1000","v":28.729168381831791},null,null,null,null,null,null,{"$f":"Circuit2Details!I14*1000","v":234.45119264180016},{"$f":"Circuit2Details!J14*1000","v":389.97292398773533},{"$f":"Circuit2Details!K14*1000","v":91.800000000000011},{"$f":"Circuit2Details!L14*1000","v":138.64500000000001},null,{"$f":"Circuit2Details!N14*1000","v":41.136363636363647},{"$f":"Circuit2Details!O14*1000","v":25.727272727272727},{"$f":"Circuit2Details!P14*1000*Circuit2!$J$9/(Circuit2!$J$9+Circuit2!$J$12)","v":95.477092229115641},{"$f":"Circuit2Details!P14*1000*Circuit2!$J$12/(Circuit2!$J$9+Circuit2!$J$12)","v":63.651394819410427},null,{"$f":"Circuit2Details!S14*1000","v":87.48},null,{"$f":"Circuit2Details!U14*1000","v":1.9441140546912079}]
[{"$f":"Circuit2Details!A15","v":8.4},{"$f":"Circuit2Details!B15*1000","v":33.467234614190637},null,null,null,null,null,null,{"$f":"Circuit2Details!I15*1000","v":251.18356324661843},{"$f":"Circuit2Details!J15*1000","v":456.14760043567901},{"$f":"Circuit2Details!K15*1000","v":91.800000000000011},{"$f":"Circuit2Details!L15*1000","v":149.31000000000003},null,{"$f":"Circuit2Details!N15*1000","v":41.136363636363647},{"$f":"Circuit2Details!O15*1000","v":25.727272727272727},{"$f":"Circuit2Details!P15*1000*Circuit2!$J$9/(Circuit2!$J$9+Circuit2!$J$12)","v":111.18986332206696},{"$f":"Circuit2Details!P15*1000*Circuit2!$J$12/(Circuit2!$J$9+Circuit2!$J$12)","v":74.126575548044642},null,{"$f":"Circuit2Details!S15*1000","v":87.48},null,{"$f":"Circuit2Details!U15*1000","v":1.9441140546912079}]
[{"$f":"Circuit2Details!A16","v":9},{"$f":"Circuit2Details!B16*1000","v":38.61290911590531},null,null,null,null,null,null,{"$f":"Circuit2Details!I16*1000","v":267.85020465494097},{"$f":"Circuit2Details!J16*1000","v":528.32205067363327},{"$f":"Circuit2Details!K16*1000","v":91.800000000000011},{"$f":"Circuit2Details!L16*1000","v":159.97499999999999},null,{"$f":"Circuit2Details!N16*1000","v":41.136363636363647},{"$f":"Circuit2Details!O16*1000","v":25.727272727272727},{"$f":"Circuit2Details!P16*1000*Circuit2!$J$9/(Circuit2!$J$9+Circuit2!$J$12)","v":128.21307557319037},{"$f":"Circuit2Details!P16*1000*Circuit2!$J$12/(Circuit2!$J$9+Circuit2!$J$12)","v":85.475383715460254},null,{"$f":"Circuit2Details!S16*1000","v":87.48},null,{"$f":"Circuit2Details!U16*1000","v":1.9441140546912079}]
[{"$f":"Circuit2Details!A17","v":9.6},{"$f":"Circuit2Details!B17*1000","v":44.176037763934985},null,null,null,null,null,null,{"$f":"Circuit2Details!I17*1000","v":284.45276273388794},{"$f":"Circuit2Details!J17*1000","v":606.66647862249374},{"$f":"Circuit2Details!K17*1000","v":91.800000000000011},{"$f":"Circuit2Details!L17*1000","v":170.64000000000001},null,{"$f":"Circuit2Details!N17*1000","v":41.136363636363647},{"$f":"Circuit2Details!O17*1000","v":25.727272727272727},{"$f":"Circuit2Details!P17*1000*Circuit2!$J$9/(Circuit2!$J$9+Circuit2!$J$12)","v":146.5699041185697},{"$f":"Circuit2Details!P17*1000*Circuit2!$J$12/(Circuit2!$J$9+Circuit2!$J$12)","v":97.713269412379788},null,{"$f":"Circuit2Details!S17*1000","v":87.48},null,{"$f":"Circuit2Details!U17*1000","v":1.9441140546912079}]
[{"$f":"Circuit2Details!A18","v":10.199999999999999},{"$f":"Circuit2Details!B18*1000","v":50.166757802731432},null,null,null,null,null,null,{"$f":"Circuit2Details!I18*1000","v":300.99285844334293},{"$f":"Circuit2Details!J18*1000","v":691.34468403621975},{"$f":"Circuit2Details!K18*1000","v":91.800000000000011},{"$f":"Circuit2Details!L18*1000","v":181.30500000000001},null,{"$f":"Circuit2Details!N18*1000","v":41.136363636363647},{"$f":"Circuit2Details!O18*1000","v":25.727272727272727},{"$f":"Circuit2Details!P18*1000*Circuit2!$J$9/(Circuit2!$J$9+Circuit2!$J$12)","v":166.28281820027109},{"$f":"Circuit2Details!P18*1000*Circuit2!$J$12/(Circuit2!$J$9+Circuit2!$J$12)","v":110.85521213351406},null,{"$f":"Circuit2Details!S18*1000","v":87.48},null,{"$f":"Circuit2Details!U18*1000","v":1.9441140546912079}]
[{"$f":"Circuit2Details!A19","v":10.799999999999999},{"$f":"Circuit2Details!B19*1000","v":56.595484275168616},null,null,null,null,null,null,{"$f":"Circuit2Details!I19*1000","v":317.47208848998361},{"$f":"Circuit2Details!J19*1000","v":782.51177131250176},{"$f":"Circuit2Details!K19*1000","v":91.800000000000011},{"$f":"Circuit2Details!L19*1000","v":191.97},null,{"$f":"Circuit2Details!N19*1000","v":41.136363636363647},{"$f":"Circuit2Details!O19*1000","v":25.727272727272727},{"$f":"Circuit2Details!P19*1000*Circuit2!$J$9/(Circuit2!$J$9+Circuit2!$J$12)","v":187.37328739979074},{"$f":"Circuit2Details!P19*1000*Circuit2!$J$12/(Circuit2!$J$9+Circuit2!$J$12)","v":124.91552493319382},null,{"$f":"Circuit2Details!S19*1000","v":87.48},null,{"$f":"Circuit2Details!U19*1000","v":1.9441140546912079}]
[{"$f":"Circuit2Details!A20","v":11.4},{"$f":"Circuit2Details!B20*1000","v":63.472893662432902},null,null,null,null,null,null,{"$f":"Circuit2Details!I20*1000","v":333.89202596326908},{"$f":"Circuit2Details!J20*1000","v":880.31211934303371},{"$f":"Circuit2Details!K20*1000","v":91.800000000000011},{"$f":"Circuit2Details!L20*1000","v":202.63500000000005},null,{"$f":"Circuit2Details!N20*1000","v":41.136363636363647},{"$f":"Circuit2Details!O20*1000","v":25.727272727272727},{"$f":"Circuit2Details!P20*1000*Circuit2!$J$9/(Circuit2!$J$9+Circuit2!$J$12)","v":209.8615189880893},{"$f":"Circuit2Details!P20*1000*Circuit2!$J$12/(Circuit2!$J$9+Circuit2!$J$12)","v":139.90767932539285},null,{"$f":"Circuit2Details!S20*1000","v":87.48},null,{"$f":"Circuit2Details!U20*1000","v":1.9441140546912079}]
[{"$f":"Circuit2Details!A21","v":12},{"$f":"Circuit2Details!B21*1000","v":70.809905135643874},null,null,null,null,null,null,{"$f":"Circuit2Details!I21*1000","v":350.25422095398051},{"$f":"Circuit2Details!J21*1000","v":984.87767537119737},{"$f":"Circuit2Details!K21*1000","v":91.800000000000011},{"$f":"Circuit2Details!L21*1000","v":213.3},null,{"$f":"Circuit2Details!N21*1000","v":41.136363636363647},{"$f":"Circuit2Details!O21*1000","v":25.727272727272727},{"$f":"Circuit2Details!P21*1000*Circuit2!$J$9/(Circuit2!$J$9+Circuit2!$J$12)","v":233.76623450879941},{"$f":"Circuit2Details!P21*1000*Circuit2!$J$12/(Circuit2!$J$9+Circuit2!$J$12)","v":155.84415633919963},null,{"$f":"Circuit2Details!S21*1000","v":87.48},null,{"$f":"Circuit2Details!U21*1000","v":1.9441140546912079}]
[{"$f":"Circuit2Details!A22","v":12.6},{"$f":"Circuit2Details!B22*1000","v":78.617660023642458},null,null,null,null,null,null,{"$f":"Circuit2Details!I22*1000","v":366.56020115588768},{"$f":"Circuit2Details!J22*1000","v":1096.3266211608666},{"$f":"Circuit2Details!K22*1000","v":91.800000000000011},{"$f":"Circuit2Details!L22*1000","v":223.96500000000003},null,{"$f":"Circuit2Details!N22*1000","v":41.136363636363647},{"$f":"Circuit2Details!O22*1000","v":25.727272727272727},{"$f":"Circuit2Details!P22*1000*Circuit2!$J$9/(Circuit2!$J$9+Circuit2!$J$12)","v":259.10449196327761},{"$f":"Circuit2Details!P22*1000*Circuit2!$J$12/(Circuit2!$J$9+Circuit2!$J$12)","v":172.73632797551844},null,{"$f":"Circuit2Details!S22*1000","v":87.48},null,{"$f":"Circuit2Details!U22*1000","v":1.9441140546912079}]
[{"$f":"Circuit2Details!A23","v":13.2},{"$f":"Circuit2Details!B23*1000","v":86.907500220045137},null,null,null,null,null,null,{"$f":"Circuit2Details!I23*1000","v":382.81147245108991},{"$f":"Circuit2Details!J23*1000","v":1214.7624414168433},{"$f":"Circuit2Details!K23*1000","v":91.800000000000011},{"$f":"Circuit2Details!L23*1000","v":234.62999999999997},null,{"$f":"Circuit2Details!N23*1000","v":41.136363636363647},{"$f":"Circuit2Details!O23*1000","v":25.727272727272727},{"$f":"Circuit2Details!P23*1000*Circuit2!$J$9/(Circuit2!$J$9+Circuit2!$J$12)","v":285.89155772585798},{"$f":"Circuit2Details!P23*1000*Circuit2!$J$12/(Circuit2!$J$9+Circuit2!$J$12)","v":190.59437181723868},null,{"$f":"Circuit2Details!S23*1000","v":87.48},null,{"$f":"Circuit2Details!U23*1000","v":1.9441140546912079}]
[{"$f":"Circuit2Details!A24","v":13.799999999999999},{"$f":"Circuit2Details!B24*1000","v":95.690946297488367},null,null,null,null,null,null,{"$f":"Circuit2Details!I24*1000","v":399.0095194795656},{"$f":"Circuit2Details!J24*1000","v":1340.2734039920063},{"$f":"Circuit2Details!K24*1000","v":91.800000000000011},{"$f":"Circuit2Details!L24*1000","v":245.29499999999999},null,{"$f":"Circuit2Details!N24*1000","v":41.136363636363647},{"$f":"Circuit2Details!O24*1000","v":25.727272727272727},{"$f":"Circuit2Details!P24*1000*Circuit2!$J$9/(Circuit2!$J$9+Circuit2!$J$12)","v":314.14082979077403},{"$f":"Circuit2Details!P24*1000*Circuit2!$J$12/(Circuit2!$J$9+Circuit2!$J$12)","v":209.427219860516},null,{"$f":"Circuit2Details!S24*1000","v":87.48},null,{"$f":"Circuit2Details!U24*1000","v":1.9441140546912079}]
[{"$f":"Circuit2Details!A25","v":14.399999999999999},{"$f":"Circuit2Details!B25*1000","v":104.97967607532088},null,null,null,null,null,null,{"$f":"Circuit2Details!I25*1000","v":415.15580619343808},{"$f":"Circuit2Details!J25*1000","v":1472.932440881264},{"$f":"Circuit2Details!K25*1000","v":91.800000000000011},{"$f":"Circuit2Details!L25*1000","v":255.95999999999998},null,{"$f":"Circuit2Details!N25*1000","v":41.136363636363647},{"$f":"Circuit2Details!O25*1000","v":25.727272727272727},{"$f":"Circuit2Details!P25*1000*Circuit2!$J$9/(Circuit2!$J$9+Circuit2!$J$12)","v":343.86381137799617},{"$f":"Circuit2Details!P25*1000*Circuit2!$J$12/(Circuit2!$J$9+Circuit2!$J$12)","v":229.2425409186641},null,{"$f":"Circuit2Details!S25*1000","v":87.48},null,{"$f":"Circuit2Details!U25*1000","v":1.9441140546912079}]
[{"$f":"Circuit2Details!A26","v":15},{"$f":"Circuit2Details!B26*1000","v":114.78550430858714},null,null,null,null,null,null,{"$f":"Circuit2Details!I26*1000","v":431.25177639645153},{"$f":"Circuit2Details!J26*1000","v":1612.7974002210806},{"$f":"Circuit2Details!K26*1000","v":91.800000000000011},{"$f":"Circuit2Details!L26*1000","v":266.62500000000006},null,{"$f":"Circuit2Details!N26*1000","v":41.136363636363647},{"$f":"Circuit2Details!O26*1000","v":25.727272727272727},{"$f":"Circuit2Details!P26*1000*Circuit2!$J$9/(Circuit2!$J$9+Circuit2!$J$12)","v":375.07013154180993},{"$f":"Circuit2Details!P26*1000*Circuit2!$J$12/(Circuit2!$J$9+Circuit2!$J$12)","v":250.04675436120664},null,{"$f":"Circuit2Details!S26*1000","v":87.48},null,{"$f":"Circuit2Details!U26*1000","v":1.9441140546912079}]
[{"$f":"Circuit2Details!A27","v":15.6},{"$f":"Circuit2Details!B27*1000","v":125.12036404419911},null,null,null,null,null,null,{"$f":"Circuit2Details!I27*1000","v":447.29885426913137},{"$f":"Circuit2Details!J27*1000","v":1759.9116240707654},{"$f":"Circuit2Details!K27*1000","v":91.800000000000011},{"$f":"Circuit2Details!L27*1000","v":277.29000000000002},null,{"$f":"Circuit2Details!N27*1000","v":41.136363636363647},{"$f":"Circuit2Details!O27*1000","v":25.727272727272727},{"$f":"Circuit2Details!P27*1000*Circuit2!$J$9/(Circuit2!$J$9+Circuit2!$J$12)","v":407.76760743679307},{"$f":"Circuit2Details!P27*1000*Circuit2!$J$12/(Circuit2!$J$9+Circuit2!$J$12)","v":271.84507162452871},null,{"$f":"Circuit2Details!S27*1000","v":87.48},null,{"$f":"Circuit2Details!U27*1000","v":1.9441140546912079}]
[{"$f":"Circuit2Details!A28","v":16.2},{"$f":"Circuit2Details!B28*1000","v":135.99629004058892},null,null,null,null,null,null,{"$f":"Circuit2Details!I28*1000","v":463.29844488008308},{"$f":"Circuit2Details!J28*1000","v":1914.3047957334418},{"$f":"Circuit2Details!K28*1000","v":91.800000000000011},{"$f":"Circuit2Details!L28*1000","v":287.95500000000004},null,{"$f":"Circuit2Details!N28*1000","v":41.136363636363647},{"$f":"Circuit2Details!O28*1000","v":25.727272727272727},{"$f":"Circuit2Details!P28*1000*Circuit2!$J$9/(Circuit2!$J$9+Circuit2!$J$12)","v":441.96234144393856},{"$f":"Circuit2Details!P28*1000*Circuit2!$J$12/(Circuit2!$J$9+Circuit2!$J$12)","v":294.6415609626257},null,{"$f":"Circuit2Details!S28*1000","v":87.48},null,{"$f":"Circuit2Details!U28*1000","v":1.9441140546912079}]
[{"$f":"Circuit2Details!A29","v":16.8},{"$f":"Circuit2Details!B29*1000","v":147.42540448666159},null,null,null,null,null,null,{"$f":"Circuit2Details!I29*1000","v":479.25193468387295},{"$f":"Circuit2Details!J29*1000","v":2075.9939942652409},{"$f":"Circuit2Details!K29*1000","v":91.800000000000011},{"$f":"Circuit2Details!L29*1000","v":298.62000000000006},null,{"$f":"Circuit2Details!N29*1000","v":41.136363636363647},{"$f":"Circuit2Details!O29*1000","v":25.727272727272727},{"$f":"Circuit2Details!P29*1000*Circuit2!$J$9/(Circuit2!$J$9+Circuit2!$J$12)","v":477.65884551381714},{"$f":"Circuit2Details!P29*1000*Circuit2!$J$12/(Circuit2!$J$9+Circuit2!$J$12)","v":318.43923034254476},null,{"$f":"Circuit2Details!S29*1000","v":87.48},null,{"$f":"Circuit2Details!U29*1000","v":1.9441140546912079}]
[{"$f":"Circuit2Details!A30","v":17.399999999999999},{"$f":"Circuit2Details!B30*1000","v":159.41990510018428},null,null,null,null,null,null,{"$f":"Circuit2Details!I30*1000","v":495.16069200591096},{"$f":"Circuit2Details!J30*1000","v":2244.9848925122965},{"$f":"Circuit2Details!K30*1000","v":91.800000000000011},{"$f":"Circuit2Details!L30*1000","v":309.28499999999997},null,{"$f":"Circuit2Details!N30*1000","v":41.136363636363647},{"$f":"Circuit2Details!O30*1000","v":25.727272727272727},{"$f":"Circuit2Details!P30*1000*Circuit2!$J$9/(Circuit2!$J$9+Circuit2!$J$12)","v":514.86018483835073},{"$f":"Circuit2Details!P30*1000*Circuit2!$J$12/(Circuit2!$J$9+Circuit2!$J$12)","v":343.24012322556717},null,{"$f":"Circuit2Details!S30*1000","v":87.48},null,{"$f":"Circuit2Details!U30*1000","v":1.9441140546912079}]
[{"$f":"Circuit2Details!A31","v":18},{"$f":"Circuit2Details!B31*1000","v":171.99205554762773},null,null,null,null,null,null,{"$f":"Circuit2Details!I31*1000","v":511.02606751474747},{"$f":"Circuit2Details!J31*1000","v":2421.2730379049526},{"$f":"Circuit2Details!K31*1000","v":91.800000000000011},{"$f":"Circuit2Details!L31*1000","v":319.95},null,{"$f":"Circuit2Details!N31*1000","v":41.136363636363647},{"$f":"Circuit2Details!O31*1000","v":25.727272727272727},{"$f":"Circuit2Details!P31*1000*Circuit2!$J$9/(Circuit2!$J$9+Circuit2!$J$12)","v":553.56813324958887},{"$f":"Circuit2Details!P31*1000*Circuit2!$J$12/(Circuit2!$J$9+Circuit2!$J$12)","v":369.04542216639254},null,{"$f":"Circuit2Details!S31*1000","v":87.48},null,{"$f":"Circuit2Details!U31*1000","v":1.9441140546912079}]
[{"$f":"Circuit2Details!A32","v":18.599999999999998},{"$f":"Circuit2Details!B32*1000","v":185.15417801570598},null,null,null,null,null,null,{"$f":"Circuit2Details!I32*1000","v":526.84939468217704},{"$f":"Circuit2Details!J32*1000","v":2604.8451613928487},{"$f":"Circuit2Details!K32*1000","v":91.800000000000011},{"$f":"Circuit2Details!L32*1000","v":330.61500000000001},null,{"$f":"Circuit2Details!N32*1000","v":41.136363636363647},{"$f":"Circuit2Details!O32*1000","v":25.727272727272727},{"$f":"Circuit2Details!P32*1000*Circuit2!$J$9/(Circuit2!$J$9+Circuit2!$J$12)","v":593.78333345100498},{"$f":"Circuit2Details!P32*1000*Circuit2!$J$12/(Circuit2!$J$9+Circuit2!$J$12)","v":395.85555563400334},null,{"$f":"Circuit2Details!S32*1000","v":87.48},null,{"$f":"Circuit2Details!U32*1000","v":1.9441140546912079}]
[{"$f":"Circuit2Details!A33","v":19.2},{"$f":"Circuit2Details!B33*1000","v":198.91864768387808},null,null,null,null,null,null,{"$f":"Circuit2Details!I33*1000","v":542.63199023152765},{"$f":"Circuit2Details!J33*1000","v":2795.6804682354377},{"$f":"Circuit2Details!K33*1000","v":91.800000000000011},{"$f":"Circuit2Details!L33*1000","v":341.28000000000003},null,{"$f":"Circuit2Details!N33*1000","v":41.136363636363647},{"$f":"Circuit2Details!O33*1000","v":25.727272727272727},{"$f":"Circuit2Details!P33*1000*Circuit2!$J$9/(Circuit2!$J$9+Circuit2!$J$12)","v":635.50545618105912},{"$f":"Circuit2Details!P33*1000*Circuit2!$J$12/(Circuit2!$J$9+Circuit2!$J$12)","v":423.67030412070608},null,{"$f":"Circuit2Details!S33*1000","v":87.48},null,{"$f":"Circuit2Details!U33*1000","v":1.9441140546912079}]
[{"$f":"Circuit2Details!A34","v":19.8},{"$f":"Circuit2Details!B34*1000","v":213.29788879731578},null,null,null,null,null,null,{"$f":"Circuit2Details!I34*1000","v":558.37515457450218},{"$f":"Circuit2Details!J34*1000","v":2993.7518737930782},{"$f":"Circuit2Details!K34*1000","v":91.800000000000011},{"$f":"Circuit2Details!L34*1000","v":351.94500000000005},null,{"$f":"Circuit2Details!N34*1000","v":41.136363636363647},{"$f":"Circuit2Details!O34*1000","v":25.727272727272727},{"$f":"Circuit2Details!P34*1000*Circuit2!$J$9/(Circuit2!$J$9+Circuit2!$J$12)","v":678.73335355623271},{"$f":"Circuit2Details!P34*1000*Circuit2!$J$12/(Circuit2!$J$9+Circuit2!$J$12)","v":452.48890237082185},null,{"$f":"Circuit2Details!S34*1000","v":87.48},null,{"$f":"Circuit2Details!U34*1000","v":1.9441140546912079}]
[{"$f":"Circuit2Details!A35","v":20.399999999999999},{"$f":"Circuit2Details!B35*1000","v":228.30437201859633},null,null,null,null,null,null,{"$f":"Circuit2Details!I35*1000","v":574.08017223692605},{"$f":"Circuit2Details!J35*1000","v":3199.0271570523009},{"$f":"Circuit2Details!K35*1000","v":91.800000000000011},{"$f":"Circuit2Details!L35*1000","v":362.61},null,{"$f":"Circuit2Details!N35*1000","v":41.136363636363647},{"$f":"Circuit2Details!O35*1000","v":25.727272727272727},{"$f":"Circuit2Details!P35*1000*Circuit2!$J$9/(Circuit2!$J$9+Circuit2!$J$12)","v":723.46520302276872},{"$f":"Circuit2Details!P35*1000*Circuit2!$J$12/(Circuit2!$J$9+Circuit2!$J$12)","v":482.31013534851246},null,{"$f":"Circuit2Details!S35*1000","v":87.48},null,{"$f":"Circuit2Details!U35*1000","v":1.9441140546912079}]
[{"$f":"Circuit2Details!A36","v":21},{"$f":"Circuit2Details!B36*1000","v":243.95061273883482},null,null,null,null,null,null,{"$f":"Circuit2Details!I36*1000","v":589.7483122737433},{"$f":"Circuit2Details!J36*1000","v":3411.4700136329457},{"$f":"Circuit2Details!K36*1000","v":91.800000000000011},{"$f":"Circuit2Details!L36*1000","v":373.27500000000003},null,{"$f":"Circuit2Details!N36*1000","v":41.136363636363647},{"$f":"Circuit2Details!O36*1000","v":25.727272727272727},{"$f":"Circuit2Details!P36*1000*Circuit2!$J$9/(Circuit2!$J$9+Circuit2!$J$12)","v":769.6986394692824},{"$f":"Circuit2Details!P36*1000*Circuit2!$J$12/(Circuit2!$J$9+Circuit2!$J$12)","v":513.13242631285493},null,{"$f":"Circuit2Details!S36*1000","v":87.48},null,{"$f":"Circuit2Details!U36*1000","v":1.9441140546912079}]
[{"$f":"Circuit2Details!A37","v":21.599999999999998},{"$f":"Circuit2Details!B37*1000","v":260.24917004934383},null,null,null,null,null,null,{"$f":"Circuit2Details!I37*1000","v":605.38082867358355},{"$f":"Circuit2Details!J37*1000","v":3631.0409979680476},{"$f":"Circuit2Details!K37*1000","v":91.800000000000011},{"$f":"Circuit2Details!L37*1000","v":383.94},null,{"$f":"Circuit2Details!N37*1000","v":41.136363636363647},{"$f":"Circuit2Details!O37*1000","v":25.727272727272727},{"$f":"Circuit2Details!P37*1000*Circuit2!$J$9/(Circuit2!$J$9+Circuit2!$J$12)","v":817.43087405142296},{"$f":"Circuit2Details!P37*1000*Circuit2!$J$12/(Circuit2!$J$9+Circuit2!$J$12)","v":544.95391603428197},null,{"$f":"Circuit2Details!S37*1000","v":87.48},null,{"$f":"Circuit2Details!U37*1000","v":1.9441140546912079}]
[{"$f":"Circuit2Details!A38","v":22.2},{"$f":"Circuit2Details!B38*1000","v":277.21264610730361},null,null,null,null,null,null,{"$f":"Circuit2Details!I38*1000","v":620.9789607532249},{"$f":"Circuit2Details!J38*1000","v":3857.6983509470847},{"$f":"Circuit2Details!K38*1000","v":91.800000000000011},{"$f":"Circuit2Details!L38*1000","v":394.60499999999996},null,{"$f":"Circuit2Details!N38*1000","v":41.136363636363647},{"$f":"Circuit2Details!O38*1000","v":25.727272727272727},{"$f":"Circuit2Details!P38*1000*Circuit2!$J$9/(Circuit2!$J$9+Circuit2!$J$12)","v":866.65879911792945},{"$f":"Circuit2Details!P38*1000*Circuit2!$J$12/(Circuit2!$J$9+Circuit2!$J$12)","v":577.7725327452863},null,{"$f":"Circuit2Details!S38*1000","v":87.48},null,{"$f":"Circuit2Details!U38*1000","v":1.9441140546912079}]
[{"$f":"Circuit2Details!A39","v":22.8},{"$f":"Circuit2Details!B39*1000","v":294.85368566803822},null,null,null,null,null,null,{"$f":"Circuit2Details!I39*1000","v":636.54393354225385},{"$f":"Circuit2Details!J39*1000","v":4091.3987144843336},{"$f":"Circuit2Details!K39*1000","v":91.800000000000011},{"$f":"Circuit2Details!L39*1000","v":405.2700000000001},null,{"$f":"Circuit2Details!N39*1000","v":41.136363636363647},{"$f":"Circuit2Details!O39*1000","v":25.727272727272727},{"$f":"Circuit2Details!P39*1000*Circuit2!$J$9/(Circuit2!$J$9+Circuit2!$J$12)","v":917.37907929131359},{"$f":"Circuit2Details!P39*1000*Circuit2!$J$12/(Circuit2!$J$9+Circuit2!$J$12)","v":611.58605286087572},null,{"$f":"Circuit2Details!S39*1000","v":87.48},null,{"$f":"Circuit2Details!U39*1000","v":1.9441140546912079}]
[{"$f":"Circuit2Details!A40","v":23.4},{"$f":"Circuit2Details!B40*1000","v":313.1849755979523},null,null,null,null,null,null,{"$f":"Circuit2Details!I40*1000","v":652.07695815821739},{"$f":"Circuit2Details!J40*1000","v":4332.0977382714755},{"$f":"Circuit2Details!K40*1000","v":91.800000000000011},{"$f":"Circuit2Details!L40*1000","v":415.93500000000006},null,{"$f":"Circuit2Details!N40*1000","v":41.136363636363647},{"$f":"Circuit2Details!O40*1000","v":25.727272727272727},{"$f":"Circuit2Details!P40*1000*Circuit2!$J$9/(Circuit2!$J$9+Circuit2!$J$12)","v":969.58822925064089},{"$f":"Circuit2Details!P40*1000*Circuit2!$J$12/(Circuit2!$J$9+Circuit2!$J$12)","v":646.39215283376063},null,{"$f":"Circuit2Details!S40*1000","v":87.48},null,{"$f":"Circuit2Details!U40*1000","v":1.9441140546912079}]
[{"$f":"Circuit2Details!A41","v":24},{"$f":"Circuit2Details!B41*1000","v":332.21924422272559},null,null,null,null,null,null,{"$f":"Circuit2Details!I41*1000","v":667.57923217255609},{"$f":"Circuit2Details!J41*1000","v":4579.7505865429503},{"$f":"Circuit2Details!K41*1000","v":91.800000000000011},{"$f":"Circuit2Details!L41*1000","v":426.6},null,{"$f":"Circuit2Details!N41*1000","v":41.136363636363647},{"$f":"Circuit2Details!O41*1000","v":25.727272727272727},{"$f":"Circuit2Details!P41*1000*Circuit2!$J$9/(Circuit2!$J$9+Circuit2!$J$12)","v":1023.2826791048395},{"$f":"Circuit2Details!P41*1000*Circuit2!$J$12/(Circuit2!$J$9+Circuit2!$J$12)","v":682.18845273655973},null,{"$f":"Circuit2Details!S41*1000","v":87.48},null,{"$f":"Circuit2Details!U41*1000","v":1.9441140546912079}]
[{"$f":"Circuit2Details!A42","v":24.599999999999998},{"$f":"Circuit2Details!B42*1000","v":351.96926040277515},null,null,null,null,null,null,{"$f":"Circuit2Details!I42*1000","v":683.0519399675876},{"$f":"Circuit2Details!J42*1000","v":4834.3123542183794},{"$f":"Circuit2Details!K42*1000","v":91.800000000000011},{"$f":"Circuit2Details!L42*1000","v":437.26499999999993},null,{"$f":"Circuit2Details!N42*1000","v":41.136363636363647},{"$f":"Circuit2Details!O42*1000","v":25.727272727272727},{"$f":"Circuit2Details!P42*1000*Circuit2!$J$9/(Circuit2!$J$9+Circuit2!$J$12)","v":1078.4588284557199},{"$f":"Circuit2Details!P42*1000*Circuit2!$J$12/(Circuit2!$J$9+Circuit2!$J$12)","v":718.97255230381313},null,{"$f":"Circuit2Details!S42*1000","v":87.48},null,{"$f":"Circuit2Details!U42*1000","v":1.9441140546912079}]
[{"$f":"Circuit2Details!A43","v":25.2},{"$f":"Circuit2Details!B43*1000","v":372.44783226101373},null,null,null,null,null,null,{"$f":"Circuit2Details!I43*1000","v":698.49625308481313},{"$f":"Circuit2Details!J43*1000","v":5095.7384024980765},{"$f":"Circuit2Details!K43*1000","v":91.800000000000011},{"$f":"Circuit2Details!L43*1000","v":447.93000000000006},null,{"$f":"Circuit2Details!N43*1000","v":41.136363636363647},{"$f":"Circuit2Details!O43*1000","v":25.727272727272727},{"$f":"Circuit2Details!P43*1000*Circuit2!$J$9/(Circuit2!$J$9+Circuit2!$J$12)","v":1135.1130903557992},{"$f":"Circuit2Details!P43*1000*Circuit2!$J$12/(Circuit2!$J$9+Circuit2!$J$12)","v":756.74206023719955},null,{"$f":"Circuit2Details!S43*1000","v":87.48},null,{"$f":"Circuit2Details!U43*1000","v":1.9441140546912079}]
[{"$f":"Circuit2Details!A44","v":25.8},{"$f":"Circuit2Details!B44*1000","v":393.66780551594809},null,null,null,null,null,null,{"$f":"Circuit2Details!I44*1000","v":713.91333056479596},{"$f":"Circuit2Details!J44*1000","v":5363.9846240768638},{"$f":"Circuit2Details!K44*1000","v":91.800000000000011},{"$f":"Circuit2Details!L44*1000","v":458.59500000000003},null,{"$f":"Circuit2Details!N44*1000","v":41.136363636363647},{"$f":"Circuit2Details!O44*1000","v":25.727272727272727},{"$f":"Circuit2Details!P44*1000*Circuit2!$J$9/(Circuit2!$J$9+Circuit2!$J$12)","v":1193.2419263918832},{"$f":"Circuit2Details!P44*1000*Circuit2!$J$12/(Circuit2!$J$9+Circuit2!$J$12)","v":795.4946175945887},null,{"$f":"Circuit2Details!S44*1000","v":87.48},null,{"$f":"Circuit2Details!U44*1000","v":1.9441140546912079}]
[{"$f":"Circuit2Details!A45","v":26.4},{"$f":"Circuit2Details!B45*1000","v":415.64206139622382},null,null,null,null,null,null,{"$f":"Circuit2Details!I45*1000","v":729.30431927886559},{"$f":"Circuit2Details!J45*1000","v":5639.0076477876291},{"$f":"Circuit2Details!K45*1000","v":91.800000000000011},{"$f":"Circuit2Details!L45*1000","v":469.25999999999993},null,{"$f":"Circuit2Details!N45*1000","v":41.136363636363647},{"$f":"Circuit2Details!O45*1000","v":25.727272727272727},{"$f":"Circuit2Details!P45*1000*Circuit2!$J$9/(Circuit2!$J$9+Circuit2!$J$12)","v":1252.8418740934383},{"$f":"Circuit2Details!P45*1000*Circuit2!$J$12/(Circuit2!$J$9+Circuit2!$J$12)","v":835.22791606229225},null,{"$f":"Circuit2Details!S45*1000","v":87.48},null,{"$f":"Circuit2Details!U45*1000","v":1.9441140546912079}]
[{"$f":"Circuit2Details!A46","v":27},{"$f":"Circuit2Details!B46*1000","v":438.38351413105198},null,null,null,null,null,null,{"$f":"Circuit2Details!I46*1000","v":744.67035425288543},{"$f":"Circuit2Details!J46*1000","v":5920.7649918395509},{"$f":"Circuit2Details!K46*1000","v":91.800000000000011},{"$f":"Circuit2Details!L46*1000","v":479.92500000000007},null,{"$f":"Circuit2Details!N46*1000","v":41.136363636363647},{"$f":"Circuit2Details!O46*1000","v":25.727272727272727},{"$f":"Circuit2Details!P46*1000*Circuit2!$J$9/(Circuit2!$J$9+Circuit2!$J$12)","v":1313.9095677940309},{"$f":"Circuit2Details!P46*1000*Circuit2!$J$12/(Circuit2!$J$9+Circuit2!$J$12)","v":875.93971186268732},null,{"$f":"Circuit2Details!S46*1000","v":87.48},null,{"$f":"Circuit2Details!U46*1000","v":1.9441140546912079}]
[{"$f":"Circuit2Details!A47","v":27.599999999999998},{"$f":"Circuit2Details!B47*1000","v":461.90510802514439},null,null,null,null,null,null,{"$f":"Circuit2Details!I47*1000","v":760.01255898331056},{"$f":"Circuit2Details!J47*1000","v":6209.215173997115},{"$f":"Circuit2Details!K47*1000","v":91.800000000000011},{"$f":"Circuit2Details!L47*1000","v":490.59},null,{"$f":"Circuit2Details!N47*1000","v":41.136363636363647},{"$f":"Circuit2Details!O47*1000","v":25.727272727272727},{"$f":"Circuit2Details!P47*1000*Circuit2!$J$9/(Circuit2!$J$9+Circuit2!$J$12)","v":1376.4417539796184},{"$f":"Circuit2Details!P47*1000*Circuit2!$J$12/(Circuit2!$J$9+Circuit2!$J$12)","v":917.62783598641238},null,{"$f":"Circuit2Details!S47*1000","v":87.48},null,{"$f":"Circuit2Details!U47*1000","v":1.9441140546912079}]
[{"$f":"Circuit2Details!A48","v":28.2},{"$f":"Circuit2Details!B48*1000","v":486.2198141373903},null,null,null,null,null,null,{"$f":"Circuit2Details!I48*1000","v":775.33204574576757},{"$f":"Circuit2Details!J48*1000","v":6504.3177861458198},{"$f":"Circuit2Details!K48*1000","v":91.800000000000011},{"$f":"Circuit2Details!L48*1000","v":501.255},null,{"$f":"Circuit2Details!N48*1000","v":41.136363636363647},{"$f":"Circuit2Details!O48*1000","v":25.727272727272727},{"$f":"Circuit2Details!P48*1000*Circuit2!$J$9/(Circuit2!$J$9+Circuit2!$J$12)","v":1440.4353020510353},{"$f":"Circuit2Details!P48*1000*Circuit2!$J$12/(Circuit2!$J$9+Circuit2!$J$12)","v":960.29020136735687},null,{"$f":"Circuit2Details!S48*1000","v":87.48},null,{"$f":"Circuit2Details!U48*1000","v":1.9441140546912079}]
[{"$f":"Circuit2Details!A49","v":28.799999999999997},{"$f":"Circuit2Details!B49*1000","v":511.34062659014711},null,null,null,null,null,null,{"$f":"Circuit2Details!I49*1000","v":790.62991589636158},{"$f":"Circuit2Details!J49*1000","v":6806.0335397749532},{"$f":"Circuit2Details!K49*1000","v":91.800000000000011},{"$f":"Circuit2Details!L49*1000","v":511.91999999999996},null,{"$f":"Circuit2Details!N49*1000","v":41.136363636363647},{"$f":"Circuit2Details!O49*1000","v":25.727272727272727},{"$f":"Circuit2Details!P49*1000*Circuit2!$J$9/(Circuit2!$J$9+Circuit2!$J$12)","v":1505.8872113180307},{"$f":"Circuit2Details!P49*1000*Circuit2!$J$12/(Circuit2!$J$9+Circuit2!$J$12)","v":1003.9248075453537},null,{"$f":"Circuit2Details!S49*1000","v":87.48},null,{"$f":"Circuit2Details!U49*1000","v":1.9441140546912079}]
[{"$f":"Circuit2Details!A50","v":29.4},{"$f":"Circuit2Details!B50*1000","v":537.28055854128706},null,null,null,null,null,null,{"$f":"Circuit2Details!I50*1000","v":805.90726016592976},{"$f":"Circuit2Details!J50*1000","v":7114.3242880223761},{"$f":"Circuit2Details!K50*1000","v":91.800000000000011},{"$f":"Circuit2Details!L50*1000","v":522.58499999999992},null,{"$f":"Circuit2Details!N50*1000","v":41.136363636363647},{"$f":"Circuit2Details!O50*1000","v":25.727272727272727},{"$f":"Circuit2Details!P50*1000*Circuit2!$J$9/(Circuit2!$J$9+Circuit2!$J$12)","v":1572.7946149347376},{"$f":"Circuit2Details!P50*1000*Circuit2!$J$12/(Circuit2!$J$9+Circuit2!$J$12)","v":1048.5297432898251},null,{"$f":"Circuit2Details!S50*1000","v":87.48},null,{"$f":"Circuit2Details!U50*1000","v":1.9441140546912079}]
[{"$f":"Circuit2Details!A51","v":30},{"$f":"Circuit2Details!B51*1000","v":564.05263785450859},null,null,null,null,null,null,{"$f":"Circuit2Details!I51*1000","v":821.16515894743202},{"$f":"Circuit2Details!J51*1000","v":7429.1530290992105},{"$f":"Circuit2Details!K51*1000","v":91.800000000000011},{"$f":"Circuit2Details!L51*1000","v":533.25000000000011},null,{"$f":"Circuit2Details!N51*1000","v":41.136363636363647},{"$f":"Circuit2Details!O51*1000","v":25.727272727272727},{"$f":"Circuit2Details!P51*1000*Circuit2!$J$9/(Circuit2!$J$9+Circuit2!$J$12)","v":1641.1547813852171},{"$f":"Circuit2Details!P51*1000*Circuit2!$J$12/(Circuit2!$J$9+Circuit2!$J$12)","v":1094.1031875901449},null,{"$f":"Circuit2Details!S51*1000","v":87.48},null,{"$f":"Circuit2Details!U51*1000","v":1.9441140546912079}]
[]
[]
[]
[]
[]
[]
[]
[]
[]
[]
[]
[]
[]
[]
[]
[]
[]
[]
[{"$f":"OFFSET(A1,$A$72,0)","v":27},{"$f":"OFFSET(B1,$A$72,0)+OFFSET(S1,$A$72,0)","v":525.86351413105194},{"$f":"OFFSET(C1,$A$72,0)","v":0},0,0,0,0,0,{"$f":"OFFSET(I1,$A$72,0)","v":744.67035425288543},{"$f":"OFFSET(J1,$A$72,0)","v":5920.7649918395509},{"$f":"OFFSET(K1,$A$72,0)","v":91.800000000000011},{"$f":"OFFSET(L1,$A$72,0)","v":479.92500000000007},null,{"$f":"OFFSET(N1,$A$72,0)","v":41.136363636363647},25.727272727272727,1313.9095677940309,875.93971186268732,0,87.48,0,1.9441140546912079]
[]
[45]
[{"$f":"A2","v":0.6}]
[1.2]
[1.7999999999999998]
[2.4]
[3]
[3.5999999999999996]
[4.2]
[4.8]
[5.3999999999999995]
[6]
[6.6]
[7.1999999999999993]
[7.8]
[8.4]
[9]
[9.6]
[10.199999999999999]
[10.799999999999999]
[11.4]
[12]
[12.6]
[13.2]
[13.799999999999999]
[14.399999999999999]
[15]
[15.6]
[16.2]
[16.8]
[17.399999999999999]
[18]
[18.599999999999998]
[19.2]
[19.8]
[20.399999999999999]
[21]
[21.599999999999998]
[22.2]
[22.8]
[23.4]
[24]
[24.599999999999998]
[25.2]
[25.8]
[26.4]
[27]
[27.599999999999998]
[28.2]
[28.799999999999997]
[29.4]
[30]

{"sheet":"MOSFETSelector","index":12,"n_rows":1010,"n_cols":26,"rows_kept":1010,"cut":false,"hidden":false,"merged":[[1,12,14,14],[15,12,29,14],[0,0,0,14],[32,0,32,4],[18,0,18,2],[12,7,13,7],[32,7,33,14]]}
[{"$f":"CONCATENATE(\"T3/T6/HEFET MOSFET Suggestions for \", F15,\"x\",F20,\" Configration \n@Vin=\",B3,\"V;Vout=\",B4,\"V;Iout=\",B10,\"A;fs=\",B5,\"kHz;\",\"Driver=\",F3,\"(\",F4,\"V)\")","v":"T3/T6/HEFET MOSFET Suggestions for 1x1 Configration \n@Vin=12V;Vout=1.2V;Iout=30A;fs=300kHz;Driver=NCP5911(6.5V)"}]
["Buck Circuit Parameters:",null,null,"Driver Parameters:",null,null,null,"Desired Efficiency","at Percentage of \nLoad Current","Single MOSFET Pairs or\nDual MOSFETs","Desired Package for Duals"]
["Input Voltage ",12,"V",null,"Driver ","NCP5911",null,0.9,0.5,"Dual MOSFETs","u8FL"]
["Output Voltage",1.2,"V","Driver Voltage Vdr","Vcc",6.5,"V"]
["Switching Frequency",300,"kHz","Sourcing Resistance @ HS",null,{"$f":"IF(ISNUMBER(VLOOKUP(F3,[1]Drivers!A1:J20,3,0)), VLOOKUP(F3,[1]Drivers!A1:J20,3,0),0.001)","v":0.9},"Ω"]
["Duty Cycle",{"$f":"B4/B3","v":9.9999999999999992E-2},null,"Sinking Resistance @ HS",null,{"$f":"IF(ISNUMBER(VLOOKUP(F3,[1]Drivers!A1:J20,4,0)), VLOOKUP(F3,[1]Drivers!A1:J20,4,0),0.7)","v":0.7},"Ω"]
["Period Ts (s)",{"$f":"1/B5/1000*1000000","v":3.3333333333333339},"us","Rise Delay Timet","tpdHDRVH",{"$f":"IF(ISNUMBER(VLOOKUP(F3,[1]Drivers!A1:J20,5,0)), VLOOKUP(F3,[1]Drivers!A1:J20,5,0),0.00000003)","v":29.999999999999996},"ns"]
["Current Ripple Peak-to-Avg",{"$f":"B6*B7*0.000001*(B3-B4)/F30/2*1000000","v":1.8},"A","Fall Delay Time","tpdLDRVH",{"$f":"IF(ISNUMBER(VLOOKUP(F3,[1]Drivers!A1:J20,6,0)), VLOOKUP(F3,[1]Drivers!A1:J20,6,0),0.000000015)","v":15},"ns","Final Suggestions for MOSFET Pairs are:"]
["Voltage Ripple",{"$f":"0.5*B8*0.5*B7*0.000001/F25*1000000*1000+B8*F24","v":26.04545454545455},"mV","Quiescent Current",null,{"$f":"IF(ISNUMBER(VLOOKUP(F3,[1]Drivers!A1:J20,8,0)), VLOOKUP(F3,[1]Drivers!A1:J20,8,0),0.001)","v":1},"mA",null,"DUAL MOSFET","Efficiency"]
["Load Current",30,"A","Maxim Driver Voltage","MAX-Vcc",{"$f":"IF(ISNUMBER(VLOOKUP(F3,[1]Drivers!A1:J20,2,0)), VLOOKUP(F3,[1]Drivers!A1:J20,2,0),0.001)","v":6.5},"V","Closest Match"]
["Current Ripple Ratio",{"$f":"B8/B10*100","v":6.0000000000000009},"%",null,null,null,null,"Best Efficiency"]
["Voltage Ripple Ratio",{"$f":"B9/1000/B4*100","v":2.1704545454545459},"%"]
[null,null,null,"High-Side MOSFET:"]
[null,"\n\n=IF(ISBLANK(B1), \"Default\", B1)",null,"External Gate Resistance","Rgex",0,"Ω"]
[null,null,null,"Number of HS MOSFET",null,1]
["Enable auto zoom in and out?","No",null,null,null,null,null,"Desired Efficiency","at Percentage of \nLoad Current","Desired Position","Desired Package ","LowSide MOSFET"]
[null,null,null,null,null,null,null,0.7,0.5,"HighSide",null,"NTMFS4C09"]
[null,null,null,"Low-Side MOSFET:"]
["Buck converter circuit",null,null,"External Gate Resistance","Rgex",0,"Ω"]
[null,null,null,"Number of LS MOSFET",null,1]
[]
[null,null,null,null,null,null,null,"Final Suggestions for High Side MOSFET Pair are:"]
[null,null,null,"Output Capacitance",null,null,null,null,"HS MOSFET","LS MOSFET","Efficiency"]
[null,null,null,null,"ESR_Coutput",5,"mΩ","Closest Match"]
[null,null,null,null,"Actual Value",88,"uF","Best Efficiency"]
[null,null,null,"PCB Resistance"]
[null,null,null,null,"R-PCB",1,"mΩ"]
[null,null,null,"Output Inductor","Core Loss",30,"mW"]
[null,null,null,null,"WindingResistance",2.2000000000000002,"mΩ"]
[null,null,null,null,"Actual Value",1,"uH"]
[]
["Note:",null,null,null,null,null,null,"Note:"]
["1. In this selector, only one phase of BUCK converter is taken into account. ",null,null,null,null,null,null,"1. Simulation results of \"Suggest T3 MOSFET Pairs or Duals\" and \"Suggest Single T3 MOSFET\" are shown in upper figure and lower figure respectively. Red curve is the simulation curve of closest match pair and blue curve is the simultion curve of best efficiency pair. The purple straight lines are desired efficiency line and load current where desired efficiency is specified."]
["2. Simulaton temperature is 25 ⁰C."]
["3. The selector suggests the best MOSFETs and MOSFET pairs that have cloest efficiency to target."]
[]
[]
[]
[]
[]
[null,null,null,null,null,null,null,null,null,null,null,null,null,null,null,null,null,null,null,null,null,null,null,null,"NTMFS4847N","NTMFS4933N"]
[null,null,null,null,null,null,null,null,null,null,null,null,null,null,null,null,null,null,null,null,null,null,null,null,"NTMFS4851","NTMFS4933N"]
[null,null,null,null,null,null,null,null,null,null,null,null,null,null,null,null,null,null,null,null,null,null,null,null,"NTMFS4852N","NTMFS4825NFE"]
[null,null,null,null,null,null,null,null,null,null,null,null,null,null,null,null,null,null,null,null,null,null,null,null,"NTMFS4852N","NTMFS4897"]
[null,null,null,null,null,null,null,null,null,null,null,null,null,null,null,null,null,null,null,null,null,null,null,null,"NTMFS4852N","NTMFS4933N"]
[null,null,null,null,null,null,null,null,null,null,null,null,null,null,null,null,null,null,null,null,null,null,null,null,"NTMFS4897","NTMFS4825NFE"]
[null,null,null,null,null,null,null,null,null,null,null,null,null,null,null,null,null,null,null,null,null,null,null,null,"NTMFS4897","NTMFS4897"]
[null,null,null,null,null,null,null,null,null,null,null,null,null,null,null,null,null,null,null,null,null,null,null,null,"NTMFS4897","NTMFS4933N"]
[null,null,null,null,null,null,null,null,null,null,null,null,null,null,null,null,null,null,null,null,null,null,null,null,"NTMFS4898N","NTMFS4825NFE"]
[null,null,null,null,null,null,null,null,null,null,null,null,null,null,null,null,null,null,null,null,null,null,null,null,"NTMFS4898N","NTMFS4897"]
[null,null,null,null,null,null,null,null,null,null,null,null,null,null,null,null,null,null,null,null,null,null,null,null,"NTMFS4898N","NTMFS4933N"]
[null,null,null,null,null,null,null,null,null,null,null,null,null,null,null,null,null,null,null,null,null,null,null,null,"NTMFS4899N","NTMFS4933N"]
[null,null,null,null,null,null,null,null,null,null,null,null,null,null,null,null,null,null,null,null,null,null,null,null,"NTMFS4921","NTMFS4933N"]
[null,null,null,null,null,null,null,null,null,null,null,null,null,null,null,null,null,null,null,null,null,null,null,null,"NTMFS4923NE","NTMFS4825NFE"]
[null,null,null,null,null,null,null,null,null,null,null,null,null,null,null,null,null,null,null,null,null,null,null,null,"NTMFS4923NE","NTMFS4897"]
[null,null,null,null,null,null,null,null,null,null,null,null,null,null,null,null,null,null,null,null,null,null,null,null,"NTMFS4923NE","NTMFS4933N"]
[null,null,null,null,null,null,null,null,null,null,null,null,null,null,null,null,null,null,null,null,null,null,null,null,"NTMFS4925","NTMFS4933N"]
[null,null,null,null,null,null,null,null,null,null,null,null,null,null,null,null,null,null,null,null,null,null,null,null,"NTMFS4926","NTMFS4933N"]
[null,null,null,null,null,null,null,null,null,null,null,null,null,null,null,null,null,null,null,null,null,null,null,null,"NTMFS4933N","NTMFS4825NFE"]
[null,null,null,null,null,null,null,null,null,null,null,null,null,null,null,null,null,null,null,null,null,null,null,null,"NTMFS4933N","NTMFS4897"]
[null,null,null,null,null,null,null,null,null,null,null,null,null,null,null,null,null,null,null,null,null,null,null,null,"NTMFS4933N","NTMFS4933N"]
[null,null,null,null,null,null,null,null,null,null,null,null,null,null,null,null,null,null,null,null,null,null,null,null,"NTMFS4933N","NTMFS4934N"]
[null,null,null,null,null,null,null,null,null,null,null,null,null,null,null,null,null,null,null,null,null,null,null,null,"NTMFS4934N","NTMFS4825NFE"]
[null,null,null,null,null,null,null,null,null,null,null,null,null,null,null,null,null,null,null,null,null,null,null,null,"NTMFS4934N","NTMFS4897"]
[null,null,null,null,null,null,null,null,null,null,null,null,null,null,null,null,null,null,null,null,null,null,null,null,"NTMFS4934N","NTMFS4933N"]
[null,null,null,null,null,null,null,null,null,null,null,null,null,null,null,null,null,null,null,null,null,null,null,null,"NTMFS4935N","NTMFS4825NFE"]
[null,null,null,null,null,null,null,null,null,null,null,null,null,null,null,null,null,null,null,null,null,null,null,null,"NTMFS4935N","NTMFS4897"]
[null,null,null,null,null,null,null,null,null,null,null,null,null,null,null,null,null,null,null,null,null,null,null,null,"NTMFS4935N","NTMFS4933N"]
[null,null,null,null,null,null,null,null,null,null,null,null,null,null,null,null,null,null,null,null,null,null,null,null,"NTMFS4936","NTMFS4933N"]
[null,null,null,null,null,null,null,null,null,null,null,null,null,null,null,null,null,null,null,null,null,null,null,null,"NTMFS4937N","NTMFS4933N"]
[null,null,null,null,null,null,null,null,null,null,null,null,null,null,null,null,null,null,null,null,null,null,null,null,"NTMFS4939N","NTMFS4933N"]
[null,null,null,null,null,null,null,null,null,null,null,null,null,null,null,null,null,null,null,null,null,null,null,null,"NTMFS4941N","NTMFS4933N"]
[null,null,null,null,null,null,null,null,null,null,null,null,null,null,null,null,null,null,null,null,null,null,null,null,"NTMFS4943N","NTMFS4933N"]
[null,null,null,null,null,null,null,null,null,null,null,null,null,null,null,null,null,null,null,null,null,null,null,null,"NTTFS4824N","NTMFS4933N"]
[null,null,null,null,null,null,null,null,null,null,null,null,null,null,null,null,null,null,null,null,null,null,null,null,"NTTFS4932N","NTMFS4825NFE"]
[null,null,null,null,null,null,null,null,null,null,null,null,null,null,null,null,null,null,null,null,null,null,null,null,"NTTFS4932N","NTMFS4897"]
[null,null,null,null,null,null,null,null,null,null,null,null,null,null,null,null,null,null,null,null,null,null,null,null,"NTTFS4932N","NTMFS4933N"]
[null,null,null,null,null,null,null,null,null,null,null,null,null,null,null,null,null,null,null,null,null,null,null,null,"NTTFS4937N","NTMFS4933N"]
[null,null,null,null,null,null,null,null,null,null,null,null,null,null,null,null,null,null,null,null,null,null,null,null,"NTTFS4939N","NTMFS4933N"]
[null,null,null,null,null,null,null,null,null,null,null,null,null,null,null,null,null,null,null,null,null,null,null,null,"NTTFS4941N","NTMFS4933N"]
[null,null,null,null,null,null,null,null,null,null,null,null,null,null,null,null,null,null,null,null,null,null,null,null,"NTD4809N","NTMFS4898N"]
[null,null,null,null,null,null,null,null,null,null,null,null,null,null,null,null,null,null,null,null,null,null,null,null,"NTD4809N","NTMFS4923NE"]
[null,null,null,null,null,null,null,null,null,null,null,null,null,null,null,null,null,null,null,null,null,null,null,null,"NTD4809N","NTMFS4933N"]
[null,null,null,null,null,null,null,null,null,null,null,null,null,null,null,null,null,null,null,null,null,null,null,null,"NTD4809N","NTMFS4934N"]
[null,null,null,null,null,null,null,null,null,null,null,null,null,null,null,null,null,null,null,null,null,null,null,null,"NTD4809N","NTMFS4935N"]
[null,null,null,null,null,null,null,null,null,null,null,null,null,null,null,null,null,null,null,null,null,null,null,null,"NTD4809N","NTTFS4932N"]
[null,null,null,null,null,null,null,null,null,null,null,null,null,null,null,null,null,null,null,null,null,null,null,null,"NTD4809NH","NTMFS4825NFE"]
[null,null,null,null,null,null,null,null,null,null,null,null,null,null,null,null,null,null,null,null,null,null,null,null,"NTD4809NH","NTMFS4833N"]
[null,null,null,null,null,null,null,null,null,null,null,null,null,null,null,null,null,null,null,null,null,null,null,null,"NTD4809NH","NTMFS4834N"]
[null,null,null,null,null,null,null,null,null,null,null,null,null,null,null,null,null,null,null,null,null,null,null,null,"NTD4809NH","NTMFS4835N"]
[null,null,null,null,null,null,null,null,null,null,null,null,null,null,null,null,null,null,null,null,null,null,null,null,"NTD4809NH","NTMFS4845"]
[null,null,null,null,null,null,null,null,null,null,null,null,null,null,null,null,null,null,null,null,null,null,null,null,"NTD4809NH","NTMFS4846"]
[null,null,null,null,null,null,null,null,null,null,null,null,null,null,null,null,null,null,null,null,null,null,null,null,"NTD4809NH","NTMFS4852N"]
[null,null,null,null,null,null,null,null,null,null,null,null,null,null,null,null,null,null,null,null,null,null,null,null,"NTD4809NH","NTMFS4897"]
[null,null,null,null,null,null,null,null,null,null,null,null,null,null,null,null,null,null,null,null,null,null,null,null,"NTD4809NH","NTMFS4898N"]
[null,null,null,null,null,null,null,null,null,null,null,null,null,null,null,null,null,null,null,null,null,null,null,null,"NTD4809NH","NTMFS4923NE"]
[null,null,null,null,null,null,null,null,null,null,null,null,null,null,null,null,null,null,null,null,null,null,null,null,"NTD4809NH","NTMFS4933N"]
[null,null,null,null,null,null,null,null,null,null,null,null,null,null,null,null,null,null,null,null,null,null,null,null,"NTD4809NH","NTMFS4934N"]
[null,null,null,null,null,null,null,null,null,null,null,null,null,null,null,null,null,null,null,null,null,null,null,null,"NTD4809NH","NTMFS4935N"]
[null,null,null,null,null,null,null,null,null,null,null,null,null,null,null,null,null,null,null,null,null,null,null,null,"NTD4809NH","NTMFS4936"]
[null,null,null,null,null,null,null,null,null,null,null,null,null,null,null,null,null,null,null,null,null,null,null,null,"NTD4809NH","NTTFS4932N"]
[null,null,null,null,null,null,null,null,null,null,null,null,null,null,null,null,null,null,null,null,null,null,null,null,"NTD4810N","NTMFS4825NFE"]
[null,null,null,null,null,null,null,null,null,null,null,null,null,null,null,null,null,null,null,null,null,null,null,null,"NTD4810N","NTMFS4833N"]
[null,null,null,null,null,null,null,null,null,null,null,null,null,null,null,null,null,null,null,null,null,null,null,null,"NTD4810N","NTMFS4834N"]
[null,null,null,null,null,null,null,null,null,null,null,null,null,null,null,null,null,null,null,null,null,null,null,null,"NTD4810N","NTMFS4845"]
[null,null,null,null,null,null,null,null,null,null,null,null,null,null,null,null,null,null,null,null,null,null,null,null,"NTD4810N","NTMFS4846"]
[null,null,null,null,null,null,null,null,null,null,null,null,null,null,null,null,null,null,null,null,null,null,null,null,"NTD4810N","NTMFS4852N"]
[null,null,null,null,null,null,null,null,null,null,null,null,null,null,null,null,null,null,null,null,null,null,null,null,"NTD4810N","NTMFS4897"]
[null,null,null,null,null,null,null,null,null,null,null,null,null,null,null,null,null,null,null,null,null,null,null,null,"NTD4810N","NTMFS4898N"]
[null,null,null,null,null,null,null,null,null,null,null,null,null,null,null,null,null,null,null,null,null,null,null,null,"NTD4810N","NTMFS4923NE"]
[null,null,null,null,null,null,null,null,null,null,null,null,null,null,null,null,null,null,null,null,null,null,null,null,"NTD4810N","NTMFS4933N"]
[null,null,null,null,null,null,null,null,null,null,null,null,null,null,null,null,null,null,null,null,null,null,null,null,"NTD4810N","NTMFS4934N"]
[null,null,null,null,null,null,null,null,null,null,null,null,null,null,null,null,null,null,null,null,null,null,null,null,"NTD4810N","NTMFS4935N"]
[null,null,null,null,null,null,null,null,null,null,null,null,null,null,null,null,null,null,null,null,null,null,null,null,"NTD4810N","NTTFS4932N"]
[null,null,null,null,null,null,null,null,null,null,null,null,null,null,null,null,null,null,null,null,null,null,null,null,"NTD4813NH","NTMFS4825NFE"]
[null,null,null,null,null,null,null,null,null,null,null,null,null,null,null,null,null,null,null,null,null,null,null,null,"NTD4813NH","NTMFS4833N"]
[null,null,null,null,null,null,null,null,null,null,null,null,null,null,null,null,null,null,null,null,null,null,null,null,"NTD4813NH","NTMFS4852N"]
[null,null,null,null,null,null,null,null,null,null,null,null,null,null,null,null,null,null,null,null,null,null,null,null,"NTD4813NH","NTMFS4897"]
[null,null,null,null,null,null,null,null,null,null,null,null,null,null,null,null,null,null,null,null,null,null,null,null,"NTD4813NH","NTMFS4933N"]
[null,null,null,null,null,null,null,null,null,null,null,null,null,null,null,null,null,null,null,null,null,null,null,null,"NTD4813NH","NTMFS4934N"]
[null,null,null,null,null,null,null,null,null,null,null,null,null,null,null,null,null,null,null,null,null,null,null,null,"NTD4815N","NTMFS4825NFE"]
[null,null,null,null,null,null,null,null,null,null,null,null,null,null,null,null,null,null,null,null,null,null,null,null,"NTD4815N","NTMFS4833N"]
[null,null,null,null,null,null,null,null,null,null,null,null,null,null,null,null,null,null,null,null,null,null,null,null,"NTD4815N","NTMFS4852N"]
[null,null,null,null,null,null,null,null,null,null,null,null,null,null,null,null,null,null,null,null,null,null,null,null,"NTD4815N","NTMFS4897"]
[null,null,null,null,null,null,null,null,null,null,null,null,null,null,null,null,null,null,null,null,null,null,null,null,"NTD4815N","NTMFS4933N"]
[null,null,null,null,null,null,null,null,null,null,null,null,null,null,null,null,null,null,null,null,null,null,null,null,"NTD4815N","NTMFS4934N"]
[null,null,null,null,null,null,null,null,null,null,null,null,null,null,null,null,null,null,null,null,null,null,null,null,"NTD4855N","NTD4904N"]
[null,null,null,null,null,null,null,null,null,null,null,null,null,null,null,null,null,null,null,null,null,null,null,null,"NTD4855N","NTMFS4825NFE"]
[null,null,null,null,null,null,null,null,null,null,null,null,null,null,null,null,null,null,null,null,null,null,null,null,"NTD4855N","NTMFS4833N"]
[null,null,null,null,null,null,null,null,null,null,null,null,null,null,null,null,null,null,null,null,null,null,null,null,"NTD4855N","NTMFS4834N"]
[null,null,null,null,null,null,null,null,null,null,null,null,null,null,null,null,null,null,null,null,null,null,null,null,"NTD4855N","NTMFS4835N"]
[null,null,null,null,null,null,null,null,null,null,null,null,null,null,null,null,null,null,null,null,null,null,null,null,"NTD4855N","NTMFS4845"]
[null,null,null,null,null,null,null,null,null,null,null,null,null,null,null,null,null,null,null,null,null,null,null,null,"NTD4855N","NTMFS4846"]
[null,null,null,null,null,null,null,null,null,null,null,null,null,null,null,null,null,null,null,null,null,null,null,null,"NTD4855N","NTMFS4852N"]
[null,null,null,null,null,null,null,null,null,null,null,null,null,null,null,null,null,null,null,null,null,null,null,null,"NTD4855N","NTMFS4897"]
[null,null,null,null,null,null,null,null,null,null,null,null,null,null,null,null,null,null,null,null,null,null,null,null,"NTD4855N","NTMFS4898N"]
[null,null,null,null,null,null,null,null,null,null,null,null,null,null,null,null,null,null,null,null,null,null,null,null,"NTD4855N","NTMFS4923NE"]
[null,null,null,null,null,null,null,null,null,null,null,null,null,null,null,null,null,null,null,null,null,null,null,null,"NTD4855N","NTMFS4933N"]
[null,null,null,null,null,null,null,null,null,null,null,null,null,null,null,null,null,null,null,null,null,null,null,null,"NTD4855N","NTMFS4934N"]
[null,null,null,null,null,null,null,null,null,null,null,null,null,null,null,null,null,null,null,null,null,null,null,null,"NTD4855N","NTMFS4935N"]
[null,null,null,null,null,null,null,null,null,null,null,null,null,null,null,null,null,null,null,null,null,null,null,null,"NTD4855N","NTMFS4936"]
[null,null,null,null,null,null,null,null,null,null,null,null,null,null,null,null,null,null,null,null,null,null,null,null,"NTD4855N","NTTFS4932N"]
[null,null,null,null,null,null,null,null,null,null,null,null,null,null,null,null,null,null,null,null,null,null,null,null,"NTD4856N","NTD4904N"]
[null,null,null,null,null,null,null,null,null,null,null,null,null,null,null,null,null,null,null,null,null,null,null,null,"NTD4856N","NTMFS4825NFE"]
[null,null,null,null,null,null,null,null,null,null,null,null,null,null,null,null,null,null,null,null,null,null,null,null,"NTD4856N","NTMFS4833N"]
[null,null,null,null,null,null,null,null,null,null,null,null,null,null,null,null,null,null,null,null,null,null,null,null,"NTD4856N","NTMFS4834N"]
[null,null,null,null,null,null,null,null,null,null,null,null,null,null,null,null,null,null,null,null,null,null,null,null,"NTD4856N","NTMFS4835N"]
[null,null,null,null,null,null,null,null,null,null,null,null,null,null,null,null,null,null,null,null,null,null,null,null,"NTD4856N","NTMFS4845"]
[null,null,null,null,null,null,null,null,null,null,null,null,null,null,null,null,null,null,null,null,null,null,null,null,"NTD4856N","NTMFS4846"]
[null,null,null,null,null,null,null,null,null,null,null,null,null,null,null,null,null,null,null,null,null,null,null,null,"NTD4856N","NTMFS4852N"]
[null,null,null,null,null,null,null,null,null,null,null,null,null,null,null,null,null,null,null,null,null,null,null,null,"NTD4856N","NTMFS4897"]
[null,null,null,null,null,null,null,null,null,null,null,null,null,null,null,null,null,null,null,null,null,null,null,null,"NTD4856N","NTMFS4898N"]
[null,null,null,null,null,null,null,null,null,null,null,null,null,null,null,null,null,null,null,null,null,null,null,null,"NTD4856N","NTMFS4923NE"]
[null,null,null,null,null,null,null,null,null,null,null,null,null,null,null,null,null,null,null,null,null,null,null,null,"NTD4856N","NTMFS4933N"]
[null,null,null,null,null,null,null,null,null,null,null,null,null,null,null,null,null,null,null,null,null,null,null,null,"NTD4856N","NTMFS4934N"]
[null,null,null,null,null,null,null,null,null,null,null,null,null,null,null,null,null,null,null,null,null,null,null,null,"NTD4856N","NTMFS4935N"]
[null,null,null,null,null,null,null,null,null,null,null,null,null,null,null,null,null,null,null,null,null,null,null,null,"NTD4856N","NTMFS4936"]
[null,null,null,null,null,null,null,null,null,null,null,null,null,null,null,null,null,null,null,null,null,null,null,null,"NTD4856N","NTTFS4932N"]
[null,null,null,null,null,null,null,null,null,null,null,null,null,null,null,null,null,null,null,null,null,null,null,null,"NTD4857N","NTD4904N"]
[null,null,null,null,null,null,null,null,null,null,null,null,null,null,null,null,null,null,null,null,null,null,null,null,"NTD4857N","NTMFS4825NFE"]
[null,null,null,null,null,null,null,null,null,null,null,null,null,null,null,null,null,null,null,null,null,null,null,null,"NTD4857N","NTMFS4833N"]
[null,null,null,null,null,null,null,null,null,null,null,null,null,null,null,null,null,null,null,null,null,null,null,null,"NTD4857N","NTMFS4834N"]
[null,null,null,null,null,null,null,null,null,null,null,null,null,null,null,null,null,null,null,null,null,null,null,null,"NTD4857N","NTMFS4835N"]
[null,null,null,null,null,null,null,null,null,null,null,null,null,null,null,null,null,null,null,null,null,null,null,null,"NTD4857N","NTMFS4845"]
[null,null,null,null,null,null,null,null,null,null,null,null,null,null,null,null,null,null,null,null,null,null,null,null,"NTD4857N","NTMFS4846"]
[null,null,null,null,null,null,null,null,null,null,null,null,null,null,null,null,null,null,null,null,null,null,null,null,"NTD4857N","NTMFS4852N"]
[null,null,null,null,null,null,null,null,null,null,null,null,null,null,null,null,null,null,null,null,null,null,null,null,"NTD4857N","NTMFS4897"]
[null,null,null,null,null,null,null,null,null,null,null,null,null,null,null,null,null,null,null,null,null,null,null,null,"NTD4857N","NTMFS4898N"]
[null,null,null,null,null,null,null,null,null,null,null,null,null,null,null,null,null,null,null,null,null,null,null,null,"NTD4857N","NTMFS4923NE"]
[null,null,null,null,null,null,null,null,null,null,null,null,null,null,null,null,null,null,null,null,null,null,null,null,"NTD4857N","NTMFS4933N"]
[null,null,null,null,null,null,null,null,null,null,null,null,null,null,null,null,null,null,null,null,null,null,null,null,"NTD4857N","NTMFS4934N"]
[null,null,null,null,null,null,null,null,null,null,null,null,null,null,null,null,null,null,null,null,null,null,null,null,"NTD4857N","NTMFS4935N"]
[null,null,null,null,null,null,null,null,null,null,null,null,null,null,null,null,null,null,null,null,null,null,null,null,"NTD4857N","NTMFS4936"]
[null,null,null,null,null,null,null,null,null,null,null,null,null,null,null,null,null,null,null,null,null,null,null,null,"NTD4857N","NTTFS4932N"]
[null,null,null,null,null,null,null,null,null,null,null,null,null,null,null,null,null,null,null,null,null,null,null,null,"NTD4858N","NTD4904N"]
[null,null,null,null,null,null,null,null,null,null,null,null,null,null,null,null,null,null,null,null,null,null,null,null,"NTD4858N","NTMFS4825NFE"]
[null,null,null,null,null,null,null,null,null,null,null,null,null,null,null,null,null,null,null,null,null,null,null,null,"NTD4858N","NTMFS4833N"]
[null,null,null,null,null,null,null,null,null,null,null,null,null,null,null,null,null,null,null,null,null,null,null,null,"NTD4858N","NTMFS4834N"]
[null,null,null,null,null,null,null,null,null,null,null,null,null,null,null,null,null,null,null,null,null,null,null,null,"NTD4858N","NTMFS4835N"]
[null,null,null,null,null,null,null,null,null,null,null,null,null,null,null,null,null,null,null,null,null,null,null,null,"NTD4858N","NTMFS4845"]
[null,null,null,null,null,null,null,null,null,null,null,null,null,null,null,null,null,null,null,null,null,null,null,null,"NTD4858N","NTMFS4846"]
[null,null,null,null,null,null,null,null,null,null,null,null,null,null,null,null,null,null,null,null,null,null,null,null,"NTD4858N","NTMFS4852N"]
[null,null,null,null,null,null,null,null,null,null,null,null,null,null,null,null,null,null,null,null,null,null,null,null,"NTD4858N","NTMFS4897"]
[null,null,null,null,null,null,null,null,null,null,null,null,null,null,null,null,null,null,null,null,null,null,null,null,"NTD4858N","NTMFS4898N"]
[null,null,null,null,null,null,null,null,null,null,null,null,null,null,null,null,null,null,null,null,null,null,null,null,"NTD4858N","NTMFS4923NE"]
[null,null,null,null,null,null,null,null,null,null,null,null,null,null,null,null,null,null,null,null,null,null,null,null,"NTD4858N","NTMFS4933N"]
[null,null,null,null,null,null,null,null,null,null,null,null,null,null,null,null,null,null,null,null,null,null,null,null,"NTD4858N","NTMFS4934N"]
[null,null,null,null,null,null,null,null,null,null,null,null,null,null,null,null,null,null,null,null,null,null,null,null,"NTD4858N","NTMFS4935N"]
[null,null,null,null,null,null,null,null,null,null,null,null,null,null,null,null,null,null,null,null,null,null,null,null,"NTD4858N","NTMFS4936"]
[null,null,null,null,null,null,null,null,null,null,null,null,null,null,null,null,null,null,null,null,null,null,null,null,"NTD4858N","NTTFS4932N"]
[null,null,null,null,null,null,null,null,null,null,null,null,null,null,null,null,null,null,null,null,null,null,null,null,"NTD4863N","NTMFS4825NFE"]
[null,null,null,null,null,null,null,null,null,null,null,null,null,null,null,null,null,null,null,null,null,null,null,null,"NTD4863N","NTMFS4833N"]
[null,null,null,null,null,null,null,null,null,null,null,null,null,null,null,null,null,null,null,null,null,null,null,null,"NTD4863N","NTMFS4834N"]
[null,null,null,null,null,null,null,null,null,null,null,null,null,null,null,null,null,null,null,null,null,null,null,null,"NTD4863N","NTMFS4845"]
[null,null,null,null,null,null,null,null,null,null,null,null,null,null,null,null,null,null,null,null,null,null,null,null,"NTD4863N","NTMFS4852N"]
[null,null,null,null,null,null,null,null,null,null,null,null,null,null,null,null,null,null,null,null,null,null,null,null,"NTD4863N","NTMFS4897"]
[null,null,null,null,null,null,null,null,null,null,null,null,null,null,null,null,null,null,null,null,null,null,null,null,"NTD4863N","NTMFS4898N"]
[null,null,null,null,null,null,null,null,null,null,null,null,null,null,null,null,null,null,null,null,null,null,null,null,"NTD4863N","NTMFS4933N"]
[null,null,null,null,null,null,null,null,null,null,null,null,null,null,null,null,null,null,null,null,null,null,null,null,"NTD4863N","NTMFS4934N"]
[null,null,null,null,null,null,null,null,null,null,null,null,null,null,null,null,null,null,null,null,null,null,null,null,"NTD4863N","NTTFS4932N"]
[null,null,null,null,null,null,null,null,null,null,null,null,null,null,null,null,null,null,null,null,null,null,null,null,"NTD4904N","NTD4804N"]
[null,null,null,null,null,null,null,null,null,null,null,null,null,null,null,null,null,null,null,null,null,null,null,null,"NTD4904N","NTD4855N"]
[null,null,null,null,null,null,null,null,null,null,null,null,null,null,null,null,null,null,null,null,null,null,null,null,"NTD4904N","NTD4904N"]
[null,null,null,null,null,null,null,null,null,null,null,null,null,null,null,null,null,null,null,null,null,null,null,null,"NTD4904N","NTMFS4825NFE"]
[null,null,null,null,null,null,null,null,null,null,null,null,null,null,null,null,null,null,null,null,null,null,null,null,"NTD4904N","NTMFS4833N"]
[null,null,null,null,null,null,null,null,null,null,null,null,null,null,null,null,null,null,null,null,null,null,null,null,"NTD4904N","NTMFS4834N"]
[null,null,null,null,null,null,null,null,null,null,null,null,null,null,null,null,null,null,null,null,null,null,null,null,"NTD4904N","NTMFS4835N"]
[null,null,null,null,null,null,null,null,null,null,null,null,null,null,null,null,null,null,null,null,null,null,null,null,"NTD4904N","NTMFS4845"]
[null,null,null,null,null,null,null,null,null,null,null,null,null,null,null,null,null,null,null,null,null,null,null,null,"NTD4904N","NTMFS4846"]
[null,null,null,null,null,null,null,null,null,null,null,null,null,null,null,null,null,null,null,null,null,null,null,null,"NTD4904N","NTMFS4852N"]
[null,null,null,null,null,null,null,null,null,null,null,null,null,null,null,null,null,null,null,null,null,null,null,null,"NTD4904N","NTMFS4897"]
[null,null,null,null,null,null,null,null,null,null,null,null,null,null,null,null,null,null,null,null,null,null,null,null,"NTD4904N","NTMFS4898N"]
[null,null,null,null,null,null,null,null,null,null,null,null,null,null,null,null,null,null,null,null,null,null,null,null,"NTD4904N","NTMFS4923NE"]
[null,null,null,null,null,null,null,null,null,null,null,null,null,null,null,null,null,null,null,null,null,null,null,null,"NTD4904N","NTMFS4933N"]
[null,null,null,null,null,null,null,null,null,null,null,null,null,null,null,null,null,null,null,null,null,null,null,null,"NTD4904N","NTMFS4934N"]
[null,null,null,null,null,null,null,null,null,null,null,null,null,null,null,null,null,null,null,null,null,null,null,null,"NTD4904N","NTMFS4935N"]
[null,null,null,null,null,null,null,null,null,null,null,null,null,null,null,null,null,null,null,null,null,null,null,null,"NTD4904N","NTMFS4936"]
[null,null,null,null,null,null,null,null,null,null,null,null,null,null,null,null,null,null,null,null,null,null,null,null,"NTD4904N","NTTFS4932N"]
[null,null,null,null,null,null,null,null,null,null,null,null,null,null,null,null,null,null,null,null,null,null,null,null,"NTD4906N","NTD4904N"]
[null,null,null,null,null,null,null,null,null,null,null,null,null,null,null,null,null,null,null,null,null,null,null,null,"NTD4906N","NTMFS4825NFE"]
[null,null,null,null,null,null,null,null,null,null,null,null,null,null,null,null,null,null,null,null,null,null,null,null,"NTD4906N","NTMFS4833N"]
[null,null,null,null,null,null,null,null,null,null,null,null,null,null,null,null,null,null,null,null,null,null,null,null,"NTD4906N","NTMFS4834N"]
[null,null,null,null,null,null,null,null,null,null,null,null,null,null,null,null,null,null,null,null,null,null,null,null,"NTD4906N","NTMFS4835N"]
[null,null,null,null,null,null,null,null,null,null,null,null,null,null,null,null,null,null,null,null,null,null,null,null,"NTD4906N","NTMFS4845"]
[null,null,null,null,null,null,null,null,null,null,null,null,null,null,null,null,null,null,null,null,null,null,null,null,"NTD4906N","NTMFS4846"]
[null,null,null,null,null,null,null,null,null,null,null,null,null,null,null,null,null,null,null,null,null,null,null,null,"NTD4906N","NTMFS4852N"]
[null,null,null,null,null,null,null,null,null,null,null,null,null,null,null,null,null,null,null,null,null,null,null,null,"NTD4906N","NTMFS4897"]
[null,null,null,null,null,null,null,null,null,null,null,null,null,null,null,null,null,null,null,null,null,null,null,null,"NTD4906N","NTMFS4898N"]
[null,null,null,null,null,null,null,null,null,null,null,null,null,null,null,null,null,null,null,null,null,null,null,null,"NTD4906N","NTMFS4923NE"]
[null,null,null,null,null,null,null,null,null,null,null,null,null,null,null,null,null,null,null,null,null,null,null,null,"NTD4906N","NTMFS4933N"]
[null,null,null,null,null,null,null,null,null,null,null,null,null,null,null,null,null,null,null,null,null,null,null,null,"NTD4906N","NTMFS4934N"]
[null,null,null,null,null,null,null,null,null,null,null,null,null,null,null,null,null,null,null,null,null,null,null,null,"NTD4906N","NTMFS4935N"]
[null,null,null,null,null,null,null,null,null,null,null,null,null,null,null,null,null,null,null,null,null,null,null,null,"NTD4906N","NTMFS4936"]
[null,null,null,null,null,null,null,null,null,null,null,null,null,null,null,null,null,null,null,null,null,null,null,null,"NTD4906N","NTTFS4932N"]
[null,null,null,null,null,null,null,null,null,null,null,null,null,null,null,null,null,null,null,null,null,null,null,null,"NTD4909N","NTD4904N"]
[null,null,null,null,null,null,null,null,null,null,null,null,null,null,null,null,null,null,null,null,null,null,null,null,"NTD4909N","NTMFS4825NFE"]
[null,null,null,null,null,null,null,null,null,null,null,null,null,null,null,null,null,null,null,null,null,null,null,null,"NTD4909N","NTMFS4833N"]
[null,null,null,null,null,null,null,null,null,null,null,null,null,null,null,null,null,null,null,null,null,null,null,null,"NTD4909N","NTMFS4834N"]
[null,null,null,null,null,null,null,null,null,null,null,null,null,null,null,null,null,null,null,null,null,null,null,null,"NTD4909N","NTMFS4835N"]
[null,null,null,null,null,null,null,null,null,null,null,null,null,null,null,null,null,null,null,null,null,null,null,null,"NTD4909N","NTMFS4845"]
[null,null,null,null,null,null,null,null,null,null,null,null,null,null,null,null,null,null,null,null,null,null,null,null,"NTD4909N","NTMFS4846"]
[null,null,null,null,null,null,null,null,null,null,null,null,null,null,null,null,null,null,null,null,null,null,null,null,"NTD4909N","NTMFS4852N"]
[null,null,null,null,null,null,null,null,null,null,null,null,null,null,null,null,null,null,null,null,null,null,null,null,"NTD4909N","NTMFS4897"]
[null,null,null,null,null,null,null,null,null,null,null,null,null,null,null,null,null,null,null,null,null,null,null,null,"NTD4909N","NTMFS4898N"]
[null,null,null,null,null,null,null,null,null,null,null,null,null,null,null,null,null,null,null,null,null,null,null,null,"NTD4909N","NTMFS4923NE"]
[null,null,null,null,null,null,null,null,null,null,null,null,null,null,null,null,null,null,null,null,null,null,null,null,"NTD4909N","NTMFS4933N"]
[null,null,null,null,null,null,null,null,null,null,null,null,null,null,null,null,null,null,null,null,null,null,null,null,"NTD4909N","NTMFS4934N"]
[null,null,null,null,null,null,null,null,null,null,null,null,null,null,null,null,null,null,null,null,null,null,null,null,"NTD4909N","NTMFS4935N"]
[null,null,null,null,null,null,null,null,null,null,null,null,null,null,null,null,null,null,null,null,null,null,null,null,"NTD4909N","NTMFS4936"]
[null,null,null,null,null,null,null,null,null,null,null,null,null,null,null,null,null,null,null,null,null,null,null,null,"NTD4909N","NTTFS4932N"]
[null,null,null,null,null,null,null,null,null,null,null,null,null,null,null,null,null,null,null,null,null,null,null,null,"NTD4910N","NTMFS4825NFE"]
[null,null,null,null,null,null,null,null,null,null,null,null,null,null,null,null,null,null,null,null,null,null,null,null,"NTD4910N","NTMFS4833N"]
[null,null,null,null,null,null,null,null,null,null,null,null,null,null,null,null,null,null,null,null,null,null,null,null,"NTD4910N","NTMFS4834N"]
[null,null,null,null,null,null,null,null,null,null,null,null,null,null,null,null,null,null,null,null,null,null,null,null,"NTD4910N","NTMFS4835N"]
[null,null,null,null,null,null,null,null,null,null,null,null,null,null,null,null,null,null,null,null,null,null,null,null,"NTD4910N","NTMFS4845"]
[null,null,null,null,null,null,null,null,null,null,null,null,null,null,null,null,null,null,null,null,null,null,null,null,"NTD4910N","NTMFS4846"]
[null,null,null,null,null,null,null,null,null,null,null,null,null,null,null,null,null,null,null,null,null,null,null,null,"NTD4910N","NTMFS4852N"]
[null,null,null,null,null,null,null,null,null,null,null,null,null,null,null,null,null,null,null,null,null,null,null,null,"NTD4910N","NTMFS4897"]
[null,null,null,null,null,null,null,null,null,null,null,null,null,null,null,null,null,null,null,null,null,null,null,null,"NTD4910N","NTMFS4898N"]
[null,null,null,null,null,null,null,null,null,null,null,null,null,null,null,null,null,null,null,null,null,null,null,null,"NTD4910N","NTMFS4923NE"]
[null,null,null,null,null,null,null,null,null,null,null,null,null,null,null,null,null,null,null,null,null,null,null,null,"NTD4910N","NTMFS4933N"]
[null,null,null,null,null,null,null,null,null,null,null,null,null,null,null,null,null,null,null,null,null,null,null,null,"NTD4910N","NTMFS4934N"]
[null,null,null,null,null,null,null,null,null,null,null,null,null,null,null,null,null,null,null,null,null,null,null,null,"NTD4910N","NTMFS4935N"]
[null,null,null,null,null,null,null,null,null,null,null,null,null,null,null,null,null,null,null,null,null,null,null,null,"NTD4910N","NTTFS4932N"]
[null,null,null,null,null,null,null,null,null,null,null,null,null,null,null,null,null,null,null,null,null,null,null,null,"NTD4913N","NTMFS4825NFE"]
[null,null,null,null,null,null,null,null,null,null,null,null,null,null,null,null,null,null,null,null,null,null,null,null,"NTD4913N","NTMFS4833N"]
[null,null,null,null,null,null,null,null,null,null,null,null,null,null,null,null,null,null,null,null,null,null,null,null,"NTD4913N","NTMFS4834N"]
[null,null,null,null,null,null,null,null,null,null,null,null,null,null,null,null,null,null,null,null,null,null,null,null,"NTD4913N","NTMFS4845"]
[null,null,null,null,null,null,null,null,null,null,null,null,null,null,null,null,null,null,null,null,null,null,null,null,"NTD4913N","NTMFS4852N"]
[null,null,null,null,null,null,null,null,null,null,null,null,null,null,null,null,null,null,null,null,null,null,null,null,"NTD4913N","NTMFS4897"]
[null,null,null,null,null,null,null,null,null,null,null,null,null,null,null,null,null,null,null,null,null,null,null,null,"NTD4913N","NTMFS4898N"]
[null,null,null,null,null,null,null,null,null,null,null,null,null,null,null,null,null,null,null,null,null,null,null,null,"NTD4913N","NTMFS4933N"]
[null,null,null,null,null,null,null,null,null,null,null,null,null,null,null,null,null,null,null,null,null,null,null,null,"NTD4913N","NTMFS4934N"]
[null,null,null,null,null,null,null,null,null,null,null,null,null,null,null,null,null,null,null,null,null,null,null,null,"NTD4913N","NTTFS4932N"]
[null,null,null,null,null,null,null,null,null,null,null,null,null,null,null,null,null,null,null,null,null,null,null,null,"NTD4960N","NTMFS4825NFE"]
[null,null,null,null,null,null,null,null,null,null,null,null,null,null,null,null,null,null,null,null,null,null,null,null,"NTD4960N","NTMFS4833N"]
[null,null,null,null,null,null,null,null,null,null,null,null,null,null,null,null,null,null,null,null,null,null,null,null,"NTD4960N","NTMFS4834N"]
[null,null,null,null,null,null,null,null,null,null,null,null,null,null,null,null,null,null,null,null,null,null,null,null,"NTD4960N","NTMFS4835N"]
[null,null,null,null,null,null,null,null,null,null,null,null,null,null,null,null,null,null,null,null,null,null,null,null,"NTD4960N","NTMFS4845"]
[null,null,null,null,null,null,null,null,null,null,null,null,null,null,null,null,null,null,null,null,null,null,null,null,"NTD4960N","NTMFS4846"]
[null,null,null,null,null,null,null,null,null,null,null,null,null,null,null,null,null,null,null,null,null,null,null,null,"NTD4960N","NTMFS4852N"]
[null,null,null,null,null,null,null,null,null,null,null,null,null,null,null,null,null,null,null,null,null,null,null,null,"NTD4960N","NTMFS4897"]
[null,null,null,null,null,null,null,null,null,null,null,null,null,null,null,null,null,null,null,null,null,null,null,null,"NTD4960N","NTMFS4898N"]
[null,null,null,null,null,null,null,null,null,null,null,null,null,null,null,null,null,null,null,null,null,null,null,null,"NTD4960N","NTMFS4923NE"]
[null,null,null,null,null,null,null,null,null,null,null,null,null,null,null,null,null,null,null,null,null,null,null,null,"NTD4960N","NTMFS4933N"]
[null,null,null,null,null,null,null,null,null,null,null,null,null,null,null,null,null,null,null,null,null,null,null,null,"NTD4960N","NTMFS4934N"]
[null,null,null,null,null,null,null,null,null,null,null,null,null,null,null,null,null,null,null,null,null,null,null,null,"NTD4960N","NTMFS4935N"]
[null,null,null,null,null,null,null,null,null,null,null,null,null,null,null,null,null,null,null,null,null,null,null,null,"NTD4960N","NTMFS4936"]
[null,null,null,null,null,null,null,null,null,null,null,null,null,null,null,null,null,null,null,null,null,null,null,null,"NTD4960N","NTTFS4932N"]
[null,null,null,null,null,null,null,null,null,null,null,null,null,null,null,null,null,null,null,null,null,null,null,null,"NTD4963N","NTMFS4825NFE"]
[null,null,null,null,null,null,null,null,null,null,null,null,null,null,null,null,null,null,null,null,null,null,null,null,"NTD4963N","NTMFS4833N"]
[null,null,null,null,null,null,null,null,null,null,null,null,null,null,null,null,null,null,null,null,null,null,null,null,"NTD4963N","NTMFS4834N"]
[null,null,null,null,null,null,null,null,null,null,null,null,null,null,null,null,null,null,null,null,null,null,null,null,"NTD4963N","NTMFS4845"]
[null,null,null,null,null,null,null,null,null,null,null,null,null,null,null,null,null,null,null,null,null,null,null,null,"NTD4963N","NTMFS4852N"]
[null,null,null,null,null,null,null,null,null,null,null,null,null,null,null,null,null,null,null,null,null,null,null,null,"NTD4963N","NTMFS4897"]
[null,null,null,null,null,null,null,null,null,null,null,null,null,null,null,null,null,null,null,null,null,null,null,null,"NTD4963N","NTMFS4898N"]
[null,null,null,null,null,null,null,null,null,null,null,null,null,null,null,null,null,null,null,null,null,null,null,null,"NTD4963N","NTMFS4933N"]
[null,null,null,null,null,null,null,null,null,null,null,null,null,null,null,null,null,null,null,null,null,null,null,null,"NTD4963N","NTMFS4934N"]
[null,null,null,null,null,null,null,null,null,null,null,null,null,null,null,null,null,null,null,null,null,null,null,null,"NTD4965N","NTD4904N"]
[null,null,null,null,null,null,null,null,null,null,null,null,null,null,null,null,null,null,null,null,null,null,null,null,"NTD4965N","NTMFS4825NFE"]
[null,null,null,null,null,null,null,null,null,null,null,null,null,null,null,null,null,null,null,null,null,null,null,null,"NTD4965N","NTMFS4833N"]
[null,null,null,null,null,null,null,null,null,null,null,null,null,null,null,null,null,null,null,null,null,null,null,null,"NTD4965N","NTMFS4834N"]
[null,null,null,null,null,null,null,null,null,null,null,null,null,null,null,null,null,null,null,null,null,null,null,null,"NTD4965N","NTMFS4835N"]
[null,null,null,null,null,null,null,null,null,null,null,null,null,null,null,null,null,null,null,null,null,null,null,null,"NTD4965N","NTMFS4845"]
[null,null,null,null,null,null,null,null,null,null,null,null,null,null,null,null,null,null,null,null,null,null,null,null,"NTD4965N","NTMFS4846"]
[null,null,null,null,null,null,null,null,null,null,null,null,null,null,null,null,null,null,null,null,null,null,null,null,"NTD4965N","NTMFS4852N"]
[null,null,null,null,null,null,null,null,null,null,null,null,null,null,null,null,null,null,null,null,null,null,null,null,"NTD4965N","NTMFS4897"]
[null,null,null,null,null,null,null,null,null,null,null,null,null,null,null,null,null,null,null,null,null,null,null,null,"NTD4965N","NTMFS4898N"]
[null,null,null,null,null,null,null,null,null,null,null,null,null,null,null,null,null,null,null,null,null,null,null,null,"NTD4965N","NTMFS4923NE"]
[null,null,null,null,null,null,null,null,null,null,null,null,null,null,null,null,null,null,null,null,null,null,null,null,"NTD4965N","NTMFS4933N"]
[null,null,null,null,null,null,null,null,null,null,null,null,null,null,null,null,null,null,null,null,null,null,null,null,"NTD4965N","NTMFS4934N"]
[null,null,null,null,null,null,null,null,null,null,null,null,null,null,null,null,null,null,null,null,null,null,null,null,"NTD4965N","NTMFS4935N"]
[null,null,null,null,null,null,null,null,null,null,null,null,null,null,null,null,null,null,null,null,null,null,null,null,"NTD4965N","NTMFS4936"]
[null,null,null,null,null,null,null,null,null,null,null,null,null,null,null,null,null,null,null,null,null,null,null,null,"NTD4965N","NTTFS4932N"]
[null,null,null,null,null,null,null,null,null,null,null,null,null,null,null,null,null,null,null,null,null,null,null,null,"NTD4969N","NTMFS4825NFE"]
[null,null,null,null,null,null,null,null,null,null,null,null,null,null,null,null,null,null,null,null,null,null,null,null,"NTD4969N","NTMFS4833N"]
[null,null,null,null,null,null,null,null,null,null,null,null,null,null,null,null,null,null,null,null,null,null,null,null,"NTD4969N","NTMFS4834N"]
[null,null,null,null,null,null,null,null,null,null,null,null,null,null,null,null,null,null,null,null,null,null,null,null,"NTD4969N","NTMFS4845"]
[null,null,null,null,null,null,null,null,null,null,null,null,null,null,null,null,null,null,null,null,null,null,null,null,"NTD4969N","NTMFS4852N"]
[null,null,null,null,null,null,null,null,null,null,null,null,null,null,null,null,null,null,null,null,null,null,null,null,"NTD4969N","NTMFS4897"]
[null,null,null,null,null,null,null,null,null,null,null,null,null,null,null,null,null,null,null,null,null,null,null,null,"NTD4969N","NTMFS4898N"]
[null,null,null,null,null,null,null,null,null,null,null,null,null,null,null,null,null,null,null,null,null,null,null,null,"NTD4969N","NTMFS4933N"]
[null,null,null,null,null,null,null,null,null,null,null,null,null,null,null,null,null,null,null,null,null,null,null,null,"NTD4969N","NTMFS4934N"]
[null,null,null,null,null,null,null,null,null,null,null,null,null,null,null,null,null,null,null,null,null,null,null,null,"NTD4969N","NTTFS4932N"]
[null,null,null,null,null,null,null,null,null,null,null,null,null,null,null,null,null,null,null,null,null,null,null,null,"NTD4970N","NTMFS4825NFE"]
[null,null,null,null,null,null,null,null,null,null,null,null,null,null,null,null,null,null,null,null,null,null,null,null,"NTD4970N","NTMFS4833N"]
[null,null,null,null,null,null,null,null,null,null,null,null,null,null,null,null,null,null,null,null,null,null,null,null,"NTD4970N","NTMFS4834N"]
[null,null,null,null,null,null,null,null,null,null,null,null,null,null,null,null,null,null,null,null,null,null,null,null,"NTD4970N","NTMFS4845"]
[null,null,null,null,null,null,null,null,null,null,null,null,null,null,null,null,null,null,null,null,null,null,null,null,"NTD4970N","NTMFS4852N"]
[null,null,null,null,null,null,null,null,null,null,null,null,null,null,null,null,null,null,null,null,null,null,null,null,"NTD4970N","NTMFS4897"]
[null,null,null,null,null,null,null,null,null,null,null,null,null,null,null,null,null,null,null,null,null,null,null,null,"NTD4970N","NTMFS4898N"]
[null,null,null,null,null,null,null,null,null,null,null,null,null,null,null,null,null,null,null,null,null,null,null,null,"NTD4970N","NTMFS4933N"]
[null,null,null,null,null,null,null,null,null,null,null,null,null,null,null,null,null,null,null,null,null,null,null,null,"NTD4970N","NTMFS4934N"]
[null,null,null,null,null,null,null,null,null,null,null,null,null,null,null,null,null,null,null,null,null,null,null,null,"NTD4970N","NTTFS4932N"]
[null,null,null,null,null,null,null,null,null,null,null,null,null,null,null,null,null,null,null,null,null,null,null,null,"NTMFS4821","NTD4904N"]
[null,null,null,null,null,null,null,null,null,null,null,null,null,null,null,null,null,null,null,null,null,null,null,null,"NTMFS4821","NTMFS4825NFE"]
[null,null,null,null,null,null,null,null,null,null,null,null,null,null,null,null,null,null,null,null,null,null,null,null,"NTMFS4821","NTMFS4833N"]
[null,null,null,null,null,null,null,null,null,null,null,null,null,null,null,null,null,null,null,null,null,null,null,null,"NTMFS4821","NTMFS4834N"]
[null,null,null,null,null,null,null,null,null,null,null,null,null,null,null,null,null,null,null,null,null,null,null,null,"NTMFS4821","NTMFS4835N"]
[null,null,null,null,null,null,null,null,null,null,null,null,null,null,null,null,null,null,null,null,null,null,null,null,"NTMFS4821","NTMFS4845"]
[null,null,null,null,null,null,null,null,null,null,null,null,null,null,null,null,null,null,null,null,null,null,null,null,"NTMFS4821","NTMFS4846"]
[null,null,null,null,null,null,null,null,null,null,null,null,null,null,null,null,null,null,null,null,null,null,null,null,"NTMFS4821","NTMFS4852N"]
[null,null,null,null,null,null,null,null,null,null,null,null,null,null,null,null,null,null,null,null,null,null,null,null,"NTMFS4821","NTMFS4897"]
[null,null,null,null,null,null,null,null,null,null,null,null,null,null,null,null,null,null,null,null,null,null,null,null,"NTMFS4821","NTMFS4898N"]
[null,null,null,null,null,null,null,null,null,null,null,null,null,null,null,null,null,null,null,null,null,null,null,null,"NTMFS4821","NTMFS4923NE"]
[null,null,null,null,null,null,null,null,null,null,null,null,null,null,null,null,null,null,null,null,null,null,null,null,"NTMFS4821","NTMFS4933N"]
[null,null,null,null,null,null,null,null,null,null,null,null,null,null,null,null,null,null,null,null,null,null,null,null,"NTMFS4821","NTMFS4934N"]
[null,null,null,null,null,null,null,null,null,null,null,null,null,null,null,null,null,null,null,null,null,null,null,null,"NTMFS4821","NTMFS4935N"]
[null,null,null,null,null,null,null,null,null,null,null,null,null,null,null,null,null,null,null,null,null,null,null,null,"NTMFS4821","NTMFS4936"]
[null,null,null,null,null,null,null,null,null,null,null,null,null,null,null,null,null,null,null,null,null,null,null,null,"NTMFS4821","NTTFS4932N"]
[null,null,null,null,null,null,null,null,null,null,null,null,null,null,null,null,null,null,null,null,null,null,null,null,"NTMFS4823","NTMFS4825NFE"]
[null,null,null,null,null,null,null,null,null,null,null,null,null,null,null,null,null,null,null,null,null,null,null,null,"NTMFS4823","NTMFS4833N"]
[null,null,null,null,null,null,null,null,null,null,null,null,null,null,null,null,null,null,null,null,null,null,null,null,"NTMFS4823","NTMFS4834N"]
[null,null,null,null,null,null,null,null,null,null,null,null,null,null,null,null,null,null,null,null,null,null,null,null,"NTMFS4823","NTMFS4845"]
[null,null,null,null,null,null,null,null,null,null,null,null,null,null,null,null,null,null,null,null,null,null,null,null,"NTMFS4823","NTMFS4852N"]
[null,null,null,null,null,null,null,null,null,null,null,null,null,null,null,null,null,null,null,null,null,null,null,null,"NTMFS4823","NTMFS4897"]
[null,null,null,null,null,null,null,null,null,null,null,null,null,null,null,null,null,null,null,null,null,null,null,null,"NTMFS4823","NTMFS4898N"]
[null,null,null,null,null,null,null,null,null,null,null,null,null,null,null,null,null,null,null,null,null,null,null,null,"NTMFS4823","NTMFS4933N"]
[null,null,null,null,null,null,null,null,null,null,null,null,null,null,null,null,null,null,null,null,null,null,null,null,"NTMFS4823","NTMFS4934N"]
[null,null,null,null,null,null,null,null,null,null,null,null,null,null,null,null,null,null,null,null,null,null,null,null,"NTMFS4825NFE","NTD4804N"]
[null,null,null,null,null,null,null,null,null,null,null,null,null,null,null,null,null,null,null,null,null,null,null,null,"NTMFS4825NFE","NTD4855N"]
[null,null,null,null,null,null,null,null,null,null,null,null,null,null,null,null,null,null,null,null,null,null,null,null,"NTMFS4825NFE","NTD4904N"]
[null,null,null,null,null,null,null,null,null,null,null,null,null,null,null,null,null,null,null,null,null,null,null,null,"NTMFS4825NFE","NTMFS4825NFE"]
[null,null,null,null,null,null,null,null,null,null,null,null,null,null,null,null,null,null,null,null,null,null,null,null,"NTMFS4825NFE","NTMFS4833N"]
[null,null,null,null,null,null,null,null,null,null,null,null,null,null,null,null,null,null,null,null,null,null,null,null,"NTMFS4825NFE","NTMFS4834N"]
[null,null,null,null,null,null,null,null,null,null,null,null,null,null,null,null,null,null,null,null,null,null,null,null,"NTMFS4825NFE","NTMFS4835N"]
[null,null,null,null,null,null,null,null,null,null,null,null,null,null,null,null,null,null,null,null,null,null,null,null,"NTMFS4825NFE","NTMFS4836N"]
[null,null,null,null,null,null,null,null,null,null,null,null,null,null,null,null,null,null,null,null,null,null,null,null,"NTMFS4825NFE","NTMFS4845"]
[null,null,null,null,null,null,null,null,null,null,null,null,null,null,null,null,null,null,null,null,null,null,null,null,"NTMFS4825NFE","NTMFS4846"]
[null,null,null,null,null,null,null,null,null,null,null,null,null,null,null,null,null,null,null,null,null,null,null,null,"NTMFS4825NFE","NTMFS4852N"]
[null,null,null,null,null,null,null,null,null,null,null,null,null,null,null,null,null,null,null,null,null,null,null,null,"NTMFS4825NFE","NTMFS4897"]
[null,null,null,null,null,null,null,null,null,null,null,null,null,null,null,null,null,null,null,null,null,null,null,null,"NTMFS4825NFE","NTMFS4898N"]
[null,null,null,null,null,null,null,null,null,null,null,null,null,null,null,null,null,null,null,null,null,null,null,null,"NTMFS4825NFE","NTMFS4923NE"]
[null,null,null,null,null,null,null,null,null,null,null,null,null,null,null,null,null,null,null,null,null,null,null,null,"NTMFS4825NFE","NTMFS4933N"]
[null,null,null,null,null,null,null,null,null,null,null,null,null,null,null,null,null,null,null,null,null,null,null,null,"NTMFS4825NFE","NTMFS4934N"]
[null,null,null,null,null,null,null,null,null,null,null,null,null,null,null,null,null,null,null,null,null,null,null,null,"NTMFS4825NFE","NTMFS4935N"]
[null,null,null,null,null,null,null,null,null,null,null,null,null,null,null,null,null,null,null,null,null,null,null,null,"NTMFS4825NFE","NTMFS4936"]
[null,null,null,null,null,null,null,null,null,null,null,null,null,null,null,null,null,null,null,null,null,null,null,null,"NTMFS4825NFE","NTTFS4932N"]
[null,null,null,null,null,null,null,null,null,null,null,null,null,null,null,null,null,null,null,null,null,null,null,null,"NTMFS4825NFE","NTTFS4937N"]
[null,null,null,null,null,null,null,null,null,null,null,null,null,null,null,null,null,null,null,null,null,null,null,null,"NTMFS4826NE","NTD4904N"]
[null,null,null,null,null,null,null,null,null,null,null,null,null,null,null,null,null,null,null,null,null,null,null,null,"NTMFS4826NE","NTMFS4825NFE"]
[null,null,null,null,null,null,null,null,null,null,null,null,null,null,null,null,null,null,null,null,null,null,null,null,"NTMFS4826NE","NTMFS4833N"]
[null,null,null,null,null,null,null,null,null,null,null,null,null,null,null,null,null,null,null,null,null,null,null,null,"NTMFS4826NE","NTMFS4834N"]
[null,null,null,null,null,null,null,null,null,null,null,null,null,null,null,null,null,null,null,null,null,null,null,null,"NTMFS4826NE","NTMFS4835N"]
[null,null,null,null,null,null,null,null,null,null,null,null,null,null,null,null,null,null,null,null,null,null,null,null,"NTMFS4826NE","NTMFS4845"]
[null,null,null,null,null,null,null,null,null,null,null,null,null,null,null,null,null,null,null,null,null,null,null,null,"NTMFS4826NE","NTMFS4846"]
[null,null,null,null,null,null,null,null,null,null,null,null,null,null,null,null,null,null,null,null,null,null,null,null,"NTMFS4826NE","NTMFS4852N"]
[null,null,null,null,null,null,null,null,null,null,null,null,null,null,null,null,null,null,null,null,null,null,null,null,"NTMFS4826NE","NTMFS4897"]
[null,null,null,null,null,null,null,null,null,null,null,null,null,null,null,null,null,null,null,null,null,null,null,null,"NTMFS4826NE","NTMFS4898N"]
[null,null,null,null,null,null,null,null,null,null,null,null,null,null,null,null,null,null,null,null,null,null,null,null,"NTMFS4826NE","NTMFS4923NE"]
[null,null,null,null,null,null,null,null,null,null,null,null,null,null,null,null,null,null,null,null,null,null,null,null,"NTMFS4826NE","NTMFS4933N"]
[null,null,null,null,null,null,null,null,null,null,null,null,null,null,null,null,null,null,null,null,null,null,null,null,"NTMFS4826NE","NTMFS4934N"]
[null,null,null,null,null,null,null,null,null,null,null,null,null,null,null,null,null,null,null,null,null,null,null,null,"NTMFS4826NE","NTMFS4935N"]
[null,null,null,null,null,null,null,null,null,null,null,null,null,null,null,null,null,null,null,null,null,null,null,null,"NTMFS4826NE","NTMFS4936"]
[null,null,null,null,null,null,null,null,null,null,null,null,null,null,null,null,null,null,null,null,null,null,null,null,"NTMFS4826NE","NTTFS4932N"]
[null,null,null,null,null,null,null,null,null,null,null,null,null,null,null,null,null,null,null,null,null,null,null,null,"NTMFS4833N","NTD4804N"]
[null,null,null,null,null,null,null,null,null,null,null,null,null,null,null,null,null,null,null,null,null,null,null,null,"NTMFS4833N","NTD4855N"]
[null,null,null,null,null,null,null,null,null,null,null,null,null,null,null,null,null,null,null,null,null,null,null,null,"NTMFS4833N","NTD4904N"]
[null,null,null,null,null,null,null,null,null,null,null,null,null,null,null,null,null,null,null,null,null,null,null,null,"NTMFS4833N","NTMFS4825NFE"]
[null,null,null,null,null,null,null,null,null,null,null,null,null,null,null,null,null,null,null,null,null,null,null,null,"NTMFS4833N","NTMFS4833N"]
[null,null,null,null,null,null,null,null,null,null,null,null,null,null,null,null,null,null,null,null,null,null,null,null,"NTMFS4833N","NTMFS4834N"]
[null,null,null,null,null,null,null,null,null,null,null,null,null,null,null,null,null,null,null,null,null,null,null,null,"NTMFS4833N","NTMFS4835N"]
[null,null,null,null,null,null,null,null,null,null,null,null,null,null,null,null,null,null,null,null,null,null,null,null,"NTMFS4833N","NTMFS4836N"]
[null,null,null,null,null,null,null,null,null,null,null,null,null,null,null,null,null,null,null,null,null,null,null,null,"NTMFS4833N","NTMFS4845"]
[null,null,null,null,null,null,null,null,null,null,null,null,null,null,null,null,null,null,null,null,null,null,null,null,"NTMFS4833N","NTMFS4846"]
[null,null,null,null,null,null,null,null,null,null,null,null,null,null,null,null,null,null,null,null,null,null,null,null,"NTMFS4833N","NTMFS4852N"]
[null,null,null,null,null,null,null,null,null,null,null,null,null,null,null,null,null,null,null,null,null,null,null,null,"NTMFS4833N","NTMFS4897"]
[null,null,null,null,null,null,null,null,null,null,null,null,null,null,null,null,null,null,null,null,null,null,null,null,"NTMFS4833N","NTMFS4898N"]
[null,null,null,null,null,null,null,null,null,null,null,null,null,null,null,null,null,null,null,null,null,null,null,null,"NTMFS4833N","NTMFS4923NE"]
[null,null,null,null,null,null,null,null,null,null,null,null,null,null,null,null,null,null,null,null,null,null,null,null,"NTMFS4833N","NTMFS4933N"]
[null,null,null,null,null,null,null,null,null,null,null,null,null,null,null,null,null,null,null,null,null,null,null,null,"NTMFS4833N","NTMFS4934N"]
[null,null,null,null,null,null,null,null,null,null,null,null,null,null,null,null,null,null,null,null,null,null,null,null,"NTMFS4833N","NTMFS4935N"]
[null,null,null,null,null,null,null,null,null,null,null,null,null,null,null,null,null,null,null,null,null,null,null,null,"NTMFS4833N","NTMFS4936"]
[null,null,null,null,null,null,null,null,null,null,null,null,null,null,null,null,null,null,null,null,null,null,null,null,"NTMFS4833N","NTTFS4932N"]
[null,null,null,null,null,null,null,null,null,null,null,null,null,null,null,null,null,null,null,null,null,null,null,null,"NTMFS4833N","NTTFS4937N"]
[null,null,null,null,null,null,null,null,null,null,null,null,null,null,null,null,null,null,null,null,null,null,null,null,"NTMFS4834N","NTD4804N"]
[null,null,null,null,null,null,null,null,null,null,null,null,null,null,null,null,null,null,null,null,null,null,null,null,"NTMFS4834N","NTD4855N"]
[null,null,null,null,null,null,null,null,null,null,null,null,null,null,null,null,null,null,null,null,null,null,null,null,"NTMFS4834N","NTD4904N"]
[null,null,null,null,null,null,null,null,null,null,null,null,null,null,null,null,null,null,null,null,null,null,null,null,"NTMFS4834N","NTMFS4825NFE"]
[null,null,null,null,null,null,null,null,null,null,null,null,null,null,null,null,null,null,null,null,null,null,null,null,"NTMFS4834N","NTMFS4833N"]
[null,null,null,null,null,null,null,null,null,null,null,null,null,null,null,null,null,null,null,null,null,null,null,null,"NTMFS4834N","NTMFS4834N"]
[null,null,null,null,null,null,null,null,null,null,null,null,null,null,null,null,null,null,null,null,null,null,null,null,"NTMFS4834N","NTMFS4835N"]
[null,null,null,null,null,null,null,null,null,null,null,null,null,null,null,null,null,null,null,null,null,null,null,null,"NTMFS4834N","NTMFS4845"]
[null,null,null,null,null,null,null,null,null,null,null,null,null,null,null,null,null,null,null,null,null,null,null,null,"NTMFS4834N","NTMFS4846"]
[null,null,null,null,null,null,null,null,null,null,null,null,null,null,null,null,null,null,null,null,null,null,null,null,"NTMFS4834N","NTMFS4852N"]
[null,null,null,null,null,null,null,null,null,null,null,null,null,null,null,null,null,null,null,null,null,null,null,null,"NTMFS4834N","NTMFS4897"]
[null,null,null,null,null,null,null,null,null,null,null,null,null,null,null,null,null,null,null,null,null,null,null,null,"NTMFS4834N","NTMFS4898N"]
[null,null,null,null,null,null,null,null,null,null,null,null,null,null,null,null,null,null,null,null,null,null,null,null,"NTMFS4834N","NTMFS4923NE"]
[null,null,null,null,null,null,null,null,null,null,null,null,null,null,null,null,null,null,null,null,null,null,null,null,"NTMFS4834N","NTMFS4933N"]
[null,null,null,null,null,null,null,null,null,null,null,null,null,null,null,null,null,null,null,null,null,null,null,null,"NTMFS4834N","NTMFS4934N"]
[null,null,null,null,null,null,null,null,null,null,null,null,null,null,null,null,null,null,null,null,null,null,null,null,"NTMFS4834N","NTMFS4935N"]
[null,null,null,null,null,null,null,null,null,null,null,null,null,null,null,null,null,null,null,null,null,null,null,null,"NTMFS4834N","NTMFS4936"]
[null,null,null,null,null,null,null,null,null,null,null,null,null,null,null,null,null,null,null,null,null,null,null,null,"NTMFS4834N","NTTFS4932N"]
[null,null,null,null,null,null,null,null,null,null,null,null,null,null,null,null,null,null,null,null,null,null,null,null,"NTMFS4835N","NTD4804N"]
[null,null,null,null,null,null,null,null,null,null,null,null,null,null,null,null,null,null,null,null,null,null,null,null,"NTMFS4835N","NTD4855N"]
[null,null,null,null,null,null,null,null,null,null,null,null,null,null,null,null,null,null,null,null,null,null,null,null,"NTMFS4835N","NTD4904N"]
[null,null,null,null,null,null,null,null,null,null,null,null,null,null,null,null,null,null,null,null,null,null,null,null,"NTMFS4835N","NTMFS4825NFE"]
[null,null,null,null,null,null,null,null,null,null,null,null,null,null,null,null,null,null,null,null,null,null,null,null,"NTMFS4835N","NTMFS4833N"]
[null,null,null,null,null,null,null,null,null,null,null,null,null,null,null,null,null,null,null,null,null,null,null,null,"NTMFS4835N","NTMFS4834N"]
[null,null,null,null,null,null,null,null,null,null,null,null,null,null,null,null,null,null,null,null,null,null,null,null,"NTMFS4835N","NTMFS4835N"]
[null,null,null,null,null,null,null,null,null,null,null,null,null,null,null,null,null,null,null,null,null,null,null,null,"NTMFS4835N","NTMFS4845"]
[null,null,null,null,null,null,null,null,null,null,null,null,null,null,null,null,null,null,null,null,null,null,null,null,"NTMFS4835N","NTMFS4846"]
[null,null,null,null,null,null,null,null,null,null,null,null,null,null,null,null,null,null,null,null,null,null,null,null,"NTMFS4835N","NTMFS4852N"]
[null,null,null,null,null,null,null,null,null,null,null,null,null,null,null,null,null,null,null,null,null,null,null,null,"NTMFS4835N","NTMFS4897"]
[null,null,null,null,null,null,null,null,null,null,null,null,null,null,null,null,null,null,null,null,null,null,null,null,"NTMFS4835N","NTMFS4898N"]
[null,null,null,null,null,null,null,null,null,null,null,null,null,null,null,null,null,null,null,null,null,null,null,null,"NTMFS4835N","NTMFS4923NE"]
[null,null,null,null,null,null,null,null,null,null,null,null,null,null,null,null,null,null,null,null,null,null,null,null,"NTMFS4835N","NTMFS4933N"]
[null,null,null,null,null,null,null,null,null,null,null,null,null,null,null,null,null,null,null,null,null,null,null,null,"NTMFS4835N","NTMFS4934N"]
[null,null,null,null,null,null,null,null,null,null,null,null,null,null,null,null,null,null,null,null,null,null,null,null,"NTMFS4835N","NTMFS4935N"]
[null,null,null,null,null,null,null,null,null,null,null,null,null,null,null,null,null,null,null,null,null,null,null,null,"NTMFS4835N","NTMFS4936"]
[null,null,null,null,null,null,null,null,null,null,null,null,null,null,null,null,null,null,null,null,null,null,null,null,"NTMFS4835N","NTTFS4932N"]
[null,null,null,null,null,null,null,null,null,null,null,null,null,null,null,null,null,null,null,null,null,null,null,null,"NTMFS4836N","NTD4904N"]
[null,null,null,null,null,null,null,null,null,null,null,null,null,null,null,null,null,null,null,null,null,null,null,null,"NTMFS4836N","NTMFS4825NFE"]
[null,null,null,null,null,null,null,null,null,null,null,null,null,null,null,null,null,null,null,null,null,null,null,null,"NTMFS4836N","NTMFS4833N"]
[null,null,null,null,null,null,null,null,null,null,null,null,null,null,null,null,null,null,null,null,null,null,null,null,"NTMFS4836N","NTMFS4834N"]
[null,null,null,null,null,null,null,null,null,null,null,null,null,null,null,null,null,null,null,null,null,null,null,null,"NTMFS4836N","NTMFS4835N"]
[null,null,null,null,null,null,null,null,null,null,null,null,null,null,null,null,null,null,null,null,null,null,null,null,"NTMFS4836N","NTMFS4845"]
[null,null,null,null,null,null,null,null,null,null,null,null,null,null,null,null,null,null,null,null,null,null,null,null,"NTMFS4836N","NTMFS4846"]
[null,null,null,null,null,null,null,null,null,null,null,null,null,null,null,null,null,null,null,null,null,null,null,null,"NTMFS4836N","NTMFS4852N"]
[null,null,null,null,null,null,null,null,null,null,null,null,null,null,null,null,null,null,null,null,null,null,null,null,"NTMFS4836N","NTMFS4897"]
[null,null,null,null,null,null,null,null,null,null,null,null,null,null,null,null,null,null,null,null,null,null,null,null,"NTMFS4836N","NTMFS4898N"]
[null,null,null,null,null,null,null,null,null,null,null,null,null,null,null,null,null,null,null,null,null,null,null,null,"NTMFS4836N","NTMFS4923NE"]
[null,null,null,null,null,null,null,null,null,null,null,null,null,null,null,null,null,null,null,null,null,null,null,null,"NTMFS4836N","NTMFS4933N"]
[null,null,null,null,null,null,null,null,null,null,null,null,null,null,null,null,null,null,null,null,null,null,null,null,"NTMFS4836N","NTMFS4934N"]
[null,null,null,null,null,null,null,null,null,null,null,null,null,null,null,null,null,null,null,null,null,null,null,null,"NTMFS4836N","NTMFS4935N"]
[null,null,null,null,null,null,null,null,null,null,null,null,null,null,null,null,null,null,null,null,null,null,null,null,"NTMFS4836N","NTMFS4936"]
[null,null,null,null,null,null,null,null,null,null,null,null,null,null,null,null,null,null,null,null,null,null,null,null,"NTMFS4836N","NTTFS4932N"]
[null,null,null,null,null,null,null,null,null,null,null,null,null,null,null,null,null,null,null,null,null,null,null,null,"NTMFS4837NH","NTD4904N"]
[null,null,null,null,null,null,null,null,null,null,null,null,null,null,null,null,null,null,null,null,null,null,null,null,"NTMFS4837NH","NTMFS4825NFE"]
[null,null,null,null,null,null,null,null,null,null,null,null,null,null,null,null,null,null,null,null,null,null,null,null,"NTMFS4837NH","NTMFS4833N"]
[null,null,null,null,null,null,null,null,null,null,null,null,null,null,null,null,null,null,null,null,null,null,null,null,"NTMFS4837NH","NTMFS4834N"]
[null,null,null,null,null,null,null,null,null,null,null,null,null,null,null,null,null,null,null,null,null,null,null,null,"NTMFS4837NH","NTMFS4835N"]
[null,null,null,null,null,null,null,null,null,null,null,null,null,null,null,null,null,null,null,null,null,null,null,null,"NTMFS4837NH","NTMFS4845"]
[null,null,null,null,null,null,null,null,null,null,null,null,null,null,null,null,null,null,null,null,null,null,null,null,"NTMFS4837NH","NTMFS4846"]
[null,null,null,null,null,null,null,null,null,null,null,null,null,null,null,null,null,null,null,null,null,null,null,null,"NTMFS4837NH","NTMFS4852N"]
[null,null,null,null,null,null,null,null,null,null,null,null,null,null,null,null,null,null,null,null,null,null,null,null,"NTMFS4837NH","NTMFS4897"]
[null,null,null,null,null,null,null,null,null,null,null,null,null,null,null,null,null,null,null,null,null,null,null,null,"NTMFS4837NH","NTMFS4898N"]
[null,null,null,null,null,null,null,null,null,null,null,null,null,null,null,null,null,null,null,null,null,null,null,null,"NTMFS4837NH","NTMFS4923NE"]
[null,null,null,null,null,null,null,null,null,null,null,null,null,null,null,null,null,null,null,null,null,null,null,null,"NTMFS4837NH","NTMFS4933N"]
[null,null,null,null,null,null,null,null,null,null,null,null,null,null,null,null,null,null,null,null,null,null,null,null,"NTMFS4837NH","NTMFS4934N"]
[null,null,null,null,null,null,null,null,null,null,null,null,null,null,null,null,null,null,null,null,null,null,null,null,"NTMFS4837NH","NTMFS4935N"]
[null,null,null,null,null,null,null,null,null,null,null,null,null,null,null,null,null,null,null,null,null,null,null,null,"NTMFS4837NH","NTMFS4936"]
[null,null,null,null,null,null,null,null,null,null,null,null,null,null,null,null,null,null,null,null,null,null,null,null,"NTMFS4837NH","NTTFS4932N"]
[null,null,null,null,null,null,null,null,null,null,null,null,null,null,null,null,null,null,null,null,null,null,null,null,"NTMFS4839NH","NTD4904N"]
[null,null,null,null,null,null,null,null,null,null,null,null,null,null,null,null,null,null,null,null,null,null,null,null,"NTMFS4839NH","NTMFS4825NFE"]
[null,null,null,null,null,null,null,null,null,null,null,null,null,null,null,null,null,null,null,null,null,null,null,null,"NTMFS4839NH","NTMFS4833N"]
[null,null,null,null,null,null,null,null,null,null,null,null,null,null,null,null,null,null,null,null,null,null,null,null,"NTMFS4839NH","NTMFS4834N"]
[null,null,null,null,null,null,null,null,null,null,null,null,null,null,null,null,null,null,null,null,null,null,null,null,"NTMFS4839NH","NTMFS4835N"]
[null,null,null,null,null,null,null,null,null,null,null,null,null,null,null,null,null,null,null,null,null,null,null,null,"NTMFS4839NH","NTMFS4845"]
[null,null,null,null,null,null,null,null,null,null,null,null,null,null,null,null,null,null,null,null,null,null,null,null,"NTMFS4839NH","NTMFS4846"]
[null,null,null,null,null,null,null,null,null,null,null,null,null,null,null,null,null,null,null,null,null,null,null,null,"NTMFS4839NH","NTMFS4852N"]
[null,null,null,null,null,null,null,null,null,null,null,null,null,null,null,null,null,null,null,null,null,null,null,null,"NTMFS4839NH","NTMFS4897"]
[null,null,null,null,null,null,null,null,null,null,null,null,null,null,null,null,null,null,null,null,null,null,null,null,"NTMFS4839NH","NTMFS4898N"]
[null,null,null,null,null,null,null,null,null,null,null,null,null,null,null,null,null,null,null,null,null,null,null,null,"NTMFS4839NH","NTMFS4923NE"]
[null,null,null,null,null,null,null,null,null,null,null,null,null,null,null,null,null,null,null,null,null,null,null,null,"NTMFS4839NH","NTMFS4933N"]
[null,null,null,null,null,null,null,null,null,null,null,null,null,null,null,null,null,null,null,null,null,null,null,null,"NTMFS4839NH","NTMFS4934N"]
[null,null,null,null,null,null,null,null,null,null,null,null,null,null,null,null,null,null,null,null,null,null,null,null,"NTMFS4839NH","NTMFS4935N"]
[null,null,null,null,null,null,null,null,null,null,null,null,null,null,null,null,null,null,null,null,null,null,null,null,"NTMFS4839NH","NTMFS4936"]
[null,null,null,null,null,null,null,null,null,null,null,null,null,null,null,null,null,null,null,null,null,null,null,null,"NTMFS4839NH","NTTFS4932N"]
[null,null,null,null,null,null,null,null,null,null,null,null,null,null,null,null,null,null,null,null,null,null,null,null,"NTMFS4841N","NTD4904N"]
[null,null,null,null,null,null,null,null,null,null,null,null,null,null,null,null,null,null,null,null,null,null,null,null,"NTMFS4841N","NTMFS4825NFE"]
[null,null,null,null,null,null,null,null,null,null,null,null,null,null,null,null,null,null,null,null,null,null,null,null,"NTMFS4841N","NTMFS4833N"]
[null,null,null,null,null,null,null,null,null,null,null,null,null,null,null,null,null,null,null,null,null,null,null,null,"NTMFS4841N","NTMFS4834N"]
[null,null,null,null,null,null,null,null,null,null,null,null,null,null,null,null,null,null,null,null,null,null,null,null,"NTMFS4841N","NTMFS4835N"]
[null,null,null,null,null,null,null,null,null,null,null,null,null,null,null,null,null,null,null,null,null,null,null,null,"NTMFS4841N","NTMFS4845"]
[null,null,null,null,null,null,null,null,null,null,null,null,null,null,null,null,null,null,null,null,null,null,null,null,"NTMFS4841N","NTMFS4846"]
[null,null,null,null,null,null,null,null,null,null,null,null,null,null,null,null,null,null,null,null,null,null,null,null,"NTMFS4841N","NTMFS4852N"]
[null,null,null,null,null,null,null,null,null,null,null,null,null,null,null,null,null,null,null,null,null,null,null,null,"NTMFS4841N","NTMFS4897"]
[null,null,null,null,null,null,null,null,null,null,null,null,null,null,null,null,null,null,null,null,null,null,null,null,"NTMFS4841N","NTMFS4898N"]
[null,null,null,null,null,null,null,null,null,null,null,null,null,null,null,null,null,null,null,null,null,null,null,null,"NTMFS4841N","NTMFS4923NE"]
[null,null,null,null,null,null,null,null,null,null,null,null,null,null,null,null,null,null,null,null,null,null,null,null,"NTMFS4841N","NTMFS4933N"]
[null,null,null,null,null,null,null,null,null,null,null,null,null,null,null,null,null,null,null,null,null,null,null,null,"NTMFS4841N","NTMFS4934N"]
[null,null,null,null,null,null,null,null,null,null,null,null,null,null,null,null,null,null,null,null,null,null,null,null,"NTMFS4841N","NTMFS4935N"]
[null,null,null,null,null,null,null,null,null,null,null,null,null,null,null,null,null,null,null,null,null,null,null,null,"NTMFS4841N","NTMFS4936"]
[null,null,null,null,null,null,null,null,null,null,null,null,null,null,null,null,null,null,null,null,null,null,null,null,"NTMFS4841N","NTTFS4932N"]
[null,null,null,null,null,null,null,null,null,null,null,null,null,null,null,null,null,null,null,null,null,null,null,null,"NTMFS4841NH","NTD4904N"]
[null,null,null,null,null,null,null,null,null,null,null,null,null,null,null,null,null,null,null,null,null,null,null,null,"NTMFS4841NH","NTMFS4825NFE"]
[null,null,null,null,null,null,null,null,null,null,null,null,null,null,null,null,null,null,null,null,null,null,null,null,"NTMFS4841NH","NTMFS4833N"]
[null,null,null,null,null,null,null,null,null,null,null,null,null,null,null,null,null,null,null,null,null,null,null,null,"NTMFS4841NH","NTMFS4834N"]
[null,null,null,null,null,null,null,null,null,null,null,null,null,null,null,null,null,null,null,null,null,null,null,null,"NTMFS4841NH","NTMFS4835N"]
[null,null,null,null,null,null,null,null,null,null,null,null,null,null,null,null,null,null,null,null,null,null,null,null,"NTMFS4841NH","NTMFS4845"]
[null,null,null,null,null,null,null,null,null,null,null,null,null,null,null,null,null,null,null,null,null,null,null,null,"NTMFS4841NH","NTMFS4846"]
[null,null,null,null,null,null,null,null,null,null,null,null,null,null,null,null,null,null,null,null,null,null,null,null,"NTMFS4841NH","NTMFS4852N"]
[null,null,null,null,null,null,null,null,null,null,null,null,null,null,null,null,null,null,null,null,null,null,null,null,"NTMFS4841NH","NTMFS4897"]
[null,null,null,null,null,null,null,null,null,null,null,null,null,null,null,null,null,null,null,null,null,null,null,null,"NTMFS4841NH","NTMFS4898N"]
[null,null,null,null,null,null,null,null,null,null,null,null,null,null,null,null,null,null,null,null,null,null,null,null,"NTMFS4841NH","NTMFS4923NE"]
[null,null,null,null,null,null,null,null,null,null,null,null,null,null,null,null,null,null,null,null,null,null,null,null,"NTMFS4841NH","NTMFS4933N"]
[null,null,null,null,null,null,null,null,null,null,null,null,null,null,null,null,null,null,null,null,null,null,null,null,"NTMFS4841NH","NTMFS4934N"]
[null,null,null,null,null,null,null,null,null,null,null,null,null,null,null,null,null,null,null,null,null,null,null,null,"NTMFS4841NH","NTMFS4935N"]
[null,null,null,null,null,null,null,null,null,null,null,null,null,null,null,null,null,null,null,null,null,null,null,null,"NTMFS4841NH","NTMFS4936"]
[null,null,null,null,null,null,null,null,null,null,null,null,null,null,null,null,null,null,null,null,null,null,null,null,"NTMFS4841NH","NTTFS4932N"]
[null,null,null,null,null,null,null,null,null,null,null,null,null,null,null,null,null,null,null,null,null,null,null,null,"NTMFS4845","NTD4804N"]
[null,null,null,null,null,null,null,null,null,null,null,null,null,null,null,null,null,null,null,null,null,null,null,null,"NTMFS4845","NTD4855N"]
[null,null,null,null,null,null,null,null,null,null,null,null,null,null,null,null,null,null,null,null,null,null,null,null,"NTMFS4845","NTD4904N"]
[null,null,null,null,null,null,null,null,null,null,null,null,null,null,null,null,null,null,null,null,null,null,null,null,"NTMFS4845","NTMFS4825NFE"]
[null,null,null,null,null,null,null,null,null,null,null,null,null,null,null,null,null,null,null,null,null,null,null,null,"NTMFS4845","NTMFS4833N"]
[null,null,null,null,null,null,null,null,null,null,null,null,null,null,null,null,null,null,null,null,null,null,null,null,"NTMFS4845","NTMFS4834N"]
[null,null,null,null,null,null,null,null,null,null,null,null,null,null,null,null,null,null,null,null,null,null,null,null,"NTMFS4845","NTMFS4835N"]
[null,null,null,null,null,null,null,null,null,null,null,null,null,null,null,null,null,null,null,null,null,null,null,null,"NTMFS4845","NTMFS4845"]
[null,null,null,null,null,null,null,null,null,null,null,null,null,null,null,null,null,null,null,null,null,null,null,null,"NTMFS4845","NTMFS4846"]
[null,null,null,null,null,null,null,null,null,null,null,null,null,null,null,null,null,null,null,null,null,null,null,null,"NTMFS4845","NTMFS4852N"]
[null,null,null,null,null,null,null,null,null,null,null,null,null,null,null,null,null,null,null,null,null,null,null,null,"NTMFS4845","NTMFS4897"]
[null,null,null,null,null,null,null,null,null,null,null,null,null,null,null,null,null,null,null,null,null,null,null,null,"NTMFS4845","NTMFS4898N"]
[null,null,null,null,null,null,null,null,null,null,null,null,null,null,null,null,null,null,null,null,null,null,null,null,"NTMFS4845","NTMFS4923NE"]
[null,null,null,null,null,null,null,null,null,null,null,null,null,null,null,null,null,null,null,null,null,null,null,null,"NTMFS4845","NTMFS4933N"]
[null,null,null,null,null,null,null,null,null,null,null,null,null,null,null,null,null,null,null,null,null,null,null,null,"NTMFS4845","NTMFS4934N"]
[null,null,null,null,null,null,null,null,null,null,null,null,null,null,null,null,null,null,null,null,null,null,null,null,"NTMFS4845","NTMFS4935N"]
[null,null,null,null,null,null,null,null,null,null,null,null,null,null,null,null,null,null,null,null,null,null,null,null,"NTMFS4845","NTMFS4936"]
[null,null,null,null,null,null,null,null,null,null,null,null,null,null,null,null,null,null,null,null,null,null,null,null,"NTMFS4845","NTTFS4932N"]
[null,null,null,null,null,null,null,null,null,null,null,null,null,null,null,null,null,null,null,null,null,null,null,null,"NTMFS4846","NTD4804N"]
[null,null,null,null,null,null,null,null,null,null,null,null,null,null,null,null,null,null,null,null,null,null,null,null,"NTMFS4846","NTD4855N"]
[null,null,null,null,null,null,null,null,null,null,null,null,null,null,null,null,null,null,null,null,null,null,null,null,"NTMFS4846","NTD4904N"]
[null,null,null,null,null,null,null,null,null,null,null,null,null,null,null,null,null,null,null,null,null,null,null,null,"NTMFS4846","NTMFS4825NFE"]
[null,null,null,null,null,null,null,null,null,null,null,null,null,null,null,null,null,null,null,null,null,null,null,null,"NTMFS4846","NTMFS4833N"]
[null,null,null,null,null,null,null,null,null,null,null,null,null,null,null,null,null,null,null,null,null,null,null,null,"NTMFS4846","NTMFS4834N"]
[null,null,null,null,null,null,null,null,null,null,null,null,null,null,null,null,null,null,null,null,null,null,null,null,"NTMFS4846","NTMFS4835N"]
[null,null,null,null,null,null,null,null,null,null,null,null,null,null,null,null,null,null,null,null,null,null,null,null,"NTMFS4846","NTMFS4845"]
[null,null,null,null,null,null,null,null,null,null,null,null,null,null,null,null,null,null,null,null,null,null,null,null,"NTMFS4846","NTMFS4846"]
[null,null,null,null,null,null,null,null,null,null,null,null,null,null,null,null,null,null,null,null,null,null,null,null,"NTMFS4846","NTMFS4852N"]
[null,null,null,null,null,null,null,null,null,null,null,null,null,null,null,null,null,null,null,null,null,null,null,null,"NTMFS4846","NTMFS4897"]
[null,null,null,null,null,null,null,null,null,null,null,null,null,null,null,null,null,null,null,null,null,null,null,null,"NTMFS4846","NTMFS4898N"]
[null,null,null,null,null,null,null,null,null,null,null,null,null,null,null,null,null,null,null,null,null,null,null,null,"NTMFS4846","NTMFS4923NE"]
[null,null,null,null,null,null,null,null,null,null,null,null,null,null,null,null,null,null,null,null,null,null,null,null,"NTMFS4846","NTMFS4933N"]
[null,null,null,null,null,null,null,null,null,null,null,null,null,null,null,null,null,null,null,null,null,null,null,null,"NTMFS4846","NTMFS4934N"]
[null,null,null,null,null,null,null,null,null,null,null,null,null,null,null,null,null,null,null,null,null,null,null,null,"NTMFS4846","NTMFS4935N"]
[null,null,null,null,null,null,null,null,null,null,null,null,null,null,null,null,null,null,null,null,null,null,null,null,"NTMFS4846","NTMFS4936"]
[null,null,null,null,null,null,null,null,null,null,null,null,null,null,null,null,null,null,null,null,null,null,null,null,"NTMFS4846","NTTFS4932N"]
[null,null,null,null,null,null,null,null,null,null,null,null,null,null,null,null,null,null,null,null,null,null,null,null,"NTMFS4847N","NTD4904N"]
[null,null,null,null,null,null,null,null,null,null,null,null,null,null,null,null,null,null,null,null,null,null,null,null,"NTMFS4847N","NTMFS4825NFE"]
[null,null,null,null,null,null,null,null,null,null,null,null,null,null,null,null,null,null,null,null,null,null,null,null,"NTMFS4847N","NTMFS4833N"]
[null,null,null,null,null,null,null,null,null,null,null,null,null,null,null,null,null,null,null,null,null,null,null,null,"NTMFS4847N","NTMFS4834N"]
[null,null,null,null,null,null,null,null,null,null,null,null,null,null,null,null,null,null,null,null,null,null,null,null,"NTMFS4847N","NTMFS4835N"]
[null,null,null,null,null,null,null,null,null,null,null,null,null,null,null,null,null,null,null,null,null,null,null,null,"NTMFS4847N","NTMFS4845"]
[null,null,null,null,null,null,null,null,null,null,null,null,null,null,null,null,null,null,null,null,null,null,null,null,"NTMFS4847N","NTMFS4846"]
[null,null,null,null,null,null,null,null,null,null,null,null,null,null,null,null,null,null,null,null,null,null,null,null,"NTMFS4847N","NTMFS4852N"]
[null,null,null,null,null,null,null,null,null,null,null,null,null,null,null,null,null,null,null,null,null,null,null,null,"NTMFS4847N","NTMFS4897"]
[null,null,null,null,null,null,null,null,null,null,null,null,null,null,null,null,null,null,null,null,null,null,null,null,"NTMFS4847N","NTMFS4898N"]
[null,null,null,null,null,null,null,null,null,null,null,null,null,null,null,null,null,null,null,null,null,null,null,null,"NTMFS4847N","NTMFS4923NE"]
[null,null,null,null,null,null,null,null,null,null,null,null,null,null,null,null,null,null,null,null,null,null,null,null,"NTMFS4847N","NTMFS4933N"]
[null,null,null,null,null,null,null,null,null,null,null,null,null,null,null,null,null,null,null,null,null,null,null,null,"NTMFS4847N","NTMFS4934N"]
[null,null,null,null,null,null,null,null,null,null,null,null,null,null,null,null,null,null,null,null,null,null,null,null,"NTMFS4847N","NTMFS4935N"]
[null,null,null,null,null,null,null,null,null,null,null,null,null,null,null,null,null,null,null,null,null,null,null,null,"NTMFS4847N","NTMFS4936"]
[null,null,null,null,null,null,null,null,null,null,null,null,null,null,null,null,null,null,null,null,null,null,null,null,"NTMFS4847N","NTTFS4932N"]
[null,null,null,null,null,null,null,null,null,null,null,null,null,null,null,null,null,null,null,null,null,null,null,null,"NTMFS4851","NTD4904N"]
[null,null,null,null,null,null,null,null,null,null,null,null,null,null,null,null,null,null,null,null,null,null,null,null,"NTMFS4851","NTMFS4825NFE"]
[null,null,null,null,null,null,null,null,null,null,null,null,null,null,null,null,null,null,null,null,null,null,null,null,"NTMFS4851","NTMFS4833N"]
[null,null,null,null,null,null,null,null,null,null,null,null,null,null,null,null,null,null,null,null,null,null,null,null,"NTMFS4851","NTMFS4834N"]
[null,null,null,null,null,null,null,null,null,null,null,null,null,null,null,null,null,null,null,null,null,null,null,null,"NTMFS4851","NTMFS4835N"]
[null,null,null,null,null,null,null,null,null,null,null,null,null,null,null,null,null,null,null,null,null,null,null,null,"NTMFS4851","NTMFS4845"]
[null,null,null,null,null,null,null,null,null,null,null,null,null,null,null,null,null,null,null,null,null,null,null,null,"NTMFS4851","NTMFS4846"]
[null,null,null,null,null,null,null,null,null,null,null,null,null,null,null,null,null,null,null,null,null,null,null,null,"NTMFS4851","NTMFS4852N"]
[null,null,null,null,null,null,null,null,null,null,null,null,null,null,null,null,null,null,null,null,null,null,null,null,"NTMFS4851","NTMFS4897"]
[null,null,null,null,null,null,null,null,null,null,null,null,null,null,null,null,null,null,null,null,null,null,null,null,"NTMFS4851","NTMFS4898N"]
[null,null,null,null,null,null,null,null,null,null,null,null,null,null,null,null,null,null,null,null,null,null,null,null,"NTMFS4851","NTMFS4923NE"]
[null,null,null,null,null,null,null,null,null,null,null,null,null,null,null,null,null,null,null,null,null,null,null,null,"NTMFS4851","NTMFS4933N"]
[null,null,null,null,null,null,null,null,null,null,null,null,null,null,null,null,null,null,null,null,null,null,null,null,"NTMFS4851","NTMFS4934N"]
[null,null,null,null,null,null,null,null,null,null,null,null,null,null,null,null,null,null,null,null,null,null,null,null,"NTMFS4851","NTMFS4935N"]
[null,null,null,null,null,null,null,null,null,null,null,null,null,null,null,null,null,null,null,null,null,null,null,null,"NTMFS4851","NTMFS4936"]
[null,null,null,null,null,null,null,null,null,null,null,null,null,null,null,null,null,null,null,null,null,null,null,null,"NTMFS4851","NTTFS4932N"]
[null,null,null,null,null,null,null,null,null,null,null,null,null,null,null,null,null,null,null,null,null,null,null,null,"NTMFS4852N","NTD4804N"]
[null,null,null,null,null,null,null,null,null,null,null,null,null,null,null,null,null,null,null,null,null,null,null,null,"NTMFS4852N","NTD4855N"]
[null,null,null,null,null,null,null,null,null,null,null,null,null,null,null,null,null,null,null,null,null,null,null,null,"NTMFS4852N","NTD4904N"]
[null,null,null,null,null,null,null,null,null,null,null,null,null,null,null,null,null,null,null,null,null,null,null,null,"NTMFS4852N","NTMFS4825NFE"]
[null,null,null,null,null,null,null,null,null,null,null,null,null,null,null,null,null,null,null,null,null,null,null,null,"NTMFS4852N","NTMFS4833N"]
[null,null,null,null,null,null,null,null,null,null,null,null,null,null,null,null,null,null,null,null,null,null,null,null,"NTMFS4852N","NTMFS4834N"]
[null,null,null,null,null,null,null,null,null,null,null,null,null,null,null,null,null,null,null,null,null,null,null,null,"NTMFS4852N","NTMFS4835N"]
[null,null,null,null,null,null,null,null,null,null,null,null,null,null,null,null,null,null,null,null,null,null,null,null,"NTMFS4852N","NTMFS4836N"]
[null,null,null,null,null,null,null,null,null,null,null,null,null,null,null,null,null,null,null,null,null,null,null,null,"NTMFS4852N","NTMFS4845"]
[null,null,null,null,null,null,null,null,null,null,null,null,null,null,null,null,null,null,null,null,null,null,null,null,"NTMFS4852N","NTMFS4846"]
[null,null,null,null,null,null,null,null,null,null,null,null,null,null,null,null,null,null,null,null,null,null,null,null,"NTMFS4852N","NTMFS4852N"]
[null,null,null,null,null,null,null,null,null,null,null,null,null,null,null,null,null,null,null,null,null,null,null,null,"NTMFS4852N","NTMFS4897"]
[null,null,null,null,null,null,null,null,null,null,null,null,null,null,null,null,null,null,null,null,null,null,null,null,"NTMFS4852N","NTMFS4898N"]
[null,null,null,null,null,null,null,null,null,null,null,null,null,null,null,null,null,null,null,null,null,null,null,null,"NTMFS4852N","NTMFS4923NE"]
[null,null,null,null,null,null,null,null,null,null,null,null,null,null,null,null,null,null,null,null,null,null,null,null,"NTMFS4852N","NTMFS4933N"]
[null,null,null,null,null,null,null,null,null,null,null,null,null,null,null,null,null,null,null,null,null,null,null,null,"NTMFS4852N","NTMFS4934N"]
[null,null,null,null,null,null,null,null,null,null,null,null,null,null,null,null,null,null,null,null,null,null,null,null,"NTMFS4852N","NTMFS4935N"]
[null,null,null,null,null,null,null,null,null,null,null,null,null,null,null,null,null,null,null,null,null,null,null,null,"NTMFS4852N","NTMFS4936"]
[null,null,null,null,null,null,null,null,null,null,null,null,null,null,null,null,null,null,null,null,null,null,null,null,"NTMFS4852N","NTTFS4932N"]
[null,null,null,null,null,null,null,null,null,null,null,null,null,null,null,null,null,null,null,null,null,null,null,null,"NTMFS4852N","NTTFS4937N"]
[null,null,null,null,null,null,null,null,null,null,null,null,null,null,null,null,null,null,null,null,null,null,null,null,"NTMFS4897","NTD4804N"]
[null,null,null,null,null,null,null,null,null,null,null,null,null,null,null,null,null,null,null,null,null,null,null,null,"NTMFS4897","NTD4855N"]
[null,null,null,null,null,null,null,null,null,null,null,null,null,null,null,null,null,null,null,null,null,null,null,null,"NTMFS4897","NTD4904N"]
[null,null,null,null,null,null,null,null,null,null,null,null,null,null,null,null,null,null,null,null,null,null,null,null,"NTMFS4897","NTMFS4825NFE"]
[null,null,null,null,null,null,null,null,null,null,null,null,null,null,null,null,null,null,null,null,null,null,null,null,"NTMFS4897","NTMFS4833N"]
[null,null,null,null,null,null,null,null,null,null,null,null,null,null,null,null,null,null,null,null,null,null,null,null,"NTMFS4897","NTMFS4834N"]
[null,null,null,null,null,null,null,null,null,null,null,null,null,null,null,null,null,null,null,null,null,null,null,null,"NTMFS4897","NTMFS4835N"]
[null,null,null,null,null,null,null,null,null,null,null,null,null,null,null,null,null,null,null,null,null,null,null,null,"NTMFS4897","NTMFS4836N"]
[null,null,null,null,null,null,null,null,null,null,null,null,null,null,null,null,null,null,null,null,null,null,null,null,"NTMFS4897","NTMFS4845"]
[null,null,null,null,null,null,null,null,null,null,null,null,null,null,null,null,null,null,null,null,null,null,null,null,"NTMFS4897","NTMFS4846"]
[null,null,null,null,null,null,null,null,null,null,null,null,null,null,null,null,null,null,null,null,null,null,null,null,"NTMFS4897","NTMFS4852N"]
[null,null,null,null,null,null,null,null,null,null,null,null,null,null,null,null,null,null,null,null,null,null,null,null,"NTMFS4897","NTMFS4897"]
[null,null,null,null,null,null,null,null,null,null,null,null,null,null,null,null,null,null,null,null,null,null,null,null,"NTMFS4897","NTMFS4898N"]
[null,null,null,null,null,null,null,null,null,null,null,null,null,null,null,null,null,null,null,null,null,null,null,null,"NTMFS4897","NTMFS4923NE"]
[null,null,null,null,null,null,null,null,null,null,null,null,null,null,null,null,null,null,null,null,null,null,null,null,"NTMFS4897","NTMFS4933N"]
[null,null,null,null,null,null,null,null,null,null,null,null,null,null,null,null,null,null,null,null,null,null,null,null,"NTMFS4897","NTMFS4934N"]
[null,null,null,null,null,null,null,null,null,null,null,null,null,null,null,null,null,null,null,null,null,null,null,null,"NTMFS4897","NTMFS4935N"]
[null,null,null,null,null,null,null,null,null,null,null,null,null,null,null,null,null,null,null,null,null,null,null,null,"NTMFS4897","NTMFS4936"]
[null,null,null,null,null,null,null,null,null,null,null,null,null,null,null,null,null,null,null,null,null,null,null,null,"NTMFS4897","NTTFS4932N"]
[null,null,null,null,null,null,null,null,null,null,null,null,null,null,null,null,null,null,null,null,null,null,null,null,"NTMFS4897","NTTFS4937N"]
[null,null,null,null,null,null,null,null,null,null,null,null,null,null,null,null,null,null,null,null,null,null,null,null,"NTMFS4898N","NTD4804N"]
[null,null,null,null,null,null,null,null,null,null,null,null,null,null,null,null,null,null,null,null,null,null,null,null,"NTMFS4898N","NTD4855N"]
[null,null,null,null,null,null,null,null,null,null,null,null,null,null,null,null,null,null,null,null,null,null,null,null,"NTMFS4898N","NTD4904N"]
[null,null,null,null,null,null,null,null,null,null,null,null,null,null,null,null,null,null,null,null,null,null,null,null,"NTMFS4898N","NTMFS4825NFE"]
[null,null,null,null,null,null,null,null,null,null,null,null,null,null,null,null,null,null,null,null,null,null,null,null,"NTMFS4898N","NTMFS4833N"]
[null,null,null,null,null,null,null,null,null,null,null,null,null,null,null,null,null,null,null,null,null,null,null,null,"NTMFS4898N","NTMFS4834N"]
[null,null,null,null,null,null,null,null,null,null,null,null,null,null,null,null,null,null,null,null,null,null,null,null,"NTMFS4898N","NTMFS4835N"]
[null,null,null,null,null,null,null,null,null,null,null,null,null,null,null,null,null,null,null,null,null,null,null,null,"NTMFS4898N","NTMFS4845"]
[null,null,null,null,null,null,null,null,null,null,null,null,null,null,null,null,null,null,null,null,null,null,null,null,"NTMFS4898N","NTMFS4846"]
[null,null,null,null,null,null,null,null,null,null,null,null,null,null,null,null,null,null,null,null,null,null,null,null,"NTMFS4898N","NTMFS4852N"]
[null,null,null,null,null,null,null,null,null,null,null,null,null,null,null,null,null,null,null,null,null,null,null,null,"NTMFS4898N","NTMFS4897"]
[null,null,null,null,null,null,null,null,null,null,null,null,null,null,null,null,null,null,null,null,null,null,null,null,"NTMFS4898N","NTMFS4898N"]
[null,null,null,null,null,null,null,null,null,null,null,null,null,null,null,null,null,null,null,null,null,null,null,null,"NTMFS4898N","NTMFS4923NE"]
[null,null,null,null,null,null,null,null,null,null,null,null,null,null,null,null,null,null,null,null,null,null,null,null,"NTMFS4898N","NTMFS4933N"]
[null,null,null,null,null,null,null,null,null,null,null,null,null,null,null,null,null,null,null,null,null,null,null,null,"NTMFS4898N","NTMFS4934N"]
[null,null,null,null,null,null,null,null,null,null,null,null,null,null,null,null,null,null,null,null,null,null,null,null,"NTMFS4898N","NTMFS4935N"]
[null,null,null,null,null,null,null,null,null,null,null,null,null,null,null,null,null,null,null,null,null,null,null,null,"NTMFS4898N","NTMFS4936"]
[null,null,null,null,null,null,null,null,null,null,null,null,null,null,null,null,null,null,null,null,null,null,null,null,"NTMFS4898N","NTTFS4932N"]
[null,null,null,null,null,null,null,null,null,null,null,null,null,null,null,null,null,null,null,null,null,null,null,null,"NTMFS4899N","NTD4904N"]
[null,null,null,null,null,null,null,null,null,null,null,null,null,null,null,null,null,null,null,null,null,null,null,null,"NTMFS4899N","NTMFS4825NFE"]
[null,null,null,null,null,null,null,null,null,null,null,null,null,null,null,null,null,null,null,null,null,null,null,null,"NTMFS4899N","NTMFS4833N"]
[null,null,null,null,null,null,null,null,null,null,null,null,null,null,null,null,null,null,null,null,null,null,null,null,"NTMFS4899N","NTMFS4834N"]
[null,null,null,null,null,null,null,null,null,null,null,null,null,null,null,null,null,null,null,null,null,null,null,null,"NTMFS4899N","NTMFS4835N"]
[null,null,null,null,null,null,null,null,null,null,null,null,null,null,null,null,null,null,null,null,null,null,null,null,"NTMFS4899N","NTMFS4845"]
[null,null,null,null,null,null,null,null,null,null,null,null,null,null,null,null,null,null,null,null,null,null,null,null,"NTMFS4899N","NTMFS4846"]
[null,null,null,null,null,null,null,null,null,null,null,null,null,null,null,null,null,null,null,null,null,null,null,null,"NTMFS4899N","NTMFS4852N"]
[null,null,null,null,null,null,null,null,null,null,null,null,null,null,null,null,null,null,null,null,null,null,null,null,"NTMFS4899N","NTMFS4897"]
[null,null,null,null,null,null,null,null,null,null,null,null,null,null,null,null,null,null,null,null,null,null,null,null,"NTMFS4899N","NTMFS4898N"]
[null,null,null,null,null,null,null,null,null,null,null,null,null,null,null,null,null,null,null,null,null,null,null,null,"NTMFS4899N","NTMFS4923NE"]
[null,null,null,null,null,null,null,null,null,null,null,null,null,null,null,null,null,null,null,null,null,null,null,null,"NTMFS4899N","NTMFS4933N"]
[null,null,null,null,null,null,null,null,null,null,null,null,null,null,null,null,null,null,null,null,null,null,null,null,"NTMFS4899N","NTMFS4934N"]
[null,null,null,null,null,null,null,null,null,null,null,null,null,null,null,null,null,null,null,null,null,null,null,null,"NTMFS4899N","NTMFS4935N"]
[null,null,null,null,null,null,null,null,null,null,null,null,null,null,null,null,null,null,null,null,null,null,null,null,"NTMFS4899N","NTMFS4936"]
[null,null,null,null,null,null,null,null,null,null,null,null,null,null,null,null,null,null,null,null,null,null,null,null,"NTMFS4899N","NTTFS4932N"]
[null,null,null,null,null,null,null,null,null,null,null,null,null,null,null,null,null,null,null,null,null,null,null,null,"NTMFS4921","NTD4904N"]
[null,null,null,null,null,null,null,null,null,null,null,null,null,null,null,null,null,null,null,null,null,null,null,null,"NTMFS4921","NTMFS4825NFE"]
[null,null,null,null,null,null,null,null,null,null,null,null,null,null,null,null,null,null,null,null,null,null,null,null,"NTMFS4921","NTMFS4833N"]
[null,null,null,null,null,null,null,null,null,null,null,null,null,null,null,null,null,null,null,null,null,null,null,null,"NTMFS4921","NTMFS4834N"]
[null,null,null,null,null,null,null,null,null,null,null,null,null,null,null,null,null,null,null,null,null,null,null,null,"NTMFS4921","NTMFS4835N"]
[null,null,null,null,null,null,null,null,null,null,null,null,null,null,null,null,null,null,null,null,null,null,null,null,"NTMFS4921","NTMFS4845"]
[null,null,null,null,null,null,null,null,null,null,null,null,null,null,null,null,null,null,null,null,null,null,null,null,"NTMFS4921","NTMFS4846"]
[null,null,null,null,null,null,null,null,null,null,null,null,null,null,null,null,null,null,null,null,null,null,null,null,"NTMFS4921","NTMFS4852N"]
[null,null,null,null,null,null,null,null,null,null,null,null,null,null,null,null,null,null,null,null,null,null,null,null,"NTMFS4921","NTMFS4897"]
[null,null,null,null,null,null,null,null,null,null,null,null,null,null,null,null,null,null,null,null,null,null,null,null,"NTMFS4921","NTMFS4898N"]
[null,null,null,null,null,null,null,null,null,null,null,null,null,null,null,null,null,null,null,null,null,null,null,null,"NTMFS4921","NTMFS4923NE"]
[null,null,null,null,null,null,null,null,null,null,null,null,null,null,null,null,null,null,null,null,null,null,null,null,"NTMFS4921","NTMFS4933N"]
[null,null,null,null,null,null,null,null,null,null,null,null,null,null,null,null,null,null,null,null,null,null,null,null,"NTMFS4921","NTMFS4934N"]
[null,null,null,null,null,null,null,null,null,null,null,null,null,null,null,null,null,null,null,null,null,null,null,null,"NTMFS4921","NTMFS4935N"]
[null,null,null,null,null,null,null,null,null,null,null,null,null,null,null,null,null,null,null,null,null,null,null,null,"NTMFS4921","NTMFS4936"]
[null,null,null,null,null,null,null,null,null,null,null,null,null,null,null,null,null,null,null,null,null,null,null,null,"NTMFS4921","NTTFS4932N"]
[null,null,null,null,null,null,null,null,null,null,null,null,null,null,null,null,null,null,null,null,null,null,null,null,"NTMFS4923NE","NTD4804N"]
[null,null,null,null,null,null,null,null,null,null,null,null,null,null,null,null,null,null,null,null,null,null,null,null,"NTMFS4923NE","NTD4855N"]
[null,null,null,null,null,null,null,null,null,null,null,null,null,null,null,null,null,null,null,null,null,null,null,null,"NTMFS4923NE","NTD4904N"]
[null,null,null,null,null,null,null,null,null,null,null,null,null,null,null,null,null,null,null,null,null,null,null,null,"NTMFS4923NE","NTMFS4825NFE"]
[null,null,null,null,null,null,null,null,null,null,null,null,null,null,null,null,null,null,null,null,null,null,null,null,"NTMFS4923NE","NTMFS4833N"]
[null,null,null,null,null,null,null,null,null,null,null,null,null,null,null,null,null,null,null,null,null,null,null,null,"NTMFS4923NE","NTMFS4834N"]
[null,null,null,null,null,null,null,null,null,null,null,null,null,null,null,null,null,null,null,null,null,null,null,null,"NTMFS4923NE","NTMFS4835N"]
[null,null,null,null,null,null,null,null,null,null,null,null,null,null,null,null,null,null,null,null,null,null,null,null,"NTMFS4923NE","NTMFS4845"]
[null,null,null,null,null,null,null,null,null,null,null,null,null,null,null,null,null,null,null,null,null,null,null,null,"NTMFS4923NE","NTMFS4846"]
[null,null,null,null,null,null,null,null,null,null,null,null,null,null,null,null,null,null,null,null,null,null,null,null,"NTMFS4923NE","NTMFS4852N"]
[null,null,null,null,null,null,null,null,null,null,null,null,null,null,null,null,null,null,null,null,null,null,null,null,"NTMFS4923NE","NTMFS4897"]
[null,null,null,null,null,null,null,null,null,null,null,null,null,null,null,null,null,null,null,null,null,null,null,null,"NTMFS4923NE","NTMFS4898N"]
[null,null,null,null,null,null,null,null,null,null,null,null,null,null,null,null,null,null,null,null,null,null,null,null,"NTMFS4923NE","NTMFS4923NE"]
[null,null,null,null,null,null,null,null,null,null,null,null,null,null,null,null,null,null,null,null,null,null,null,null,"NTMFS4923NE","NTMFS4933N"]
[null,null,null,null,null,null,null,null,null,null,null,null,null,null,null,null,null,null,null,null,null,null,null,null,"NTMFS4923NE","NTMFS4934N"]
[null,null,null,null,null,null,null,null,null,null,null,null,null,null,null,null,null,null,null,null,null,null,null,null,"NTMFS4923NE","NTMFS4935N"]
[null,null,null,null,null,null,null,null,null,null,null,null,null,null,null,null,null,null,null,null,null,null,null,null,"NTMFS4923NE","NTMFS4936"]
[null,null,null,null,null,null,null,null,null,null,null,null,null,null,null,null,null,null,null,null,null,null,null,null,"NTMFS4923NE","NTTFS4932N"]
[null,null,null,null,null,null,null,null,null,null,null,null,null,null,null,null,null,null,null,null,null,null,null,null,"NTMFS4925","NTD4904N"]
[null,null,null,null,null,null,null,null,null,null,null,null,null,null,null,null,null,null,null,null,null,null,null,null,"NTMFS4925","NTMFS4825NFE"]
[null,null,null,null,null,null,null,null,null,null,null,null,null,null,null,null,null,null,null,null,null,null,null,null,"NTMFS4925","NTMFS4833N"]
[null,null,null,null,null,null,null,null,null,null,null,null,null,null,null,null,null,null,null,null,null,null,null,null,"NTMFS4925","NTMFS4834N"]
[null,null,null,null,null,null,null,null,null,null,null,null,null,null,null,null,null,null,null,null,null,null,null,null,"NTMFS4925","NTMFS4835N"]
[null,null,null,null,null,null,null,null,null,null,null,null,null,null,null,null,null,null,null,null,null,null,null,null,"NTMFS4925","NTMFS4845"]
[null,null,null,null,null,null,null,null,null,null,null,null,null,null,null,null,null,null,null,null,null,null,null,null,"NTMFS4925","NTMFS4846"]
[null,null,null,null,null,null,null,null,null,null,null,null,null,null,null,null,null,null,null,null,null,null,null,null,"NTMFS4925","NTMFS4852N"]
[null,null,null,null,null,null,null,null,null,null,null,null,null,null,null,null,null,null,null,null,null,null,null,null,"NTMFS4925","NTMFS4897"]
[null,null,null,null,null,null,null,null,null,null,null,null,null,null,null,null,null,null,null,null,null,null,null,null,"NTMFS4925","NTMFS4898N"]
[null,null,null,null,null,null,null,null,null,null,null,null,null,null,null,null,null,null,null,null,null,null,null,null,"NTMFS4925","NTMFS4923NE"]
[null,null,null,null,null,null,null,null,null,null,null,null,null,null,null,null,null,null,null,null,null,null,null,null,"NTMFS4925","NTMFS4933N"]
[null,null,null,null,null,null,null,null,null,null,null,null,null,null,null,null,null,null,null,null,null,null,null,null,"NTMFS4925","NTMFS4934N"]
[null,null,null,null,null,null,null,null,null,null,null,null,null,null,null,null,null,null,null,null,null,null,null,null,"NTMFS4925","NTMFS4935N"]
[null,null,null,null,null,null,null,null,null,null,null,null,null,null,null,null,null,null,null,null,null,null,null,null,"NTMFS4925","NTMFS4936"]
[null,null,null,null,null,null,null,null,null,null,null,null,null,null,null,null,null,null,null,null,null,null,null,null,"NTMFS4925","NTTFS4932N"]
[null,null,null,null,null,null,null,null,null,null,null,null,null,null,null,null,null,null,null,null,null,null,null,null,"NTMFS4926","NTD4904N"]
[null,null,null,null,null,null,null,null,null,null,null,null,null,null,null,null,null,null,null,null,null,null,null,null,"NTMFS4926","NTMFS4825NFE"]
[null,null,null,null,null,null,null,null,null,null,null,null,null,null,null,null,null,null,null,null,null,null,null,null,"NTMFS4926","NTMFS4833N"]
[null,null,null,null,null,null,null,null,null,null,null,null,null,null,null,null,null,null,null,null,null,null,null,null,"NTMFS4926","NTMFS4834N"]
[null,null,null,null,null,null,null,null,null,null,null,null,null,null,null,null,null,null,null,null,null,null,null,null,"NTMFS4926","NTMFS4835N"]
[null,null,null,null,null,null,null,null,null,null,null,null,null,null,null,null,null,null,null,null,null,null,null,null,"NTMFS4926","NTMFS4845"]
[null,null,null,null,null,null,null,null,null,null,null,null,null,null,null,null,null,null,null,null,null,null,null,null,"NTMFS4926","NTMFS4846"]
[null,null,null,null,null,null,null,null,null,null,null,null,null,null,null,null,null,null,null,null,null,null,null,null,"NTMFS4926","NTMFS4852N"]
[null,null,null,null,null,null,null,null,null,null,null,null,null,null,null,null,null,null,null,null,null,null,null,null,"NTMFS4926","NTMFS4897"]
[null,null,null,null,null,null,null,null,null,null,null,null,null,null,null,null,null,null,null,null,null,null,null,null,"NTMFS4926","NTMFS4898N"]
[null,null,null,null,null,null,null,null,null,null,null,null,null,null,null,null,null,null,null,null,null,null,null,null,"NTMFS4926","NTMFS4923NE"]
[null,null,null,null,null,null,null,null,null,null,null,null,null,null,null,null,null,null,null,null,null,null,null,null,"NTMFS4926","NTMFS4933N"]
[null,null,null,null,null,null,null,null,null,null,null,null,null,null,null,null,null,null,null,null,null,null,null,null,"NTMFS4926","NTMFS4934N"]
[null,null,null,null,null,null,null,null,null,null,null,null,null,null,null,null,null,null,null,null,null,null,null,null,"NTMFS4926","NTMFS4935N"]
[null,null,null,null,null,null,null,null,null,null,null,null,null,null,null,null,null,null,null,null,null,null,null,null,"NTMFS4926","NTMFS4936"]
[null,null,null,null,null,null,null,null,null,null,null,null,null,null,null,null,null,null,null,null,null,null,null,null,"NTMFS4926","NTTFS4932N"]
[null,null,null,null,null,null,null,null,null,null,null,null,null,null,null,null,null,null,null,null,null,null,null,null,"NTMFS4927","NTD4904N"]
[null,null,null,null,null,null,null,null,null,null,null,null,null,null,null,null,null,null,null,null,null,null,null,null,"NTMFS4927","NTMFS4825NFE"]
[null,null,null,null,null,null,null,null,null,null,null,null,null,null,null,null,null,null,null,null,null,null,null,null,"NTMFS4927","NTMFS4833N"]
[null,null,null,null,null,null,null,null,null,null,null,null,null,null,null,null,null,null,null,null,null,null,null,null,"NTMFS4927","NTMFS4834N"]
[null,null,null,null,null,null,null,null,null,null,null,null,null,null,null,null,null,null,null,null,null,null,null,null,"NTMFS4927","NTMFS4835N"]
[null,null,null,null,null,null,null,null,null,null,null,null,null,null,null,null,null,null,null,null,null,null,null,null,"NTMFS4927","NTMFS4845"]
[null,null,null,null,null,null,null,null,null,null,null,null,null,null,null,null,null,null,null,null,null,null,null,null,"NTMFS4927","NTMFS4846"]
[null,null,null,null,null,null,null,null,null,null,null,null,null,null,null,null,null,null,null,null,null,null,null,null,"NTMFS4927","NTMFS4852N"]
[null,null,null,null,null,null,null,null,null,null,null,null,null,null,null,null,null,null,null,null,null,null,null,null,"NTMFS4927","NTMFS4897"]
[null,null,null,null,null,null,null,null,null,null,null,null,null,null,null,null,null,null,null,null,null,null,null,null,"NTMFS4927","NTMFS4898N"]
[null,null,null,null,null,null,null,null,null,null,null,null,null,null,null,null,null,null,null,null,null,null,null,null,"NTMFS4927","NTMFS4923NE"]
[null,null,null,null,null,null,null,null,null,null,null,null,null,null,null,null,null,null,null,null,null,null,null,null,"NTMFS4927","NTMFS4933N"]
[null,null,null,null,null,null,null,null,null,null,null,null,null,null,null,null,null,null,null,null,null,null,null,null,"NTMFS4927","NTMFS4934N"]
[null,null,null,null,null,null,null,null,null,null,null,null,null,null,null,null,null,null,null,null,null,null,null,null,"NTMFS4927","NTMFS4935N"]
[null,null,null,null,null,null,null,null,null,null,null,null,null,null,null,null,null,null,null,null,null,null,null,null,"NTMFS4927","NTMFS4936"]
[null,null,null,null,null,null,null,null,null,null,null,null,null,null,null,null,null,null,null,null,null,null,null,null,"NTMFS4927","NTTFS4932N"]
[null,null,null,null,null,null,null,null,null,null,null,null,null,null,null,null,null,null,null,null,null,null,null,null,"NTMFS4933N","NTD4804N"]
[null,null,null,null,null,null,null,null,null,null,null,null,null,null,null,null,null,null,null,null,null,null,null,null,"NTMFS4933N","NTD4855N"]
[null,null,null,null,null,null,null,null,null,null,null,null,null,null,null,null,null,null,null,null,null,null,null,null,"NTMFS4933N","NTD4904N"]
[null,null,null,null,null,null,null,null,null,null,null,null,null,null,null,null,null,null,null,null,null,null,null,null,"NTMFS4933N","NTMFS4825NFE"]
[null,null,null,null,null,null,null,null,null,null,null,null,null,null,null,null,null,null,null,null,null,null,null,null,"NTMFS4933N","NTMFS4833N"]
[null,null,null,null,null,null,null,null,null,null,null,null,null,null,null,null,null,null,null,null,null,null,null,null,"NTMFS4933N","NTMFS4834N"]
[null,null,null,null,null,null,null,null,null,null,null,null,null,null,null,null,null,null,null,null,null,null,null,null,"NTMFS4933N","NTMFS4835N"]
[null,null,null,null,null,null,null,null,null,null,null,null,null,null,null,null,null,null,null,null,null,null,null,null,"NTMFS4933N","NTMFS4836N"]
[null,null,null,null,null,null,null,null,null,null,null,null,null,null,null,null,null,null,null,null,null,null,null,null,"NTMFS4933N","NTMFS4845"]
[null,null,null,null,null,null,null,null,null,null,null,null,null,null,null,null,null,null,null,null,null,null,null,null,"NTMFS4933N","NTMFS4846"]
[null,null,null,null,null,null,null,null,null,null,null,null,null,null,null,null,null,null,null,null,null,null,null,null,"NTMFS4933N","NTMFS4852N"]
[null,null,null,null,null,null,null,null,null,null,null,null,null,null,null,null,null,null,null,null,null,null,null,null,"NTMFS4933N","NTMFS4897"]
[null,null,null,null,null,null,null,null,null,null,null,null,null,null,null,null,null,null,null,null,null,null,null,null,"NTMFS4933N","NTMFS4898N"]
[null,null,null,null,null,null,null,null,null,null,null,null,null,null,null,null,null,null,null,null,null,null,null,null,"NTMFS4933N","NTMFS4923NE"]
[null,null,null,null,null,null,null,null,null,null,null,null,null,null,null,null,null,null,null,null,null,null,null,null,"NTMFS4933N","NTMFS4933N"]
[null,null,null,null,null,null,null,null,null,null,null,null,null,null,null,null,null,null,null,null,null,null,null,null,"NTMFS4933N","NTMFS4934N"]
[null,null,null,null,null,null,null,null,null,null,null,null,null,null,null,null,null,null,null,null,null,null,null,null,"NTMFS4933N","NTMFS4935N"]
[null,null,null,null,null,null,null,null,null,null,null,null,null,null,null,null,null,null,null,null,null,null,null,null,"NTMFS4933N","NTMFS4936"]
[null,null,null,null,null,null,null,null,null,null,null,null,null,null,null,null,null,null,null,null,null,null,null,null,"NTMFS4933N","NTTFS4932N"]
[null,null,null,null,null,null,null,null,null,null,null,null,null,null,null,null,null,null,null,null,null,null,null,null,"NTMFS4933N","NTTFS4937N"]
[null,null,null,null,null,null,null,null,null,null,null,null,null,null,null,null,null,null,null,null,null,null,null,null,"NTMFS4934N","NTD4804N"]
[null,null,null,null,null,null,null,null,null,null,null,null,null,null,null,null,null,null,null,null,null,null,null,null,"NTMFS4934N","NTD4855N"]
[null,null,null,null,null,null,null,null,null,null,null,null,null,null,null,null,null,null,null,null,null,null,null,null,"NTMFS4934N","NTD4904N"]
[null,null,null,null,null,null,null,null,null,null,null,null,null,null,null,null,null,null,null,null,null,null,null,null,"NTMFS4934N","NTMFS4825NFE"]
[null,null,null,null,null,null,null,null,null,null,null,null,null,null,null,null,null,null,null,null,null,null,null,null,"NTMFS4934N","NTMFS4833N"]
[null,null,null,null,null,null,null,null,null,null,null,null,null,null,null,null,null,null,null,null,null,null,null,null,"NTMFS4934N","NTMFS4834N"]
[null,null,null,null,null,null,null,null,null,null,null,null,null,null,null,null,null,null,null,null,null,null,null,null,"NTMFS4934N","NTMFS4835N"]
[null,null,null,null,null,null,null,null,null,null,null,null,null,null,null,null,null,null,null,null,null,null,null,null,"NTMFS4934N","NTMFS4836N"]
[null,null,null,null,null,null,null,null,null,null,null,null,null,null,null,null,null,null,null,null,null,null,null,null,"NTMFS4934N","NTMFS4845"]
[null,null,null,null,null,null,null,null,null,null,null,null,null,null,null,null,null,null,null,null,null,null,null,null,"NTMFS4934N","NTMFS4846"]
[null,null,null,null,null,null,null,null,null,null,null,null,null,null,null,null,null,null,null,null,null,null,null,null,"NTMFS4934N","NTMFS4852N"]
[null,null,null,null,null,null,null,null,null,null,null,null,null,null,null,null,null,null,null,null,null,null,null,null,"NTMFS4934N","NTMFS4897"]
[null,null,null,null,null,null,null,null,null,null,null,null,null,null,null,null,null,null,null,null,null,null,null,null,"NTMFS4934N","NTMFS4898N"]
[null,null,null,null,null,null,null,null,null,null,null,null,null,null,null,null,null,null,null,null,null,null,null,null,"NTMFS4934N","NTMFS4923NE"]
[null,null,null,null,null,null,null,null,null,null,null,null,null,null,null,null,null,null,null,null,null,null,null,null,"NTMFS4934N","NTMFS4933N"]
[null,null,null,null,null,null,null,null,null,null,null,null,null,null,null,null,null,null,null,null,null,null,null,null,"NTMFS4934N","NTMFS4934N"]
[null,null,null,null,null,null,null,null,null,null,null,null,null,null,null,null,null,null,null,null,null,null,null,null,"NTMFS4934N","NTMFS4935N"]
[null,null,null,null,null,null,null,null,null,null,null,null,null,null,null,null,null,null,null,null,null,null,null,null,"NTMFS4934N","NTMFS4936"]
[null,null,null,null,null,null,null,null,null,null,null,null,null,null,null,null,null,null,null,null,null,null,null,null,"NTMFS4934N","NTTFS4932N"]
[null,null,null,null,null,null,null,null,null,null,null,null,null,null,null,null,null,null,null,null,null,null,null,null,"NTMFS4934N","NTTFS4937N"]
[null,null,null,null,null,null,null,null,null,null,null,null,null,null,null,null,null,null,null,null,null,null,null,null,"NTMFS4935N","NTD4804N"]
[null,null,null,null,null,null,null,null,null,null,null,null,null,null,null,null,null,null,null,null,null,null,null,null,"NTMFS4935N","NTD4855N"]
[null,null,null,null,null,null,null,null,null,null,null,null,null,null,null,null,null,null,null,null,null,null,null,null,"NTMFS4935N","NTD4904N"]
[null,null,null,null,null,null,null,null,null,null,null,null,null,null,null,null,null,null,null,null,null,null,null,null,"NTMFS4935N","NTMFS4825NFE"]
[null,null,null,null,null,null,null,null,null,null,null,null,null,null,null,null,null,null,null,null,null,null,null,null,"NTMFS4935N","NTMFS4833N"]
[null,null,null,null,null,null,null,null,null,null,null,null,null,null,null,null,null,null,null,null,null,null,null,null,"NTMFS4935N","NTMFS4834N"]
[null,null,null,null,null,null,null,null,null,null,null,null,null,null,null,null,null,null,null,null,null,null,null,null,"NTMFS4935N","NTMFS4835N"]
[null,null,null,null,null,null,null,null,null,null,null,null,null,null,null,null,null,null,null,null,null,null,null,null,"NTMFS4935N","NTMFS4845"]
[null,null,null,null,null,null,null,null,null,null,null,null,null,null,null,null,null,null,null,null,null,null,null,null,"NTMFS4935N","NTMFS4846"]
[null,null,null,null,null,null,null,null,null,null,null,null,null,null,null,null,null,null,null,null,null,null,null,null,"NTMFS4935N","NTMFS4852N"]
[null,null,null,null,null,null,null,null,null,null,null,null,null,null,null,null,null,null,null,null,null,null,null,null,"NTMFS4935N","NTMFS4897"]
[null,null,null,null,null,null,null,null,null,null,null,null,null,null,null,null,null,null,null,null,null,null,null,null,"NTMFS4935N","NTMFS4898N"]
[null,null,null,null,null,null,null,null,null,null,null,null,null,null,null,null,null,null,null,null,null,null,null,null,"NTMFS4935N","NTMFS4923NE"]
[null,null,null,null,null,null,null,null,null,null,null,null,null,null,null,null,null,null,null,null,null,null,null,null,"NTMFS4935N","NTMFS4933N"]
[null,null,null,null,null,null,null,null,null,null,null,null,null,null,null,null,null,null,null,null,null,null,null,null,"NTMFS4935N","NTMFS4934N"]
[null,null,null,null,null,null,null,null,null,null,null,null,null,null,null,null,null,null,null,null,null,null,null,null,"NTMFS4935N","NTMFS4935N"]
[null,null,null,null,null,null,null,null,null,null,null,null,null,null,null,null,null,null,null,null,null,null,null,null,"NTMFS4935N","NTMFS4936"]
[null,null,null,null,null,null,null,null,null,null,null,null,null,null,null,null,null,null,null,null,null,null,null,null,"NTMFS4935N","NTTFS4932N"]
[null,null,null,null,null,null,null,null,null,null,null,null,null,null,null,null,null,null,null,null,null,null,null,null,"NTMFS4936","NTD4804N"]
[null,null,null,null,null,null,null,null,null,null,null,null,null,null,null,null,null,null,null,null,null,null,null,null,"NTMFS4936","NTD4855N"]
[null,null,null,null,null,null,null,null,null,null,null,null,null,null,null,null,null,null,null,null,null,null,null,null,"NTMFS4936","NTD4904N"]
[null,null,null,null,null,null,null,null,null,null,null,null,null,null,null,null,null,null,null,null,null,null,null,null,"NTMFS4936","NTMFS4825NFE"]
[null,null,null,null,null,null,null,null,null,null,null,null,null,null,null,null,null,null,null,null,null,null,null,null,"NTMFS4936","NTMFS4833N"]
[null,null,null,null,null,null,null,null,null,null,null,null,null,null,null,null,null,null,null,null,null,null,null,null,"NTMFS4936","NTMFS4834N"]
[null,null,null,null,null,null,null,null,null,null,null,null,null,null,null,null,null,null,null,null,null,null,null,null,"NTMFS4936","NTMFS4835N"]
[null,null,null,null,null,null,null,null,null,null,null,null,null,null,null,null,null,null,null,null,null,null,null,null,"NTMFS4936","NTMFS4845"]
[null,null,null,null,null,null,null,null,null,null,null,null,null,null,null,null,null,null,null,null,null,null,null,null,"NTMFS4936","NTMFS4846"]
[null,null,null,null,null,null,null,null,null,null,null,null,null,null,null,null,null,null,null,null,null,null,null,null,"NTMFS4936","NTMFS4852N"]
[null,null,null,null,null,null,null,null,null,null,null,null,null,null,null,null,null,null,null,null,null,null,null,null,"NTMFS4936","NTMFS4897"]
[null,null,null,null,null,null,null,null,null,null,null,null,null,null,null,null,null,null,null,null,null,null,null,null,"NTMFS4936","NTMFS4898N"]
[null,null,null,null,null,null,null,null,null,null,null,null,null,null,null,null,null,null,null,null,null,null,null,null,"NTMFS4936","NTMFS4923NE"]
[null,null,null,null,null,null,null,null,null,null,null,null,null,null,null,null,null,null,null,null,null,null,null,null,"NTMFS4936","NTMFS4933N"]
[null,null,null,null,null,null,null,null,null,null,null,null,null,null,null,null,null,null,null,null,null,null,null,null,"NTMFS4936","NTMFS4934N"]
[null,null,null,null,null,null,null,null,null,null,null,null,null,null,null,null,null,null,null,null,null,null,null,null,"NTMFS4936","NTMFS4935N"]
[null,null,null,null,null,null,null,null,null,null,null,null,null,null,null,null,null,null,null,null,null,null,null,null,"NTMFS4936","NTMFS4936"]
[null,null,null,null,null,null,null,null,null,null,null,null,null,null,null,null,null,null,null,null,null,null,null,null,"NTMFS4936","NTTFS4932N"]
[null,null,null,null,null,null,null,null,null,null,null,null,null,null,null,null,null,null,null,null,null,null,null,null,"NTMFS4937N","NTD4904N"]
[null,null,null,null,null,null,null,null,null,null,null,null,null,null,null,null,null,null,null,null,null,null,null,null,"NTMFS4937N","NTMFS4825NFE"]
[null,null,null,null,null,null,null,null,null,null,null,null,null,null,null,null,null,null,null,null,null,null,null,null,"NTMFS4937N","NTMFS4833N"]
[null,null,null,null,null,null,null,null,null,null,null,null,null,null,null,null,null,null,null,null,null,null,null,null,"NTMFS4937N","NTMFS4834N"]
[null,null,null,null,null,null,null,null,null,null,null,null,null,null,null,null,null,null,null,null,null,null,null,null,"NTMFS4937N","NTMFS4835N"]
[null,null,null,null,null,null,null,null,null,null,null,null,null,null,null,null,null,null,null,null,null,null,null,null,"NTMFS4937N","NTMFS4845"]
[null,null,null,null,null,null,null,null,null,null,null,null,null,null,null,null,null,null,null,null,null,null,null,null,"NTMFS4937N","NTMFS4846"]
[null,null,null,null,null,null,null,null,null,null,null,null,null,null,null,null,null,null,null,null,null,null,null,null,"NTMFS4937N","NTMFS4852N"]
[null,null,null,null,null,null,null,null,null,null,null,null,null,null,null,null,null,null,null,null,null,null,null,null,"NTMFS4937N","NTMFS4897"]
[null,null,null,null,null,null,null,null,null,null,null,null,null,null,null,null,null,null,null,null,null,null,null,null,"NTMFS4937N","NTMFS4898N"]
[null,null,null,null,null,null,null,null,null,null,null,null,null,null,null,null,null,null,null,null,null,null,null,null,"NTMFS4937N","NTMFS4923NE"]
[null,null,null,null,null,null,null,null,null,null,null,null,null,null,null,null,null,null,null,null,null,null,null,null,"NTMFS4937N","NTMFS4933N"]
[null,null,null,null,null,null,null,null,null,null,null,null,null,null,null,null,null,null,null,null,null,null,null,null,"NTMFS4937N","NTMFS4934N"]
[null,null,null,null,null,null,null,null,null,null,null,null,null,null,null,null,null,null,null,null,null,null,null,null,"NTMFS4937N","NTMFS4935N"]
[null,null,null,null,null,null,null,null,null,null,null,null,null,null,null,null,null,null,null,null,null,null,null,null,"NTMFS4937N","NTMFS4936"]
[null,null,null,null,null,null,null,null,null,null,null,null,null,null,null,null,null,null,null,null,null,null,null,null,"NTMFS4937N","NTTFS4932N"]
[null,null,null,null,null,null,null,null,null,null,null,null,null,null,null,null,null,null,null,null,null,null,null,null,"NTMFS4939N","NTD4904N"]
[null,null,null,null,null,null,null,null,null,null,null,null,null,null,null,null,null,null,null,null,null,null,null,null,"NTMFS4939N","NTMFS4825NFE"]
[null,null,null,null,null,null,null,null,null,null,null,null,null,null,null,null,null,null,null,null,null,null,null,null,"NTMFS4939N","NTMFS4833N"]
[null,null,null,null,null,null,null,null,null,null,null,null,null,null,null,null,null,null,null,null,null,null,null,null,"NTMFS4939N","NTMFS4834N"]
[null,null,null,null,null,null,null,null,null,null,null,null,null,null,null,null,null,null,null,null,null,null,null,null,"NTMFS4939N","NTMFS4835N"]
[null,null,null,null,null,null,null,null,null,null,null,null,null,null,null,null,null,null,null,null,null,null,null,null,"NTMFS4939N","NTMFS4845"]
[null,null,null,null,null,null,null,null,null,null,null,null,null,null,null,null,null,null,null,null,null,null,null,null,"NTMFS4939N","NTMFS4846"]
[null,null,null,null,null,null,null,null,null,null,null,null,null,null,null,null,null,null,null,null,null,null,null,null,"NTMFS4939N","NTMFS4852N"]
[null,null,null,null,null,null,null,null,null,null,null,null,null,null,null,null,null,null,null,null,null,null,null,null,"NTMFS4939N","NTMFS4897"]
[null,null,null,null,null,null,null,null,null,null,null,null,null,null,null,null,null,null,null,null,null,null,null,null,"NTMFS4939N","NTMFS4898N"]
[null,null,null,null,null,null,null,null,null,null,null,null,null,null,null,null,null,null,null,null,null,null,null,null,"NTMFS4939N","NTMFS4923NE"]
[null,null,null,null,null,null,null,null,null,null,null,null,null,null,null,null,null,null,null,null,null,null,null,null,"NTMFS4939N","NTMFS4933N"]
[null,null,null,null,null,null,null,null,null,null,null,null,null,null,null,null,null,null,null,null,null,null,null,null,"NTMFS4939N","NTMFS4934N"]
[null,null,null,null,null,null,null,null,null,null,null,null,null,null,null,null,null,null,null,null,null,null,null,null,"NTMFS4939N","NTMFS4935N"]
[null,null,null,null,null,null,null,null,null,null,null,null,null,null,null,null,null,null,null,null,null,null,null,null,"NTMFS4939N","NTMFS4936"]
[null,null,null,null,null,null,null,null,null,null,null,null,null,null,null,null,null,null,null,null,null,null,null,null,"NTMFS4939N","NTTFS4932N"]
[null,null,null,null,null,null,null,null,null,null,null,null,null,null,null,null,null,null,null,null,null,null,null,null,"NTMFS4941N","NTD4904N"]
[null,null,null,null,null,null,null,null,null,null,null,null,null,null,null,null,null,null,null,null,null,null,null,null,"NTMFS4941N","NTMFS4825NFE"]
[null,null,null,null,null,null,null,null,null,null,null,null,null,null,null,null,null,null,null,null,null,null,null,null,"NTMFS4941N","NTMFS4833N"]
[null,null,null,null,null,null,null,null,null,null,null,null,null,null,null,null,null,null,null,null,null,null,null,null,"NTMFS4941N","NTMFS4834N"]
[null,null,null,null,null,null,null,null,null,null,null,null,null,null,null,null,null,null,null,null,null,null,null,null,"NTMFS4941N","NTMFS4835N"]
[null,null,null,null,null,null,null,null,null,null,null,null,null,null,null,null,null,null,null,null,null,null,null,null,"NTMFS4941N","NTMFS4845"]
[null,null,null,null,null,null,null,null,null,null,null,null,null,null,null,null,null,null,null,null,null,null,null,null,"NTMFS4941N","NTMFS4846"]
[null,null,null,null,null,null,null,null,null,null,null,null,null,null,null,null,null,null,null,null,null,null,null,null,"NTMFS4941N","NTMFS4852N"]
[null,null,null,null,null,null,null,null,null,null,null,null,null,null,null,null,null,null,null,null,null,null,null,null,"NTMFS4941N","NTMFS4897"]
[null,null,null,null,null,null,null,null,null,null,null,null,null,null,null,null,null,null,null,null,null,null,null,null,"NTMFS4941N","NTMFS4898N"]
[null,null,null,null,null,null,null,null,null,null,null,null,null,null,null,null,null,null,null,null,null,null,null,null,"NTMFS4941N","NTMFS4923NE"]
[null,null,null,null,null,null,null,null,null,null,null,null,null,null,null,null,null,null,null,null,null,null,null,null,"NTMFS4941N","NTMFS4933N"]
[null,null,null,null,null,null,null,null,null,null,null,null,null,null,null,null,null,null,null,null,null,null,null,null,"NTMFS4941N","NTMFS4934N"]
[null,null,null,null,null,null,null,null,null,null,null,null,null,null,null,null,null,null,null,null,null,null,null,null,"NTMFS4941N","NTMFS4935N"]
[null,null,null,null,null,null,null,null,null,null,null,null,null,null,null,null,null,null,null,null,null,null,null,null,"NTMFS4941N","NTMFS4936"]
[null,null,null,null,null,null,null,null,null,null,null,null,null,null,null,null,null,null,null,null,null,null,null,null,"NTMFS4941N","NTTFS4932N"]
[null,null,null,null,null,null,null,null,null,null,null,null,null,null,null,null,null,null,null,null,null,null,null,null,"NTMFS4943N","NTD4904N"]
[null,null,null,null,null,null,null,null,null,null,null,null,null,null,null,null,null,null,null,null,null,null,null,null,"NTMFS4943N","NTMFS4825NFE"]
[null,null,null,null,null,null,null,null,null,null,null,null,null,null,null,null,null,null,null,null,null,null,null,null,"NTMFS4943N","NTMFS4833N"]
[null,null,null,null,null,null,null,null,null,null,null,null,null,null,null,null,null,null,null,null,null,null,null,null,"NTMFS4943N","NTMFS4834N"]
[null,null,null,null,null,null,null,null,null,null,null,null,null,null,null,null,null,null,null,null,null,null,null,null,"NTMFS4943N","NTMFS4835N"]
[null,null,null,null,null,null,null,null,null,null,null,null,null,null,null,null,null,null,null,null,null,null,null,null,"NTMFS4943N","NTMFS4845"]
[null,null,null,null,null,null,null,null,null,null,null,null,null,null,null,null,null,null,null,null,null,null,null,null,"NTMFS4943N","NTMFS4846"]
[null,null,null,null,null,null,null,null,null,null,null,null,null,null,null,null,null,null,null,null,null,null,null,null,"NTMFS4943N","NTMFS4852N"]
[null,null,null,null,null,null,null,null,null,null,null,null,null,null,null,null,null,null,null,null,null,null,null,null,"NTMFS4943N","NTMFS4897"]
[null,null,null,null,null,null,null,null,null,null,null,null,null,null,null,null,null,null,null,null,null,null,null,null,"NTMFS4943N","NTMFS4898N"]
[null,null,null,null,null,null,null,null,null,null,null,null,null,null,null,null,null,null,null,null,null,null,null,null,"NTMFS4943N","NTMFS4923NE"]
[null,null,null,null,null,null,null,null,null,null,null,null,null,null,null,null,null,null,null,null,null,null,null,null,"NTMFS4943N","NTMFS4933N"]
[null,null,null,null,null,null,null,null,null,null,null,null,null,null,null,null,null,null,null,null,null,null,null,null,"NTMFS4943N","NTMFS4934N"]
[null,null,null,null,null,null,null,null,null,null,null,null,null,null,null,null,null,null,null,null,null,null,null,null,"NTMFS4943N","NTMFS4935N"]
[null,null,null,null,null,null,null,null,null,null,null,null,null,null,null,null,null,null,null,null,null,null,null,null,"NTMFS4943N","NTMFS4936"]
[null,null,null,null,null,null,null,null,null,null,null,null,null,null,null,null,null,null,null,null,null,null,null,null,"NTMFS4943N","NTTFS4932N"]
[null,null,null,null,null,null,null,null,null,null,null,null,null,null,null,null,null,null,null,null,null,null,null,null,"NTTFS4821N","NTD4904N"]
[null,null,null,null,null,null,null,null,null,null,null,null,null,null,null,null,null,null,null,null,null,null,null,null,"NTTFS4821N","NTMFS4825NFE"]
[null,null,null,null,null,null,null,null,null,null,null,null,null,null,null,null,null,null,null,null,null,null,null,null,"NTTFS4821N","NTMFS4833N"]
[null,null,null,null,null,null,null,null,null,null,null,null,null,null,null,null,null,null,null,null,null,null,null,null,"NTTFS4821N","NTMFS4834N"]
[null,null,null,null,null,null,null,null,null,null,null,null,null,null,null,null,null,null,null,null,null,null,null,null,"NTTFS4821N","NTMFS4835N"]
[null,null,null,null,null,null,null,null,null,null,null,null,null,null,null,null,null,null,null,null,null,null,null,null,"NTTFS4821N","NTMFS4845"]
[null,null,null,null,null,null,null,null,null,null,null,null,null,null,null,null,null,null,null,null,null,null,null,null,"NTTFS4821N","NTMFS4846"]
[null,null,null,null,null,null,null,null,null,null,null,null,null,null,null,null,null,null,null,null,null,null,null,null,"NTTFS4821N","NTMFS4852N"]
[null,null,null,null,null,null,null,null,null,null,null,null,null,null,null,null,null,null,null,null,null,null,null,null,"NTTFS4821N","NTMFS4897"]
[null,null,null,null,null,null,null,null,null,null,null,null,null,null,null,null,null,null,null,null,null,null,null,null,"NTTFS4821N","NTMFS4898N"]
[null,null,null,null,null,null,null,null,null,null,null,null,null,null,null,null,null,null,null,null,null,null,null,null,"NTTFS4821N","NTMFS4923NE"]
[null,null,null,null,null,null,null,null,null,null,null,null,null,null,null,null,null,null,null,null,null,null,null,null,"NTTFS4821N","NTMFS4933N"]
[null,null,null,null,null,null,null,null,null,null,null,null,null,null,null,null,null,null,null,null,null,null,null,null,"NTTFS4821N","NTMFS4934N"]
[null,null,null,null,null,null,null,null,null,null,null,null,null,null,null,null,null,null,null,null,null,null,null,null,"NTTFS4821N","NTMFS4935N"]
[null,null,null,null,null,null,null,null,null,null,null,null,null,null,null,null,null,null,null,null,null,null,null,null,"NTTFS4821N","NTMFS4936"]
[null,null,null,null,null,null,null,null,null,null,null,null,null,null,null,null,null,null,null,null,null,null,null,null,"NTTFS4821N","NTTFS4932N"]
[null,null,null,null,null,null,null,null,null,null,null,null,null,null,null,null,null,null,null,null,null,null,null,null,"NTTFS4823N","NTMFS4825NFE"]
[null,null,null,null,null,null,null,null,null,null,null,null,null,null,null,null,null,null,null,null,null,null,null,null,"NTTFS4823N","NTMFS4833N"]
[null,null,null,null,null,null,null,null,null,null,null,null,null,null,null,null,null,null,null,null,null,null,null,null,"NTTFS4823N","NTMFS4834N"]
[null,null,null,null,null,null,null,null,null,null,null,null,null,null,null,null,null,null,null,null,null,null,null,null,"NTTFS4823N","NTMFS4845"]
[null,null,null,null,null,null,null,null,null,null,null,null,null,null,null,null,null,null,null,null,null,null,null,null,"NTTFS4823N","NTMFS4852N"]
[null,null,null,null,null,null,null,null,null,null,null,null,null,null,null,null,null,null,null,null,null,null,null,null,"NTTFS4823N","NTMFS4897"]
[null,null,null,null,null,null,null,null,null,null,null,null,null,null,null,null,null,null,null,null,null,null,null,null,"NTTFS4823N","NTMFS4898N"]
[null,null,null,null,null,null,null,null,null,null,null,null,null,null,null,null,null,null,null,null,null,null,null,null,"NTTFS4823N","NTMFS4933N"]
[null,null,null,null,null,null,null,null,null,null,null,null,null,null,null,null,null,null,null,null,null,null,null,null,"NTTFS4823N","NTMFS4934N"]
[null,null,null,null,null,null,null,null,null,null,null,null,null,null,null,null,null,null,null,null,null,null,null,null,"NTTFS4823N","NTTFS4932N"]
[null,null,null,null,null,null,null,null,null,null,null,null,null,null,null,null,null,null,null,null,null,null,null,null,"NTTFS4824N","NTD4904N"]
[null,null,null,null,null,null,null,null,null,null,null,null,null,null,null,null,null,null,null,null,null,null,null,null,"NTTFS4824N","NTMFS4825NFE"]
[null,null,null,null,null,null,null,null,null,null,null,null,null,null,null,null,null,null,null,null,null,null,null,null,"NTTFS4824N","NTMFS4833N"]
[null,null,null,null,null,null,null,null,null,null,null,null,null,null,null,null,null,null,null,null,null,null,null,null,"NTTFS4824N","NTMFS4834N"]
[null,null,null,null,null,null,null,null,null,null,null,null,null,null,null,null,null,null,null,null,null,null,null,null,"NTTFS4824N","NTMFS4835N"]
[null,null,null,null,null,null,null,null,null,null,null,null,null,null,null,null,null,null,null,null,null,null,null,null,"NTTFS4824N","NTMFS4845"]
[null,null,null,null,null,null,null,null,null,null,null,null,null,null,null,null,null,null,null,null,null,null,null,null,"NTTFS4824N","NTMFS4846"]
[null,null,null,null,null,null,null,null,null,null,null,null,null,null,null,null,null,null,null,null,null,null,null,null,"NTTFS4824N","NTMFS4852N"]
[null,null,null,null,null,null,null,null,null,null,null,null,null,null,null,null,null,null,null,null,null,null,null,null,"NTTFS4824N","NTMFS4897"]
[null,null,null,null,null,null,null,null,null,null,null,null,null,null,null,null,null,null,null,null,null,null,null,null,"NTTFS4824N","NTMFS4898N"]
[null,null,null,null,null,null,null,null,null,null,null,null,null,null,null,null,null,null,null,null,null,null,null,null,"NTTFS4824N","NTMFS4923NE"]
[null,null,null,null,null,null,null,null,null,null,null,null,null,null,null,null,null,null,null,null,null,null,null,null,"NTTFS4824N","NTMFS4933N"]
[null,null,null,null,null,null,null,null,null,null,null,null,null,null,null,null,null,null,null,null,null,null,null,null,"NTTFS4824N","NTMFS4934N"]
[null,null,null,null,null,null,null,null,null,null,null,null,null,null,null,null,null,null,null,null,null,null,null,null,"NTTFS4824N","NTMFS4935N"]
[null,null,null,null,null,null,null,null,null,null,null,null,null,null,null,null,null,null,null,null,null,null,null,null,"NTTFS4824N","NTMFS4936"]
[null,null,null,null,null,null,null,null,null,null,null,null,null,null,null,null,null,null,null,null,null,null,null,null,"NTTFS4824N","NTTFS4932N"]
[null,null,null,null,null,null,null,null,null,null,null,null,null,null,null,null,null,null,null,null,null,null,null,null,"NTTFS4928N","NTD4904N"]
[null,null,null,null,null,null,null,null,null,null,null,null,null,null,null,null,null,null,null,null,null,null,null,null,"NTTFS4928N","NTMFS4825NFE"]
[null,null,null,null,null,null,null,null,null,null,null,null,null,null,null,null,null,null,null,null,null,null,null,null,"NTTFS4928N","NTMFS4833N"]
[null,null,null,null,null,null,null,null,null,null,null,null,null,null,null,null,null,null,null,null,null,null,null,null,"NTTFS4928N","NTMFS4834N"]
[null,null,null,null,null,null,null,null,null,null,null,null,null,null,null,null,null,null,null,null,null,null,null,null,"NTTFS4928N","NTMFS4835N"]
[null,null,null,null,null,null,null,null,null,null,null,null,null,null,null,null,null,null,null,null,null,null,null,null,"NTTFS4928N","NTMFS4845"]
[null,null,null,null,null,null,null,null,null,null,null,null,null,null,null,null,null,null,null,null,null,null,null,null,"NTTFS4928N","NTMFS4846"]
[null,null,null,null,null,null,null,null,null,null,null,null,null,null,null,null,null,null,null,null,null,null,null,null,"NTTFS4928N","NTMFS4852N"]
[null,null,null,null,null,null,null,null,null,null,null,null,null,null,null,null,null,null,null,null,null,null,null,null,"NTTFS4928N","NTMFS4897"]
[null,null,null,null,null,null,null,null,null,null,null,null,null,null,null,null,null,null,null,null,null,null,null,null,"NTTFS4928N","NTMFS4898N"]
[null,null,null,null,null,null,null,null,null,null,null,null,null,null,null,null,null,null,null,null,null,null,null,null,"NTTFS4928N","NTMFS4923NE"]
[null,null,null,null,null,null,null,null,null,null,null,null,null,null,null,null,null,null,null,null,null,null,null,null,"NTTFS4928N","NTMFS4933N"]
[null,null,null,null,null,null,null,null,null,null,null,null,null,null,null,null,null,null,null,null,null,null,null,null,"NTTFS4928N","NTMFS4934N"]
[null,null,null,null,null,null,null,null,null,null,null,null,null,null,null,null,null,null,null,null,null,null,null,null,"NTTFS4928N","NTMFS4935N"]
[null,null,null,null,null,null,null,null,null,null,null,null,null,null,null,null,null,null,null,null,null,null,null,null,"NTTFS4928N","NTMFS4936"]
[null,null,null,null,null,null,null,null,null,null,null,null,null,null,null,null,null,null,null,null,null,null,null,null,"NTTFS4928N","NTTFS4932N"]
[null,null,null,null,null,null,null,null,null,null,null,null,null,null,null,null,null,null,null,null,null,null,null,null,"NTTFS4929N","NTMFS4825NFE"]
[null,null,null,null,null,null,null,null,null,null,null,null,null,null,null,null,null,null,null,null,null,null,null,null,"NTTFS4929N","NTMFS4833N"]
[null,null,null,null,null,null,null,null,null,null,null,null,null,null,null,null,null,null,null,null,null,null,null,null,"NTTFS4929N","NTMFS4834N"]
[null,null,null,null,null,null,null,null,null,null,null,null,null,null,null,null,null,null,null,null,null,null,null,null,"NTTFS4929N","NTMFS4845"]
[null,null,null,null,null,null,null,null,null,null,null,null,null,null,null,null,null,null,null,null,null,null,null,null,"NTTFS4929N","NTMFS4852N"]
[null,null,null,null,null,null,null,null,null,null,null,null,null,null,null,null,null,null,null,null,null,null,null,null,"NTTFS4929N","NTMFS4897"]
[null,null,null,null,null,null,null,null,null,null,null,null,null,null,null,null,null,null,null,null,null,null,null,null,"NTTFS4929N","NTMFS4898N"]
[null,null,null,null,null,null,null,null,null,null,null,null,null,null,null,null,null,null,null,null,null,null,null,null,"NTTFS4929N","NTMFS4933N"]
[null,null,null,null,null,null,null,null,null,null,null,null,null,null,null,null,null,null,null,null,null,null,null,null,"NTTFS4929N","NTMFS4934N"]
[null,null,null,null,null,null,null,null,null,null,null,null,null,null,null,null,null,null,null,null,null,null,null,null,"NTTFS4929N","NTTFS4932N"]
[null,null,null,null,null,null,null,null,null,null,null,null,null,null,null,null,null,null,null,null,null,null,null,null,"NTTFS4932N","NTD4804N"]
[null,null,null,null,null,null,null,null,null,null,null,null,null,null,null,null,null,null,null,null,null,null,null,null,"NTTFS4932N","NTD4855N"]
[null,null,null,null,null,null,null,null,null,null,null,null,null,null,null,null,null,null,null,null,null,null,null,null,"NTTFS4932N","NTD4904N"]
[null,null,null,null,null,null,null,null,null,null,null,null,null,null,null,null,null,null,null,null,null,null,null,null,"NTTFS4932N","NTMFS4825NFE"]
[null,null,null,null,null,null,null,null,null,null,null,null,null,null,null,null,null,null,null,null,null,null,null,null,"NTTFS4932N","NTMFS4833N"]
[null,null,null,null,null,null,null,null,null,null,null,null,null,null,null,null,null,null,null,null,null,null,null,null,"NTTFS4932N","NTMFS4834N"]
[null,null,null,null,null,null,null,null,null,null,null,null,null,null,null,null,null,null,null,null,null,null,null,null,"NTTFS4932N","NTMFS4835N"]
[null,null,null,null,null,null,null,null,null,null,null,null,null,null,null,null,null,null,null,null,null,null,null,null,"NTTFS4932N","NTMFS4845"]
[null,null,null,null,null,null,null,null,null,null,null,null,null,null,null,null,null,null,null,null,null,null,null,null,"NTTFS4932N","NTMFS4846"]
[null,null,null,null,null,null,null,null,null,null,null,null,null,null,null,null,null,null,null,null,null,null,null,null,"NTTFS4932N","NTMFS4852N"]
[null,null,null,null,null,null,null,null,null,null,null,null,null,null,null,null,null,null,null,null,null,null,null,null,"NTTFS4932N","NTMFS4897"]
[null,null,null,null,null,null,null,null,null,null,null,null,null,null,null,null,null,null,null,null,null,null,null,null,"NTTFS4932N","NTMFS4898N"]
[null,null,null,null,null,null,null,null,null,null,null,null,null,null,null,null,null,null,null,null,null,null,null,null,"NTTFS4932N","NTMFS4923NE"]
[null,null,null,null,null,null,null,null,null,null,null,null,null,null,null,null,null,null,null,null,null,null,null,null,"NTTFS4932N","NTMFS4933N"]
[null,null,null,null,null,null,null,null,null,null,null,null,null,null,null,null,null,null,null,null,null,null,null,null,"NTTFS4932N","NTMFS4934N"]
[null,null,null,null,null,null,null,null,null,null,null,null,null,null,null,null,null,null,null,null,null,null,null,null,"NTTFS4932N","NTMFS4935N"]
[null,null,null,null,null,null,null,null,null,null,null,null,null,null,null,null,null,null,null,null,null,null,null,null,"NTTFS4932N","NTMFS4936"]
[null,null,null,null,null,null,null,null,null,null,null,null,null,null,null,null,null,null,null,null,null,null,null,null,"NTTFS4932N","NTTFS4932N"]
[null,null,null,null,null,null,null,null,null,null,null,null,null,null,null,null,null,null,null,null,null,null,null,null,"NTTFS4937N","NTD4904N"]
[null,null,null,null,null,null,null,null,null,null,null,null,null,null,null,null,null,null,null,null,null,null,null,null,"NTTFS4937N","NTMFS4825NFE"]
[null,null,null,null,null,null,null,null,null,null,null,null,null,null,null,null,null,null,null,null,null,null,null,null,"NTTFS4937N","NTMFS4833N"]
[null,null,null,null,null,null,null,null,null,null,null,null,null,null,null,null,null,null,null,null,null,null,null,null,"NTTFS4937N","NTMFS4834N"]
[null,null,null,null,null,null,null,null,null,null,null,null,null,null,null,null,null,null,null,null,null,null,null,null,"NTTFS4937N","NTMFS4835N"]
[null,null,null,null,null,null,null,null,null,null,null,null,null,null,null,null,null,null,null,null,null,null,null,null,"NTTFS4937N","NTMFS4845"]
[null,null,null,null,null,null,null,null,null,null,null,null,null,null,null,null,null,null,null,null,null,null,null,null,"NTTFS4937N","NTMFS4846"]
[null,null,null,null,null,null,null,null,null,null,null,null,null,null,null,null,null,null,null,null,null,null,null,null,"NTTFS4937N","NTMFS4852N"]
[null,null,null,null,null,null,null,null,null,null,null,null,null,null,null,null,null,null,null,null,null,null,null,null,"NTTFS4937N","NTMFS4897"]
[null,null,null,null,null,null,null,null,null,null,null,null,null,null,null,null,null,null,null,null,null,null,null,null,"NTTFS4937N","NTMFS4898N"]
[null,null,null,null,null,null,null,null,null,null,null,null,null,null,null,null,null,null,null,null,null,null,null,null,"NTTFS4937N","NTMFS4923NE"]
[null,null,null,null,null,null,null,null,null,null,null,null,null,null,null,null,null,null,null,null,null,null,null,null,"NTTFS4937N","NTMFS4933N"]
[null,null,null,null,null,null,null,null,null,null,null,null,null,null,null,null,null,null,null,null,null,null,null,null,"NTTFS4937N","NTMFS4934N"]
[null,null,null,null,null,null,null,null,null,null,null,null,null,null,null,null,null,null,null,null,null,null,null,null,"NTTFS4937N","NTMFS4935N"]
[null,null,null,null,null,null,null,null,null,null,null,null,null,null,null,null,null,null,null,null,null,null,null,null,"NTTFS4937N","NTMFS4936"]
[null,null,null,null,null,null,null,null,null,null,null,null,null,null,null,null,null,null,null,null,null,null,null,null,"NTTFS4937N","NTTFS4932N"]
[null,null,null,null,null,null,null,null,null,null,null,null,null,null,null,null,null,null,null,null,null,null,null,null,"NTTFS4939N","NTD4904N"]
[null,null,null,null,null,null,null,null,null,null,null,null,null,null,null,null,null,null,null,null,null,null,null,null,"NTTFS4939N","NTMFS4825NFE"]
[null,null,null,null,null,null,null,null,null,null,null,null,null,null,null,null,null,null,null,null,null,null,null,null,"NTTFS4939N","NTMFS4833N"]
[null,null,null,null,null,null,null,null,null,null,null,null,null,null,null,null,null,null,null,null,null,null,null,null,"NTTFS4939N","NTMFS4834N"]
[null,null,null,null,null,null,null,null,null,null,null,null,null,null,null,null,null,null,null,null,null,null,null,null,"NTTFS4939N","NTMFS4835N"]
[null,null,null,null,null,null,null,null,null,null,null,null,null,null,null,null,null,null,null,null,null,null,null,null,"NTTFS4939N","NTMFS4845"]
[null,null,null,null,null,null,null,null,null,null,null,null,null,null,null,null,null,null,null,null,null,null,null,null,"NTTFS4939N","NTMFS4846"]
[null,null,null,null,null,null,null,null,null,null,null,null,null,null,null,null,null,null,null,null,null,null,null,null,"NTTFS4939N","NTMFS4852N"]
[null,null,null,null,null,null,null,null,null,null,null,null,null,null,null,null,null,null,null,null,null,null,null,null,"NTTFS4939N","NTMFS4897"]
[null,null,null,null,null,null,null,null,null,null,null,null,null,null,null,null,null,null,null,null,null,null,null,null,"NTTFS4939N","NTMFS4898N"]
[null,null,null,null,null,null,null,null,null,null,null,null,null,null,null,null,null,null,null,null,null,null,null,null,"NTTFS4939N","NTMFS4923NE"]
[null,null,null,null,null,null,null,null,null,null,null,null,null,null,null,null,null,null,null,null,null,null,null,null,"NTTFS4939N","NTMFS4933N"]
[null,null,null,null,null,null,null,null,null,null,null,null,null,null,null,null,null,null,null,null,null,null,null,null,"NTTFS4939N","NTMFS4934N"]

{"sheet":"SelectorConstants","index":13,"n_rows":180,"n_cols":49,"rows_kept":180,"cut":false,"hidden":true,"merged":[[0,38,0,39],[0,40,0,41],[48,13,48,16]]}
["Nominal Values of Capacitance (uC)",null,"NominalValueofInductor(Uh)",null,"LowSide_MOSFET","HighSide_MOSFET",{"$f":"CONCATENATE(#REF!,\"x\",#REF!,\"+\",#REF!,\"x\",#REF!,\"@\",#REF!,\"kHz;\")","v":{"$error":"#REF!"}},null,null,null,"SO8FL",null,"HighSide","Duals","LowSide_MOSFET","HighSide_MOSFET","Duals","suggest HS MOSFET","suggest LS MOSFET","efficiency",null,null,null,"constant","suggest LS MOSFET","efficiency",null,null,"suggest HS MOSFET","constant","efficiency",null,null,"suggested duals","efficiency",null,null,null,"Pair suggestions",null,"Single MOSFET Suggestions"]
[0.01,null,"0.0018  ",null,"NTD4804N","NTD4804N",{"$f":"CONCATENATE(\"Vin=\",#REF!,\"V;\",\"Vout=\",#REF!,\"V;\",\"Driver=\",#REF!,\"(\",#REF!,\"V)\")","v":{"$error":"#REF!"}},null,null,null,"u8FL",null,"LowSide",null,"NTMFS4C05","NTMFS4C05","NTMFD4C20N",null,null,null,null,null,null,null,null,null,null,null,null,null,null,null,null,null,null,null,"Maximum Load Current","Selection Point pairs","Closest Match","Best Efficiency","Closest Match","Best Efficiency","Desired Efficiency SINGLE","Desired Efficiency Pairs",null,"Selection Point singles"]
[1.4999999999999999E-2,null,2.2000000000000001E-3,null,"NTD4805N","NTD4805N",null,null,null,null,null,"so-8fl",null,null,"NTMFS4C06","NTMFS4C06","NTMFD4H84NF",null,null,null,null,null,null,null,null,null,null,null,null,null,null,null,null,null,null,null,{"$f":"AU3*MOSFETSelector!$B$10/50","v":0.6},{"$f":"MOSFETSelector!$B$10*MOSFETSelector!$I$3","v":15},null,null,null,null,{"$f":"MOSFETSelector!$H$17","v":0.7},{"$f":"MOSFETSelector!$H$3","v":0.9},{"$f":"AU3/50","v":0.02},{"$f":"MOSFETSelector!$B$10*MOSFETSelector!$I$17","v":15},1,{"$f":"MOSFETSelector!$B$10*MOSFETSelector!$I$3","v":15},{"$f":"MOSFETSelector!$H$3","v":0.9}]
[2.1999999999999999E-2,null,2.7000000000000001E-3,null,"NTD4806N","NTD4806N",{"$f":"CONCATENATE(#REF!,\"x\",#REF!,\"+\",#REF!,\"x\",#REF!,\"@\",#REF!,\"kHz;\")","v":{"$error":"#REF!"}},null,null,null,null,"u-8FL",null,null,"NTMFS4C08","NTMFS4C08","NTMFD4H85NF",null,null,null,null,null,null,null,null,null,null,null,null,null,null,null,null,null,null,null,{"$f":"AU4*MOSFETSelector!$B$10/50","v":1.2},{"$f":"MOSFETSelector!$B$10*MOSFETSelector!$I$3","v":15},null,null,null,null,{"$f":"MOSFETSelector!$H$17","v":0.7},{"$f":"MOSFETSelector!$H$3","v":0.9},0.04,{"$f":"MOSFETSelector!$B$10*MOSFETSelector!$I$17","v":15},2,{"$f":"MOSFETSelector!$B$10*MOSFETSelector!$I$17","v":15},{"$f":"MOSFETSelector!$H$17","v":0.7}]
[3.3000000000000002E-2,null,3.3E-3,null,"NTD4808N","NTD4808N",{"$f":"CONCATENATE(\"Vin=\",#REF!,\"V;\",\"Vout=\",#REF!,\"V;\",\"Driver=\",#REF!,\"(\",#REF!,\"V)\")","v":{"$error":"#REF!"}},null,null,null,null,null,null,null,"NTMFS4C09","NTMFS4C09","NTMFD4C85N",null,null,null,null,null,null,null,null,null,null,null,null,null,null,null,null,"NTMFD4C86N",0.89585414597142454,0.10414585402857546,{"$f":"AU5*MOSFETSelector!$B$10/50","v":1.8},{"$f":"MOSFETSelector!$B$10*MOSFETSelector!$I$3","v":15},null,null,null,null,{"$f":"MOSFETSelector!$H$17","v":0.7},{"$f":"MOSFETSelector!$H$3","v":0.9},0.06,{"$f":"MOSFETSelector!$B$10*MOSFETSelector!$I$17","v":15},3]
[4.7E-2,null,3.8999999999999998E-3,null,"NTD4809N","NTD4809N",null,null,null,null,null,null,null,null,"NTMFS4C10","NTMFS4C10","NTMFD4C87N",null,null,null,null,null,null,null,null,null,null,null,null,null,null,null,null,"NTMFD4C87N",0.88705075143747281,0.11294924856252719,{"$f":"AU6*MOSFETSelector!$B$10/50","v":2.4},{"$f":"MOSFETSelector!$B$10*MOSFETSelector!$I$3","v":15},null,null,null,null,{"$f":"MOSFETSelector!$H$17","v":0.7},{"$f":"MOSFETSelector!$H$3","v":0.9},0.08,{"$f":"MOSFETSelector!$B$10*MOSFETSelector!$I$17","v":15},4]
[6.8000000000000005E-2,null,4.7000000000000002E-3,null,"NTD4809NH","NTD4809NH",null,null,null,null,null,null,null,null,"NTMFS4C13","NTMFS4C13","NTMFD4C88N",null,null,null,null,null,null,null,null,null,null,null,null,null,null,null,null,"NTMFD4C20N",0.88357849727140148,0.11642150272859852,{"$f":"AU7*MOSFETSelector!$B$10/50","v":3},{"$f":"MOSFETSelector!$B$10*MOSFETSelector!$I$3","v":15},null,null,null,null,{"$f":"MOSFETSelector!$H$17","v":0.7},{"$f":"MOSFETSelector!$H$3","v":0.9},0.1,{"$f":"MOSFETSelector!$B$10*MOSFETSelector!$I$17","v":15},5]
[0.1,null,5.5999999999999999E-3,null,"NTD4810N","NTD4810N",null,null,null,null,null,null,null,null,"NTTFS4C05","NTTFS4C05","NTMFD4C86N",null,null,null,null,null,null,null,null,null,null,null,null,null,null,null,null,"NTMFD4C88N",0.88184184021192491,0.11815815978807509,{"$f":"AU8*MOSFETSelector!$B$10/50","v":3.6},{"$f":"MOSFETSelector!$B$10*MOSFETSelector!$I$3","v":15},null,null,null,null,{"$f":"MOSFETSelector!$H$17","v":0.7},{"$f":"MOSFETSelector!$H$3","v":0.9},0.12,{"$f":"MOSFETSelector!$B$10*MOSFETSelector!$I$17","v":15},6]
[0.15,null,6.7999999999999996E-3,null,"NTD4813NH","NTD4813NH",null,null,null,null,null,null,null,null,"NTTFS4C10","NTTFS4C10",null,null,null,null,null,null,null,null,null,null,null,null,null,null,null,null,null,"NTMFD4H84NF",0.86956157102152343,0.13043842897847657,{"$f":"AU9*MOSFETSelector!$B$10/50","v":4.2},{"$f":"MOSFETSelector!$B$10*MOSFETSelector!$I$3","v":15},null,null,null,null,{"$f":"MOSFETSelector!$H$17","v":0.7},{"$f":"MOSFETSelector!$H$3","v":0.9},0.14000000000000001,{"$f":"MOSFETSelector!$B$10*MOSFETSelector!$I$17","v":15},7]
[0.22,null,8.2000000000000007E-3,null,"NTD4815N","NTD4815N",null,null,null,null,null,null,null,null,"NTTFS4C25","NTTFS4C25",null,null,null,null,null,null,null,null,null,null,null,null,null,null,null,null,null,null,null,null,{"$f":"AU10*MOSFETSelector!$B$10/50","v":4.8},{"$f":"MOSFETSelector!$B$10*MOSFETSelector!$I$3","v":15},null,null,null,null,{"$f":"MOSFETSelector!$H$17","v":0.7},{"$f":"MOSFETSelector!$H$3","v":0.9},0.16,{"$f":"MOSFETSelector!$B$10*MOSFETSelector!$I$17","v":15},8]
[0.33,null,"0.010  ",null,"NTD4855N","NTD4855N","-",null,null,null,null,null,null,null,"NTMFS4C35","NTMFS4C35",null,null,null,null,null,null,null,null,null,null,null,null,null,null,null,null,null,null,null,null,{"$f":"AU11*MOSFETSelector!$B$10/50","v":5.4},{"$f":"MOSFETSelector!$B$10*MOSFETSelector!$I$3","v":15},null,null,null,null,{"$f":"MOSFETSelector!$H$17","v":0.7},{"$f":"MOSFETSelector!$H$3","v":0.9},0.18,{"$f":"MOSFETSelector!$B$10*MOSFETSelector!$I$17","v":15},9]
[0.47,{"$f":"INDEX(A2:A15,1+MATCH(0.9,A2:A15))","v":1},1.2E-2,null,"NTD4856N","NTD4856N","-",null,null,null,null,null,null,null,"NTTFS4C06","NTTFS4C06",null,null,null,null,null,null,null,null,null,null,null,null,null,null,null,null,null,null,null,null,{"$f":"AU12*MOSFETSelector!$B$10/50","v":6},{"$f":"MOSFETSelector!$B$10*MOSFETSelector!$I$3","v":15},null,null,null,null,{"$f":"MOSFETSelector!$H$17","v":0.7},{"$f":"MOSFETSelector!$H$3","v":0.9},0.2,{"$f":"MOSFETSelector!$B$10*MOSFETSelector!$I$17","v":15},10]
[0.68,null,1.4999999999999999E-2,null,"NTD4857N","NTD4857N","-",null,null,null,null,null,null,null,"NTTFS4C13","NTTFS4C13",null,null,null,null,null,null,null,null,null,null,null,null,null,null,null,null,null,null,null,null,{"$f":"AU13*MOSFETSelector!$B$10/50","v":6.6},{"$f":"MOSFETSelector!$B$10*MOSFETSelector!$I$3","v":15},null,null,null,null,{"$f":"MOSFETSelector!$H$17","v":0.7},{"$f":"MOSFETSelector!$H$3","v":0.9},0.22,{"$f":"MOSFETSelector!$B$10*MOSFETSelector!$I$17","v":15},11]
[1,null,1.7999999999999999E-2,null,"NTD4858N","NTD4858N",null,null,null,null,null,null,null,null,"NTTFS4C08","NTTFS4C08",null,null,null,null,null,null,null,null,null,null,null,null,null,null,null,null,null,null,null,null,{"$f":"AU14*MOSFETSelector!$B$10/50","v":7.2},{"$f":"MOSFETSelector!$B$10*MOSFETSelector!$I$3","v":15},null,null,null,null,{"$f":"MOSFETSelector!$H$17","v":0.7},{"$f":"MOSFETSelector!$H$3","v":0.9},0.24,{"$f":"MOSFETSelector!$B$10*MOSFETSelector!$I$17","v":15},12]
[1.5,null,2.1999999999999999E-2,null,"NTD4860N","NTD4860N",null,null,null,null,null,null,null,null,"NVTFS4C05","NVTFS4C05",null,null,null,null,null,null,null,null,null,null,null,null,null,null,null,null,null,null,null,null,{"$f":"AU15*MOSFETSelector!$B$10/50","v":7.8},{"$f":"MOSFETSelector!$B$10*MOSFETSelector!$I$3","v":15},null,null,null,null,{"$f":"MOSFETSelector!$H$17","v":0.7},{"$f":"MOSFETSelector!$H$3","v":0.9},0.26,{"$f":"MOSFETSelector!$B$10*MOSFETSelector!$I$17","v":15},13]
[2.2000000000000002,null,2.7E-2,null,"NTD4863N","NTD4863N",null,null,null,null,null,null,null,null,"NVTFS4C10","NVTFS4C10",null,null,null,null,null,null,null,null,null,null,null,null,null,null,null,null,null,null,null,null,{"$f":"AU16*MOSFETSelector!$B$10/50","v":8.4},{"$f":"MOSFETSelector!$B$10*MOSFETSelector!$I$3","v":15},null,null,null,null,{"$f":"MOSFETSelector!$H$17","v":0.7},{"$f":"MOSFETSelector!$H$3","v":0.9},0.28000000000000003,{"$f":"MOSFETSelector!$B$10*MOSFETSelector!$I$17","v":15},14]
[3.3,null,3.3000000000000002E-2,null,"NTD4865N","NTD4865N",null,{"$f":"MIN(MAX(IF(ISNUMBER(VLOOKUP(#REF!,[1]MOSFETs!A1:S100,2,0)+(#REF!-4.5)*(VLOOKUP(#REF!,[1]MOSFETs!A1:AD1000,13,0)-VLOOKUP(#REF!,[1]MOSFETs!A1:S100,2,0))/5.5),VLOOKUP(#REF!,[1]MOSFETs!A1:S100,2,0), 0.001),0.001),1000)","v":1E-3},{"$f":"MIN(MAX(IF(ISNUMBER(VLOOKUP(#REF!,[1]MOSFETs!A1:S100,2,0)+(#REF!-4.5)*(VLOOKUP(#REF!,[1]MOSFETs!A1:AD1000,13,0)-VLOOKUP(#REF!,[1]MOSFETs!A1:S100,2,0))/5.5),VLOOKUP(#REF!,[1]MOSFETs!A1:S100,2,0), 0.001),0.001),1000)","v":1E-3},{"$f":"MIN(MAX(IF(ISNUMBER(VLOOKUP(#REF!,[1]MOSFETs!A1:S100,2,0)+(#REF!-4.5)*(VLOOKUP(#REF!,[1]MOSFETs!A1:AD1000,13,0)-VLOOKUP(#REF!,[1]MOSFETs!A1:S100,2,0))/5.5),VLOOKUP(#REF!,[1]MOSFETs!A1:S100,2,0), 0.001),0.001),1000)","v":1E-3},{"$f":"MIN(MAX(IF(ISNUMBER(VLOOKUP(#REF!,[1]MOSFETs!A1:S100,2,0)+(#REF!-4.5)*(VLOOKUP(#REF!,[1]MOSFETs!A1:AD1000,13,0)-VLOOKUP(#REF!,[1]MOSFETs!A1:S100,2,0))/5.5),VLOOKUP(#REF!,[1]MOSFETs!A1:S100,2,0), 0.001),0.001),1000)","v":1E-3},null,null,null,"NVTFS4C25","NVTFS4C25",null,null,null,null,null,null,null,null,null,null,null,null,null,null,null,null,null,null,null,null,{"$f":"AU17*MOSFETSelector!$B$10/50","v":9},{"$f":"MOSFETSelector!$B$10*MOSFETSelector!$I$3","v":15},null,null,null,null,{"$f":"MOSFETSelector!$H$17","v":0.7},{"$f":"MOSFETSelector!$H$3","v":0.9},0.3,{"$f":"MOSFETSelector!$B$10*MOSFETSelector!$I$17","v":15},15]
[4.7,null,3.9E-2,null,"NTD4904N","NTD4960N",null,{"$f":"MIN(MAX(IF(ISNUMBER(VLOOKUP(#REF!, [1]MOSFETs!A2:S100,17,0)+(#REF!-4.5)*(VLOOKUP(#REF!, [1]MOSFETs!A2:S100,18,0)-VLOOKUP(#REF!, [1]MOSFETs!A2:S100,17,0))/5.5),VLOOKUP(#REF!, [1]MOSFETs!A2:S100,17,0),20),0.001),1000000)","v":20},{"$f":"MIN(MAX(IF(ISNUMBER(VLOOKUP(#REF!, [1]MOSFETs!A2:S100,17,0)+(#REF!-4.5)*(VLOOKUP(#REF!, [1]MOSFETs!A2:S100,18,0)-VLOOKUP(#REF!, [1]MOSFETs!A2:S100,17,0))/5.5),VLOOKUP(#REF!, [1]MOSFETs!A2:S100,17,0),20),0.001),1000000)","v":20},{"$f":"MIN(MAX(IF(ISNUMBER(VLOOKUP(#REF!, [1]MOSFETs!A2:S100,17,0)+(#REF!-4.5)*(VLOOKUP(#REF!, [1]MOSFETs!A2:S100,18,0)-VLOOKUP(#REF!, [1]MOSFETs!A2:S100,17,0))/5.5),VLOOKUP(#REF!, [1]MOSFETs!A2:S100,17,0),20),0.001),1000000)","v":20},{"$f":"MIN(MAX(IF(ISNUMBER(VLOOKUP(#REF!, [1]MOSFETs!A2:S100,17,0)+(#REF!-4.5)*(VLOOKUP(#REF!, [1]MOSFETs!A2:S100,18,0)-VLOOKUP(#REF!, [1]MOSFETs!A2:S100,17,0))/5.5),VLOOKUP(#REF!, [1]MOSFETs!A2:S100,17,0),20),0.001),1000000)","v":20},null,null,null,"NTTFS4H07N","NTTFS4H07N",null,null,null,null,null,null,null,null,null,null,null,null,null,null,null,null,null,null,null,null,{"$f":"AU18*MOSFETSelector!$B$10/50","v":9.6},{"$f":"MOSFETSelector!$B$10*MOSFETSelector!$I$3","v":15},null,null,null,null,{"$f":"MOSFETSelector!$H$17","v":0.7},{"$f":"MOSFETSelector!$H$3","v":0.9},0.32,{"$f":"MOSFETSelector!$B$10*MOSFETSelector!$I$17","v":15},16]
[6.8,null,4.7E-2,null,"NTD4906N","NTD4963N",null,{"$f":"IF(ISNUMBER(VLOOKUP(#REF!,[1]MOSFETs!A1:S100,4,0)),VLOOKUP(#REF!,[1]MOSFETs!A1:S100,4,0),0.000000001)","v":1.0000000000000001E-9},{"$f":"IF(ISNUMBER(VLOOKUP(#REF!,[1]MOSFETs!A2:S100,4,0)),VLOOKUP(#REF!,[1]MOSFETs!A2:S100,4,0),0.000000001)","v":1.0000000000000001E-9},{"$f":"IF(ISNUMBER(VLOOKUP(#REF!,[1]MOSFETs!A1:S100,4,0)),VLOOKUP(#REF!,[1]MOSFETs!A1:S100,4,0),0.000000001)","v":1.0000000000000001E-9},{"$f":"IF(ISNUMBER(VLOOKUP(#REF!,[1]MOSFETs!A2:S100,4,0)),VLOOKUP(#REF!,[1]MOSFETs!A2:S100,4,0),0.000000001)","v":1.0000000000000001E-9},null,null,null,"NTTFS4H05N","NTTFS4H05N",null,null,null,null,null,null,null,null,null,null,null,null,null,null,null,null,null,null,null,null,{"$f":"AU19*MOSFETSelector!$B$10/50","v":10.199999999999999},{"$f":"MOSFETSelector!$B$10*MOSFETSelector!$I$3","v":15},null,null,null,null,{"$f":"MOSFETSelector!$H$17","v":0.7},{"$f":"MOSFETSelector!$H$3","v":0.9},0.34,{"$f":"MOSFETSelector!$B$10*MOSFETSelector!$I$17","v":15},17]
[10,null,5.6000000000000001E-2,null,"NTD4909N","NTD4965N",null,{"$f":"IF(ISNUMBER(VLOOKUP(#REF!,[1]MOSFETs!A1:S100,5,0)),VLOOKUP(#REF!,[1]MOSFETs!A1:S100,5,0),0.000000001)","v":1.0000000000000001E-9},{"$f":"IF(ISNUMBER(VLOOKUP(#REF!,[1]MOSFETs!A2:S100,14,0)),VLOOKUP(#REF!,[1]MOSFETs!A2:S100,14,0),1)","v":1},{"$f":"IF(ISNUMBER(VLOOKUP(#REF!,[1]MOSFETs!A1:S100,5,0)),VLOOKUP(#REF!,[1]MOSFETs!A1:S100,5,0),0.000000001)","v":1.0000000000000001E-9},{"$f":"IF(ISNUMBER(VLOOKUP(#REF!,[1]MOSFETs!A2:S100,14,0)),VLOOKUP(#REF!,[1]MOSFETs!A2:S100,14,0),1)","v":1},null,null,null,"NTMFS4H02N",null,null,null,null,null,null,null,null,null,null,null,null,null,null,null,null,null,null,null,null,null,{"$f":"AU20*MOSFETSelector!$B$10/50","v":10.8},{"$f":"MOSFETSelector!$B$10*MOSFETSelector!$I$3","v":15},null,null,null,null,{"$f":"MOSFETSelector!$H$17","v":0.7},{"$f":"MOSFETSelector!$H$3","v":0.9},0.36,{"$f":"MOSFETSelector!$B$10*MOSFETSelector!$I$17","v":15},18]
[15,null,6.8000000000000005E-2,null,"NTD4910N","NTD4969N",null,{"$f":"IF(ISNUMBER(VLOOKUP(#REF!,[1]MOSFETs!A1:S100,6,0)),VLOOKUP(#REF!,[1]MOSFETs!A1:S100,6,0),0.000000001)","v":1.0000000000000001E-9},{"$f":"IF(ISNUMBER(VLOOKUP(#REF!, [1]MOSFETs!A2:S100,8,0)),VLOOKUP(#REF!, [1]MOSFETs!A2:S100,8,0),0.7)","v":0.7},{"$f":"IF(ISNUMBER(VLOOKUP(#REF!,[1]MOSFETs!A1:S100,6,0)),VLOOKUP(#REF!,[1]MOSFETs!A1:S100,6,0),0.000000001)","v":1.0000000000000001E-9},{"$f":"IF(ISNUMBER(VLOOKUP(#REF!, [1]MOSFETs!A2:S100,8,0)),VLOOKUP(#REF!, [1]MOSFETs!A2:S100,8,0),0.7)","v":0.7},null,null,null,"NTMFS4H02NF",null,null,null,null,null,null,null,null,null,null,null,null,null,null,null,null,null,null,null,null,null,{"$f":"AU21*MOSFETSelector!$B$10/50","v":11.4},{"$f":"MOSFETSelector!$B$10*MOSFETSelector!$I$3","v":15},null,null,null,null,{"$f":"MOSFETSelector!$H$17","v":0.7},{"$f":"MOSFETSelector!$H$3","v":0.9},0.38,{"$f":"MOSFETSelector!$B$10*MOSFETSelector!$I$17","v":15},19]
[22,null,8.2000000000000003E-2,null,"NTD4913N","NTD4970N",null,{"$f":"IF(ISNUMBER(VLOOKUP(#REF!,[1]MOSFETs!A1:S100,7,0)),VLOOKUP(#REF!,[1]MOSFETs!A1:S100,7,0),0.000000001)","v":1.0000000000000001E-9},{"$f":"IF(ISNUMBER(VLOOKUP(#REF!, [1]MOSFETs!A2:S100,11,0)),VLOOKUP(#REF!, [1]MOSFETs!A2:S100,11,0),50)","v":50},{"$f":"IF(ISNUMBER(VLOOKUP(#REF!,[1]MOSFETs!A1:S100,7,0)),VLOOKUP(#REF!,[1]MOSFETs!A1:S100,7,0),0.000000001)","v":1.0000000000000001E-9},{"$f":"IF(ISNUMBER(VLOOKUP(#REF!, [1]MOSFETs!A2:S100,11,0)),VLOOKUP(#REF!, [1]MOSFETs!A2:S100,11,0),50)","v":50},null,null,null,"NTMFS4H01N",null,null,null,null,null,null,null,null,null,null,null,null,null,null,null,null,null,null,null,null,null,{"$f":"AU22*MOSFETSelector!$B$10/50","v":12},{"$f":"MOSFETSelector!$B$10*MOSFETSelector!$I$3","v":15},null,null,null,null,{"$f":"MOSFETSelector!$H$17","v":0.7},{"$f":"MOSFETSelector!$H$3","v":0.9},0.4,{"$f":"MOSFETSelector!$B$10*MOSFETSelector!$I$17","v":15},20]
[33,null,"0.100  ",null,"NTD4960N","NTMFS4821N",null,{"$f":"IF(ISNUMBER(VLOOKUP(#REF!,[1]MOSFETs!A1:S100,9,0)),VLOOKUP(#REF!,[1]MOSFETs!A1:S100,9,0),10)","v":10},{"$f":"IF(ISNUMBER(VLOOKUP(#REF!, [1]MOSFETs!A2:S100,12,0)),VLOOKUP(#REF!, [1]MOSFETs!A2:S100,12,0),0.005)*100","v":0.5},{"$f":"IF(ISNUMBER(VLOOKUP(#REF!,[1]MOSFETs!A1:S100,9,0)),VLOOKUP(#REF!,[1]MOSFETs!A1:S100,9,0),10)","v":10},{"$f":"IF(ISNUMBER(VLOOKUP(#REF!, [1]MOSFETs!A2:S100,12,0)),VLOOKUP(#REF!, [1]MOSFETs!A2:S100,12,0),0.005)*100","v":0.5},null,null,null,"NTMFS4H01NF",null,null,null,null,null,null,null,null,null,null,null,null,null,null,null,null,null,null,null,null,null,{"$f":"AU23*MOSFETSelector!$B$10/50","v":12.6},{"$f":"MOSFETSelector!$B$10*MOSFETSelector!$I$3","v":15},null,null,null,null,{"$f":"MOSFETSelector!$H$17","v":0.7},{"$f":"MOSFETSelector!$H$3","v":0.9},0.42,{"$f":"MOSFETSelector!$B$10*MOSFETSelector!$I$17","v":15},21]
[47,null,0.12,null,"NTD4963N","NTMFS4823N",null,{"$f":"IF(ISNUMBER(VLOOKUP(#REF!,[1]MOSFETs!A1:S100,10,0)),VLOOKUP(#REF!,[1]MOSFETs!A1:S100,10,0),0)","v":0},{"$f":"IF(ISNUMBER(VLOOKUP(#REF!,[1]MOSFETs!A1:AD100,20,0)),VLOOKUP(#REF!,[1]MOSFETs!A1:AD100,20,0),\"IDSMAX UNKOWN\")","v":"IDSMAX UNKOWN"},{"$f":"IF(ISNUMBER(VLOOKUP(#REF!,[1]MOSFETs!A1:S100,10,0)),VLOOKUP(#REF!,[1]MOSFETs!A1:S100,10,0),0)","v":0},{"$f":"IF(ISNUMBER(VLOOKUP(#REF!,[1]MOSFETs!A1:AD100,20,0)),VLOOKUP(#REF!,[1]MOSFETs!A1:AD100,20,0),\"IDSMAX UNKOWN\")","v":"IDSMAX UNKOWN"},null,null,null,"NTMFS4H013NF",null,null,null,null,null,null,null,null,null,null,null,null,null,null,null,null,null,null,null,null,null,{"$f":"AU24*MOSFETSelector!$B$10/50","v":13.2},{"$f":"MOSFETSelector!$B$10*MOSFETSelector!$I$3","v":15},null,null,null,null,{"$f":"MOSFETSelector!$H$17","v":0.7},{"$f":"MOSFETSelector!$H$3","v":0.9},0.44,{"$f":"MOSFETSelector!$B$10*MOSFETSelector!$I$17","v":15},22]
[68,null,0.15,null,"NTD4965N","NTMFS4826NE",null,{"$f":"IF(ISNUMBER(VLOOKUP(#REF!,[1]MOSFETs!A1:S100,11,0)),VLOOKUP(#REF!,[1]MOSFETs!A1:S100,11,0),50)","v":50},null,{"$f":"IF(ISNUMBER(VLOOKUP(#REF!,[1]MOSFETs!A1:S100,11,0)),VLOOKUP(#REF!,[1]MOSFETs!A1:S100,11,0),50)","v":50},null,null,null,null,null,null,null,null,null,null,null,null,null,null,null,null,null,null,null,null,null,null,null,null,null,null,{"$f":"AU25*MOSFETSelector!$B$10/50","v":13.8},{"$f":"MOSFETSelector!$B$10*MOSFETSelector!$I$3","v":15},null,null,null,null,{"$f":"MOSFETSelector!$H$17","v":0.7},{"$f":"MOSFETSelector!$H$3","v":0.9},0.46,{"$f":"MOSFETSelector!$B$10*MOSFETSelector!$I$17","v":15},23]
[100,null,0.18,null,"NTD4969N","NTMFS4833N",null,{"$f":"IF(ISNUMBER(VLOOKUP(#REF!,[1]MOSFETs!A1:S100,12,0)),VLOOKUP(#REF!,[1]MOSFETs!A1:S100,12,0),0.005)*100","v":0.5},null,{"$f":"IF(ISNUMBER(VLOOKUP(#REF!,[1]MOSFETs!A1:S100,12,0)),VLOOKUP(#REF!,[1]MOSFETs!A1:S100,12,0),0.005)*100","v":0.5},null,null,null,null,null,null,null,null,null,null,null,null,null,null,null,null,null,null,null,null,null,null,null,null,null,null,{"$f":"AU26*MOSFETSelector!$B$10/50","v":14.4},{"$f":"MOSFETSelector!$B$10*MOSFETSelector!$I$3","v":15},null,null,null,null,{"$f":"MOSFETSelector!$H$17","v":0.7},{"$f":"MOSFETSelector!$H$3","v":0.9},0.48,{"$f":"MOSFETSelector!$B$10*MOSFETSelector!$I$17","v":15},24]
[150,null,0.22,null,"NTD4970N","NTMFS4834N",null,{"$f":"IF(ISNUMBER(VLOOKUP(#REF!,[1]MOSFETs!A1:AD100,20,0)),VLOOKUP(#REF!,[1]MOSFETs!A1:AD100,20,0),0)","v":0},null,{"$f":"IF(ISNUMBER(VLOOKUP(#REF!,[1]MOSFETs!A1:AD100,20,0)),VLOOKUP(#REF!,[1]MOSFETs!A1:AD100,20,0),0)","v":0},null,null,null,null,null,null,null,null,null,null,null,null,null,null,null,null,null,null,null,null,null,null,null,null,null,null,{"$f":"AU27*MOSFETSelector!$B$10/50","v":15},{"$f":"MOSFETSelector!$B$10*MOSFETSelector!$I$3","v":15},null,null,null,null,{"$f":"MOSFETSelector!$H$17","v":0.7},{"$f":"MOSFETSelector!$H$3","v":0.9},0.5,{"$f":"MOSFETSelector!$B$10*MOSFETSelector!$I$17","v":15},25]
[220,null,0.27,null,"NTMFS4821N","NTMFS4835N",null,null,null,null,null,null,null,null,null,null,null,null,null,null,null,null,null,null,null,null,null,null,null,null,null,null,null,null,null,null,{"$f":"AU28*MOSFETSelector!$B$10/50","v":15.6},{"$f":"MOSFETSelector!$B$10*MOSFETSelector!$I$3","v":15},null,null,null,null,{"$f":"MOSFETSelector!$H$17","v":0.7},{"$f":"MOSFETSelector!$H$3","v":0.9},0.52,{"$f":"MOSFETSelector!$B$10*MOSFETSelector!$I$17","v":15},26]
[330,null,0.33,null,"NTMFS4823N","NTMFS4836N",null,null,null,null,null,null,null,null,null,null,null,null,null,null,null,null,null,null,null,null,null,null,null,null,null,null,null,null,null,null,{"$f":"AU29*MOSFETSelector!$B$10/50","v":16.2},{"$f":"MOSFETSelector!$B$10*MOSFETSelector!$I$3","v":15},null,null,null,null,{"$f":"MOSFETSelector!$H$17","v":0.7},{"$f":"MOSFETSelector!$H$3","v":0.9},0.54,{"$f":"MOSFETSelector!$B$10*MOSFETSelector!$I$17","v":15},27]
[470,null,0.39,null,"NTMFS4825NFE","NTMFS4837NH",null,null,null,null,null,null,null,null,null,null,null,null,null,null,null,null,null,null,null,null,null,null,null,null,null,null,null,null,null,null,{"$f":"AU30*MOSFETSelector!$B$10/50","v":16.8},{"$f":"MOSFETSelector!$B$10*MOSFETSelector!$I$3","v":15},null,null,null,null,{"$f":"MOSFETSelector!$H$17","v":0.7},{"$f":"MOSFETSelector!$H$3","v":0.9},0.56000000000000005,{"$f":"MOSFETSelector!$B$10*MOSFETSelector!$I$17","v":15},28]
[680,null,0.47,null,"NTMFS4826NE","NTMFS4839NH",null,1,null,null,null,null,null,null,null,null,null,null,null,null,null,null,null,null,null,null,null,null,null,null,null,null,null,null,null,null,{"$f":"AU31*MOSFETSelector!$B$10/50","v":17.399999999999999},{"$f":"MOSFETSelector!$B$10*MOSFETSelector!$I$3","v":15},null,null,null,null,{"$f":"MOSFETSelector!$H$17","v":0.7},{"$f":"MOSFETSelector!$H$3","v":0.9},0.57999999999999996,{"$f":"MOSFETSelector!$B$10*MOSFETSelector!$I$17","v":15},29]
[1000,null,0.56000000000000005,null,"NTMFS4833N","NTMFS4841N",null,2,null,null,null,null,null,null,null,null,null,null,null,null,null,null,null,null,null,null,null,null,null,null,null,null,null,null,null,null,{"$f":"AU32*MOSFETSelector!$B$10/50","v":18},{"$f":"MOSFETSelector!$B$10*MOSFETSelector!$I$3","v":15},null,null,null,null,{"$f":"MOSFETSelector!$H$17","v":0.7},{"$f":"MOSFETSelector!$H$3","v":0.9},0.6,{"$f":"MOSFETSelector!$B$10*MOSFETSelector!$I$17","v":15},30]
[1500,null,0.68,null,"NTMFS4834N","NTMFS4841NH",null,3,null,null,null,null,null,null,null,null,null,null,null,null,null,null,null,null,null,null,null,null,null,null,null,null,null,null,null,null,{"$f":"AU33*MOSFETSelector!$B$10/50","v":18.600000000000001},{"$f":"MOSFETSelector!$B$10*MOSFETSelector!$I$3","v":15},null,null,null,null,{"$f":"MOSFETSelector!$H$17","v":0.7},{"$f":"MOSFETSelector!$H$3","v":0.9},0.62,{"$f":"MOSFETSelector!$B$10*MOSFETSelector!$I$17","v":15},31]
[2200,null,0.82,null,"NTMFS4835N","NTMFS4845N",null,4,null,null,null,null,null,null,null,null,null,null,null,null,null,null,null,null,null,null,null,null,null,null,null,null,null,null,null,null,{"$f":"AU34*MOSFETSelector!$B$10/50","v":19.2},{"$f":"MOSFETSelector!$B$10*MOSFETSelector!$I$3","v":15},null,null,null,null,{"$f":"MOSFETSelector!$H$17","v":0.7},{"$f":"MOSFETSelector!$H$3","v":0.9},0.64,{"$f":"MOSFETSelector!$B$10*MOSFETSelector!$I$17","v":15},32]
[3300,null,"1.0  ",null,"NTMFS4836N","NTMFS4846N",null,5,null,null,null,null,null,null,null,null,null,null,null,null,null,null,null,null,null,null,null,null,null,null,null,null,null,null,null,null,{"$f":"AU35*MOSFETSelector!$B$10/50","v":19.8},{"$f":"MOSFETSelector!$B$10*MOSFETSelector!$I$3","v":15},null,null,null,null,{"$f":"MOSFETSelector!$H$17","v":0.7},{"$f":"MOSFETSelector!$H$3","v":0.9},{"$f":"AU35/50","v":0.66},{"$f":"MOSFETSelector!$B$10*MOSFETSelector!$I$17","v":15},33]
[4700,null,1.2,null,"NTMFS4837NH","NTMFS4847N",null,6,null,null,null,null,null,null,null,null,null,null,null,null,null,null,null,null,null,null,null,null,null,null,null,null,null,null,null,null,{"$f":"AU36*MOSFETSelector!$B$10/50","v":20.399999999999999},{"$f":"MOSFETSelector!$B$10*MOSFETSelector!$I$3","v":15},null,null,null,null,{"$f":"MOSFETSelector!$H$17","v":0.7},{"$f":"MOSFETSelector!$H$3","v":0.9},0.68,{"$f":"MOSFETSelector!$B$10*MOSFETSelector!$I$17","v":15},34]
[6800,null,1.5,null,"NTMFS4839NH","NTMFS4851N",null,7,null,null,null,null,null,null,null,null,null,null,null,null,null,null,null,null,null,null,null,null,null,null,null,null,null,null,null,null,{"$f":"AU37*MOSFETSelector!$B$10/50","v":21},{"$f":"MOSFETSelector!$B$10*MOSFETSelector!$I$3","v":15},null,null,null,null,{"$f":"MOSFETSelector!$H$17","v":0.7},{"$f":"MOSFETSelector!$H$3","v":0.9},0.7,{"$f":"MOSFETSelector!$B$10*MOSFETSelector!$I$17","v":15},35]
[10000,null,1.8,null,"NTMFS4841N","NTMFS4852N",null,8,null,null,null,null,null,null,null,null,null,null,null,null,null,null,null,null,null,null,null,null,null,null,null,null,null,null,null,null,{"$f":"AU38*MOSFETSelector!$B$10/50","v":21.6},{"$f":"MOSFETSelector!$B$10*MOSFETSelector!$I$3","v":15},null,null,null,null,{"$f":"MOSFETSelector!$H$17","v":0.7},{"$f":"MOSFETSelector!$H$3","v":0.9},0.72,{"$f":"MOSFETSelector!$B$10*MOSFETSelector!$I$17","v":15},36]
[null,null,2.2000000000000002,null,"NTMFS4841NH","NTMFS4921N",null,9,null,null,null,null,null,null,null,null,null,null,null,null,null,null,null,null,null,null,null,null,null,null,null,null,null,null,null,null,{"$f":"AU39*MOSFETSelector!$B$10/50","v":22.2},{"$f":"MOSFETSelector!$B$10*MOSFETSelector!$I$3","v":15},null,null,null,null,{"$f":"MOSFETSelector!$H$17","v":0.7},{"$f":"MOSFETSelector!$H$3","v":0.9},0.74,{"$f":"MOSFETSelector!$B$10*MOSFETSelector!$I$17","v":15},37]
[null,null,2.7,null,"NTMFS4845N","NTMFS4925N",null,10,null,null,null,null,null,null,null,null,null,null,null,null,null,null,null,null,null,null,null,null,null,null,null,null,null,null,null,null,{"$f":"AU40*MOSFETSelector!$B$10/50","v":22.8},{"$f":"MOSFETSelector!$B$10*MOSFETSelector!$I$3","v":15},null,null,null,null,{"$f":"MOSFETSelector!$H$17","v":0.7},{"$f":"MOSFETSelector!$H$3","v":0.9},0.76,{"$f":"MOSFETSelector!$B$10*MOSFETSelector!$I$17","v":15},38]
[null,null,3.3,null,"NTMFS4846N","NTMFS4926N",null,11,null,null,null,null,null,null,null,null,null,null,null,null,null,null,null,null,null,null,null,null,null,null,null,null,null,null,null,null,{"$f":"AU41*MOSFETSelector!$B$10/50","v":23.4},{"$f":"MOSFETSelector!$B$10*MOSFETSelector!$I$3","v":15},null,null,null,null,{"$f":"MOSFETSelector!$H$17","v":0.7},{"$f":"MOSFETSelector!$H$3","v":0.9},0.78,{"$f":"MOSFETSelector!$B$10*MOSFETSelector!$I$17","v":15},39]
[null,null,3.9,null,"NTMFS4847N","NTMFS4927N",null,12,null,null,null,null,null,null,null,null,null,null,null,null,null,null,null,null,null,null,null,null,null,null,null,null,null,null,null,null,{"$f":"AU42*MOSFETSelector!$B$10/50","v":24},{"$f":"MOSFETSelector!$B$10*MOSFETSelector!$I$3","v":15},null,null,null,null,{"$f":"MOSFETSelector!$H$17","v":0.7},{"$f":"MOSFETSelector!$H$3","v":0.9},0.8,{"$f":"MOSFETSelector!$B$10*MOSFETSelector!$I$17","v":15},40]
[null,null,4.7,null,"NTMFS4851N","NTMS4800N",null,13,null,null,null,null,null,null,null,null,null,null,null,null,null,null,null,null,null,null,null,null,null,null,null,null,null,null,null,null,{"$f":"AU43*MOSFETSelector!$B$10/50","v":24.6},{"$f":"MOSFETSelector!$B$10*MOSFETSelector!$I$3","v":15},null,null,null,null,{"$f":"MOSFETSelector!$H$17","v":0.7},{"$f":"MOSFETSelector!$H$3","v":0.9},0.82,{"$f":"MOSFETSelector!$B$10*MOSFETSelector!$I$17","v":15},41]
[null,null,5.6,null,"NTMFS4852N","NTMS4801N",null,14,null,null,null,null,null,null,null,null,null,null,null,null,null,null,null,null,null,null,null,null,null,null,null,null,null,null,null,null,{"$f":"AU44*MOSFETSelector!$B$10/50","v":25.2},{"$f":"MOSFETSelector!$B$10*MOSFETSelector!$I$3","v":15},null,null,null,null,{"$f":"MOSFETSelector!$H$17","v":0.7},{"$f":"MOSFETSelector!$H$3","v":0.9},0.84,{"$f":"MOSFETSelector!$B$10*MOSFETSelector!$I$17","v":15},42]
[null,null,6.8,null,"NTMFS4897NF","NTMS4802N",null,15,null,null,null,null,null,null,null,null,null,null,null,null,null,null,null,null,null,null,null,null,null,null,null,null,null,null,null,null,{"$f":"AU45*MOSFETSelector!$B$10/50","v":25.8},{"$f":"MOSFETSelector!$B$10*MOSFETSelector!$I$3","v":15},null,null,null,null,{"$f":"MOSFETSelector!$H$17","v":0.7},{"$f":"MOSFETSelector!$H$3","v":0.9},0.86,{"$f":"MOSFETSelector!$B$10*MOSFETSelector!$I$17","v":15},43]
[null,null,8.1999999999999993,null,"NTMFS4898NF","NTMS4807N",null,16,null,null,null,null,null,null,null,null,null,null,null,null,null,null,null,null,null,null,null,null,null,null,null,null,null,null,null,null,{"$f":"AU46*MOSFETSelector!$B$10/50","v":26.4},{"$f":"MOSFETSelector!$B$10*MOSFETSelector!$I$3","v":15},null,null,null,null,{"$f":"MOSFETSelector!$H$17","v":0.7},{"$f":"MOSFETSelector!$H$3","v":0.9},0.88,{"$f":"MOSFETSelector!$B$10*MOSFETSelector!$I$17","v":15},44]
[null,null,"10  ",null,"NTMFS4899NF","NTMS4816N",null,17,null,null,null,null,null,null,null,null,null,null,null,null,null,null,null,null,null,null,null,null,null,null,null,null,null,null,null,null,{"$f":"AU47*MOSFETSelector!$B$10/50","v":27},{"$f":"MOSFETSelector!$B$10*MOSFETSelector!$I$3","v":15},null,null,null,null,{"$f":"MOSFETSelector!$H$17","v":0.7},{"$f":"MOSFETSelector!$H$3","v":0.9},0.9,{"$f":"MOSFETSelector!$B$10*MOSFETSelector!$I$17","v":15},45]
[null,null,12,null,"NTMFS4921N","NTMS4916N",null,18,null,null,null,null,null,0,23,18,7,null,null,null,null,null,null,null,null,null,null,null,null,null,null,null,null,null,null,null,{"$f":"AU48*MOSFETSelector!$B$10/50","v":27.6},{"$f":"MOSFETSelector!$B$10*MOSFETSelector!$I$3","v":15},null,null,null,null,{"$f":"MOSFETSelector!$H$17","v":0.7},{"$f":"MOSFETSelector!$H$3","v":0.9},0.92,{"$f":"MOSFETSelector!$B$10*MOSFETSelector!$I$17","v":15},46]
[null,null,15,null,"NTMFS4923NE","NTMS4917N",null,19,null,null,null,null,null,"MOSFETs for selector to choose from",null,null,null,null,null,null,null,null,null,null,null,null,null,null,null,null,null,null,null,null,null,null,{"$f":"AU49*MOSFETSelector!$B$10/50","v":28.2},{"$f":"MOSFETSelector!$B$10*MOSFETSelector!$I$3","v":15},null,null,null,null,{"$f":"MOSFETSelector!$H$17","v":0.7},{"$f":"MOSFETSelector!$H$3","v":0.9},0.94,{"$f":"MOSFETSelector!$B$10*MOSFETSelector!$I$17","v":15},47]
[null,null,18,null,"NTMFS4925N","NTTFS4821N",null,20,null,null,null,null,null,null,null,null,null,null,null,null,null,null,null,null,null,null,null,null,null,null,null,null,null,null,null,null,{"$f":"AU50*MOSFETSelector!$B$10/50","v":28.8},{"$f":"MOSFETSelector!$B$10*MOSFETSelector!$I$3","v":15},null,null,null,null,{"$f":"MOSFETSelector!$H$17","v":0.7},{"$f":"MOSFETSelector!$H$3","v":0.9},0.96,{"$f":"MOSFETSelector!$B$10*MOSFETSelector!$I$17","v":15},48]
[null,null,22,null,"NTMFS4926N","NTTFS4823N",null,21,null,null,null,null,null,null,null,null,null,null,null,null,null,null,null,null,null,null,null,null,null,null,null,null,null,null,null,null,{"$f":"AU51*MOSFETSelector!$B$10/50","v":29.4},{"$f":"MOSFETSelector!$B$10*MOSFETSelector!$I$3","v":15},null,null,null,null,{"$f":"MOSFETSelector!$H$17","v":0.7},{"$f":"MOSFETSelector!$H$3","v":0.9},0.98,{"$f":"MOSFETSelector!$B$10*MOSFETSelector!$I$17","v":15},49]
[null,null,27,null,"NTMFS4927N","NTTFS4824N",null,22,null,null,null,null,null,null,null,null,null,null,null,null,null,null,null,null,null,null,null,null,null,null,null,null,null,null,null,null,{"$f":"AU52*MOSFETSelector!$B$10/50","v":30},{"$f":"MOSFETSelector!$B$10*MOSFETSelector!$I$3","v":15},null,null,null,null,{"$f":"MOSFETSelector!$H$17","v":0.7},{"$f":"MOSFETSelector!$H$3","v":0.9},1,{"$f":"MOSFETSelector!$B$10*MOSFETSelector!$I$17","v":15},50]
[null,null,33,null,"NTMFS4933N","NTTFS4928N",null,23]
[null,null,39,null,"NTMFS4934N","NTTFS4929N",null,24]
[null,null,47,null,"NTMFS4935N","NTTFS4930N",null,25]
[null,null,null,null,"NTMFS4936N","NVMFS4841N",null,26]
[null,null,null,null,"NTMFS4937N","NVTFS4823N",null,27]
[null,null,null,null,"NTMFS4939N","NTMD4820N",null,28]
[null,null,null,null,"NTMFS4941N","NTMD4840N",null,29]
[null,null,null,null,"NTMFS4943N","NTMFD4901NF",null,30]
[null,null,null,null,"NTMS4800N","NTMFD4902NF",null,31]
[null,null,null,null,"NTMS4801N","NTLLD4901NF",null,32]
[null,null,null,null,"NTMS4802N",null,null,33]
[null,null,null,null,"NTMS4807N",null,null,34]
[null,null,null,null,"NTMS4816N",null,null,35]
[null,null,null,null,"NTMS4873NF",null,null,36]
[null,null,null,null,"NTMS4916N",null,null,37]
[null,null,null,null,"NTMS4917N",null,null,38]
[null,null,null,null,"NTMS4920N",null,null,39]
[null,null,null,null,"NTMS4935N",null,null,40]
[null,null,null,null,"NTMS4937N",null,null,41]
[null,null,null,null,"NTMS4939N",null,null,42]
[null,null,null,null,"NTTFS4821N",null,null,43]
[null,null,null,null,"NTTFS4823N",null,null,44]
[null,null,null,null,"NTTFS4824N",null,null,45]
[null,null,null,null,"NTTFS4928N",null,null,46]
[null,null,null,null,"NTTFS4929N",null,null,47]
[null,null,null,null,"NTTFS4930N",null,null,48]
[null,null,null,null,"NTTFS4932N",null,null,49]
[null,null,null,null,"NTTFS4937N",null,null,50]
[null,null,null,null,"NTTFS4939N",null,null,51]
[null,null,null,null,"NTTFS4941N",null,null,52]
[null,null,null,null,"NVMFS4841N",null,null,53]
[null,null,null,null,"NVTFS4823N",null,null,54]
[null,null,null,null,"NTMD4820N",null,null,55]
[null,null,null,null,"NTMD4840N",null,null,56]
[null,null,null,null,"NTMFD4901NF",null,null,57]
[null,null,null,null,"NTMFD4902NF",null,null,58]
[null,null,null,null,"NTLLD4901NF",null,null,59]
[null,null,null,null,null,null,null,60]
[null,null,null,null,null,null,null,61]
[null,null,null,null,null,null,null,62]
[null,null,null,null,null,null,null,63]
[null,null,null,null,null,null,null,64]
[null,null,null,null,null,null,null,65]
[null,null,null,null,null,null,null,66]
[null,null,null,null,null,null,null,67]
[null,null,null,null,null,null,null,68]
[null,null,null,null,null,null,null,69]
[null,null,null,null,null,null,null,70]
[null,null,null,null,null,null,null,71]
[null,null,null,null,null,null,null,72]
[null,null,null,null,null,null,null,73]
[null,null,null,null,null,null,null,74]
[null,null,null,null,null,null,null,75]
[null,null,null,null,null,null,null,76]
[null,null,null,null,null,null,null,77]
[null,null,null,null,null,null,null,78]
[null,null,null,null,null,null,null,79]
[null,null,null,null,null,null,null,80]
[null,null,null,null,null,null,null,81]
[null,null,null,null,null,null,null,82]
[null,null,null,null,null,null,null,83]
[null,null,null,null,null,null,null,84]
[null,null,null,null,null,null,null,85]
[null,null,null,null,null,null,null,86]
[null,null,null,null,null,null,null,87]
[null,null,null,null,null,null,null,88]
[null,null,null,null,null,null,null,89]
[null,null,null,null,null,null,null,90]
[null,null,null,null,null,null,null,91]
[null,null,null,null,null,null,null,92]
[null,null,null,null,null,null,null,93]
[null,null,null,null,null,null,null,94]
[null,null,null,null,null,null,null,95]
[null,null,null,null,null,null,null,96]
[null,null,null,null,null,null,null,97]
[null,null,null,null,null,null,null,98]
[null,null,null,null,null,null,null,99]
[null,null,null,null,null,null,null,100]
[null,null,null,null,null,null,null,101]
[null,null,null,null,null,null,null,102]
[null,null,null,null,null,null,null,103]
[null,null,null,null,null,null,null,104]
[null,null,null,null,null,null,null,105]
[null,null,null,null,null,null,null,106]
[null,null,null,null,null,null,null,107]
[null,null,null,null,null,null,null,108]
[null,null,null,null,null,null,null,109]
[null,null,null,null,null,null,null,110]
[null,null,null,null,null,null,null,111]
[null,null,null,null,null,null,null,112]
[null,null,null,null,null,null,null,113]
[null,null,null,null,null,null,null,114]
[null,null,null,null,null,null,null,115]
[null,null,null,null,null,null,null,116]
[null,null,null,null,null,null,null,117]
[null,null,null,null,null,null,null,118]
[null,null,null,null,null,null,null,119]
[null,null,null,null,null,null,null,120]
[null,null,null,null,null,null,null,121]
[null,null,null,null,null,null,null,122]
[null,null,null,null,null,null,null,123]
[null,null,null,null,null,null,null,124]
[null,null,null,null,null,null,null,125]
[null,null,null,null,null,null,null,126]
[null,null,null,null,null,null,null,127]
[null,null,null,null,null,null,null,128]
[null,null,null,null,null,null,null,129]
[null,null,null,null,null,null,null,130]
[null,null,null,null,null,null,null,131]
[null,null,null,null,null,null,null,132]
[null,null,null,null,null,null,null,133]
[null,null,null,null,null,null,null,134]
[null,null,null,null,null,null,null,135]
[null,null,null,null,null,null,null,136]
[null,null,null,null,null,null,null,137]
[null,null,null,null,null,null,null,138]
[null,null,null,null,null,null,null,139]
[null,null,null,null,null,null,null,140]
[null,null,null,null,null,null,null,141]
[null,null,null,null,null,null,null,142]
[null,null,null,null,null,null,null,143]
[null,null,null,null,null,null,null,144]
[null,null,null,null,null,null,null,145]
[null,null,null,null,null,null,null,146]
[null,null,null,null,null,null,null,147]
[null,null,null,null,null,null,null,148]
[null,null,null,null,null,null,null,149]
[null,null,null,null,null,null,null,150]

{"sheet":"Duals","index":14,"n_rows":16,"n_cols":24,"rows_kept":16,"cut":false,"hidden":true,"merged":[]}
[null,"Highside Rdson(mΩ)(4.5V)","Highside Rdson(mΩ)(10V)","Highside QG(TOT)(nC)(4.5V)","Highside QG(TOT)(nC)(10V)","Highside Coss(pC)","Highside QGD(nC)","Highside QGS(nC)","Highside VGS(TH)","Highside gfs","Highside RG","Highside Rtja","Highside Temperature\nCoefficient","Highside Idmax","Lowside Rdson(mΩ)(4.5V)","Lowside Rdson(mΩ)(10V)","Lowside QG(TOT)(nC)(4.5V)","Lowside QG(TOT)(nC)(10V)","Lowside Coss(pC)","Lowside QRR(nC)","Lowside VSD","Lowside Rtja","Lowside Temperature\nCoefficient","Lowside Idmax"]
["NTMFD4C20N",8.6999999999999993,5.8,9.3000000000000007,19,430,4.2,3.3,1.7,43,1,66.5,4.5999999999999999E-3,18,4,2.7,13,29,990,25,0.45,63.3,4.96E-3,27]
["NTMFD4H84NF",3.7,2.6,8.9,19,802,2.2000000000000002,3.1,1.65,25,1,70,4.5999999999999999E-3,17.600000000000001,1.3,0.98,29.6,62.3,2028,108,0.4,66,5.0000000000000001E-3,31.4]
["NTMFD4H85NF",3.8,2.8,8.5,18.2,721,1.9,3.3,1.65,25,1,70,4.5999999999999999E-3,17.600000000000001,1.4,1,33.9,72.8,2294,67.400000000000006,0.39,66,5.0000000000000001E-3,28.1]
["NTMFD4C85N",4.2,2.8,16.100000000000001,30,1170,7.9,5.7,1.7,70,1,64.2,4.7999999999999996E-3,23,1.3,1,45.2,99.3,3457,36.854999999999997,0.8,64.2,5.0000000000000001E-3,40]
["NTMFD4C86N",6.5,4.3,10.9,22.2,532,5.4,3.4,1.75,42.55,1,66,4.7999999999999996E-3,20,2.4,1.7,21.6,47.5,764,27.5,0.78,66,5.0000000000000001E-3,32]
["NTMFD4C87N",6.2,4,10.9,22.2,610,5.5,3.4,1.65,42.55,1,66,4.7999999999999996E-3,20,3.4,2.5,13.8,30.3,1055,15.824999999999999,0.8,66,5.0000000000000001E-3,26]
["NTMFD4C88N",6.2,4,10.9,22.2,610,5.4,3.4,1.65,42.55,1,66,4.7999999999999996E-3,20,4,2.8,11,24.2,841,12.615,0.8,66,5.0000000000000001E-3,24]
[]
[]
[]
[]
[]
[]
[]
[null,"Datasheet unfinished:","NTMD4903NF"]

{"sheet":"MOSFETs","index":15,"n_rows":65,"n_cols":27,"rows_kept":65,"cut":false,"hidden":false,"merged":[]}
["MOSFET","RDSon (Vg=4.5V) (mΩ)","Ciss(Q1) (pF)","Coss(Q1) (pF)","Qgd (nC)","Qgs (nC)","Vth (V)","SD Diode Forward Voltage (V)","Transconductance gm (S)","Internal Rgin (Ω)","Thermal Resistance  qJA","RDSon Temperature Coefficient","RDSon (Vg=10V) (mΩ)","measured Qrr (nC)","Forward conducting current in measuring Qrr (A)","Qrr Characterization voltage","Qg(VGS=4.5V) (nC)","Qg(VGS-10V) (nC)","V(BR)DSS Min (V)","ID Max (A)","LowSideMOSFET only or Both","Packgage","PD Max (W)",null,"MOSFET after current filter",null,"Sort for MOSFET after current filter"]
["NTMFS4C05",4,null,1215,5,6,1.7,0.77,68,0.69,48.6,4.8799999999999998E-3,2.7,30.2,30,15,14,30,null,50,"both","so-8fl",null,null,{"$f":"IF(V2>Circuit1!$B$10, A2,\"X-CELL\")","v":"NTMFS4C05"},"X-CELL",{"$f":"IF(Z2=\"X-CELL\",\"\", Z2)","v":""}]
["NTMFS4C06",4.8,null,841,4,4.7,1.7,0.8,58,1,49,5.1999999999999998E-3,3.2,22,30,15,11.6,26,null,69,"both","so-8fl",null,null,{"$f":"IF(V3>Circuit1!$B$10, A3,\"X-CELL\")","v":"NTMFS4C06"},"X-CELL",""]
["NTMFS4C08",6.8,null,702,3.3,3.5,1.7,0.79,42,1,49.8,4.7200000000000002E-3,4.5999999999999996,15.3,30,15,8.4,18.2,null,50,"both","so-8fl",null,null,{"$f":"IF(V4>Circuit1!$B$10, A4,\"X-CELL\")","v":"NTMFS4C08"},"X-CELL",""]
["NTMFS4C09",6.8,null,610,5.4,3.4,1.7,0.79,50,1,49.8,5.1999999999999998E-3,4.5999999999999996,15,30,15,10.9,22.2,null,52,"both","so-8fl",null,null,{"$f":"IF(V5>Circuit1!$B$10, A5,\"X-CELL\")","v":"NTMFS4C09"},"X-CELL",""]
["NTMFS4C10",8.9,null,574,3.7,2.7,1.7,0.8,43,0.68,50.3,4.64E-3,5.8,13.7,30,15,9.8000000000000007,18.899999999999999,null,50,"both","so-8fl",null,null,{"$f":"IF(V6>Circuit1!$B$10, A6,\"X-CELL\")","v":"NTMFS4C10"},"X-CELL",""]
["NTMFS4C13",11.4,null,443,3.7,2.9,1.7,0.82,40,1,50.8,4.7999999999999996E-3,7.3,9.6999999999999993,30,15,7.8,15.2,null,50,"both","so-8fl",null,null,{"$f":"IF(V7>Circuit1!$B$10, A7,\"X-CELL\")","v":"NTMFS4C13"},"X-CELL",""]
["NTTFS4C05",4.0999999999999996,null,1224,5.5,5.2,1.75,0.77,68,1,57.8,4.96E-3,2.9,34.4,30,15,14.5,31,null,75,"both","u-8FL",null,null,{"$f":"IF(V8>Circuit1!$B$10, A8,\"X-CELL\")","v":"NTTFS4C05"},"X-CELL",""]
["NTTFS4C10",8.8000000000000007,null,574,6.1,2.6,1.75,0.8,43,1,59.9,4.64E-3,5.9,8.3000000000000007,30,15,10.1,19.3,null,44,"both","u-8FL",null,null,{"$f":"IF(V9>Circuit1!$B$10, A9,\"X-CELL\")","v":"NTTFS4C10"},"X-CELL",""]
["NTTFS4C25",21,null,295,2.7,1.7,1.75,0.87,23,1,76.7,4.64E-3,13,5.7,30,15,5.0999999999999996,10.3,null,27,"both","u-8FL",null,null,{"$f":"IF(V10>Circuit1!$B$10, A10,\"X-CELL\")","v":"NTTFS4C25"},"X-CELL",""]
["NTMFS4C35",3.4,null,1097,5.5,6.5,1.75,0.8,50,1,48.3,4.7999999999999996E-3,2.56,30,30,15,15,32.5,null,80,"both","so-8fl",null,null,{"$f":"IF(V11>Circuit1!$B$10, A11,\"X-CELL\")","v":"NTMFS4C35"},"X-CELL",""]
["NTTFS4C06",4.9000000000000004,null,841,4,4.7,1.75,0.8,58,1,58,5.1999999999999998E-3,3.4,22,30,15,11.6,26,null,67,"low","u-8FL"]
["NTTFS4C13",11.2,null,443,3.7,2.9,1.75,0.82,40,1,60.8,4.7999999999999996E-3,7.5,9.6999999999999993,30,15,7.8,15.2,null,38,"both","u-8FL"]
["NTTFS4C08",7.2,null,702,3.3,3.5,1.75,0.79,42,1,58.8,4.5999999999999999E-3,4.7,15.3,30,15,8.4,18.2,null,52,"both","u-8FL"]
["NVTFS4C05",4.0999999999999996,null,1224,5.5,5.2,1.75,0.77,68,1,47,5.3299999999999997E-3,2.9,34.4,30,15,14.5,31,null,102,"low","u-8FL"]
["NVTFS4C10",8.8000000000000007,null,574,6.1,2.6,1.75,0.8,43,1,50,5.0000000000000001E-3,5.9,8.3000000000000007,30,15,10.1,19.3,null,47,"both","u-8FL"]
["NVTFS4C25",21,null,295,2.7,1.7,1.75,0.87,23,1,50,4.8999999999999998E-3,13,5.7,30,15,5.0999999999999996,10.3,null,22,"both","u-8FL"]
["NTTFS4H07N",5.8,null,525,1.26,2.5,1.6,0.78,49,1,47.3,4.7999999999999996E-3,3.8,8,10,15,5.7,12.4,null,66,"both","u-8FL"]
["NTTFS4H05N",3.8,null,835,1.88,3.6,1.65,0.78,69,1,47,5.4400000000000004E-3,2.5,20,10,15,8.6999999999999993,18.899999999999999,null,94,"both","u-8FL"]
["NTMFS4H02N",1.7,null,1814,4.2,7.2,1.65,0.75,84,1,40,4.7999999999999996E-3,1.1000000000000001,51,30,15,18,38.5,null,193,"low","so-8fl"]
["NTMFS4H02NF",1.6,null,1644,4.3,7.5,1.65,0.38,84,1,40,4.7999999999999996E-3,1.1000000000000001,30,30,15,18.7,40.9,null,193,"low","so-8fl"]
["NTMFS4H01N",0.76,null,3718,8.5,14,1.65,0.75,101,1.2,38.9,4.7999999999999996E-3,0.55000000000000004,90,30,15,39,85,null,334,"low","so-8fl"]
["NTMFS4H01NF",0.79,null,3416,8,11.8,1.65,0.35,101,1.3,38.9,4.7999999999999996E-3,0.56000000000000005,90,30,15,37.799999999999997,82,null,334,"low","so-8fl"]
["NTMFS4H013NF",1.1000000000000001,null,2537,5.8,10.7,1.65,0.38,119,1,40,5.3E-3,0.72,66,30,15,26,56,null,43,"low","so-8fl"]
["NTMFS5C404NL",0.85,null,4538,23.8,27.8,1.6,0.7,270,1.2,39,7.6E-3,0.56000000000000005,190,50,15,81,181,null,339,"both","so-8fl"]
["NTMFS5C410NL",1,null,4156,22,21.4,1.6,0.73,190,1.2,39,5.5999999999999999E-3,0.71,126,50,15,66,143,null,302,"both","so-8fl"]
["NTMFS5C442NL",3.2,null,1100,6.7,9.8000000000000007,1.6,0.85,116,1.2,41,5.5999999999999999E-3,2.2000000000000002,40,50,15,23,50,null,121,"both","so-8fl"]
["NTMFS5C604NL",1.25,null,3750,12.7,21.4,1.6,0.78,180,1.8,39,6.4000000000000003E-3,0.93,190,50,15,52,120,null,276,"both","so-8fl"]
["NTMFS5C612NL",1.65,null,2953,10.9,17.100000000000001,1.6,0.78,151,1.6,39,6.4000000000000003E-3,1.2,105,50,15,41,91,null,226,"both","so-8fl"]
["NTMFS5C646NL",5,null,900,5.0999999999999996,5.6,1.6,0.88,105,1.5,41,6.4000000000000003E-3,3.8,32,50,15,15.7,33.700000000000003,null,89,"both","so-8fl"]
[]
[]
[]
[]
[]
[]
[]
[]
[]
[]
[]
[]
[]
[]
[]
[]
[]
[]
[]
[]
[]
[]
[]
[]
[]
[]
[]
[]
[]
[]
[null,null,null,null,null,null,null,null,null,null,null,null,null,null,null,null,null,null,null,null,null,null,null,null,{"$f":"IF(V61>Circuit1!$B$10, A61,\"X-CELL\")","v":"X-CELL"},"X-CELL",""]
[]
[]
[null,null,null,null,null,null,null,null,null,null,null,null,null,null,null,null,null,null,null,null,null,null,null,null,{"$f":"IF(V64>Circuit1!$B$10, A64,\"X-CELL\")","v":"X-CELL"},"X-CELL",""]
[null,null,null,null,null,null,null,null,null,null,null,null,null,null,null,null,null,null,null,null,null,null,null,null,{"$f":"IF(V65>Circuit1!$B$10, A65,\"X-CELL\")","v":"X-CELL"},"X-CELL",""]

{"sheet":"Drivers","index":16,"n_rows":7,"n_cols":8,"rows_kept":7,"cut":false,"hidden":false,"merged":[]}
["Driver ","Maxim Driver Voltage Vdr (V)","Enter Sourcing Resistance @ HS Ω","Enter Sinking Resistance @ HS (Ω)","Enter Rise Delay TimetpdhDRVH (ns)","Enter Fall Delay Time tpdlDRVH (ns)","Enter External Gate Resistance Rgex (Ω)","Enter Quiescent Current (mA)"]
["NCP5911",6.5,0.9,0.7,{"$f":"0.00000003*1000000000","v":29.999999999999996},15,0,1]
["NCP5901",15,2,1,{"$f":"0.000000027*1000000000","v":27},20,0,2.2000000000000002]
["NCP5359A",15,2,1,{"$f":"0.00000002*1000000000","v":20},20,0,5]
["NCP3418",15,1.8,1,30,25,0,0]
["NCP81151",5.5,0.9,0.7,25,20,0,1]
["NCP81161",15,1.9,1,20,20,0,2]

{"sheet":"RevisionHistory","index":17,"n_rows":22,"n_cols":1,"rows_kept":22,"cut":false,"hidden":true,"merged":[]}
["Revision History"]
[]
["Version 1.0 (Jan 18th 2013) "]
["Combine MOSFET Efficiency Simulator and Selector together for customers."]
[]
["Version 2.1 (8/28/ 2013) "]
["Include 16 T6 MOSFETs and NCP81151, and NCP81161"]
[]
["Version 3.0 (3/31/2014)"]
["Include HEFET and PhaseFETs, and Remove some T3 parts."]
[]
["Version 3.2(8/1/2014)"]
["Include medium voltage40V and 60V MOSFET in the tool."]
[]
["Version 3.3(11/21/2014)"]
["Update with NTMFS4H013NF"]
[]
["Version 3.4(12/01/2014)"]
["Update with NTMFD4C86N"]
[]
["Version 3.5 (05/06/2015)"]
["Remove T3 parts"]